Workbook

Sheet zoznam+váhy
B1: Príloha č.1 k Zmluve
B3: Špecifikácia odberných miest pre strednoodber a maloodber
B4: maloodbery
A5: P.č. | B5: odberné miesto(ČOM) | C5: POD | D5: adresa | E5: tarifa | F5: 2018 (m3) | G5: 2018 (MWh) | H5: 2019 (m3) | I5: 2019 (MWh) | J5: 2018,2019 (m3) | K5: 2018,2019 (MWh)
A6: 1. | B6: 4100015512 | C6: SKSPPDIS000310305543 | D6: UKF,Tr.A.Hlinku 1, Nitra | E6: M1 | F6: 10 | G6: 0.11 | H6: 10 | I6: 0.11 | J6: 20 | K6: 0.22
A7: 2. | B7: 4100017481 | C7: SKSPPDIS000310305672 | D7: UJ , Dražovská 3, Nitra | E7: M1 | F7: 150 | G7: 1.61 | H7: 150 | I7: 1.61 | J7: 300 | K7: 3.22
A8: 3. | B8: 4100017522 | C8: SKSPPDIS000310305674 | D8: byt Škultétyho 3, Nitra | E8: M1 | F8: 24 | G8: 0.26 | H8: 24 | I8: 0.26 | J8: 48 | K8: 0.52
A9: 4. | B9: 4100017531 | C9: SKSPPDIS000310305675 | D9: byt Zvolenská 1, Nitra | E9: M1 | F9: 20 | G9: 0.21 | H9: 20 | I9: 0.21 | J9: 40 | K9: 0.42
A10: 5. | B10: 4100533028 | C10: SKSPPDIS000321078706 | D10: byt Nábr. mládeže 65, Nitra | E10: M1 | F10: 10 | G10: 0.11 | H10: 10 | I10: 0.11 | J10: 20 | K10: 0.22
A11: 6. | B11: 4101455167 | C11: SKSPPDIS000330020341 | D11: UKF, Hodžova 1, Nitra | E11: M7 | F11: 20000 | G11: 214 | H11: 20000 | I11: 214 | J11: 40000 | K11: 428
A12: 7. | B12: 4101455167 | C12: SKSPPDIS000330020341 | D12: ŠD, Hospodárska 3/2, Nitra | E12: M8 | F12: 50000 | G12: 535 | H12: 50000 | I12: 535 | J12: 100000 | K12: 1070
A13: 8. | B13: 4101484882 | C13: SKSPPDIS011010000894 | D13: VVaPC Hviezdoslavova 15, Sp.Nová Ves | E13: M7 | F13: 15000 | G13: 160.55 | H13: 15000 | I13: 160.5 | J13: 30000 | K13: 321
A14: 9. | B14: 4101477729 | C14: SKSPPDIS010210000660 | D14: Areál Patince 371 | E14: M3 | F14: 3000 | G14: 32.1 | H14: 3000 | I14: 32.1 | J14: 6000 | K14: 64.2
I15: spolu | J15: =SUM(J6:J14) -> 176428 | K15: =SUM(K6:K14) -> 1887.8
B16: strednoodbery
A17: P.č. | B17: odberné miesto(ČOM) | C17: POD | D17: adresa | E17: tarifa | F17: 2018 (m3) | G17: 2018 (MWh) | H17: 2019 (M3) | I17: 2019 (MWh) | J17: 2018,2019 (m3) | K17: 2018,2019 (MWh)
A18: 1. | B18: 4101455627 | C18: SKSPPDIS000330022311 | D18: UKF,Štefánikova tr.67, Nitra | E18: S9 | F18: 61000 | G18: 652.7 | H18: 61000 | I18: 652.7 | J18: 122000 | K18: 1305.4
A19: 2. | B19: 4101455571 | C19: SKSPPDIS000330020310 | D19: UKF, Dražovská 4, Nitra | E19: S9 | F19: 130000 | G19: 1391 | H19: 130000 | I19: 1391 | J19: 260000 | K19: 2782
A20: 3. | B20: 4101455113 | C20: SKSPPDIS000330020321 | D20: ŠD Zobor, Dražovská 2, Nitra | E20: S9 | F20: 140000 | G20: 1498 | H20: 140000 | I20: 1498 | J20: 280000 | K20: 2996
A21: 4. | B21: 4101455585 | C21: SKSPPDIS000330024312 | D21: UKF, Trieda A.Hlinku 1, Nitra | E21: S9 | F21: 185000 | G21: 1979.5 | H21: 185000 | I21: 1979.5 | J21: 370000 | K21: 3959
A22: 5. | B22: 4101455600 | C22: SKSPPDIS000330020774 | D22: ŠD Nitra,Slančíkovej 1, Nitra | E22: S9 | F22: 135000 | G22: 1444.5 | H22: 135000 | I22: 1444.5 | J22: 270000 | K22: 2889
A23: 6. | B23: 4101455561 | C23: SKSPPDIS000330022300 | D23: ŠD Brez.háj,Nábrežie mládeže 1, Nitra | E23: S9 | F23: 60000 | G23: 642 | H23: 60000 | I23: 642 | J23: 120000 | K23: 1284
I24: spolu | J24: =SUM(J18:J23) -> 1422000 | K24: =SUM(K18:K23) -> 15215.4
B26: Percentuálne podiely (váhy) odberu plynu z predpokladaného množstva pripadajúce na jednotlivé kalendárne mesiace príslušného obdobia odberového miesta - strednoodber:
A28: P.č. | B28: Odberné miesto - adresa | C28: Váhy (%)
C29: január | D29: február | E29: marec | F29: apríl | G29: máj | H29: jún | I29: júl | J29: august | K29: september | L29: október | M29: november | N29: december
A30: 1. | B30: UKF,Štefánikova tr.67, Nitra | C30: 0.2 | D30: 0.17 | E30: 0.14 | F30: 0.06 | G30: 0.03 | H30: 0.02 | I30: 0.01 | J30: 0.01 | K30: 0.01 | L30: 0.06 | M30: 0.13 | N30: 0.16
A31: 2. | B31: UKF,Dražovská 4, Nitra | C31: 0.2 | D31: 0.17 | E31: 0.14 | F31: 0.05 | G31: 0.02 | H31: 0.02 | I31: 0.01 | J31: 0.01 | K31: 0.02 | L31: 0.06 | M31: 0.13 | N31: 0.17
A32: 3. | B32: ŠD Zobor,Dražovská 2, Nitra | C32: 0.2 | D32: 0.17 | E32: 0.15 | F32: 0.06 | G32: 0.03 | H32: 0.02 | I32: 0.01 | J32: 0.01 | K32: 0.01 | L32: 0.06 | M32: 0.13 | N32: 0.15
A33: 4. | B33: UKF,Trieda A.Hlinku 1, Nitra | C33: 0.2 | D33: 0.17 | E33: 0.14 | F33: 0.05 | G33: 0.02 | H33: 0.02 | I33: 0.01 | J33: 0.01 | K33: 0.02 | L33: 0.06 | M33: 0.13 | N33: 0.17
A34: 5. | B34: ŠD Nitra,Slančíkovej 1, Nitra | C34: 0.2 | D34: 0.16 | E34: 0.14 | F34: 0.07 | G34: 0.04 | H34: 0.01 | I34: 0.01 | J34: 0.01 | K34: 0.01 | L34: 0.07 | M34: 0.12 | N34: 0.16
A35: 6. | B35: ŠD Brez.háj,Nábr.mládeže 1, Nitra | C35: 0.2 | D35: 0.17 | E35: 0.14 | F35: 0.06 | G35: 0.03 | H35: 0.02 | I35: 0.01 | J35: 0.01 | K35: 0.01 | L35: 0.06 | M35: 0.13 | N35: 0.16

Sheet cenová kalkulácia SO
B1: Príloha č.2 k Zmluve
A4: Kalkulácia ceny - strednoodber
A6: p.č. | B6: Odberné miesto UKF v Nitre (ČOM) | C6: DMM (m3) | D6: Predpokladaný odber v MWh za 24 mesiacov | E6: služby obchodníka (vrátane prepravy) | F6: cena distribučné služby v EUR bez DPH | I6: Spotrebná daň za 1 MWh (€) | J6: Celková cena za odberné miesto vrátane všetkých nákladov súvisiacich s predmetom zákazky bez DPH (€) | K6: DPH (€) | L6: Celková cena za odberné miesto vrátane všetkých nákladov súvisiacich s predmetom zákazky vrátane DPH (€)
F7: služby súvisiace s distribúciou
E8: sadzba za odob.plyn (EUR/kWh) | F8: sadzba za odobr.plyn (EUR/kWh) | G8: fixná mes. sadzba (EUR/mes) | H8: ročná sadzba za výkon/kapacitu (EUR/m3/deň)
A9: 1. | B9: UKF, Štefánikova ul. 67 | C9: 650 | D9: 1305.4 | J9: =D9*E9*1000+D9*F9*1000+G9*24+H9*C9*2+D9*I9 -> 0 | K9: =J9*0.2 -> 0 | L9: =J9+K9 -> 0
A10: 2 | B10: UKF, Dražovská ul.4 | C10: 1500 | D10: 2782 | J10: =D10*E10*1000+D10*F10*1000+G10*24+H10*C10*2+D10*I10 -> 0 | K10: =J10*0.2 -> 0 | L10: =J10+K10 -> 0
A11: 3 | B11: ŠD Zobor, Dražovská ul. 2 | C11: 1200 | D11: 2996 | J11: =D11*E11*1000+D11*F11*1000+G11*24+H11*C11*2+D11*I11 -> 0 | K11: =J11*0.2 -> 0 | L11: =J11+K11 -> 0
A12: 4 | B12: Tr. A.Hlinku 1 (strednoodber) | C12: 2100 | D12: 3959 | J12: =D12*E12*1000+D12*F12*1000+G12*24+H12*C12*2+D12*I12 -> 0 | K12: =J12*0.2 -> 0 | L12: =J12+K12 -> 0
A13: 5 | B13: ŠD Nitra Slančíkovej ul.1 | C13: 1200 | D13: 2889 | J13: =D13*E13*1000+D13*F13*1000+G13*24+H13*C13*2+D13*I13 -> 0 | K13: =J13*0.2 -> 0 | L13: =J13+K13 -> 0
A14: 6 | B14: ŠD Brezový háj Nábr. mládeže 1 | C14: 700 | D14: 1284 | J14: =D14*E14*1000+D14*F14*1000+G14*24+H14*C14*2+D14*I14 -> 0 | K14: =J14*0.2 -> 0 | L14: =J14+K14 -> 0
B15: Spolu (MWh) | D15: =SUM(D9:D14) -> 15215.4 | G15: Celková cena v EUR za všetky odberné miesta spolu vrátane všetkých nákladov súvisiacich s predmetom zákazky: | J15: =SUM(J9:J14) -> 0 | K15: =SUM(K9:K14) -> 0 | L15: =SUM(L9:L14) -> 0
B18: V ............................. dňa ...........................
B21: Obchodné meno : Podpis:

Sheet cenová kalkulácia MO
B1: Príloha č.3 k Zmluve
E4: Kalkulácia ceny - maloodber
A6: P.č. | B6: Odberné miesto UKF v Nitre (ČOM) | C6: Predpokladaný odber v MWh za 24 mesiacov | D6: fakturované sumy súvisiace s o sadzbou za odobratý plyn | F6: služby súvisiace s distribúciou | H6: Spotrebná daň za 1 MWh (€) | I6: Celková cena za odberné miesto vrátane všetkých nákladov súvisiacich s predmetom zákazky bez DPH (€) | J6: DPH (€) | K6: Celková cena za odberné miesto vrátane všetkých nákladov súvisiacich s predmetom zákazky vrátane DPH (€)
D7: Cena za služby obchodníka za 1 kWh v EUR bez DPH | E7: preprava (EUR/kWh) | F7: fixná mes.sadzba (EUR/mes) | G7: sadzba za odobratý plyn (EUR/kWh)
A8: 1 | B8: Tr.A.Hlinku 1 (MO) | C8: 0.22 | I8: =C8*1000*D8+C8*1000*E8+F8*24+C8*1000*G8+C8*H8 -> 0 | J8: =I8*0.2 -> 0 | K8: =I8+J8 -> 0
A9: 2 | B9: UJ, Dražovská 3 | C9: 3.22 | I9: =C9*1000*D9+C9*1000*E9+F9*24+C9*1000*G9+C9*H9 -> 0 | J9: =I9*0.2 -> 0 | K9: =I9+J9 -> 0
A10: 3 | B10: Byt Škultétyho ul. 3 | C10: 0.52 | I10: =C10*1000*D10+C10*1000*E10+F10*24+C10*1000*G10+C10*H10 -> 0 | J10: =I10*0.2 -> 0 | K10: =I10+J10 -> 0
A11: 4 | B11: Byt Zvolenská ul. 1 | C11: 0.42 | I11: =C11*1000*D11+C11*1000*E11+F11*24+C11*1000*G11+C11*H11 -> 0 | J11: =I11*0.2 -> 0 | K11: =I11+J11 -> 0
A12: 5 | B12: Byt Nábr.mládeže 65 | C12: 0.22 | I12: =C12*1000*D12+C12*1000*E12+F12*24+C12*1000*G12+C12*H12 -> 0 | J12: =I12*0.2 -> 0 | K12: =I12+J12 -> 0
A13: 6 | B13: UKF Hodžova ul. 1 | C13: 428 | I13: =C13*1000*D13+C13*1000*E13+F13*24+C13*1000*G13+C13*H13 -> 0 | J13: =I13*0.2 -> 0 | K13: =I13+J13 -> 0
A14: 7 | B14: ŠD Hospodárska ul. 3/2 | C14: 1070 | I14: =C14*1000*D14+C14*1000*E14+F14*24+C14*1000*G14+C14*H14 -> 0 | J14: =I14*0.2 -> 0 | K14: =I14+J14 -> 0
A15: 8 | B15: VVaPC Sp. Nová Ves | C15: 321 | I15: =C15*1000*D15+C15*1000*E15+F15*24+C15*1000*G15+C15*H15 -> 0 | J15: =I15*0.2 -> 0 | K15: =I15+J15 -> 0
A16: 9 | B16: Areál Patince 371 | C16: 64.2 | I16: =C16*1000*D16+C16*1000*E16+F16*24+C16*1000*G16+C16*H16 -> 0 | J16: =I16*0.2 -> 0 | K16: =I16+J16 -> 0
B17: Spolu (MWh) | C17: =SUM(C8:C16) -> 1887.8 | F17: Celková cena v EUR za všetky odberné miesta spolu vrátane všetkých nákladov súvisiacich s predmetom zákazky: | I17: =SUM(I8:I16) -> 0 | J17: =SUM(J8:J16) -> 0 | K17: =SUM(K8:K16) -> 0
B20: V ............................. dňa ...........................
B23: Obchodné meno : Podpis:

Sheet sumarizácia
B1: Príloha č.4 k Zmluve
B5: Kalkulácia ceny spolu
C8: MWh | D8: Celková cena bez DPH (€) | E8: DPH (€) | F8: Celková cena s DPH (€)
B9: maloodber | C9: ='cenová kalkulácia MO'!C17 -> 1887.8 | D9: ='cenová kalkulácia MO'!I17 -> 0 | E9: ='cenová kalkulácia MO'!J17 -> 0 | F9: ='cenová kalkulácia MO'!K17 -> 0
B10: strednoodber | C10: ='cenová kalkulácia SO'!D15 -> 15215.4 | D10: ='cenová kalkulácia SO'!J15 -> 0 | E10: ='cenová kalkulácia SO'!K15 -> 0 | F10: ='cenová kalkulácia SO'!L15 -> 0
B11: Spolu za r. 2018 a 2019 | C11: =SUM(C9:C10) -> 17103.2 | D11: =SUM(D9:D10) -> 0 | E11: =SUM(E9:E10) -> 0 | F11: =SUM(F9:F10) -> 0
B15: V ............................. dňa ...........................
B19: Obchodné meno: | E19: Podpis:
