Workbook

Sheet Rekapitulácia stavby 9.2.
A1: 2012 | D1: Hárok obsahuje: | K1: 1) Súhrnný list stavby | W1: 2) Rekapitulácia objektov | BA1: 2.0 | BT1: False | BU1: False
C2: optimalizované pre tlač zostáv vo formáte A4 - na výšku | AR2: >> skryté stĺpce << | BS2: 0,001 | BT2: 20
BS3: 0,001 | BT3: 20
C4: SÚHRNNÝ LIST STAVBY 9.2. | AS4: v --- nižšie sa nachádzajú doplnkové a pomocné údaje k zostavám --- v | BE4: Návod na vyplnenie | BS4: 0,001
D5: Kód: | K5: shf1606b | BE5: Meniť je možné iba bunky so žltým podfarbením!_x000D_ _x000D_ 1) na prvom liste Rekapitulácie stavby vyplňte v zostave_x000D_ _x000D_ a) Súhrnný list_x000D_ - údaje o Zhotoviteľovi_x000D_ (prenesú sa do ostatných zostáv aj v iných listoch)_x000D_ _x000D_ b) Rekapitulácia objektov_x000D_ - potrebné Ostatné náklady_x000D_ _x000D_ 2) na vybraných listoch vyplňte v zostave_x000D_ _x000D_ a) Krycí list_x000D_ - údaje o Zhotoviteľovi, pokiaľ sa líšia od údajov o Zhotoviteľovi na Súhrnnom liste_x000D_ (údaje se prenesú do ostatných zostav v danom liste)_x000D_ _x000D_ b) Rekapitulácia rozpočtu_x000D_ - potrebné Ostatné náklady_x000D_ _x000D_ c) Celkové náklady za stavbu_x000D_ - ceny na položkách_x000D_ - množstvo, pokiaľ má žlté podfarbenie_x000D_ - a v prípade potreby poznámku (tá je v skrytom stĺpci) | BS5: 0,001
D6: Stavba: | K6: Poradenské centrum UKF v Nitre - zmena 12/2016 | BS6: 0,001
D7: JKSO: | AK7: KS: | BS7: 0,001
D8: Miesto: | K8: Trieda A.Hlinku 1, Nitra | AK8: Dátum: | AN8: 19. 12. 2016 | BS8: 0,001
BS9: 0,001
D10: Objednávateľ: | AK10: IČO: | BS10: 0,001
E11: UKF Nitra | AK11: IČO DPH: | BS11: 0,001
BS12: 0,001
D13: Zhotoviteľ: | AK13: IČO: | AN13: Vyplň údaj | BS13: 0,001
E14: Vyplň údaj | AK14: IČO DPH: | AN14: Vyplň údaj | BS14: 0,001
BS15: False
D16: Projektant: | AK16: IČO: | BS16: False
E17: SH final s.r.o. Nitra | AK17: IČO DPH: | BS17: True
BS18: 0,01
D19: Spracovateľ: | AK19: IČO: | BS19: 0,01
E20: Ing.Janečka | AK20: IČO DPH:
D22: Poznámka:
D26: Náklady z rozpočtov | AK26: =ROUND(AG87,2) -> 0
D27: Ostatné náklady zo súhrnného listu | AK27: =ROUND(AG102,2) -> 0
D29: Cena bez DPH | AK29: =ROUND(AK26+AK27,2) -> 0
D31: DPH | F31: základná | L31: 0.2 | T31: z | W31: =ROUND(AZ87+SUM(CD103:CD107),2) -> 0 | AK31: =ROUND(AV87+SUM(BY103:BY107),2) -> 0
F32: znížená | L32: 0.2 | T32: z | W32: =ROUND(BA87+SUM(CE103:CE107),2) -> 0 | AK32: =ROUND(AW87+SUM(BZ103:BZ107),2) -> 0
F33: zákl. prenesená | L33: 0.2 | T33: z | W33: =ROUND(BB87+SUM(CF103:CF107),2) -> 0 | AK33: 0
F34: zníž. prenesená | L34: 0.2 | T34: z | W34: =ROUND(BC87+SUM(CG103:CG107),2) -> 0 | AK34: 0
F35: nulová | L35: 0 | T35: z | W35: =ROUND(BD87+SUM(CH103:CH107),2) -> 0 | AK35: 0
D37: Cena s DPH | T37: v | X37: EUR | AK37: =SUM(AK29:AK35) -> 0
D49: Projektant | AC49: Spracovateľ
D58: Dátum a podpis: | R58: Pečiatka | AC58: Dátum a podpis: | AM58: Pečiatka
D60: Objednávateľ | AC60: Zhotoviteľ
D69: Dátum a podpis: | R69: Pečiatka | AC69: Dátum a podpis: | AM69: Pečiatka
C76: REKAPITULÁCIA OBJEKTOV STAVBY
C77: Kód: | L77: =K5 -> shf1606b
C78: Stavba: | L78: =K6 -> Poradenské centrum UKF v Nitre - zmena 12/2016
C80: Miesto: | L80: =IF(K8="","",K8) -> Trieda A.Hlinku 1, Nitra | AI80: Dátum: | AM80: =IF(AN8= "","",AN8) -> 19. 12. 2016
C82: Objednávateľ: | L82: =IF(E11= "","",E11) -> UKF Nitra | AI82: Projektant: | AM82: =IF(E17="","",E17) -> SH final s.r.o. Nitra | AS82: Informatívne údaje z listov zákaziek
C83: Zhotoviteľ: | L83: =IF(E14= "Vyplň údaj","",E14) | AI83: Spracovateľ: | AM83: =IF(E20="","",E20) -> Ing.Janečka
...

Sheet 001- Architektúra a statika 9.2
D1: Hárok obsahuje: | F1: 1) Krycí list rozpočtu | H1: 2) Rekapitulácia rozpočtu | L1: 3) Rozpočet | O1: Späť na hárok: | S1: Rekapitulácia stavby
C2: optimalizované pre tlač zostáv vo formáte A4 - na výšku | S2: >> skryté stĺpce << | AT2: {99de835d-6c86-4cf4-bcc7-41f2ddf9899b}
AT3: 0
C4: KRYCÍ LIST ROZPOČTU 9.2. | T4: v --- nižšie sa nachádzajú doplnkové a pomocné údaje k zostavám --- v | AT4: False
D6: Stavba: | F6: ='Rekapitulácia stavby 9.2.'!K6 -> Poradenské centrum UKF v Nitre - zmena 12/2016
D7: Objekt: | F7: 001 - I.etapa
D8: Časť: | F8: 001 - Architektúra a statika
D9: JKSO: | M9: KS:
D10: Miesto: | F10: Trieda A.Hlinku 1, Nitra | M10: Dátum: | O10: ='Rekapitulácia stavby 9.2.'!AN8 -> 19. 12. 2016
D12: Objednávateľ: | M12: IČO:
E13: UKF Nitra | M13: IČO DPH:
D15: Zhotoviteľ: | M15: IČO: | O15: =IF('Rekapitulácia stavby 9.2.'!AN13="","",'Rekapitulácia stavby 9.2.'!AN13) -> Vyplň údaj
E16: =IF('Rekapitulácia stavby 9.2.'!E14="","",'Rekapitulácia stavby 9.2.'!E14) -> Vyplň údaj | M16: IČO DPH: | O16: =IF('Rekapitulácia stavby 9.2.'!AN14="","",'Rekapitulácia stavby 9.2.'!AN14) -> Vyplň údaj
D18: Projektant: | M18: IČO:
E19: SH final s.r.o. Nitra | M19: IČO DPH:
D21: Spracovateľ: | M21: IČO:
E22: Ing.Janečka | M22: IČO DPH:
D24: Poznámka:
D28: Náklady z rozpočtu | M28: =N89 -> 0
D29: Ostatné náklady | M29: =N118 -> 0
D31: Cena bez DPH | M31: =ROUND(M28+M29,2) -> 0
D33: DPH | E33: základná | F33: 0.2 | G33: z | H33: =ROUND((((SUM(BE118:BE125)+SUM(BE144:BE389))+SUM(BE391:BE395))),2) -> 0 | M33: =ROUND(((ROUND((SUM(BE118:BE125)+SUM(BE144:BE389)), 2)*F33)+SUM(BE391:BE395)*F33),2) -> 0
E34: znížená | F34: 0.2 | G34: z | H34: =ROUND((((SUM(BF118:BF125)+SUM(BF144:BF389))+SUM(BF391:BF395))),2) -> 0 | M34: =ROUND(((ROUND((SUM(BF118:BF125)+SUM(BF144:BF389)), 2)*F34)+SUM(BF391:BF395)*F34),2) -> 0
E35: zákl. prenesená | F35: 0.2 | G35: z | H35: =ROUND((((SUM(BG118:BG125)+SUM(BG144:BG389))+SUM(BG391:BG395))),2) -> 0 | M35: 0
E36: zníž. prenesená | F36: 0.2 | G36: z | H36: =ROUND((((SUM(BH118:BH125)+SUM(BH144:BH389))+SUM(BH391:BH395))),2) -> 0 | M36: 0
E37: nulová | F37: 0 | G37: z | H37: =ROUND((((SUM(BI118:BI125)+SUM(BI144:BI389))+SUM(BI391:BI395))),2) -> 0 | M37: 0
D39: Cena s DPH | G39: v | H39: EUR | L39: =SUM(M31:M37) -> 0
D50: Projektant | J50: Spracovateľ
D59: Dátum a podpis: | G59: Pečiatka | J59: Dátum a podpis: | N59: Pečiatka
D61: Objednávateľ | J61: Zhotoviteľ
D70: Dátum a podpis: | G70: Pečiatka | J70: Dátum a podpis: | N70: Pečiatka
C76: REKAPITULÁCIA ROZPOČTU
C78: Stavba: | F78: =F6 -> Poradenské centrum UKF v Nitre - zmena 12/2016
C79: Objekt: | F79: 001 - I.etapa
C80: Časť: | F80: =F8 -> 001 - Architektúra a statika
C82: Miesto: | F82: =F10 -> Trieda A.Hlinku 1, Nitra | K82: Dátum: | M82: =IF(O10="","",O10) -> 19. 12. 2016
C84: Objednávateľ: | F84: =E13 -> UKF Nitra | K84: Projektant: | M84: =E19 -> SH final s.r.o. Nitra
C85: Zhotoviteľ: | F85: =IF(E16="","",E16) -> Vyplň údaj | K85: Spracovateľ: | M85: =E22 -> Ing.Janečka
C87: Kód - Popis | N87: Cena celkom [EUR]
C89: 1) Náklady z rozpočtu | N89: =L126=N144 -> 0 | AU89: -1
...

Sheet 002 - Vykurovanie 9.2.
D1: Hárok obsahuje: | F1: 1) Krycí list rozpočtu | H1: 2) Rekapitulácia rozpočtu | L1: 3) Rozpočet | O1: Späť na hárok: | S1: Rekapitulácia stavby
C2: optimalizované pre tlač zostáv vo formáte A4 - na výšku | S2: >> skryté stĺpce << | AT2: {7f57cf1d-b5bf-458a-969b-32b80a80841b}
AT3: 0
C4: KRYCÍ LIST ROZPOČTU 9.2. | T4: v --- nižšie sa nachádzajú doplnkové a pomocné údaje k zostavám --- v | AT4: False
D6: Stavba: | F6: ='Rekapitulácia stavby 9.2.'!K6 -> Poradenské centrum UKF v Nitre - zmena 12/2016
D7: Objekt: | F7: 001 - I.etapa
D8: Časť: | F8: 002 - Vykurovanie
D9: JKSO: | M9: KS:
D10: Miesto: | F10: Trieda A.Hlinku 1, Nitra | M10: Dátum: | O10: ='Rekapitulácia stavby 9.2.'!AN8 -> 19. 12. 2016
D12: Objednávateľ: | M12: IČO:
E13: UKF Nitra | M13: IČO DPH:
D15: Zhotoviteľ: | M15: IČO: | O15: =IF('Rekapitulácia stavby 9.2.'!AN13="","",'Rekapitulácia stavby 9.2.'!AN13) -> Vyplň údaj
E16: =IF('Rekapitulácia stavby 9.2.'!E14="","",'Rekapitulácia stavby 9.2.'!E14) -> Vyplň údaj | M16: IČO DPH: | O16: =IF('Rekapitulácia stavby 9.2.'!AN14="","",'Rekapitulácia stavby 9.2.'!AN14) -> Vyplň údaj
D18: Projektant: | M18: IČO:
E19: SH final s.r.o. Nitra | M19: IČO DPH:
D21: Spracovateľ: | M21: IČO:
E22: Ing.Valent | M22: IČO DPH:
D24: Poznámka:
D28: Náklady z rozpočtu | M28: =N89 -> 0
D29: Ostatné náklady | M29: =N101 -> 0
D31: Cena bez DPH | M31: =ROUND(M28+M29,2) -> 0
D33: DPH | E33: základná | F33: 0.2 | G33: z | H33: =ROUND((((SUM(BE101:BE108)+SUM(BE127:BE199))+SUM(BE201:BE205))),2) -> 0 | M33: =ROUND(((ROUND((SUM(BE101:BE108)+SUM(BE127:BE199)), 2)*F33)+SUM(BE201:BE205)*F33),2) -> 0
E34: znížená | F34: 0.2 | G34: z | H34: =ROUND((((SUM(BF101:BF108)+SUM(BF127:BF199))+SUM(BF201:BF205))),2) -> 0 | M34: =ROUND(((ROUND((SUM(BF101:BF108)+SUM(BF127:BF199)), 2)*F34)+SUM(BF201:BF205)*F34),2) -> 0
E35: zákl. prenesená | F35: 0.2 | G35: z | H35: =ROUND((((SUM(BG101:BG108)+SUM(BG127:BG199))+SUM(BG201:BG205))),2) -> 0 | M35: 0
E36: zníž. prenesená | F36: 0.2 | G36: z | H36: =ROUND((((SUM(BH101:BH108)+SUM(BH127:BH199))+SUM(BH201:BH205))),2) -> 0 | M36: 0
E37: nulová | F37: 0 | G37: z | H37: =ROUND((((SUM(BI101:BI108)+SUM(BI127:BI199))+SUM(BI201:BI205))),2) -> 0 | M37: 0
D39: Cena s DPH | G39: v | H39: EUR | L39: =SUM(M31:M37) -> 0
D50: Projektant | J50: Spracovateľ
D59: Dátum a podpis: | G59: Pečiatka | J59: Dátum a podpis: | N59: Pečiatka
D61: Objednávateľ | J61: Zhotoviteľ
D70: Dátum a podpis: | G70: Pečiatka | J70: Dátum a podpis: | N70: Pečiatka
C76: REKAPITULÁCIA ROZPOČTU
C78: Stavba: | F78: =F6 -> Poradenské centrum UKF v Nitre - zmena 12/2016
C79: Objekt: | F79: 001 - I.etapa
C80: Časť: | F80: =F8 -> 002 - Vykurovanie
C82: Miesto: | F82: =F10 -> Trieda A.Hlinku 1, Nitra | K82: Dátum: | M82: =IF(O10="","",O10) -> 19. 12. 2016
C84: Objednávateľ: | F84: =E13 -> UKF Nitra | K84: Projektant: | M84: =E19 -> SH final s.r.o. Nitra
C85: Zhotoviteľ: | F85: =IF(E16="","",E16) -> Vyplň údaj | K85: Spracovateľ: | M85: =E22 -> Ing.Valent
C87: Kód - Popis | N87: Cena celkom [EUR]
C89: 1) Náklady z rozpočtu | N89: =N127 -> 0 | AU89: -1
...

Sheet 003 - Zdravotechnika 9.2.
D1: Hárok obsahuje: | F1: 1) Krycí list rozpočtu | H1: 2) Rekapitulácia rozpočtu | L1: 3) Rozpočet | O1: Späť na hárok: | S1: Rekapitulácia stavby
C2: optimalizované pre tlač zostáv vo formáte A4 - na výšku | S2: >> skryté stĺpce << | AT2: {b766ed25-539e-4662-87e8-db8fc541ba8d}
AT3: 0
C4: KRYCÍ LIST ROZPOČTU 9.2. | T4: v --- nižšie sa nachádzajú doplnkové a pomocné údaje k zostavám --- v | AT4: False
D6: Stavba: | F6: ='Rekapitulácia stavby 9.2.'!K6 -> Poradenské centrum UKF v Nitre - zmena 12/2016
D7: Objekt: | F7: 001 - I.etapa
D8: Časť: | F8: 003 - Zdravotechnika
D9: JKSO: | M9: KS:
D10: Miesto: | F10: Trieda A.Hlinku 1, Nitra | M10: Dátum: | O10: ='Rekapitulácia stavby 9.2.'!AN8 -> 19. 12. 2016
D12: Objednávateľ: | M12: IČO:
E13: UKF Nitra | M13: IČO DPH:
D15: Zhotoviteľ: | M15: IČO: | O15: =IF('Rekapitulácia stavby 9.2.'!AN13="","",'Rekapitulácia stavby 9.2.'!AN13) -> Vyplň údaj
E16: =IF('Rekapitulácia stavby 9.2.'!E14="","",'Rekapitulácia stavby 9.2.'!E14) -> Vyplň údaj | M16: IČO DPH: | O16: =IF('Rekapitulácia stavby 9.2.'!AN14="","",'Rekapitulácia stavby 9.2.'!AN14) -> Vyplň údaj
D18: Projektant: | M18: IČO:
E19: SH final s.r.o. Nitra | M19: IČO DPH:
D21: Spracovateľ: | M21: IČO:
E22: Ing.Košík | M22: IČO DPH:
D24: Poznámka:
D28: Náklady z rozpočtu | M28: =N89 -> 0
D29: Ostatné náklady | M29: =N106 -> 0
D31: Cena bez DPH | M31: =ROUND(M28+M29,2) -> 0
D33: DPH | E33: základná | F33: 0.2 | G33: z | H33: =ROUND((((SUM(BE106:BE113)+SUM(BE132:BE270))+SUM(BE272:BE276))),2) -> 0 | M33: =ROUND(((ROUND((SUM(BE106:BE113)+SUM(BE132:BE270)), 2)*F33)+SUM(BE272:BE276)*F33),2) -> 0
E34: znížená | F34: 0.2 | G34: z | H34: =ROUND((((SUM(BF106:BF113)+SUM(BF132:BF270))+SUM(BF272:BF276))),2) -> 0 | M34: =ROUND(((ROUND((SUM(BF106:BF113)+SUM(BF132:BF270)), 2)*F34)+SUM(BF272:BF276)*F34),2) -> 0
E35: zákl. prenesená | F35: 0.2 | G35: z | H35: =ROUND((((SUM(BG106:BG113)+SUM(BG132:BG270))+SUM(BG272:BG276))),2) -> 0 | M35: 0
E36: zníž. prenesená | F36: 0.2 | G36: z | H36: =ROUND((((SUM(BH106:BH113)+SUM(BH132:BH270))+SUM(BH272:BH276))),2) -> 0 | M36: 0
E37: nulová | F37: 0 | G37: z | H37: =ROUND((((SUM(BI106:BI113)+SUM(BI132:BI270))+SUM(BI272:BI276))),2) -> 0 | M37: 0
D39: Cena s DPH | G39: v | H39: EUR | L39: =SUM(M31:M37) -> 0
D50: Projektant | J50: Spracovateľ
D59: Dátum a podpis: | G59: Pečiatka | J59: Dátum a podpis: | N59: Pečiatka
D61: Objednávateľ | J61: Zhotoviteľ
D70: Dátum a podpis: | G70: Pečiatka | J70: Dátum a podpis: | N70: Pečiatka
C76: REKAPITULÁCIA ROZPOČTU
C78: Stavba: | F78: =F6 -> Poradenské centrum UKF v Nitre - zmena 12/2016
C79: Objekt: | F79: 001 - I.etapa
C80: Časť: | F80: =F8 -> 003 - Zdravotechnika
C82: Miesto: | F82: =F10 -> Trieda A.Hlinku 1, Nitra | K82: Dátum: | M82: =IF(O10="","",O10) -> 19. 12. 2016
C84: Objednávateľ: | F84: =E13 -> UKF Nitra | K84: Projektant: | M84: =E19 -> SH final s.r.o. Nitra
C85: Zhotoviteľ: | F85: =IF(E16="","",E16) -> Vyplň údaj | K85: Spracovateľ: | M85: =E22 -> Ing.Košík
C87: Kód - Popis | N87: Cena celkom [EUR]
C89: 1) Náklady z rozpočtu | N89: =N132 -> 0 | AU89: -1
...

Sheet 004 - Elektroinštalácia 9.2.
D1: Hárok obsahuje: | F1: 1) Krycí list rozpočtu | H1: 2) Rekapitulácia rozpočtu | L1: 3) Rozpočet | O1: Späť na hárok: | S1: Rekapitulácia stavby
C2: optimalizované pre tlač zostáv vo formáte A4 - na výšku | S2: >> skryté stĺpce << | AT2: {deb1db19-f6cf-41e7-baa4-d36fc3d11195}
AT3: 0
C4: KRYCÍ LIST ROZPOČTU 9.2. | T4: v --- nižšie sa nachádzajú doplnkové a pomocné údaje k zostavám --- v | AT4: False
D6: Stavba: | F6: ='Rekapitulácia stavby 9.2.'!K6 -> Poradenské centrum UKF v Nitre - zmena 12/2016
D7: Objekt: | F7: 001 - I.etapa
D8: Časť: | F8: 004 - Elektroinštalácia
D9: JKSO: | M9: KS:
D10: Miesto: | F10: Trieda A.Hlinku 1, Nitra | M10: Dátum: | O10: ='Rekapitulácia stavby 9.2.'!AN8 -> 19. 12. 2016
D12: Objednávateľ: | M12: IČO:
E13: UKF Nitra | M13: IČO DPH:
D15: Zhotoviteľ: | M15: IČO: | O15: =IF('Rekapitulácia stavby 9.2.'!AN13="","",'Rekapitulácia stavby 9.2.'!AN13) -> Vyplň údaj
E16: =IF('Rekapitulácia stavby 9.2.'!E14="","",'Rekapitulácia stavby 9.2.'!E14) -> Vyplň údaj | M16: IČO DPH: | O16: =IF('Rekapitulácia stavby 9.2.'!AN14="","",'Rekapitulácia stavby 9.2.'!AN14) -> Vyplň údaj
D18: Projektant: | M18: IČO:
E19: SH final s.r.o. Nitra | M19: IČO DPH:
D21: Spracovateľ: | M21: IČO:
E22: Ing.Hrapko | M22: IČO DPH:
D24: Poznámka:
D28: Náklady z rozpočtu | M28: =N89 -> 0
D29: Ostatné náklady | M29: =N94 -> 0
D31: Cena bez DPH | M31: =ROUND(M28+M29,2) -> 0
D33: DPH | E33: základná | F33: 0.2 | G33: z | H33: =ROUND((((SUM(BE94:BE101)+SUM(BE120:BE216))+SUM(BE218:BE222))),2) -> 0 | M33: =ROUND(((ROUND((SUM(BE94:BE101)+SUM(BE120:BE216)), 2)*F33)+SUM(BE218:BE222)*F33),2) -> 0
E34: znížená | F34: 0.2 | G34: z | H34: =ROUND((((SUM(BF94:BF101)+SUM(BF120:BF216))+SUM(BF218:BF222))),2) -> 0 | M34: =ROUND(((ROUND((SUM(BF94:BF101)+SUM(BF120:BF216)), 2)*F34)+SUM(BF218:BF222)*F34),2) -> 0
E35: zákl. prenesená | F35: 0.2 | G35: z | H35: =ROUND((((SUM(BG94:BG101)+SUM(BG120:BG216))+SUM(BG218:BG222))),2) -> 0 | M35: 0
E36: zníž. prenesená | F36: 0.2 | G36: z | H36: =ROUND((((SUM(BH94:BH101)+SUM(BH120:BH216))+SUM(BH218:BH222))),2) -> 0 | M36: 0
E37: nulová | F37: 0 | G37: z | H37: =ROUND((((SUM(BI94:BI101)+SUM(BI120:BI216))+SUM(BI218:BI222))),2) -> 0 | M37: 0
D39: Cena s DPH | G39: v | H39: EUR | L39: =SUM(M31:M37) -> 0
D50: Projektant | J50: Spracovateľ
D59: Dátum a podpis: | G59: Pečiatka | J59: Dátum a podpis: | N59: Pečiatka
D61: Objednávateľ | J61: Zhotoviteľ
D70: Dátum a podpis: | G70: Pečiatka | J70: Dátum a podpis: | N70: Pečiatka
C76: REKAPITULÁCIA ROZPOČTU
C78: Stavba: | F78: =F6 -> Poradenské centrum UKF v Nitre - zmena 12/2016
C79: Objekt: | F79: 001 - I.etapa
C80: Časť: | F80: =F8 -> 004 - Elektroinštalácia
C82: Miesto: | F82: =F10 -> Trieda A.Hlinku 1, Nitra | K82: Dátum: | M82: =IF(O10="","",O10) -> 19. 12. 2016
C84: Objednávateľ: | F84: =E13 -> UKF Nitra | K84: Projektant: | M84: =E19 -> SH final s.r.o. Nitra
C85: Zhotoviteľ: | F85: =IF(E16="","",E16) -> Vyplň údaj | K85: Spracovateľ: | M85: =E22 -> Ing.Hrapko
C87: Kód - Popis | N87: Cena celkom [EUR]
C89: 1) Náklady z rozpočtu | N89: =N120 -> 0 | AU89: -1
...

Sheet 005 - Vzduchotechnika 9.2.
D1: Hárok obsahuje: | F1: 1) Krycí list rozpočtu | H1: 2) Rekapitulácia rozpočtu | L1: 3) Rozpočet | O1: Späť na hárok: | S1: Rekapitulácia stavby
C2: optimalizované pre tlač zostáv vo formáte A4 - na výšku | S2: >> skryté stĺpce << | AT2: {da178629-ffd1-4f1f-993b-f1949832b927}
AT3: 0
C4: KRYCÍ LIST ROZPOČTU 9.2. | T4: v --- nižšie sa nachádzajú doplnkové a pomocné údaje k zostavám --- v | AT4: False
D6: Stavba: | F6: ='Rekapitulácia stavby 9.2.'!K6 -> Poradenské centrum UKF v Nitre - zmena 12/2016
D7: Objekt: | F7: 001 - I.etapa
D8: Časť: | F8: 005 - Vzduchotechnika
D9: JKSO: | M9: KS:
D10: Miesto: | F10: Trieda A.Hlinku 1, Nitra | M10: Dátum: | O10: ='Rekapitulácia stavby 9.2.'!AN8 -> 19. 12. 2016
D12: Objednávateľ: | M12: IČO:
E13: UKF Nitra | M13: IČO DPH:
D15: Zhotoviteľ: | M15: IČO: | O15: =IF('Rekapitulácia stavby 9.2.'!AN13="","",'Rekapitulácia stavby 9.2.'!AN13) -> Vyplň údaj
E16: =IF('Rekapitulácia stavby 9.2.'!E14="","",'Rekapitulácia stavby 9.2.'!E14) -> Vyplň údaj | M16: IČO DPH: | O16: =IF('Rekapitulácia stavby 9.2.'!AN14="","",'Rekapitulácia stavby 9.2.'!AN14) -> Vyplň údaj
D18: Projektant: | M18: IČO:
E19: SH final s.r.o. Nitra | M19: IČO DPH:
D21: Spracovateľ: | M21: IČO:
E22: L.Oravec | M22: IČO DPH:
D24: Poznámka:
D28: Náklady z rozpočtu | M28: =N89 -> 0
D29: Ostatné náklady | M29: =N97 -> 0
D31: Cena bez DPH | M31: =ROUND(M28+M29,2) -> 0
D33: DPH | E33: základná | F33: 0.2 | G33: z | H33: =ROUND((((SUM(BE97:BE104)+SUM(BE123:BE160))+SUM(BE162:BE166))),2) -> 0 | M33: =ROUND(((ROUND((SUM(BE97:BE104)+SUM(BE123:BE160)), 2)*F33)+SUM(BE162:BE166)*F33),2) -> 0
E34: znížená | F34: 0.2 | G34: z | H34: =ROUND((((SUM(BF97:BF104)+SUM(BF123:BF160))+SUM(BF162:BF166))),2) -> 0 | M34: =ROUND(((ROUND((SUM(BF97:BF104)+SUM(BF123:BF160)), 2)*F34)+SUM(BF162:BF166)*F34),2) -> 0
E35: zákl. prenesená | F35: 0.2 | G35: z | H35: =ROUND((((SUM(BG97:BG104)+SUM(BG123:BG160))+SUM(BG162:BG166))),2) -> 0 | M35: 0
E36: zníž. prenesená | F36: 0.2 | G36: z | H36: =ROUND((((SUM(BH97:BH104)+SUM(BH123:BH160))+SUM(BH162:BH166))),2) -> 0 | M36: 0
E37: nulová | F37: 0 | G37: z | H37: =ROUND((((SUM(BI97:BI104)+SUM(BI123:BI160))+SUM(BI162:BI166))),2) -> 0 | M37: 0
D39: Cena s DPH | G39: v | H39: EUR | L39: =SUM(M31:M37) -> 0
D50: Projektant | J50: Spracovateľ
D59: Dátum a podpis: | G59: Pečiatka | J59: Dátum a podpis: | N59: Pečiatka
D61: Objednávateľ | J61: Zhotoviteľ
D70: Dátum a podpis: | G70: Pečiatka | J70: Dátum a podpis: | N70: Pečiatka
C76: REKAPITULÁCIA ROZPOČTU
C78: Stavba: | F78: =F6 -> Poradenské centrum UKF v Nitre - zmena 12/2016
C79: Objekt: | F79: 001 - I.etapa
C80: Časť: | F80: =F8 -> 005 - Vzduchotechnika
C82: Miesto: | F82: =F10 -> Trieda A.Hlinku 1, Nitra | K82: Dátum: | M82: =IF(O10="","",O10) -> 19. 12. 2016
C84: Objednávateľ: | F84: =E13 -> UKF Nitra | K84: Projektant: | M84: =E19 -> SH final s.r.o. Nitra
C85: Zhotoviteľ: | F85: =IF(E16="","",E16) -> Vyplň údaj | K85: Spracovateľ: | M85: =E22 -> L.Oravec
C87: Kód - Popis | N87: Cena celkom [EUR]
C89: 1) Náklady z rozpočtu | N89: =N123 -> 0 | AU89: -1
...

Sheet 006 - Poplachové zariaden...9.2
D1: Hárok obsahuje: | F1: 1) Krycí list rozpočtu | H1: 2) Rekapitulácia rozpočtu | L1: 3) Rozpočet | O1: Späť na hárok: | S1: Rekapitulácia stavby
C2: optimalizované pre tlač zostáv vo formáte A4 - na výšku | S2: >> skryté stĺpce << | AT2: {64ed96b1-95be-42cb-aa1c-2a1d2904f7b3}
AT3: 0
C4: KRYCÍ LIST ROZPOČTU 9.2. | T4: v --- nižšie sa nachádzajú doplnkové a pomocné údaje k zostavám --- v | AT4: False
D6: Stavba: | F6: ='Rekapitulácia stavby 9.2.'!K6 -> Poradenské centrum UKF v Nitre - zmena 12/2016
D7: Objekt: | F7: 001 - I.etapa
D8: Časť: | F8: 006 - Poplachové zariadenie narušenia
D9: JKSO: | M9: KS:
D10: Miesto: | F10: Trieda A.Hlinku 1, Nitra | M10: Dátum: | O10: ='Rekapitulácia stavby 9.2.'!AN8 -> 19. 12. 2016
D12: Objednávateľ: | M12: IČO:
E13: UKF Nitra | M13: IČO DPH:
D15: Zhotoviteľ: | M15: IČO: | O15: =IF('Rekapitulácia stavby 9.2.'!AN13="","",'Rekapitulácia stavby 9.2.'!AN13) -> Vyplň údaj
E16: =IF('Rekapitulácia stavby 9.2.'!E14="","",'Rekapitulácia stavby 9.2.'!E14) -> Vyplň údaj | M16: IČO DPH: | O16: =IF('Rekapitulácia stavby 9.2.'!AN14="","",'Rekapitulácia stavby 9.2.'!AN14) -> Vyplň údaj
D18: Projektant: | M18: IČO:
E19: SH final s.r.o. Nitra | M19: IČO DPH:
D21: Spracovateľ: | M21: IČO:
E22: Morez s.r.o. | M22: IČO DPH:
D24: Poznámka:
D28: Náklady z rozpočtu | M28: =N89 -> 0
D29: Ostatné náklady | M29: =N98 -> 0
D31: Cena bez DPH | M31: =ROUND(M28+M29,2) -> 0
D33: DPH | E33: základná | F33: 0.2 | G33: z | H33: =ROUND((((SUM(BE98:BE105)+SUM(BE124:BE152))+SUM(BE154:BE158))),2) -> 0 | M33: =ROUND(((ROUND((SUM(BE98:BE105)+SUM(BE124:BE152)), 2)*F33)+SUM(BE154:BE158)*F33),2) -> 0
E34: znížená | F34: 0.2 | G34: z | H34: =ROUND((((SUM(BF98:BF105)+SUM(BF124:BF152))+SUM(BF154:BF158))),2) -> 0 | M34: =ROUND(((ROUND((SUM(BF98:BF105)+SUM(BF124:BF152)), 2)*F34)+SUM(BF154:BF158)*F34),2) -> 0
E35: zákl. prenesená | F35: 0.2 | G35: z | H35: =ROUND((((SUM(BG98:BG105)+SUM(BG124:BG152))+SUM(BG154:BG158))),2) -> 0 | M35: 0
E36: zníž. prenesená | F36: 0.2 | G36: z | H36: =ROUND((((SUM(BH98:BH105)+SUM(BH124:BH152))+SUM(BH154:BH158))),2) -> 0 | M36: 0
E37: nulová | F37: 0 | G37: z | H37: =ROUND((((SUM(BI98:BI105)+SUM(BI124:BI152))+SUM(BI154:BI158))),2) -> 0 | M37: 0
D39: Cena s DPH | G39: v | H39: EUR | L39: =SUM(M31:M37) -> 0
D50: Projektant | J50: Spracovateľ
D59: Dátum a podpis: | G59: Pečiatka | J59: Dátum a podpis: | N59: Pečiatka
D61: Objednávateľ | J61: Zhotoviteľ
D70: Dátum a podpis: | G70: Pečiatka | J70: Dátum a podpis: | N70: Pečiatka
C76: REKAPITULÁCIA ROZPOČTU
C78: Stavba: | F78: =F6 -> Poradenské centrum UKF v Nitre - zmena 12/2016
C79: Objekt: | F79: 001 - I.etapa
C80: Časť: | F80: =F8 -> 006 - Poplachové zariadenie narušenia
C82: Miesto: | F82: =F10 -> Trieda A.Hlinku 1, Nitra | K82: Dátum: | M82: =IF(O10="","",O10) -> 19. 12. 2016
C84: Objednávateľ: | F84: =E13 -> UKF Nitra | K84: Projektant: | M84: =E19 -> SH final s.r.o. Nitra
C85: Zhotoviteľ: | F85: =IF(E16="","",E16) -> Vyplň údaj | K85: Spracovateľ: | M85: =E22 -> Morez s.r.o.
C87: Kód - Popis | N87: Cena celkom [EUR]
C89: 1) Náklady z rozpočtu | N89: =N124 -> 0 | AU89: -1
...

Sheet 007 - Štrukturovaná kabeláž 9.2
D1: Hárok obsahuje: | F1: 1) Krycí list rozpočtu | H1: 2) Rekapitulácia rozpočtu | L1: 3) Rozpočet | O1: Späť na hárok: | S1: Rekapitulácia stavby
C2: optimalizované pre tlač zostáv vo formáte A4 - na výšku | S2: >> skryté stĺpce << | AT2: {6f53eee6-2d88-4d08-9ffb-aca62f36a450}
AT3: 0
C4: KRYCÍ LIST ROZPOČTU 9.2. | T4: v --- nižšie sa nachádzajú doplnkové a pomocné údaje k zostavám --- v | AT4: False
D6: Stavba: | F6: ='Rekapitulácia stavby 9.2.'!K6 -> Poradenské centrum UKF v Nitre - zmena 12/2016
D7: Objekt: | F7: 001 - I.etapa
D8: Časť: | F8: 007 - Štrukturovaná kabeláž
D9: JKSO: | M9: KS:
D10: Miesto: | F10: Trieda A.Hlinku 1, Nitra | M10: Dátum: | O10: ='Rekapitulácia stavby 9.2.'!AN8 -> 19. 12. 2016
D12: Objednávateľ: | M12: IČO:
E13: UKF Nitra | M13: IČO DPH:
D15: Zhotoviteľ: | M15: IČO: | O15: =IF('Rekapitulácia stavby 9.2.'!AN13="","",'Rekapitulácia stavby 9.2.'!AN13) -> Vyplň údaj
E16: =IF('Rekapitulácia stavby 9.2.'!E14="","",'Rekapitulácia stavby 9.2.'!E14) -> Vyplň údaj | M16: IČO DPH: | O16: =IF('Rekapitulácia stavby 9.2.'!AN14="","",'Rekapitulácia stavby 9.2.'!AN14) -> Vyplň údaj
D18: Projektant: | M18: IČO:
E19: SH final s.r.o. Nitra | M19: IČO DPH:
D21: Spracovateľ: | M21: IČO:
E22: Morez s.r.o. | M22: IČO DPH:
D24: Poznámka:
D28: Náklady z rozpočtu | M28: =N89 -> 0
D29: Ostatné náklady | M29: =N94 -> 0
D31: Cena bez DPH | M31: =ROUND(M28+M29,L392) -> 0
D33: DPH | E33: základná | F33: 0.2 | G33: z | H33: =ROUND((((SUM(BE94:BE101)+SUM(BE120:BE166))+SUM(BE168:BE172))),2) -> 0 | M33: =ROUND(((ROUND((SUM(BE94:BE101)+SUM(BE120:BE166)), 2)*F33)+SUM(BE168:BE172)*F33),2) -> 0
E34: znížená | F34: 0.2 | G34: z | H34: =ROUND((((SUM(BF94:BF101)+SUM(BF120:BF166))+SUM(BF168:BF172))),2) -> 0 | M34: =ROUND(((ROUND((SUM(BF94:BF101)+SUM(BF120:BF166)), 2)*F34)+SUM(BF168:BF172)*F34),2) -> 0
E35: zákl. prenesená | F35: 0.2 | G35: z | H35: =ROUND((((SUM(BG94:BG101)+SUM(BG120:BG166))+SUM(BG168:BG172))),2) -> 0 | M35: 0
E36: zníž. prenesená | F36: 0.2 | G36: z | H36: =ROUND((((SUM(BH94:BH101)+SUM(BH120:BH166))+SUM(BH168:BH172))),2) -> 0 | M36: 0
E37: nulová | F37: 0 | G37: z | H37: =ROUND((((SUM(BI94:BI101)+SUM(BI120:BI166))+SUM(BI168:BI172))),2) -> 0 | M37: 0
D39: Cena s DPH | G39: v | H39: EUR | L39: =SUM(M31:M37) -> 0
D50: Projektant | J50: Spracovateľ
D59: Dátum a podpis: | G59: Pečiatka | J59: Dátum a podpis: | N59: Pečiatka
D61: Objednávateľ | J61: Zhotoviteľ
D70: Dátum a podpis: | G70: Pečiatka | J70: Dátum a podpis: | N70: Pečiatka
C76: REKAPITULÁCIA ROZPOČTU
C78: Stavba: | F78: =F6 -> Poradenské centrum UKF v Nitre - zmena 12/2016
C79: Objekt: | F79: 001 - I.etapa
C80: Časť: | F80: =F8 -> 007 - Štrukturovaná kabeláž
C82: Miesto: | F82: =F10 -> Trieda A.Hlinku 1, Nitra | K82: Dátum: | M82: =IF(O10="","",O10) -> 19. 12. 2016
C84: Objednávateľ: | F84: =E13 -> UKF Nitra | K84: Projektant: | M84: =E19 -> SH final s.r.o. Nitra
C85: Zhotoviteľ: | F85: =IF(E16="","",E16) -> Vyplň údaj | K85: Spracovateľ: | M85: =E22 -> Morez s.r.o.
C87: Kód - Popis | N87: Cena celkom [EUR]
C89: 1) Náklady z rozpočtu | N89: =N120 -> 0 | AU89: -1
...

Sheet 001-Architektúra statika 01 9.2
D1: Hárok obsahuje: | F1: 1) Krycí list rozpočtu | H1: 2) Rekapitulácia rozpočtu | L1: 3) Rozpočet | O1: Späť na hárok: | S1: Rekapitulácia stavby
C2: optimalizované pre tlač zostáv vo formáte A4 - na výšku | S2: >> skryté stĺpce << | AT2: {616e4a8e-c50a-4b25-a1ae-6a8e6340d4ed}
AT3: 0
C4: KRYCÍ LIST ROZPOČTU 9.2. | T4: v --- nižšie sa nachádzajú doplnkové a pomocné údaje k zostavám --- v | AT4: False
D6: Stavba: | F6: ='Rekapitulácia stavby 9.2.'!K6 -> Poradenské centrum UKF v Nitre - zmena 12/2016
D7: Objekt: | F7: 001a - Konferenčná sála
D8: Časť: | F8: 001 - Architektúra a statika
D9: JKSO: | M9: KS:
D10: Miesto: | F10: Trieda A.Hlinku 1, Nitra | M10: Dátum: | O10: ='Rekapitulácia stavby 9.2.'!AN8 -> 19. 12. 2016
D12: Objednávateľ: | M12: IČO:
E13: UKF Nitra | M13: IČO DPH:
D15: Zhotoviteľ: | M15: IČO: | O15: =IF('Rekapitulácia stavby 9.2.'!AN13="","",'Rekapitulácia stavby 9.2.'!AN13) -> Vyplň údaj
E16: =IF('Rekapitulácia stavby 9.2.'!E14="","",'Rekapitulácia stavby 9.2.'!E14) -> Vyplň údaj | M16: IČO DPH: | O16: =IF('Rekapitulácia stavby 9.2.'!AN14="","",'Rekapitulácia stavby 9.2.'!AN14) -> Vyplň údaj
D18: Projektant: | M18: IČO:
E19: SH final s.r.o. Nitra | M19: IČO DPH:
D21: Spracovateľ: | M21: IČO:
E22: Ing.Janečka | M22: IČO DPH:
D24: Poznámka:
D28: Náklady z rozpočtu | M28: =N89 -> 0
D29: Ostatné náklady | M29: =N102 -> 0
D31: Cena bez DPH | M31: =ROUND(M28+M29,M282) -> 0
D33: DPH | E33: základná | F33: 0.2 | G33: z | H33: =ROUND((((SUM(BE102:BE109)+SUM(BE128:BE154))+SUM(BE156:BE160))),2) -> 0 | M33: =ROUND(((ROUND((SUM(BE102:BE109)+SUM(BE128:BE154)), 2)*F33)+SUM(BE156:BE160)*F33),2) -> 0
E34: znížená | F34: 0.2 | G34: z | H34: =ROUND((((SUM(BF102:BF109)+SUM(BF128:BF154))+SUM(BF156:BF160))),2) -> 0 | M34: =ROUND(((ROUND((SUM(BF102:BF109)+SUM(BF128:BF154)), 2)*F34)+SUM(BF156:BF160)*F34),2) -> 0
E35: zákl. prenesená | F35: 0.2 | G35: z | H35: =ROUND((((SUM(BG102:BG109)+SUM(BG128:BG154))+SUM(BG156:BG160))),2) -> 0 | M35: 0
E36: zníž. prenesená | F36: 0.2 | G36: z | H36: =ROUND((((SUM(BH102:BH109)+SUM(BH128:BH154))+SUM(BH156:BH160))),2) -> 0 | M36: 0
E37: nulová | F37: 0 | G37: z | H37: =ROUND((((SUM(BI102:BI109)+SUM(BI128:BI154))+SUM(BI156:BI160))),2) -> 0 | M37: 0
D39: Cena s DPH | G39: v | H39: EUR | L39: =SUM(M31:M37) -> 0
D50: Projektant | J50: Spracovateľ
D59: Dátum a podpis: | G59: Pečiatka | J59: Dátum a podpis: | N59: Pečiatka
D61: Objednávateľ | J61: Zhotoviteľ
D70: Dátum a podpis: | G70: Pečiatka | J70: Dátum a podpis: | N70: Pečiatka
C76: REKAPITULÁCIA ROZPOČTU
C78: Stavba: | F78: =F6 -> Poradenské centrum UKF v Nitre - zmena 12/2016
C79: Objekt: | F79: 001a - Konferenčná sála
C80: Časť: | F80: =F8 -> 001 - Architektúra a statika
C82: Miesto: | F82: =F10 -> Trieda A.Hlinku 1, Nitra | K82: Dátum: | M82: =IF(O10="","",O10) -> 19. 12. 2016
C84: Objednávateľ: | F84: =E13 -> UKF Nitra | K84: Projektant: | M84: =E19 -> SH final s.r.o. Nitra
C85: Zhotoviteľ: | F85: =IF(E16="","",E16) -> Vyplň údaj | K85: Spracovateľ: | M85: =E22 -> Ing.Janečka
C87: Kód - Popis | N87: Cena celkom [EUR]
C89: 1) Náklady z rozpočtu | N89: =N128 -> 0 | AU89: -1
...

Sheet 002 - Elektroinštalácia 9.2.
D1: Hárok obsahuje: | F1: 1) Krycí list rozpočtu | H1: 2) Rekapitulácia rozpočtu | L1: 3) Rozpočet | O1: Späť na hárok: | S1: Rekapitulácia stavby
C2: optimalizované pre tlač zostáv vo formáte A4 - na výšku | S2: >> skryté stĺpce << | AT2: {69d00bbe-abf9-49b9-a2c7-bcaa94f5c99e}
AT3: 0
C4: KRYCÍ LIST ROZPOČTU 9.2. | T4: v --- nižšie sa nachádzajú doplnkové a pomocné údaje k zostavám --- v | AT4: False
D6: Stavba: | F6: ='Rekapitulácia stavby 9.2.'!K6 -> Poradenské centrum UKF v Nitre - zmena 12/2016
D7: Objekt: | F7: 001a - Konferenčná sála
D8: Časť: | F8: 002 - Elektroinštalácia
D9: JKSO: | M9: KS:
D10: Miesto: | F10: Trieda A.Hlinku 1, Nitra | M10: Dátum: | O10: ='Rekapitulácia stavby 9.2.'!AN8 -> 19. 12. 2016
D12: Objednávateľ: | M12: IČO:
E13: UKF Nitra | M13: IČO DPH:
D15: Zhotoviteľ: | M15: IČO: | O15: =IF('Rekapitulácia stavby 9.2.'!AN13="","",'Rekapitulácia stavby 9.2.'!AN13) -> Vyplň údaj
E16: =IF('Rekapitulácia stavby 9.2.'!E14="","",'Rekapitulácia stavby 9.2.'!E14) -> Vyplň údaj | M16: IČO DPH: | O16: =IF('Rekapitulácia stavby 9.2.'!AN14="","",'Rekapitulácia stavby 9.2.'!AN14) -> Vyplň údaj
D18: Projektant: | M18: IČO:
E19: SH final s.r.o. Nitra | M19: IČO DPH:
D21: Spracovateľ: | M21: IČO:
E22: Ing.Hrapko | M22: IČO DPH:
D24: Poznámka:
D28: Náklady z rozpočtu | M28: =N89 -> 0
D29: Ostatné náklady | M29: =N94 -> 0
D31: Cena bez DPH | M31: =ROUND(M28+M29,2) -> 0
D33: DPH | E33: základná | F33: 0.2 | G33: z | H33: =ROUND((((SUM(BE94:BE101)+SUM(BE120:BE159))+SUM(BE161:BE165))),2) -> 0 | M33: =ROUND(((ROUND((SUM(BE94:BE101)+SUM(BE120:BE159)), 2)*F33)+SUM(BE161:BE165)*F33),2) -> 0
E34: znížená | F34: 0.2 | G34: z | H34: =ROUND((((SUM(BF94:BF101)+SUM(BF120:BF159))+SUM(BF161:BF165))),2) -> 0 | M34: =ROUND(((ROUND((SUM(BF94:BF101)+SUM(BF120:BF159)), 2)*F34)+SUM(BF161:BF165)*F34),2) -> 0
E35: zákl. prenesená | F35: 0.2 | G35: z | H35: =ROUND((((SUM(BG94:BG101)+SUM(BG120:BG159))+SUM(BG161:BG165))),2) -> 0 | M35: 0
E36: zníž. prenesená | F36: 0.2 | G36: z | H36: =ROUND((((SUM(BH94:BH101)+SUM(BH120:BH159))+SUM(BH161:BH165))),2) -> 0 | M36: 0
E37: nulová | F37: 0 | G37: z | H37: =ROUND((((SUM(BI94:BI101)+SUM(BI120:BI159))+SUM(BI161:BI165))),2) -> 0 | M37: 0
D39: Cena s DPH | G39: v | H39: EUR | L39: =SUM(M31:M37) -> 0
D50: Projektant | J50: Spracovateľ
D59: Dátum a podpis: | G59: Pečiatka | J59: Dátum a podpis: | N59: Pečiatka
D61: Objednávateľ | J61: Zhotoviteľ
D70: Dátum a podpis: | G70: Pečiatka | J70: Dátum a podpis: | N70: Pečiatka
C76: REKAPITULÁCIA ROZPOČTU
C78: Stavba: | F78: =F6 -> Poradenské centrum UKF v Nitre - zmena 12/2016
C79: Objekt: | F79: 001a - Konferenčná sála
C80: Časť: | F80: =F8 -> 002 - Elektroinštalácia
C82: Miesto: | F82: =F10 -> Trieda A.Hlinku 1, Nitra | K82: Dátum: | M82: =IF(O10="","",O10) -> 19. 12. 2016
C84: Objednávateľ: | F84: =E13 -> UKF Nitra | K84: Projektant: | M84: =E19 -> SH final s.r.o. Nitra
C85: Zhotoviteľ: | F85: =IF(E16="","",E16) -> Vyplň údaj | K85: Spracovateľ: | M85: =E22 -> Ing.Hrapko
C87: Kód - Popis | N87: Cena celkom [EUR]
C89: 1) Náklady z rozpočtu | N89: =N120 -> 0 | AU89: -1
...

Sheet 006 - Poplachové zariaden01 9.2
D1: Hárok obsahuje: | F1: 1) Krycí list rozpočtu | H1: 2) Rekapitulácia rozpočtu | L1: 3) Rozpočet | O1: Späť na hárok: | S1: Rekapitulácia stavby
C2: optimalizované pre tlač zostáv vo formáte A4 - na výšku | S2: >> skryté stĺpce << | AT2: {febb44b1-e5bb-4261-8a3e-23c6005aff76}
AT3: 0
C4: KRYCÍ LIST ROZPOČTU 9.2. | T4: v --- nižšie sa nachádzajú doplnkové a pomocné údaje k zostavám --- v | AT4: False
D6: Stavba: | F6: ='Rekapitulácia stavby 9.2.'!K6 -> Poradenské centrum UKF v Nitre - zmena 12/2016
D7: Objekt: | F7: 001a - Konferenčná sála
D8: Časť: | F8: 006 - Poplachové zariadenie narušenia
D9: JKSO: | M9: KS:
D10: Miesto: | F10: Trieda A.Hlinku 1, Nitra | M10: Dátum: | O10: ='Rekapitulácia stavby 9.2.'!AN8 -> 19. 12. 2016
D12: Objednávateľ: | M12: IČO:
E13: UKF Nitra | M13: IČO DPH:
D15: Zhotoviteľ: | M15: IČO: | O15: =IF('Rekapitulácia stavby 9.2.'!AN13="","",'Rekapitulácia stavby 9.2.'!AN13) -> Vyplň údaj
E16: =IF('Rekapitulácia stavby 9.2.'!E14="","",'Rekapitulácia stavby 9.2.'!E14) -> Vyplň údaj | M16: IČO DPH: | O16: =IF('Rekapitulácia stavby 9.2.'!AN14="","",'Rekapitulácia stavby 9.2.'!AN14) -> Vyplň údaj
D18: Projektant: | M18: IČO:
E19: SH final s.r.o. Nitra | M19: IČO DPH:
D21: Spracovateľ: | M21: IČO:
E22: Morez s.r.o. | M22: IČO DPH:
D24: Poznámka:
D28: Náklady z rozpočtu | M28: =N89 -> 0
D29: Ostatné náklady | M29: =N95 -> 0
D31: Cena bez DPH | M31: =ROUND(M28+M29,2) -> 0
D33: DPH | E33: základná | F33: 0.2 | G33: z | H33: =ROUND((((SUM(BE95:BE102)+SUM(BE121:BE132))+SUM(BE134:BE138))),2) -> 0 | M33: =ROUND(((ROUND((SUM(BE95:BE102)+SUM(BE121:BE132)), 2)*F33)+SUM(BE134:BE138)*F33),2) -> 0
E34: znížená | F34: 0.2 | G34: z | H34: =ROUND((((SUM(BF95:BF102)+SUM(BF121:BF132))+SUM(BF134:BF138))),2) -> 0 | M34: =ROUND(((ROUND((SUM(BF95:BF102)+SUM(BF121:BF132)), 2)*F34)+SUM(BF134:BF138)*F34),2) -> 0
E35: zákl. prenesená | F35: 0.2 | G35: z | H35: =ROUND((((SUM(BG95:BG102)+SUM(BG121:BG132))+SUM(BG134:BG138))),2) -> 0 | M35: 0
E36: zníž. prenesená | F36: 0.2 | G36: z | H36: =ROUND((((SUM(BH95:BH102)+SUM(BH121:BH132))+SUM(BH134:BH138))),2) -> 0 | M36: 0
E37: nulová | F37: 0 | G37: z | H37: =ROUND((((SUM(BI95:BI102)+SUM(BI121:BI132))+SUM(BI134:BI138))),2) -> 0 | M37: 0
D39: Cena s DPH | G39: v | H39: EUR | L39: =SUM(M31:M37) -> 0
D50: Projektant | J50: Spracovateľ
D59: Dátum a podpis: | G59: Pečiatka | J59: Dátum a podpis: | N59: Pečiatka
D61: Objednávateľ | J61: Zhotoviteľ
D70: Dátum a podpis: | G70: Pečiatka | J70: Dátum a podpis: | N70: Pečiatka
C76: REKAPITULÁCIA ROZPOČTU
C78: Stavba: | F78: =F6 -> Poradenské centrum UKF v Nitre - zmena 12/2016
C79: Objekt: | F79: 001a - Konferenčná sála
C80: Časť: | F80: =F8 -> 006 - Poplachové zariadenie narušenia
C82: Miesto: | F82: =F10 -> Trieda A.Hlinku 1, Nitra | K82: Dátum: | M82: =IF(O10="","",O10) -> 19. 12. 2016
C84: Objednávateľ: | F84: =E13 -> UKF Nitra | K84: Projektant: | M84: =E19 -> SH final s.r.o. Nitra
C85: Zhotoviteľ: | F85: =IF(E16="","",E16) -> Vyplň údaj | K85: Spracovateľ: | M85: =E22 -> Morez s.r.o.
C87: Kód - Popis | N87: Cena celkom [EUR]
C89: 1) Náklady z rozpočtu | N89: =N121 -> 0 | AU89: -1
...

Sheet 007- Štrukturov kabeláž 01 9.2.
D1: Hárok obsahuje: | F1: 1) Krycí list rozpočtu | H1: 2) Rekapitulácia rozpočtu | L1: 3) Rozpočet | O1: Späť na hárok: | S1: Rekapitulácia stavby
C2: optimalizované pre tlač zostáv vo formáte A4 - na výšku | S2: >> skryté stĺpce << | AT2: {aa594860-c114-485d-b402-dbfef45e4a89}
AT3: 0
C4: KRYCÍ LIST ROZPOČTU 9.2. | T4: v --- nižšie sa nachádzajú doplnkové a pomocné údaje k zostavám --- v | AT4: False
D6: Stavba: | F6: ='Rekapitulácia stavby 9.2.'!K6 -> Poradenské centrum UKF v Nitre - zmena 12/2016
D7: Objekt: | F7: 001a - Konferenčná sála
D8: Časť: | F8: 007 - Štrukturovaná kabeláž
D9: JKSO: | M9: KS:
D10: Miesto: | F10: Trieda A.Hlinku 1, Nitra | M10: Dátum: | O10: ='Rekapitulácia stavby 9.2.'!AN8 -> 19. 12. 2016
D12: Objednávateľ: | M12: IČO:
E13: UKF Nitra | M13: IČO DPH:
D15: Zhotoviteľ: | M15: IČO: | O15: =IF('Rekapitulácia stavby 9.2.'!AN13="","",'Rekapitulácia stavby 9.2.'!AN13) -> Vyplň údaj
E16: =IF('Rekapitulácia stavby 9.2.'!E14="","",'Rekapitulácia stavby 9.2.'!E14) -> Vyplň údaj | M16: IČO DPH: | O16: =IF('Rekapitulácia stavby 9.2.'!AN14="","",'Rekapitulácia stavby 9.2.'!AN14) -> Vyplň údaj
D18: Projektant: | M18: IČO:
E19: SH final s.r.o. Nitra | M19: IČO DPH:
D21: Spracovateľ: | M21: IČO:
E22: Morez s.r.o. | M22: IČO DPH:
D24: Poznámka:
D28: Náklady z rozpočtu | M28: =N89 -> 0
D29: Ostatné náklady | M29: =N94 -> 0
D31: Cena bez DPH | M31: =ROUND(M28+M29,2) -> 0
D33: DPH | E33: základná | F33: 0.2 | G33: z | H33: =ROUND((((SUM(BE94:BE101)+SUM(BE120:BE132))+SUM(BE134:BE138))),2) -> 0 | M33: =ROUND(((ROUND((SUM(BE94:BE101)+SUM(BE120:BE132)), 2)*F33)+SUM(BE134:BE138)*F33),2) -> 0
E34: znížená | F34: 0.2 | G34: z | H34: =ROUND((((SUM(BF94:BF101)+SUM(BF120:BF132))+SUM(BF134:BF138))),2) -> 0 | M34: =ROUND(((ROUND((SUM(BF94:BF101)+SUM(BF120:BF132)), 2)*F34)+SUM(BF134:BF138)*F34),2) -> 0
E35: zákl. prenesená | F35: 0.2 | G35: z | H35: =ROUND((((SUM(BG94:BG101)+SUM(BG120:BG132))+SUM(BG134:BG138))),2) -> 0 | M35: 0
E36: zníž. prenesená | F36: 0.2 | G36: z | H36: =ROUND((((SUM(BH94:BH101)+SUM(BH120:BH132))+SUM(BH134:BH138))),2) -> 0 | M36: 0
E37: nulová | F37: 0 | G37: z | H37: =ROUND((((SUM(BI94:BI101)+SUM(BI120:BI132))+SUM(BI134:BI138))),2) -> 0 | M37: 0
D39: Cena s DPH | G39: v | H39: EUR | L39: =SUM(M31:M37) -> 0
D50: Projektant | J50: Spracovateľ
D59: Dátum a podpis: | G59: Pečiatka | J59: Dátum a podpis: | N59: Pečiatka
D61: Objednávateľ | J61: Zhotoviteľ
D70: Dátum a podpis: | G70: Pečiatka | J70: Dátum a podpis: | N70: Pečiatka
C76: REKAPITULÁCIA ROZPOČTU
C78: Stavba: | F78: =F6 -> Poradenské centrum UKF v Nitre - zmena 12/2016
C79: Objekt: | F79: 001a - Konferenčná sála
C80: Časť: | F80: =F8 -> 007 - Štrukturovaná kabeláž
C82: Miesto: | F82: =F10 -> Trieda A.Hlinku 1, Nitra | K82: Dátum: | M82: =IF(O10="","",O10) -> 19. 12. 2016
C84: Objednávateľ: | F84: =E13 -> UKF Nitra | K84: Projektant: | M84: =E19 -> SH final s.r.o. Nitra
C85: Zhotoviteľ: | F85: =IF(E16="","",E16) -> Vyplň údaj | K85: Spracovateľ: | M85: =E22 -> Morez s.r.o.
C87: Kód - Popis | N87: Cena celkom [EUR]
C89: 1) Náklady z rozpočtu | N89: =N120 -> 0 | AU89: -1
...

Sheet Hárok1
