Workbook

Sheet Rekapitulácia stavby 9.2.
A1: 2012 | D1: Hárok obsahuje: | K1: 1) Súhrnný list stavby | W1: 2) Rekapitulácia objektov | BA1: 2.0 | BT1: False | BU1: False
C2: optimalizované pre tlač zostáv vo formáte A4 - na výšku | AR2: >> skryté stĺpce << | BS2: 0,001 | BT2: 20
BS3: 0,001 | BT3: 20
C4: SÚHRNNÝ LIST STAVBY 9.2. | AS4: v --- nižšie sa nachádzajú doplnkové a pomocné údaje k zostavám --- v | BE4: Návod na vyplnenie | BS4: 0,001
D5: Kód: | K5: shf1606b | BE5: Meniť je možné iba bunky so žltým podfarbením!_x000D_ _x000D_ 1) na prvom liste Rekapitulácie stavby vyplňte v zostave_x000D_ _x000D_ a) Súhrnný list_x000D_ - údaje o Zhotoviteľovi_x000D_ (prenesú sa do ostatných zostáv aj v iných listoch)_x000D_ _x000D_ b) Rekapitulácia objektov_x000D_ - potrebné Ostatné náklady_x000D_ _x000D_ 2) na vybraných listoch vyplňte v zostave_x000D_ _x000D_ a) Krycí list_x000D_ - údaje o Zhotoviteľovi, pokiaľ sa líšia od údajov o Zhotoviteľovi na Súhrnnom liste_x000D_ (údaje se prenesú do ostatných zostav v danom liste)_x000D_ _x000D_ b) Rekapitulácia rozpočtu_x000D_ - potrebné Ostatné náklady_x000D_ _x000D_ c) Celkové náklady za stavbu_x000D_ - ceny na položkách_x000D_ - množstvo, pokiaľ má žlté podfarbenie_x000D_ - a v prípade potreby poznámku (tá je v skrytom stĺpci) | BS5: 0,001
D6: Stavba: | K6: Poradenské centrum UKF v Nitre - zmena 12/2016 | BS6: 0,001
D7: JKSO: | AK7: KS: | BS7: 0,001
D8: Miesto: | K8: Trieda A.Hlinku 1, Nitra | AK8: Dátum: | AN8: 19. 12. 2016 | BS8: 0,001
BS9: 0,001
D10: Objednávateľ: | AK10: IČO: | BS10: 0,001
E11: UKF Nitra | AK11: IČO DPH: | BS11: 0,001
BS12: 0,001
D13: Zhotoviteľ: | AK13: IČO: | AN13: Vyplň údaj | BS13: 0,001
E14: Vyplň údaj | AK14: IČO DPH: | AN14: Vyplň údaj | BS14: 0,001
BS15: False
D16: Projektant: | AK16: IČO: | BS16: False
E17: SH final s.r.o. Nitra | AK17: IČO DPH: | BS17: True
BS18: 0,01
D19: Spracovateľ: | AK19: IČO: | BS19: 0,01
E20: Ing.Janečka | AK20: IČO DPH:
D22: Poznámka:
D26: Náklady z rozpočtov | AK26: =ROUND(AG87,2) -> 0
D27: Ostatné náklady zo súhrnného listu | AK27: =ROUND(AG102,2) -> 0
D29: Cena bez DPH | AK29: =ROUND(AK26+AK27,2) -> 0
D31: DPH | F31: základná | L31: 0.2 | T31: z | W31: =ROUND(AZ87+SUM(CD103:CD107),2) -> 0 | AK31: =ROUND(AV87+SUM(BY103:BY107),2) -> 0
F32: znížená | L32: 0.2 | T32: z | W32: =ROUND(BA87+SUM(CE103:CE107),2) -> 0 | AK32: =ROUND(AW87+SUM(BZ103:BZ107),2) -> 0
F33: zákl. prenesená | L33: 0.2 | T33: z | W33: =ROUND(BB87+SUM(CF103:CF107),2) -> 0 | AK33: 0
F34: zníž. prenesená | L34: 0.2 | T34: z | W34: =ROUND(BC87+SUM(CG103:CG107),2) -> 0 | AK34: 0
F35: nulová | L35: 0 | T35: z | W35: =ROUND(BD87+SUM(CH103:CH107),2) -> 0 | AK35: 0
D37: Cena s DPH | T37: v | X37: EUR | AK37: =SUM(AK29:AK35) -> 0
D49: Projektant | AC49: Spracovateľ
D58: Dátum a podpis: | R58: Pečiatka | AC58: Dátum a podpis: | AM58: Pečiatka
D60: Objednávateľ | AC60: Zhotoviteľ
D69: Dátum a podpis: | R69: Pečiatka | AC69: Dátum a podpis: | AM69: Pečiatka
C76: REKAPITULÁCIA OBJEKTOV STAVBY
C77: Kód: | L77: =K5 -> shf1606b
C78: Stavba: | L78: =K6 -> Poradenské centrum UKF v Nitre - zmena 12/2016
C80: Miesto: | L80: =IF(K8="","",K8) -> Trieda A.Hlinku 1, Nitra | AI80: Dátum: | AM80: =IF(AN8= "","",AN8) -> 19. 12. 2016
C82: Objednávateľ: | L82: =IF(E11= "","",E11) -> UKF Nitra | AI82: Projektant: | AM82: =IF(E17="","",E17) -> SH final s.r.o. Nitra | AS82: Informatívne údaje z listov zákaziek
C83: Zhotoviteľ: | L83: =IF(E14= "Vyplň údaj","",E14) | AI83: Spracovateľ: | AM83: =IF(E20="","",E20) -> Ing.Janečka
C85: Kód | I85: Objekt | AG85: Cena bez DPH [EUR] | AN85: Cena s DPH [EUR] | AS85: z toho Ostat._x000D_ náklady [EUR] | AT85: DPH [EUR] | AU85: Normohodiny [h] | AV85: DPH základná [EUR] | AW85: DPH znížená [EUR] | AX85: DPH základná prenesená_x000D_ [EUR] | AY85: DPH znížená prenesená_x000D_ [EUR] | AZ85: Základňa_x000D_ DPH základná | BA85: Základňa_x000D_ DPH znížená | BB85: Základňa_x000D_ DPH zákl. prenesená | BC85: Základňa_x000D_ DPH zníž. prenesená | BD85: Základňa_x000D_ DPH nulová
C87: 1) Náklady z rozpočtov | AG87: =ROUND(AG88+AG96,2) -> 0 | AN87: =SUM(AG87,AT87) -> 0 | AS87: =ROUND(AS88+AS96,2) -> 0 | AT87: =ROUND(SUM(AV87:AW87),2) -> 0 | AU87: =ROUND(AU88+AU96,5) -> 0 | AV87: =ROUND(AZ87*L31,2) -> 0 | AW87: =ROUND(BA87*L32,2) -> 0 | AX87: =ROUND(BB87*L31,2) -> 0 | AY87: =ROUND(BC87*L32,2) -> 0 | AZ87: =ROUND(AZ88+AZ96,2) -> 0 | BA87: =ROUND(BA88+BA96,2) -> 0 | BB87: =ROUND(BB88+BB96,2) -> 0 | BC87: =ROUND(BC88+BC96,2) -> 0 | BD87: =ROUND(BD88+BD96,2) -> 0 | BS87: D | BT87: 0 | BU87: ###NOIMPORT### | BV87: IMPORT | BW87: {4765711e-1215-4e09-9841-2ce2f89e2c5c} | BX87: {00000000-0000-0000-0000-000000000000}
D88: 001 | J88: I.etapa | AG88: =ROUND(SUM(AG89:AG95),2) -> 0 | AN88: =SUM(AG88,AT88) -> 0 | AS88: =ROUND(SUM(AS89:AS95),2) -> 0 | AT88: =ROUND(SUM(AV88:AW88),2) -> 0 | AU88: =ROUND(SUM(AU89:AU95),5) -> 0 | AV88: =ROUND(AZ88*L31,2) -> 0 | AW88: =ROUND(BA88*L32,2) -> 0 | AX88: =ROUND(BB88*L31,2) -> 0 | AY88: =ROUND(BC88*L32,2) -> 0 | AZ88: =ROUND(SUM(AZ89:AZ95),2) -> 0 | BA88: =ROUND(SUM(BA89:BA95),2) -> 0 | BB88: =ROUND(SUM(BB89:BB95),2) -> 0 | BC88: =ROUND(SUM(BC89:BC95),2) -> 0 | BD88: =ROUND(SUM(BD89:BD95),2) -> 0 | BS88: D | BT88: 1 | BU88: ###NOIMPORT### | BV88: IMPORT | BW88: {bc5c8751-a8ff-4791-bbf2-4a0e399c779f} | BX88: {4765711e-1215-4e09-9841-2ce2f89e2c5c}
A89: / | E89: 001 | K89: Architektúra a statika | AG89: ='001- Architektúra a statika 9.2'!M31 -> 0 | AN89: =SUM(AG89,AT89) -> 0 | AS89: ='001- Architektúra a statika 9.2'!M29 -> 0 | AT89: =ROUND(SUM(AV89:AW89),2) -> 0 | AU89: ='001- Architektúra a statika 9.2'!W144 -> 0 | AV89: ='001- Architektúra a statika 9.2'!M33 -> 0 | AW89: ='001- Architektúra a statika 9.2'!M34 -> 0 | AX89: ='001- Architektúra a statika 9.2'!M35 -> 0 | AY89: ='001- Architektúra a statika 9.2'!M36 -> 0 | AZ89: ='001- Architektúra a statika 9.2'!H33 -> 0 | BA89: ='001- Architektúra a statika 9.2'!H34 -> 0 | BB89: ='001- Architektúra a statika 9.2'!H35 -> 0 | BC89: ='001- Architektúra a statika 9.2'!H36 -> 0 | BD89: ='001- Architektúra a statika 9.2'!H37 -> 0 | BT89: 2 | BV89: IMPORT | BW89: {99de835d-6c86-4cf4-bcc7-41f2ddf9899b} | BX89: {bc5c8751-a8ff-4791-bbf2-4a0e399c779f}
A90: / | E90: 002 | K90: Vykurovanie | AG90: ='002 - Vykurovanie 9.2.'!M31 -> 0 | AN90: =SUM(AG90,AT90) -> 0 | AS90: ='002 - Vykurovanie 9.2.'!M29 -> 0 | AT90: =ROUND(SUM(AV90:AW90),2) -> 0 | AU90: ='002 - Vykurovanie 9.2.'!W127 -> 0 | AV90: ='002 - Vykurovanie 9.2.'!M33 -> 0 | AW90: ='002 - Vykurovanie 9.2.'!M34 -> 0 | AX90: ='002 - Vykurovanie 9.2.'!M35 -> 0 | AY90: ='002 - Vykurovanie 9.2.'!M36 -> 0 | AZ90: ='002 - Vykurovanie 9.2.'!H33 -> 0 | BA90: ='002 - Vykurovanie 9.2.'!H34 -> 0 | BB90: ='002 - Vykurovanie 9.2.'!H35 -> 0 | BC90: ='002 - Vykurovanie 9.2.'!H36 -> 0 | BD90: ='002 - Vykurovanie 9.2.'!H37 -> 0 | BT90: 2 | BV90: IMPORT | BW90: {7f57cf1d-b5bf-458a-969b-32b80a80841b} | BX90: {bc5c8751-a8ff-4791-bbf2-4a0e399c779f}
A91: / | E91: 003 | K91: Zdravotechnika | AG91: ='003 - Zdravotechnika 9.2.'!M31 -> 0 | AN91: =SUM(AG91,AT91) -> 0 | AS91: ='003 - Zdravotechnika 9.2.'!M29 -> 0 | AT91: =ROUND(SUM(AV91:AW91),2) -> 0 | AU91: ='003 - Zdravotechnika 9.2.'!W132 -> 0 | AV91: ='003 - Zdravotechnika 9.2.'!M33 -> 0 | AW91: ='003 - Zdravotechnika 9.2.'!M34 -> 0 | AX91: ='003 - Zdravotechnika 9.2.'!M35 -> 0 | AY91: ='003 - Zdravotechnika 9.2.'!M36 -> 0 | AZ91: ='003 - Zdravotechnika 9.2.'!H33 -> 0 | BA91: ='003 - Zdravotechnika 9.2.'!H34 -> 0 | BB91: ='003 - Zdravotechnika 9.2.'!H35 -> 0 | BC91: ='003 - Zdravotechnika 9.2.'!H36 -> 0 | BD91: ='003 - Zdravotechnika 9.2.'!H37 -> 0 | BT91: 2 | BV91: IMPORT | BW91: {b766ed25-539e-4662-87e8-db8fc541ba8d} | BX91: {bc5c8751-a8ff-4791-bbf2-4a0e399c779f}
A92: / | E92: 004 | K92: Elektroinštalácia | AG92: ='004 - Elektroinštalácia 9.2.'!M31 -> 0 | AN92: =SUM(AG92,AT92) -> 0 | AS92: ='004 - Elektroinštalácia 9.2.'!M29 -> 0 | AT92: =ROUND(SUM(AV92:AW92),2) -> 0 | AU92: ='004 - Elektroinštalácia 9.2.'!W120 -> 0 | AV92: ='004 - Elektroinštalácia 9.2.'!M33 -> 0 | AW92: ='004 - Elektroinštalácia 9.2.'!M34 -> 0 | AX92: ='004 - Elektroinštalácia 9.2.'!M35 -> 0 | AY92: ='004 - Elektroinštalácia 9.2.'!M36 -> 0 | AZ92: ='004 - Elektroinštalácia 9.2.'!H33 -> 0 | BA92: ='004 - Elektroinštalácia 9.2.'!H34 -> 0 | BB92: ='004 - Elektroinštalácia 9.2.'!H35 -> 0 | BC92: ='004 - Elektroinštalácia 9.2.'!H36 -> 0 | BD92: ='004 - Elektroinštalácia 9.2.'!H37 -> 0 | BT92: 2 | BV92: IMPORT | BW92: {deb1db19-f6cf-41e7-baa4-d36fc3d11195} | BX92: {bc5c8751-a8ff-4791-bbf2-4a0e399c779f}
A93: / | E93: 005 | K93: Vzduchotechnika | AG93: ='005 - Vzduchotechnika 9.2.'!M31 -> 0 | AN93: =SUM(AG93,AT93) -> 0 | AS93: ='005 - Vzduchotechnika 9.2.'!M29 -> 0 | AT93: =ROUND(SUM(AV93:AW93),2) -> 0 | AU93: ='005 - Vzduchotechnika 9.2.'!W123 -> 0 | AV93: ='005 - Vzduchotechnika 9.2.'!M33 -> 0 | AW93: ='005 - Vzduchotechnika 9.2.'!M34 -> 0 | AX93: ='005 - Vzduchotechnika 9.2.'!M35 -> 0 | AY93: ='005 - Vzduchotechnika 9.2.'!M36 -> 0 | AZ93: ='005 - Vzduchotechnika 9.2.'!H33 -> 0 | BA93: ='005 - Vzduchotechnika 9.2.'!H34 -> 0 | BB93: ='005 - Vzduchotechnika 9.2.'!H35 -> 0 | BC93: ='005 - Vzduchotechnika 9.2.'!H36 -> 0 | BD93: ='005 - Vzduchotechnika 9.2.'!H37 -> 0 | BT93: 2 | BV93: IMPORT | BW93: {da178629-ffd1-4f1f-993b-f1949832b927} | BX93: {bc5c8751-a8ff-4791-bbf2-4a0e399c779f}
A94: / | E94: 006 | K94: Poplachové zariadenie narušenia | AG94: ='006 - Poplachové zariaden...9.2'!M31 -> 0 | AN94: =SUM(AG94,AT94) -> 0 | AS94: ='006 - Poplachové zariaden...9.2'!M29 -> 0 | AT94: =ROUND(SUM(AV94:AW94),2) -> 0 | AU94: ='006 - Poplachové zariaden...9.2'!W124 -> 0 | AV94: ='006 - Poplachové zariaden...9.2'!M33 -> 0 | AW94: ='006 - Poplachové zariaden...9.2'!M34 -> 0 | AX94: ='006 - Poplachové zariaden...9.2'!M35 -> 0 | AY94: ='006 - Poplachové zariaden...9.2'!M36 -> 0 | AZ94: ='006 - Poplachové zariaden...9.2'!H33 -> 0 | BA94: ='006 - Poplachové zariaden...9.2'!H34 -> 0 | BB94: ='006 - Poplachové zariaden...9.2'!H35 -> 0 | BC94: ='006 - Poplachové zariaden...9.2'!H36 -> 0 | BD94: ='006 - Poplachové zariaden...9.2'!H37 -> 0 | BT94: 2 | BV94: IMPORT | BW94: {64ed96b1-95be-42cb-aa1c-2a1d2904f7b3} | BX94: {bc5c8751-a8ff-4791-bbf2-4a0e399c779f}
A95: / | E95: 007 | K95: Štrukturovaná kabeláž | AG95: ='007 - Štrukturovaná kabeláž 9.2'!M31 -> 0 | AN95: =SUM(AG95,AT95) -> 0 | AS95: ='007 - Štrukturovaná kabeláž 9.2'!M29 -> 0 | AT95: =ROUND(SUM(AV95:AW95),2) -> 0 | AU95: ='007 - Štrukturovaná kabeláž 9.2'!W120 -> 0 | AV95: ='007 - Štrukturovaná kabeláž 9.2'!M33 -> 0 | AW95: ='007 - Štrukturovaná kabeláž 9.2'!M34 -> 0 | AX95: ='007 - Štrukturovaná kabeláž 9.2'!M35 -> 0 | AY95: ='007 - Štrukturovaná kabeláž 9.2'!M36 -> 0 | AZ95: ='007 - Štrukturovaná kabeláž 9.2'!H33 -> 0 | BA95: ='007 - Štrukturovaná kabeláž 9.2'!H34 -> 0 | BB95: ='007 - Štrukturovaná kabeláž 9.2'!H35 -> 0 | BC95: ='007 - Štrukturovaná kabeláž 9.2'!H36 -> 0 | BD95: ='007 - Štrukturovaná kabeláž 9.2'!H37 -> 0 | BT95: 2 | BV95: IMPORT | BW95: {6f53eee6-2d88-4d08-9ffb-aca62f36a450} | BX95: {bc5c8751-a8ff-4791-bbf2-4a0e399c779f}
D96: 001a | J96: Konferenčná sála | AG96: =ROUND(SUM(AG97:AG100),2) -> 0 | AN96: =SUM(AG96,AT96) -> 0 | AS96: =ROUND(SUM(AS97:AS100),2) -> 0 | AT96: =ROUND(SUM(AV96:AW96),2) -> 0 | AU96: =ROUND(SUM(AU97:AU100),5) -> 0 | AV96: =ROUND(AZ96*L31,2) -> 0 | AW96: =ROUND(BA96*L32,2) -> 0 | AX96: =ROUND(BB96*L31,2) -> 0 | AY96: =ROUND(BC96*L32,2) -> 0 | AZ96: =ROUND(SUM(AZ97:AZ100),2) -> 0 | BA96: =ROUND(SUM(BA97:BA100),2) -> 0 | BB96: =ROUND(SUM(BB97:BB100),2) -> 0 | BC96: =ROUND(SUM(BC97:BC100),2) -> 0 | BD96: =ROUND(SUM(BD97:BD100),2) -> 0 | BS96: D | BT96: 1 | BU96: ###NOIMPORT### | BV96: IMPORT | BW96: {d3041569-3951-4f08-b13a-0def9e95dc77} | BX96: {4765711e-1215-4e09-9841-2ce2f89e2c5c}
A97: / | E97: 001 | K97: Architektúra a statika | AG97: ='001-Architektúra statika 01 9.2'!M31 -> 0 | AN97: =SUM(AG97,AT97) -> 0 | AS97: ='001-Architektúra statika 01 9.2'!M29 -> 0 | AT97: =ROUND(SUM(AV97:AW97),2) -> 0 | AU97: ='001-Architektúra statika 01 9.2'!W128 -> 0 | AV97: ='001-Architektúra statika 01 9.2'!M33 -> 0 | AW97: ='001-Architektúra statika 01 9.2'!M34 -> 0 | AX97: ='001-Architektúra statika 01 9.2'!M35 -> 0 | AY97: ='001-Architektúra statika 01 9.2'!M36 -> 0 | AZ97: ='001-Architektúra statika 01 9.2'!H33 -> 0 | BA97: ='001-Architektúra statika 01 9.2'!H34 -> 0 | BB97: ='001-Architektúra statika 01 9.2'!H35 -> 0 | BC97: ='001-Architektúra statika 01 9.2'!H36 -> 0 | BD97: ='001-Architektúra statika 01 9.2'!H37 -> 0 | BT97: 2 | BV97: IMPORT | BW97: {616e4a8e-c50a-4b25-a1ae-6a8e6340d4ed} | BX97: {d3041569-3951-4f08-b13a-0def9e95dc77}
A98: / | E98: 002 | K98: Elektroinštalácia | AG98: ='002 - Elektroinštalácia 9.2.'!M31 -> 0 | AN98: =SUM(AG98,AT98) -> 0 | AS98: ='002 - Elektroinštalácia 9.2.'!M29 -> 0 | AT98: =ROUND(SUM(AV98:AW98),2) -> 0 | AU98: ='002 - Elektroinštalácia 9.2.'!W120 -> 0 | AV98: ='002 - Elektroinštalácia 9.2.'!M33 -> 0 | AW98: ='002 - Elektroinštalácia 9.2.'!M34 -> 0 | AX98: ='002 - Elektroinštalácia 9.2.'!M35 -> 0 | AY98: ='002 - Elektroinštalácia 9.2.'!M36 -> 0 | AZ98: ='002 - Elektroinštalácia 9.2.'!H33 -> 0 | BA98: ='002 - Elektroinštalácia 9.2.'!H34 -> 0 | BB98: ='002 - Elektroinštalácia 9.2.'!H35 -> 0 | BC98: ='002 - Elektroinštalácia 9.2.'!H36 -> 0 | BD98: ='002 - Elektroinštalácia 9.2.'!H37 -> 0 | BT98: 2 | BV98: IMPORT | BW98: {69d00bbe-abf9-49b9-a2c7-bcaa94f5c99e} | BX98: {d3041569-3951-4f08-b13a-0def9e95dc77}
A99: / | E99: 006 | K99: Poplachové zariadenie narušenia | AG99: ='006 - Poplachové zariaden01 9.2'!M31 -> 0 | AN99: =SUM(AG99,AT99) -> 0 | AS99: ='006 - Poplachové zariaden01 9.2'!M29 -> 0 | AT99: =ROUND(SUM(AV99:AW99),2) -> 0 | AU99: ='006 - Poplachové zariaden01 9.2'!W121 -> 0 | AV99: ='006 - Poplachové zariaden01 9.2'!M33 -> 0 | AW99: ='006 - Poplachové zariaden01 9.2'!M34 -> 0 | AX99: ='006 - Poplachové zariaden01 9.2'!M35 -> 0 | AY99: ='006 - Poplachové zariaden01 9.2'!M36 -> 0 | AZ99: ='006 - Poplachové zariaden01 9.2'!H33 -> 0 | BA99: ='006 - Poplachové zariaden01 9.2'!H34 -> 0 | BB99: ='006 - Poplachové zariaden01 9.2'!H35 -> 0 | BC99: ='006 - Poplachové zariaden01 9.2'!H36 -> 0 | BD99: ='006 - Poplachové zariaden01 9.2'!H37 -> 0 | BT99: 2 | BV99: IMPORT | BW99: {febb44b1-e5bb-4261-8a3e-23c6005aff76} | BX99: {d3041569-3951-4f08-b13a-0def9e95dc77}
A100: / | E100: 007 | K100: Štrukturovaná kabeláž | AG100: ='007- Štrukturov kabeláž 01 9.2.'!M31 -> 0 | AN100: =SUM(AG100,AT100) -> 0 | AS100: ='007- Štrukturov kabeláž 01 9.2.'!M29 -> 0 | AT100: =ROUND(SUM(AV100:AW100),2) -> 0 | AU100: ='007- Štrukturov kabeláž 01 9.2.'!W120 -> 0 | AV100: ='007- Štrukturov kabeláž 01 9.2.'!M33 -> 0 | AW100: ='007- Štrukturov kabeláž 01 9.2.'!M34 -> 0 | AX100: ='007- Štrukturov kabeláž 01 9.2.'!M35 -> 0 | AY100: ='007- Štrukturov kabeláž 01 9.2.'!M36 -> 0 | AZ100: ='007- Štrukturov kabeláž 01 9.2.'!H33 -> 0 | BA100: ='007- Štrukturov kabeláž 01 9.2.'!H34 -> 0 | BB100: ='007- Štrukturov kabeláž 01 9.2.'!H35 -> 0 | BC100: ='007- Štrukturov kabeláž 01 9.2.'!H36 -> 0 | BD100: ='007- Štrukturov kabeláž 01 9.2.'!H37 -> 0 | BT100: 2 | BV100: IMPORT | BW100: {aa594860-c114-485d-b402-dbfef45e4a89} | BX100: {d3041569-3951-4f08-b13a-0def9e95dc77}
C102: 2) Ostatné náklady zo súhrnného listu | AG102: =ROUND(SUM(AG103:AG106),2) -> 0 | AN102: =ROUND(SUM(AN103:AN106),2) -> 0 | AS102: Percent. zadanie_x000D_ [% nákladov rozpočtu] | AT102: Zaradenie nákladov | AU102: DPH | AV102: DPH [EUR]
D103: Ostatné náklady | AG103: =ROUND(AG87*AS103,2) -> 0 | AN103: =ROUND(AG103+AV103,2) -> 0 | AS103: 0 | AT103: stavebná časť | AU103: základná | AV103: =ROUND(IF(AU103="základná",AG103*L31,IF(AU103="znížená",AG103*L32,0)),2) -> 0 | BV103: OSTATNENAKLADY | BY103: =IF(AU103="základná",AV103,0) -> 0 | BZ103: =IF(AU103="znížená",AV103,0) -> 0 | CA103: 0 | CB103: 0 | CC103: 0 | CD103: =IF(AU103="základná",AG103,0) -> 0 | CE103: =IF(AU103="znížená",AG103,0) -> 0 | CF103: =IF(AU103="zákl. prenesená",AG103,0) -> 0 | CG103: =IF(AU103="zníž. prenesená",AG103,0) -> 0 | CH103: =IF(AU103="nulová",AG103,0) -> 0 | CI103: =IF(AU103="základná",1,IF(AU103="znížená",2,IF(AU103="zákl. prenesená",4,IF(AU103="zníž. prenesená",5,3)))) -> 1 | CJ103: =IF(AT103="stavebná časť",1,IF(88103="investičná časť",2,3)) -> 1 | CK103: =IF(D103="Vyplň vlastné","","x") -> x
D104: Vyplň vlastné | AG104: =AG87*AS104 -> 0 | AN104: =AG104+AV104 -> 0 | AS104: 0 | AT104: stavebná časť | AU104: základná | AV104: =ROUND(IF(AU104="nulová",0,IF(OR(AU104="základná",AU104="zákl. prenesená"),AG104*L31,AG104*L32)),2) -> 0 | BV104: OSTATNENAKLADYVLASTNE | BY104: =IF(AU104="základná",AV104,0) -> 0 | BZ104: =IF(AU104="znížená",AV104,0) -> 0 | CA104: =IF(AU104="zákl. prenesená",AV104,0) -> 0 | CB104: =IF(AU104="zníž. prenesená",AV104,0) -> 0 | CC104: =IF(AU104="nulová",AV104,0) -> 0 | CD104: =IF(AU104="základná",AG104,0) -> 0 | CE104: =IF(AU104="znížená",AG104,0) -> 0 | CF104: =IF(AU104="zákl. prenesená",AG104,0) -> 0 | CG104: =IF(AU104="zníž. prenesená",AG104,0) -> 0 | CH104: =IF(AU104="nulová",AG104,0) -> 0 | CI104: =IF(AU104="základná",1,IF(AU104="znížená",2,IF(AU104="zákl. prenesená",4,IF(AU104="zníž. prenesená",5,3)))) -> 1 | CJ104: =IF(AT104="stavebná časť",1,IF(88104="investičná časť",2,3)) -> 1 | CK104: =IF(D104="Vyplň vlastné","","x")
D105: Vyplň vlastné | AG105: =AG87*AS105 -> 0 | AN105: =AG105+AV105 -> 0 | AS105: 0 | AT105: stavebná časť | AU105: základná | AV105: =ROUND(IF(AU105="nulová",0,IF(OR(AU105="základná",AU105="zákl. prenesená"),AG105*L31,AG105*L32)),2) -> 0 | BV105: OSTATNENAKLADYVLASTNE | BY105: =IF(AU105="základná",AV105,0) -> 0 | BZ105: =IF(AU105="znížená",AV105,0) -> 0 | CA105: =IF(AU105="zákl. prenesená",AV105,0) -> 0 | CB105: =IF(AU105="zníž. prenesená",AV105,0) -> 0 | CC105: =IF(AU105="nulová",AV105,0) -> 0 | CD105: =IF(AU105="základná",AG105,0) -> 0 | CE105: =IF(AU105="znížená",AG105,0) -> 0 | CF105: =IF(AU105="zákl. prenesená",AG105,0) -> 0 | CG105: =IF(AU105="zníž. prenesená",AG105,0) -> 0 | CH105: =IF(AU105="nulová",AG105,0) -> 0 | CI105: =IF(AU105="základná",1,IF(AU105="znížená",2,IF(AU105="zákl. prenesená",4,IF(AU105="zníž. prenesená",5,3)))) -> 1 | CJ105: =IF(AT105="stavebná časť",1,IF(88105="investičná časť",2,3)) -> 1 | CK105: =IF(D105="Vyplň vlastné","","x")
D106: Vyplň vlastné | AG106: =AG87*AS106 -> 0 | AN106: =AG106+AV106 -> 0 | AS106: 0 | AT106: stavebná časť | AU106: základná | AV106: =ROUND(IF(AU106="nulová",0,IF(OR(AU106="základná",AU106="zákl. prenesená"),AG106*L31,AG106*L32)),2) -> 0 | BV106: OSTATNENAKLADYVLASTNE | BY106: =IF(AU106="základná",AV106,0) -> 0 | BZ106: =IF(AU106="znížená",AV106,0) -> 0 | CA106: =IF(AU106="zákl. prenesená",AV106,0) -> 0 | CB106: =IF(AU106="zníž. prenesená",AV106,0) -> 0 | CC106: =IF(AU106="nulová",AV106,0) -> 0 | CD106: =IF(AU106="základná",AG106,0) -> 0 | CE106: =IF(AU106="znížená",AG106,0) -> 0 | CF106: =IF(AU106="zákl. prenesená",AG106,0) -> 0 | CG106: =IF(AU106="zníž. prenesená",AG106,0) -> 0 | CH106: =IF(AU106="nulová",AG106,0) -> 0 | CI106: =IF(AU106="základná",1,IF(AU106="znížená",2,IF(AU106="zákl. prenesená",4,IF(AU106="zníž. prenesená",5,3)))) -> 1 | CJ106: =IF(AT106="stavebná časť",1,IF(88106="investičná časť",2,3)) -> 1 | CK106: =IF(D106="Vyplň vlastné","","x")
C108: Celkové náklady za stavbu 1) + 2) | AG108: =ROUND(AG87+AG102,2) -> 0 | AN108: =AN87+AN102 -> 0

Sheet 001- Architektúra a statika 9.2
D1: Hárok obsahuje: | F1: 1) Krycí list rozpočtu | H1: 2) Rekapitulácia rozpočtu | L1: 3) Rozpočet | O1: Späť na hárok: | S1: Rekapitulácia stavby
C2: optimalizované pre tlač zostáv vo formáte A4 - na výšku | S2: >> skryté stĺpce << | AT2: {99de835d-6c86-4cf4-bcc7-41f2ddf9899b}
AT3: 0
C4: KRYCÍ LIST ROZPOČTU 9.2. | T4: v --- nižšie sa nachádzajú doplnkové a pomocné údaje k zostavám --- v | AT4: False
D6: Stavba: | F6: ='Rekapitulácia stavby 9.2.'!K6 -> Poradenské centrum UKF v Nitre - zmena 12/2016
D7: Objekt: | F7: 001 - I.etapa
D8: Časť: | F8: 001 - Architektúra a statika
D9: JKSO: | M9: KS:
D10: Miesto: | F10: Trieda A.Hlinku 1, Nitra | M10: Dátum: | O10: ='Rekapitulácia stavby 9.2.'!AN8 -> 19. 12. 2016
D12: Objednávateľ: | M12: IČO:
E13: UKF Nitra | M13: IČO DPH:
D15: Zhotoviteľ: | M15: IČO: | O15: =IF('Rekapitulácia stavby 9.2.'!AN13="","",'Rekapitulácia stavby 9.2.'!AN13) -> Vyplň údaj
E16: =IF('Rekapitulácia stavby 9.2.'!E14="","",'Rekapitulácia stavby 9.2.'!E14) -> Vyplň údaj | M16: IČO DPH: | O16: =IF('Rekapitulácia stavby 9.2.'!AN14="","",'Rekapitulácia stavby 9.2.'!AN14) -> Vyplň údaj
D18: Projektant: | M18: IČO:
E19: SH final s.r.o. Nitra | M19: IČO DPH:
D21: Spracovateľ: | M21: IČO:
E22: Ing.Janečka | M22: IČO DPH:
D24: Poznámka:
D28: Náklady z rozpočtu | M28: =N89 -> 0
D29: Ostatné náklady | M29: =N118 -> 0
D31: Cena bez DPH | M31: =ROUND(M28+M29,2) -> 0
D33: DPH | E33: základná | F33: 0.2 | G33: z | H33: =ROUND((((SUM(BE118:BE125)+SUM(BE144:BE389))+SUM(BE391:BE395))),2) -> 0 | M33: =ROUND(((ROUND((SUM(BE118:BE125)+SUM(BE144:BE389)), 2)*F33)+SUM(BE391:BE395)*F33),2) -> 0
E34: znížená | F34: 0.2 | G34: z | H34: =ROUND((((SUM(BF118:BF125)+SUM(BF144:BF389))+SUM(BF391:BF395))),2) -> 0 | M34: =ROUND(((ROUND((SUM(BF118:BF125)+SUM(BF144:BF389)), 2)*F34)+SUM(BF391:BF395)*F34),2) -> 0
E35: zákl. prenesená | F35: 0.2 | G35: z | H35: =ROUND((((SUM(BG118:BG125)+SUM(BG144:BG389))+SUM(BG391:BG395))),2) -> 0 | M35: 0
E36: zníž. prenesená | F36: 0.2 | G36: z | H36: =ROUND((((SUM(BH118:BH125)+SUM(BH144:BH389))+SUM(BH391:BH395))),2) -> 0 | M36: 0
E37: nulová | F37: 0 | G37: z | H37: =ROUND((((SUM(BI118:BI125)+SUM(BI144:BI389))+SUM(BI391:BI395))),2) -> 0 | M37: 0
D39: Cena s DPH | G39: v | H39: EUR | L39: =SUM(M31:M37) -> 0
D50: Projektant | J50: Spracovateľ
D59: Dátum a podpis: | G59: Pečiatka | J59: Dátum a podpis: | N59: Pečiatka
D61: Objednávateľ | J61: Zhotoviteľ
D70: Dátum a podpis: | G70: Pečiatka | J70: Dátum a podpis: | N70: Pečiatka
C76: REKAPITULÁCIA ROZPOČTU
C78: Stavba: | F78: =F6 -> Poradenské centrum UKF v Nitre - zmena 12/2016
C79: Objekt: | F79: 001 - I.etapa
C80: Časť: | F80: =F8 -> 001 - Architektúra a statika
C82: Miesto: | F82: =F10 -> Trieda A.Hlinku 1, Nitra | K82: Dátum: | M82: =IF(O10="","",O10) -> 19. 12. 2016
C84: Objednávateľ: | F84: =E13 -> UKF Nitra | K84: Projektant: | M84: =E19 -> SH final s.r.o. Nitra
C85: Zhotoviteľ: | F85: =IF(E16="","",E16) -> Vyplň údaj | K85: Spracovateľ: | M85: =E22 -> Ing.Janečka
C87: Kód - Popis | N87: Cena celkom [EUR]
C89: 1) Náklady z rozpočtu | N89: =L126=N144 -> 0 | AU89: -1
D90: HSV - Práce a dodávky HSV | N90: =N145 -> 0
D91: 1 - Zemné práce | N91: =N146 -> 0
D92: 2 - Zakladanie | N92: =N153 -> 0
D93: 3 - Zvislé a kompletné konštrukcie | N93: =N160 -> 0
D94: 6 - Úpravy povrchov, podlahy, osadenie | N94: =N167 -> 0
D95: 8 - Rúrové vedenie | N95: =N199 -> 0
D96: 9 - Ostatné konštrukcie a práce-búranie | N96: =N202 -> 0
D97: 99 - Presun hmôt HSV | N97: =N251 -> 0
D98: PSV - Práce a dodávky PSV | N98: =N253 -> 0
D99: 711 - Izolácie proti vode a vlhkosti | N99: =N254 -> 0
D100: 712 - Izolácie striech | N100: =N258 -> 0
D101: 713 - Izolácie tepelné | N101: =N263 -> 0
D102: 762 - Konštrukcie tesárske | N102: =N270 -> 0
D103: 763 - Konštrukcie - drevostavby | N103: =N275 -> 0
D104: 764 - Konštrukcie klampiarske | N104: =N285 -> 0
D105: 765 - Konštrukcie - krytiny tvrdé | N105: =N295 -> 0
D106: 766 - Konštrukcie stolárske | N106: =N297 -> 0
D107: 767 - Konštrukcie doplnkové kovové | N107: =N327 -> 0
D108: 771 - Podlahy z dlaždíc | N108: =N345 -> 0
D109: 775 - Podlahy vlysové a parketové | N109: =N351 -> 0
D110: 776 - Podlahy povlakové | N110: =N361 -> 0
D111: 777 - Podlahy syntetické | N111: =N372 -> 0
D112: 781 - Dokončovacie práce a obklady | N112: =N375 -> 0
D113: 783 - Dokončovacie práce - nátery | N113: =N379 -> 0
D114: 784 - Dokončovacie práce - maľby | N114: =N383 -> 0
D115: HZS - Hodinové zúčtovacie sadzby | N115: =N387 -> 0
D116: VP - Práce naviac | N116: =N390 -> 0
C118: 2) Ostatné náklady | N118: =ROUND(N119+N120+N121+N122+N123+N124,2) -> 0 | U118: DPH
D119: GZS | N119: =ROUND(N89*T119,2) -> 0 | U119: znížená | AY119: VRN | BE119: =IF(U119="základná",N119,0) -> 0 | BF119: =IF(U119="znížená",N119,0) -> 0 | BG119: =IF(U119="zákl. prenesená",N119,0) -> 0 | BH119: =IF(U119="zníž. prenesená",N119,0) -> 0 | BI119: =IF(U119="nulová",N119,0) -> 0 | BJ119: 2
D120: Projektové práce | N120: =ROUND(N89*T120,2) -> 0 | U120: znížená | AY120: VRN | BE120: =IF(U120="základná",N120,0) -> 0 | BF120: =IF(U120="znížená",N120,0) -> 0 | BG120: =IF(U120="zákl. prenesená",N120,0) -> 0 | BH120: =IF(U120="zníž. prenesená",N120,0) -> 0 | BI120: =IF(U120="nulová",N120,0) -> 0 | BJ120: 2
D121: Sťažené podmienky | N121: =ROUND(N89*T121,2) -> 0 | U121: znížená | AY121: VRN | BE121: =IF(U121="základná",N121,0) -> 0 | BF121: =IF(U121="znížená",N121,0) -> 0 | BG121: =IF(U121="zákl. prenesená",N121,0) -> 0 | BH121: =IF(U121="zníž. prenesená",N121,0) -> 0 | BI121: =IF(U121="nulová",N121,0) -> 0 | BJ121: 2
D122: Vplyv prostredia | N122: =ROUND(N89*T122,2) -> 0 | U122: znížená | AY122: VRN | BE122: =IF(U122="základná",N122,0) -> 0 | BF122: =IF(U122="znížená",N122,0) -> 0 | BG122: =IF(U122="zákl. prenesená",N122,0) -> 0 | BH122: =IF(U122="zníž. prenesená",N122,0) -> 0 | BI122: =IF(U122="nulová",N122,0) -> 0 | BJ122: 2
D123: Iné VRN | N123: =ROUND(N89*T123,2) -> 0 | U123: znížená | AY123: VRN | BE123: =IF(U123="základná",N123,0) -> 0 | BF123: =IF(U123="znížená",N123,0) -> 0 | BG123: =IF(U123="zákl. prenesená",N123,0) -> 0 | BH123: =IF(U123="zníž. prenesená",N123,0) -> 0 | BI123: =IF(U123="nulová",N123,0) -> 0 | BJ123: 2
D124: Kompletačná činnosť | N124: =ROUND(N89*T124,2) -> 0 | U124: znížená | AY124: KOMPLETACNA | BE124: =IF(U124="základná",N124,0) -> 0 | BF124: =IF(U124="znížená",N124,0) -> 0 | BG124: =IF(U124="zákl. prenesená",N124,0) -> 0 | BH124: =IF(U124="zníž. prenesená",N124,0) -> 0 | BI124: =IF(U124="nulová",N124,0) -> 0 | BJ124: 2
C126: Celkové náklady za stavbu 1) + 2) | L126: =ROUND(SUM(N89+N118),2) -> 0
C132: ROZPOČET
C134: Stavba: | F134: =F6 -> Poradenské centrum UKF v Nitre - zmena 12/2016
C135: Objekt: | F135: 001 - I.etapa
C136: Časť: | F136: =F8 -> 001 - Architektúra a statika
C138: Miesto: | F138: =F10 -> Trieda A.Hlinku 1, Nitra | K138: Dátum: | M138: =IF(O10="","",O10) -> 19. 12. 2016
C140: Objednávateľ: | F140: =E13 -> UKF Nitra | K140: Projektant: | M140: =E19 -> SH final s.r.o. Nitra
C141: Zhotoviteľ: | F141: =IF(E16="","",E16) -> Vyplň údaj | K141: Spracovateľ: | M141: =E22 -> Ing.Janečka
C143: PČ | D143: Typ | E143: Kód | F143: Popis | J143: MJ | K143: Množstvo | L143: J.cena [EUR] | N143: Cena celkom [EUR] | T143: Poznámka | U143: DPH | V143: J. Nh [h] | W143: Nh celkom [h] | X143: J. hmotnosť_x000D_ [t] | Y143: Hmotnosť_x000D_ celkom [t] | Z143: J. suť [t] | AA143: Suť Celkom [t]
C144: Náklady z rozpočtu | N144: =BK144 -> 0 | W144: =W145+W253+W387+W390 -> 0 | Y144: =Y145+Y253+Y387+Y390 -> 84.390193 | AA144: =AA145+AA253+AA387+AA390 -> 90.359894 | AT144: D | AU144: -1 | BK144: =BK145+BK253+BK387+BK390 -> 0
D145: HSV - Práce a dodávky HSV | N145: =BK145 -> 0 | W145: =W146+W153+W160+W167+W199+W202+W251 -> 0 | Y145: =Y146+Y153+Y160+Y167+Y199+Y202+Y251 -> 69.315699 | AA145: =AA146+AA153+AA160+AA167+AA199+AA202+AA251 -> 77.483255 | AR145: 1 | AT145: D | AU145: 0 | AY145: ROZPOCET | BK145: =BK146+BK153+BK160+BK167+BK199+BK202+BK251 -> 0
D146: 1 - Zemné práce | N146: =BK146 -> 0 | W146: =SUM(W147:W152) -> 0 | Y146: =SUM(Y147:Y152) -> 0 | AA146: =SUM(AA147:AA152) -> 7.201125 | AR146: 1 | AT146: D | AU146: 1 | AY146: ROZPOCET | BK146: =SUM(BK147:BK152) -> 0
C147: 1 | D147: K | E147: 113107131 | F147: Odstránenie krytu v ploche do 200 m2 z betónu prostého, hr. vrstvy do 150 mm, -0,22500t | J147: m2 | K147: 32.005 | L147: 0 | N147: =ROUND(L147*K147,3) -> 0 | U147: znížená | W147: =V147*K147 -> 0 | X147: 0 | Y147: =X147*K147 -> 0 | Z147: 0.225 | AA147: =Z147*K147 -> 7.201125 | AR147: 4 | AT147: K | AU147: 2 | AY147: ROZPOCET | BE147: =IF(U147="základná",N147,0) -> 0 | BF147: =IF(U147="znížená",N147,0) -> 0 | BG147: =IF(U147="zákl. prenesená",N147,0) -> 0 | BH147: =IF(U147="zníž. prenesená",N147,0) -> 0 | BI147: =IF(U147="nulová",N147,0) -> 0 | BJ147: 2 | BK147: =ROUND(L147*K147,3) -> 0 | BL147: 4 | BM147: 183832450
C148: 2 | D148: K | E148: 132201101 | F148: Výkop ryhy do šírky 600 mm v horn.3 do 100 m3 | J148: m3 | K148: 20.714 | L148: 0 | N148: =ROUND(L148*K148,3) -> 0 | U148: znížená | W148: =V148*K148 -> 0 | X148: 0 | Y148: =X148*K148 -> 0 | Z148: 0 | AA148: =Z148*K148 -> 0 | AR148: 4 | AT148: K | AU148: 2 | AY148: ROZPOCET | BE148: =IF(U148="základná",N148,0) -> 0 | BF148: =IF(U148="znížená",N148,0) -> 0 | BG148: =IF(U148="zákl. prenesená",N148,0) -> 0 | BH148: =IF(U148="zníž. prenesená",N148,0) -> 0 | BI148: =IF(U148="nulová",N148,0) -> 0 | BJ148: 2 | BK148: =ROUND(L148*K148,3) -> 0 | BL148: 4 | BM148: -107606916
C149: 3 | D149: K | E149: 162501102 | F149: Vodorovné premiestnenie výkopku po spevnenej ceste z horniny tr.1-4, do 100 m3 na vzdialenosť do 3000 m | J149: m3 | K149: 5.138 | L149: 0 | N149: =ROUND(L149*K149,3) -> 0 | U149: znížená | W149: =V149*K149 -> 0 | X149: 0 | Y149: =X149*K149 -> 0 | Z149: 0 | AA149: =Z149*K149 -> 0 | AR149: 4 | AT149: K | AU149: 2 | AY149: ROZPOCET | BE149: =IF(U149="základná",N149,0) -> 0 | BF149: =IF(U149="znížená",N149,0) -> 0 | BG149: =IF(U149="zákl. prenesená",N149,0) -> 0 | BH149: =IF(U149="zníž. prenesená",N149,0) -> 0 | BI149: =IF(U149="nulová",N149,0) -> 0 | BJ149: 2 | BK149: =ROUND(L149*K149,3) -> 0 | BL149: 4 | BM149: 589335936
C150: 4 | D150: K | E150: 162501105 | F150: Príplatok k cene za každých ďalšich a začatých 1000 m (3x) | J150: m3 | K150: 21.054 | L150: 0 | N150: =ROUND(L150*K150,3) -> 0 | U150: znížená | W150: =V150*K150 -> 0 | X150: 0 | Y150: =X150*K150 -> 0 | Z150: 0 | AA150: =Z150*K150 -> 0 | AR150: 4 | AT150: K | AU150: 2 | AY150: ROZPOCET | BE150: =IF(U150="základná",N150,0) -> 0 | BF150: =IF(U150="znížená",N150,0) -> 0 | BG150: =IF(U150="zákl. prenesená",N150,0) -> 0 | BH150: =IF(U150="zníž. prenesená",N150,0) -> 0 | BI150: =IF(U150="nulová",N150,0) -> 0 | BJ150: 2 | BK150: =ROUND(L150*K150,3) -> 0 | BL150: 4 | BM150: 1517466604
C151: 5 | D151: K | E151: 171209002 | F151: Poplatok za skladovanie - zemina a kamenivo (17 05) ostatné | J151: t | K151: 8.221 | L151: 0 | N151: =ROUND(L151*K151,3) -> 0 | U151: znížená | W151: =V151*K151 -> 0 | X151: 0 | Y151: =X151*K151 -> 0 | Z151: 0 | AA151: =Z151*K151 -> 0 | AR151: 4 | AT151: K | AU151: 2 | AY151: ROZPOCET | BE151: =IF(U151="základná",N151,0) -> 0 | BF151: =IF(U151="znížená",N151,0) -> 0 | BG151: =IF(U151="zákl. prenesená",N151,0) -> 0 | BH151: =IF(U151="zníž. prenesená",N151,0) -> 0 | BI151: =IF(U151="nulová",N151,0) -> 0 | BJ151: 2 | BK151: =ROUND(L151*K151,3) -> 0 | BL151: 4 | BM151: 2099937370
C152: 6 | D152: K | E152: 174101001 | F152: Zásyp sypaninou so zhutnením jám, šachiet, rýh, zárezov alebo okolo objektov do 100 m3 | J152: m3 | K152: 15.576 | L152: 0 | N152: =ROUND(L152*K152,3) -> 0 | U152: znížená | W152: =V152*K152 -> 0 | X152: 0 | Y152: =X152*K152 -> 0 | Z152: 0 | AA152: =Z152*K152 -> 0 | AR152: 4 | AT152: K | AU152: 2 | AY152: ROZPOCET | BE152: =IF(U152="základná",N152,0) -> 0 | BF152: =IF(U152="znížená",N152,0) -> 0 | BG152: =IF(U152="zákl. prenesená",N152,0) -> 0 | BH152: =IF(U152="zníž. prenesená",N152,0) -> 0 | BI152: =IF(U152="nulová",N152,0) -> 0 | BJ152: 2 | BK152: =ROUND(L152*K152,3) -> 0 | BL152: 4 | BM152: -1793177355
D153: 2 - Zakladanie | N153: =BK153 -> 0 | W153: =SUM(W154:W159) -> 0 | Y153: =SUM(Y154:Y159) -> 8.66302 | AA153: =SUM(AA154:AA159) -> 0.126 | AR153: 1 | AT153: D | AU153: 1 | AY153: ROZPOCET | BK153: =SUM(BK154:BK159) -> 0
C154: 7 | D154: K | E154: 274313611 | F154: Betón základových pásov, prostý tr. C 16/20 | J154: m3 | K154: 2.592 | L154: 0 | N154: =ROUND(L154*K154,3) -> 0 | U154: znížená | W154: =V154*K154 -> 0 | X154: 2.19407 | Y154: =X154*K154 -> 5.6870294 | Z154: 0 | AA154: =Z154*K154 -> 0 | AR154: 4 | AT154: K | AU154: 2 | AY154: ROZPOCET | BE154: =IF(U154="základná",N154,0) -> 0 | BF154: =IF(U154="znížená",N154,0) -> 0 | BG154: =IF(U154="zákl. prenesená",N154,0) -> 0 | BH154: =IF(U154="zníž. prenesená",N154,0) -> 0 | BI154: =IF(U154="nulová",N154,0) -> 0 | BJ154: 2 | BK154: =ROUND(L154*K154,3) -> 0 | BL154: 4 | BM154: -1957413928
C155: 8 | D155: K | E155: 274271301 | F155: Murivo základových pásov (m3) PREMAC 50x20x25 s betónovou výplňou C 16/20 hr. 200 mm | J155: m3 | K155: 1.348 | L155: 0 | N155: =ROUND(L155*K155,3) -> 0 | U155: znížená | W155: =V155*K155 -> 0 | X155: 2.16499 | Y155: =X155*K155 -> 2.9184065 | Z155: 0 | AA155: =Z155*K155 -> 0 | AR155: 4 | AT155: K | AU155: 2 | AY155: ROZPOCET | BE155: =IF(U155="základná",N155,0) -> 0 | BF155: =IF(U155="znížená",N155,0) -> 0 | BG155: =IF(U155="zákl. prenesená",N155,0) -> 0 | BH155: =IF(U155="zníž. prenesená",N155,0) -> 0 | BI155: =IF(U155="nulová",N155,0) -> 0 | BJ155: 2 | BK155: =ROUND(L155*K155,3) -> 0 | BL155: 4 | BM155: 375466159
C156: 9 | D156: K | E156: 274361825 | F156: Výstuž pre murivo základových pásov PREMAC s betónovou výplňou z ocele 10505 | J156: t | K156: 0.04 | L156: 0 | N156: =ROUND(L156*K156,3) -> 0 | U156: znížená | W156: =V156*K156 -> 0 | X156: 1.002 | Y156: =X156*K156 -> 0.04008 | Z156: 0 | AA156: =Z156*K156 -> 0 | AR156: 4 | AT156: K | AU156: 2 | AY156: ROZPOCET | BE156: =IF(U156="základná",N156,0) -> 0 | BF156: =IF(U156="znížená",N156,0) -> 0 | BG156: =IF(U156="zákl. prenesená",N156,0) -> 0 | BH156: =IF(U156="zníž. prenesená",N156,0) -> 0 | BI156: =IF(U156="nulová",N156,0) -> 0 | BJ156: 2 | BK156: =ROUND(L156*K156,3) -> 0 | BL156: 4 | BM156: 425107027
C157: 10 | D157: K | E157: 289902111 | F157: Otlčenie alebo osekanie vrstiev omietok L stien, -0,06300t - pod kotevné platne | J157: m2 | K157: 2 | L157: 0 | N157: =ROUND(L157*K157,3) -> 0 | U157: znížená | W157: =V157*K157 -> 0 | X157: 0 | Y157: =X157*K157 -> 0 | Z157: 0.063 | AA157: =Z157*K157 -> 0.126 | AR157: 4 | AT157: K | AU157: 2 | AY157: ROZPOCET | BE157: =IF(U157="základná",N157,0) -> 0 | BF157: =IF(U157="znížená",N157,0) -> 0 | BG157: =IF(U157="zákl. prenesená",N157,0) -> 0 | BH157: =IF(U157="zníž. prenesená",N157,0) -> 0 | BI157: =IF(U157="nulová",N157,0) -> 0 | BJ157: 2 | BK157: =ROUND(L157*K157,3) -> 0 | BL157: 4 | BM157: 1362006571
C158: 11 | D158: K | E158: 289971211 | F158: Zhotovenie vrstvy z geotextílie na upravenom povrchu v sklone do 1 : 5 , šírky od 0 do 3 m | J158: m2 | K158: 35.723 | L158: 0 | N158: =ROUND(L158*K158,3) -> 0 | U158: znížená | W158: =V158*K158 -> 0 | X158: 3e-05 | Y158: =X158*K158 -> 0.00107169 | Z158: 0 | AA158: =Z158*K158 -> 0 | AR158: 4 | AT158: K | AU158: 2 | AY158: ROZPOCET | BE158: =IF(U158="základná",N158,0) -> 0 | BF158: =IF(U158="znížená",N158,0) -> 0 | BG158: =IF(U158="zákl. prenesená",N158,0) -> 0 | BH158: =IF(U158="zníž. prenesená",N158,0) -> 0 | BI158: =IF(U158="nulová",N158,0) -> 0 | BJ158: 2 | BK158: =ROUND(L158*K158,3) -> 0 | BL158: 4 | BM158: 538890637
C159: 12 | D159: M | E159: 6936651300 | F159: Geotextília netkaná polypropylénová Tatratex PP 300 | J159: m2 | K159: 41.081 | L159: 0 | N159: =ROUND(L159*K159,3) -> 0 | U159: znížená | W159: =V159*K159 -> 0 | X159: 0.0004 | Y159: =X159*K159 -> 0.0164324 | Z159: 0 | AA159: =Z159*K159 -> 0 | AR159: 8 | AT159: M | AU159: 2 | AY159: ROZPOCET | BE159: =IF(U159="základná",N159,0) -> 0 | BF159: =IF(U159="znížená",N159,0) -> 0 | BG159: =IF(U159="zákl. prenesená",N159,0) -> 0 | BH159: =IF(U159="zníž. prenesená",N159,0) -> 0 | BI159: =IF(U159="nulová",N159,0) -> 0 | BJ159: 2 | BK159: =ROUND(L159*K159,3) -> 0 | BL159: 4 | BM159: 1595638719
D160: 3 - Zvislé a kompletné konštrukcie | N160: =BK160 -> 0 | W160: =SUM(W161:W166) -> 0 | Y160: =SUM(Y161:Y166) -> 8.0090023 | AA160: =SUM(AA161:AA166) -> 0 | AR160: 1 | AT160: D | AU160: 1 | AY160: ROZPOCET | BK160: =SUM(BK161:BK166) -> 0
...

Sheet 002 - Vykurovanie 9.2.
D1: Hárok obsahuje: | F1: 1) Krycí list rozpočtu | H1: 2) Rekapitulácia rozpočtu | L1: 3) Rozpočet | O1: Späť na hárok: | S1: Rekapitulácia stavby
C2: optimalizované pre tlač zostáv vo formáte A4 - na výšku | S2: >> skryté stĺpce << | AT2: {7f57cf1d-b5bf-458a-969b-32b80a80841b}
AT3: 0
C4: KRYCÍ LIST ROZPOČTU 9.2. | T4: v --- nižšie sa nachádzajú doplnkové a pomocné údaje k zostavám --- v | AT4: False
D6: Stavba: | F6: ='Rekapitulácia stavby 9.2.'!K6 -> Poradenské centrum UKF v Nitre - zmena 12/2016
D7: Objekt: | F7: 001 - I.etapa
D8: Časť: | F8: 002 - Vykurovanie
D9: JKSO: | M9: KS:
D10: Miesto: | F10: Trieda A.Hlinku 1, Nitra | M10: Dátum: | O10: ='Rekapitulácia stavby 9.2.'!AN8 -> 19. 12. 2016
D12: Objednávateľ: | M12: IČO:
E13: UKF Nitra | M13: IČO DPH:
D15: Zhotoviteľ: | M15: IČO: | O15: =IF('Rekapitulácia stavby 9.2.'!AN13="","",'Rekapitulácia stavby 9.2.'!AN13) -> Vyplň údaj
E16: =IF('Rekapitulácia stavby 9.2.'!E14="","",'Rekapitulácia stavby 9.2.'!E14) -> Vyplň údaj | M16: IČO DPH: | O16: =IF('Rekapitulácia stavby 9.2.'!AN14="","",'Rekapitulácia stavby 9.2.'!AN14) -> Vyplň údaj
D18: Projektant: | M18: IČO:
E19: SH final s.r.o. Nitra | M19: IČO DPH:
D21: Spracovateľ: | M21: IČO:
E22: Ing.Valent | M22: IČO DPH:
D24: Poznámka:
D28: Náklady z rozpočtu | M28: =N89 -> 0
D29: Ostatné náklady | M29: =N101 -> 0
D31: Cena bez DPH | M31: =ROUND(M28+M29,2) -> 0
D33: DPH | E33: základná | F33: 0.2 | G33: z | H33: =ROUND((((SUM(BE101:BE108)+SUM(BE127:BE199))+SUM(BE201:BE205))),2) -> 0 | M33: =ROUND(((ROUND((SUM(BE101:BE108)+SUM(BE127:BE199)), 2)*F33)+SUM(BE201:BE205)*F33),2) -> 0
E34: znížená | F34: 0.2 | G34: z | H34: =ROUND((((SUM(BF101:BF108)+SUM(BF127:BF199))+SUM(BF201:BF205))),2) -> 0 | M34: =ROUND(((ROUND((SUM(BF101:BF108)+SUM(BF127:BF199)), 2)*F34)+SUM(BF201:BF205)*F34),2) -> 0
E35: zákl. prenesená | F35: 0.2 | G35: z | H35: =ROUND((((SUM(BG101:BG108)+SUM(BG127:BG199))+SUM(BG201:BG205))),2) -> 0 | M35: 0
E36: zníž. prenesená | F36: 0.2 | G36: z | H36: =ROUND((((SUM(BH101:BH108)+SUM(BH127:BH199))+SUM(BH201:BH205))),2) -> 0 | M36: 0
E37: nulová | F37: 0 | G37: z | H37: =ROUND((((SUM(BI101:BI108)+SUM(BI127:BI199))+SUM(BI201:BI205))),2) -> 0 | M37: 0
D39: Cena s DPH | G39: v | H39: EUR | L39: =SUM(M31:M37) -> 0
D50: Projektant | J50: Spracovateľ
D59: Dátum a podpis: | G59: Pečiatka | J59: Dátum a podpis: | N59: Pečiatka
D61: Objednávateľ | J61: Zhotoviteľ
D70: Dátum a podpis: | G70: Pečiatka | J70: Dátum a podpis: | N70: Pečiatka
C76: REKAPITULÁCIA ROZPOČTU
C78: Stavba: | F78: =F6 -> Poradenské centrum UKF v Nitre - zmena 12/2016
C79: Objekt: | F79: 001 - I.etapa
C80: Časť: | F80: =F8 -> 002 - Vykurovanie
C82: Miesto: | F82: =F10 -> Trieda A.Hlinku 1, Nitra | K82: Dátum: | M82: =IF(O10="","",O10) -> 19. 12. 2016
C84: Objednávateľ: | F84: =E13 -> UKF Nitra | K84: Projektant: | M84: =E19 -> SH final s.r.o. Nitra
C85: Zhotoviteľ: | F85: =IF(E16="","",E16) -> Vyplň údaj | K85: Spracovateľ: | M85: =E22 -> Ing.Valent
C87: Kód - Popis | N87: Cena celkom [EUR]
C89: 1) Náklady z rozpočtu | N89: =N127 -> 0 | AU89: -1
D90: PSV - Práce a dodávky PSV | N90: =N128 -> 0
D91: 713 - Izolácie tepelné | N91: =N129 -> 0
D92: 733 - Ústredné kúrenie, rozvodné potrubie | N92: =N139 -> 0
D93: 734 - Ústredné kúrenie, armatúry. | N93: =N146 -> 0
D94: 735 - Ústredné kúrenie, vykurov. telesá | N94: =N155 -> 0
D95: 783 - Dokončovacie práce - nátery | N95: =N176 -> 0
D96: OST - Demontáž | N96: =N179 -> 0
D97: Ostatné - Ostatné | N97: =N194 -> 0
D98: HZS - HZS | N98: =N195 -> 0
D99: VP - Práce naviac | N99: =N200 -> 0
C101: 2) Ostatné náklady | N101: =ROUND(N102+N103+N104+N105+N106+N107,2) -> 0 | U101: DPH
D102: GZS | N102: =ROUND(N89*T102,2) -> 0 | U102: znížená | AY102: VRN | BE102: =IF(U102="základná",N102,0) -> 0 | BF102: =IF(U102="znížená",N102,0) -> 0 | BG102: =IF(U102="zákl. prenesená",N102,0) -> 0 | BH102: =IF(U102="zníž. prenesená",N102,0) -> 0 | BI102: =IF(U102="nulová",N102,0) -> 0 | BJ102: 2
D103: Projektové práce | N103: =ROUND(N89*T103,2) -> 0 | U103: znížená | AY103: VRN | BE103: =IF(U103="základná",N103,0) -> 0 | BF103: =IF(U103="znížená",N103,0) -> 0 | BG103: =IF(U103="zákl. prenesená",N103,0) -> 0 | BH103: =IF(U103="zníž. prenesená",N103,0) -> 0 | BI103: =IF(U103="nulová",N103,0) -> 0 | BJ103: 2
D104: Sťažené podmienky | N104: =ROUND(N89*T104,2) -> 0 | U104: znížená | AY104: VRN | BE104: =IF(U104="základná",N104,0) -> 0 | BF104: =IF(U104="znížená",N104,0) -> 0 | BG104: =IF(U104="zákl. prenesená",N104,0) -> 0 | BH104: =IF(U104="zníž. prenesená",N104,0) -> 0 | BI104: =IF(U104="nulová",N104,0) -> 0 | BJ104: 2
D105: Vplyv prostredia | N105: =ROUND(N89*T105,2) -> 0 | U105: znížená | AY105: VRN | BE105: =IF(U105="základná",N105,0) -> 0 | BF105: =IF(U105="znížená",N105,0) -> 0 | BG105: =IF(U105="zákl. prenesená",N105,0) -> 0 | BH105: =IF(U105="zníž. prenesená",N105,0) -> 0 | BI105: =IF(U105="nulová",N105,0) -> 0 | BJ105: 2
D106: Iné VRN | N106: =ROUND(N89*T106,2) -> 0 | U106: znížená | AY106: VRN | BE106: =IF(U106="základná",N106,0) -> 0 | BF106: =IF(U106="znížená",N106,0) -> 0 | BG106: =IF(U106="zákl. prenesená",N106,0) -> 0 | BH106: =IF(U106="zníž. prenesená",N106,0) -> 0 | BI106: =IF(U106="nulová",N106,0) -> 0 | BJ106: 2
D107: Kompletačná činnosť | N107: =ROUND(N89*T107,2) -> 0 | U107: znížená | AY107: KOMPLETACNA | BE107: =IF(U107="základná",N107,0) -> 0 | BF107: =IF(U107="znížená",N107,0) -> 0 | BG107: =IF(U107="zákl. prenesená",N107,0) -> 0 | BH107: =IF(U107="zníž. prenesená",N107,0) -> 0 | BI107: =IF(U107="nulová",N107,0) -> 0 | BJ107: 2
C109: Celkové náklady za stavbu 1) + 2) | L109: =ROUND(SUM(N89+N101),2) -> 0
C115: ROZPOČET
C117: Stavba: | F117: =F6 -> Poradenské centrum UKF v Nitre - zmena 12/2016
C118: Objekt: | F118: 001 - I.etapa
C119: Časť: | F119: =F8 -> 002 - Vykurovanie
C121: Miesto: | F121: =F10 -> Trieda A.Hlinku 1, Nitra | K121: Dátum: | M121: =IF(O10="","",O10) -> 19. 12. 2016
C123: Objednávateľ: | F123: =E13 -> UKF Nitra | K123: Projektant: | M123: =E19 -> SH final s.r.o. Nitra
C124: Zhotoviteľ: | F124: =IF(E16="","",E16) -> Vyplň údaj | K124: Spracovateľ: | M124: =E22 -> Ing.Valent
C126: PČ | D126: Typ | E126: Kód | F126: Popis | J126: MJ | K126: Množstvo | L126: J.cena [EUR] | N126: Cena celkom [EUR] | T126: Poznámka | U126: DPH | V126: J. Nh [h] | W126: Nh celkom [h] | X126: J. hmotnosť_x000D_ [t] | Y126: Hmotnosť_x000D_ celkom [t] | Z126: J. suť [t] | AA126: Suť Celkom [t]
C127: Náklady z rozpočtu | N127: =BK127 -> 0 | W127: =W128+W179+W194+W200 -> 0 | Y127: =Y128+Y179+Y194+Y200 -> 0.45165 | AA127: =AA128+AA179+AA194+AA200 -> 0 | AT127: D | AU127: -1 | BK127: =BK128+BK179+BK194+BK200 -> 0
D128: PSV - Práce a dodávky PSV | N128: =BK128 -> 0 | W128: =W129+W139+W146+W155+W176 -> 0 | Y128: =Y129+Y139+Y146+Y155+Y176 -> 0.40857 | AA128: =AA129+AA139+AA146+AA155+AA176 -> 0 | AR128: 2 | AT128: D | AU128: 0 | AY128: ROZPOCET | BK128: =BK129+BK139+BK146+BK155+BK176 -> 0
D129: 713 - Izolácie tepelné | N129: =BK129 -> 0 | W129: =SUM(W130:W138) -> 0 | Y129: =SUM(Y130:Y138) -> 0.00477 | AA129: =SUM(AA130:AA138) -> 0 | AR129: 2 | AT129: D | AU129: 1 | AY129: ROZPOCET | BK129: =SUM(BK130:BK138) -> 0
C130: 16 | D130: K | E130: 713482111 | F130: Montáž trubíc z PE, hr.do 10 mm,vnút.priemer do 38 | J130: m | K130: 17 | L130: 0 | N130: =ROUND(L130*K130,3) -> 0 | U130: znížená | W130: =V130*K130 -> 0 | X130: 0 | Y130: =X130*K130 -> 0 | Z130: 0 | AA130: =Z130*K130 -> 0 | AR130: 16 | AT130: K | AU130: 2 | AY130: ROZPOCET | BE130: =IF(U130="základná",N130,0) -> 0 | BF130: =IF(U130="znížená",N130,0) -> 0 | BG130: =IF(U130="zákl. prenesená",N130,0) -> 0 | BH130: =IF(U130="zníž. prenesená",N130,0) -> 0 | BI130: =IF(U130="nulová",N130,0) -> 0 | BJ130: 2 | BK130: =ROUND(L130*K130,3) -> 0 | BL130: 16 | BM130: 2
C131: 17 | D131: K | E131: 713482121 | F131: Montáž trubíc z PE, hr.15-20 mm,vnút.priemer do 38 | J131: m | K131: 88 | L131: 0 | N131: =ROUND(L131*K131,3) -> 0 | U131: znížená | W131: =V131*K131 -> 0 | X131: 2e-05 | Y131: =X131*K131 -> 0.00176 | Z131: 0 | AA131: =Z131*K131 -> 0 | AR131: 16 | AT131: K | AU131: 2 | AY131: ROZPOCET | BE131: =IF(U131="základná",N131,0) -> 0 | BF131: =IF(U131="znížená",N131,0) -> 0 | BG131: =IF(U131="zákl. prenesená",N131,0) -> 0 | BH131: =IF(U131="zníž. prenesená",N131,0) -> 0 | BI131: =IF(U131="nulová",N131,0) -> 0 | BJ131: 2 | BK131: =ROUND(L131*K131,3) -> 0 | BL131: 16 | BM131: 4
C132: 40 | D132: M | E132: 2837741542 | F132: TUBOLIT izolácia - trubica 22/20-DG (72) ARC-0051 Armacell AZ FLEX | J132: m | K132: 31 | L132: 0 | N132: =ROUND(L132*K132,3) -> 0 | U132: znížená | W132: =V132*K132 -> 0 | X132: 1.3548387e-05 | Y132: =X132*K132 -> 0.00042 | Z132: 0 | AA132: =Z132*K132 -> 0 | AR132: 32 | AT132: M | AU132: 2 | AY132: ROZPOCET | BE132: =IF(U132="základná",N132,0) -> 0 | BF132: =IF(U132="znížená",N132,0) -> 0 | BG132: =IF(U132="zákl. prenesená",N132,0) -> 0 | BH132: =IF(U132="zníž. prenesená",N132,0) -> 0 | BI132: =IF(U132="nulová",N132,0) -> 0 | BJ132: 2 | BK132: =ROUND(L132*K132,3) -> 0 | BL132: 16 | BM132: 6
C133: 41 | D133: M | E133: 2837741555 | F133: TUBOLIT izolácia - trubica 28/20-DG (60) ARC-0052 Armacell AZ FLEX | J133: m | K133: 35 | L133: 0 | N133: =ROUND(L133*K133,3) -> 0 | U133: znížená | W133: =V133*K133 -> 0 | X133: 2.5142857e-05 | Y133: =X133*K133 -> 0.00088 | Z133: 0 | AA133: =Z133*K133 -> 0 | AR133: 32 | AT133: M | AU133: 2 | AY133: ROZPOCET | BE133: =IF(U133="základná",N133,0) -> 0 | BF133: =IF(U133="znížená",N133,0) -> 0 | BG133: =IF(U133="zákl. prenesená",N133,0) -> 0 | BH133: =IF(U133="zníž. prenesená",N133,0) -> 0 | BI133: =IF(U133="nulová",N133,0) -> 0 | BJ133: 2 | BK133: =ROUND(L133*K133,3) -> 0 | BL133: 16 | BM133: 8
C134: 42 | D134: M | E134: 2837741568 | F134: TUBOLIT izolácia - trubica 35/20-DG (46) ARC-0053 Armacell AZ FLEX | J134: m | K134: 22 | L134: 0 | N134: =ROUND(L134*K134,3) -> 0 | U134: znížená | W134: =V134*K134 -> 0 | X134: 4.1818182e-05 | Y134: =X134*K134 -> 0.00092 | Z134: 0 | AA134: =Z134*K134 -> 0 | AR134: 32 | AT134: M | AU134: 2 | AY134: ROZPOCET | BE134: =IF(U134="základná",N134,0) -> 0 | BF134: =IF(U134="znížená",N134,0) -> 0 | BG134: =IF(U134="zákl. prenesená",N134,0) -> 0 | BH134: =IF(U134="zníž. prenesená",N134,0) -> 0 | BI134: =IF(U134="nulová",N134,0) -> 0 | BJ134: 2 | BK134: =ROUND(L134*K134,3) -> 0 | BL134: 16 | BM134: 10
C135: 43 | D135: M | E135: 2837741549 | F135: TUBOLIT izolácia - navlek 22-S-plus (400) ARC-0072 Armacell AZ FLEX | J135: m | K135: 17 | L135: 0 | N135: =ROUND(L135*K135,3) -> 0 | U135: znížená | W135: =V135*K135 -> 0 | X135: 4.6470588e-05 | Y135: =X135*K135 -> 0.00079 | Z135: 0 | AA135: =Z135*K135 -> 0 | AR135: 32 | AT135: M | AU135: 2 | AY135: ROZPOCET | BE135: =IF(U135="základná",N135,0) -> 0 | BF135: =IF(U135="znížená",N135,0) -> 0 | BG135: =IF(U135="zákl. prenesená",N135,0) -> 0 | BH135: =IF(U135="zníž. prenesená",N135,0) -> 0 | BI135: =IF(U135="nulová",N135,0) -> 0 | BJ135: 2 | BK135: =ROUND(L135*K135,3) -> 0 | BL135: 16 | BM135: 12
C136: 44 | D136: M | E136: p-tbl-pe-50-15-3 | F136: Páska TUBOLIT PE -50mm/15m/3mm | J136: ks | K136: 2 | L136: 0 | N136: =ROUND(L136*K136,3) -> 0 | U136: znížená | W136: =V136*K136 -> 0 | X136: 0 | Y136: =X136*K136 -> 0 | Z136: 0 | AA136: =Z136*K136 -> 0 | AR136: 32 | AT136: M | AU136: 2 | AY136: ROZPOCET | BE136: =IF(U136="základná",N136,0) -> 0 | BF136: =IF(U136="znížená",N136,0) -> 0 | BG136: =IF(U136="zákl. prenesená",N136,0) -> 0 | BH136: =IF(U136="zníž. prenesená",N136,0) -> 0 | BI136: =IF(U136="nulová",N136,0) -> 0 | BJ136: 2 | BK136: =ROUND(L136*K136,3) -> 0 | BL136: 16 | BM136: 14
C137: 45 | D137: M | E137: l-520/1,0 | F137: Lepidlo 520-1,0 l | J137: ks | K137: 1 | L137: 0 | N137: =ROUND(L137*K137,3) -> 0 | U137: znížená | W137: =V137*K137 -> 0 | X137: 0 | Y137: =X137*K137 -> 0 | Z137: 0 | AA137: =Z137*K137 -> 0 | AR137: 32 | AT137: M | AU137: 2 | AY137: ROZPOCET | BE137: =IF(U137="základná",N137,0) -> 0 | BF137: =IF(U137="znížená",N137,0) -> 0 | BG137: =IF(U137="zákl. prenesená",N137,0) -> 0 | BH137: =IF(U137="zníž. prenesená",N137,0) -> 0 | BI137: =IF(U137="nulová",N137,0) -> 0 | BJ137: 2 | BK137: =ROUND(L137*K137,3) -> 0 | BL137: 16 | BM137: 16
C138: 18 | D138: K | E138: 998713202 | F138: Presun hmôt pre izolácie tepelné v objektoch výšky nad 6 m do 12 m | J138: % | K138: 0 | L138: 0 | N138: =ROUND(L138*K138,3) -> 0 | U138: znížená | W138: =V138*K138 -> 0 | X138: 0 | Y138: =X138*K138 -> 0 | Z138: 0 | AA138: =Z138*K138 -> 0 | AR138: 16 | AT138: K | AU138: 2 | AY138: ROZPOCET | BE138: =IF(U138="základná",N138,0) -> 0 | BF138: =IF(U138="znížená",N138,0) -> 0 | BG138: =IF(U138="zákl. prenesená",N138,0) -> 0 | BH138: =IF(U138="zníž. prenesená",N138,0) -> 0 | BI138: =IF(U138="nulová",N138,0) -> 0 | BJ138: 2 | BK138: =ROUND(L138*K138,3) -> 0 | BL138: 16 | BM138: 18
D139: 733 - Ústredné kúrenie, rozvodné potrubie | N139: =BK139 -> 0 | W139: =SUM(W140:W145) -> 0 | Y139: =SUM(Y140:Y145) -> 0.08512 | AA139: =SUM(AA140:AA145) -> 0 | AR139: 2 | AT139: D | AU139: 1 | AY139: ROZPOCET | BK139: =SUM(BK140:BK145) -> 0
C140: 1 | D140: K | E140: 733111103 | F140: Potrubie z rúrok závitových oceľových bezšvových bežných nízkotlakových DN 15 | J140: m | K140: 56 | L140: 0 | N140: =ROUND(L140*K140,3) -> 0 | U140: znížená | W140: =V140*K140 -> 0 | X140: 0.00152 | Y140: =X140*K140 -> 0.08512 | Z140: 0 | AA140: =Z140*K140 -> 0 | AR140: 16 | AT140: K | AU140: 2 | AY140: ROZPOCET | BE140: =IF(U140="základná",N140,0) -> 0 | BF140: =IF(U140="znížená",N140,0) -> 0 | BG140: =IF(U140="zákl. prenesená",N140,0) -> 0 | BH140: =IF(U140="zníž. prenesená",N140,0) -> 0 | BI140: =IF(U140="nulová",N140,0) -> 0 | BJ140: 2 | BK140: =ROUND(L140*K140,3) -> 0 | BL140: 16 | BM140: 20
C141: 2 | D141: K | E141: 733113113 | F141: Potrubie z rúrok závitových Príplatok k cene za zhotovenie prípojky z oceľ. rúrok závitových DN 15 | J141: ks | K141: 32 | L141: 0 | N141: =ROUND(L141*K141,3) -> 0 | U141: znížená | W141: =V141*K141 -> 0 | X141: 0 | Y141: =X141*K141 -> 0 | Z141: 0 | AA141: =Z141*K141 -> 0 | AR141: 16 | AT141: K | AU141: 2 | AY141: ROZPOCET | BE141: =IF(U141="základná",N141,0) -> 0 | BF141: =IF(U141="znížená",N141,0) -> 0 | BG141: =IF(U141="zákl. prenesená",N141,0) -> 0 | BH141: =IF(U141="zníž. prenesená",N141,0) -> 0 | BI141: =IF(U141="nulová",N141,0) -> 0 | BJ141: 2 | BK141: =ROUND(L141*K141,3) -> 0 | BL141: 16 | BM141: 22
C142: 4 | D142: K | E142: 733113114 | F142: Potrubie z rúrok závitových Príplatok k cene za zhotovenie prípojky z oceľ. rúrok závitových DN 20 | J142: ks | K142: 2 | L142: 0 | N142: =ROUND(L142*K142,3) -> 0 | U142: znížená | W142: =V142*K142 -> 0 | X142: 0 | Y142: =X142*K142 -> 0 | Z142: 0 | AA142: =Z142*K142 -> 0 | AR142: 16 | AT142: K | AU142: 2 | AY142: ROZPOCET | BE142: =IF(U142="základná",N142,0) -> 0 | BF142: =IF(U142="znížená",N142,0) -> 0 | BG142: =IF(U142="zákl. prenesená",N142,0) -> 0 | BH142: =IF(U142="zníž. prenesená",N142,0) -> 0 | BI142: =IF(U142="nulová",N142,0) -> 0 | BJ142: 2 | BK142: =ROUND(L142*K142,3) -> 0 | BL142: 16 | BM142: 24
C143: 3 | D143: K | E143: 733113115 | F143: Potrubie z rúrok závitových Príplatok k cene za zhotovenie prípojky z oceľ. rúrok závitových DN 25 | J143: ks | K143: 2 | L143: 0 | N143: =ROUND(L143*K143,3) -> 0 | U143: znížená | W143: =V143*K143 -> 0 | X143: 0 | Y143: =X143*K143 -> 0 | Z143: 0 | AA143: =Z143*K143 -> 0 | AR143: 16 | AT143: K | AU143: 2 | AY143: ROZPOCET | BE143: =IF(U143="základná",N143,0) -> 0 | BF143: =IF(U143="znížená",N143,0) -> 0 | BG143: =IF(U143="zákl. prenesená",N143,0) -> 0 | BH143: =IF(U143="zníž. prenesená",N143,0) -> 0 | BI143: =IF(U143="nulová",N143,0) -> 0 | BJ143: 2 | BK143: =ROUND(L143*K143,3) -> 0 | BL143: 16 | BM143: 26
C144: 5 | D144: K | E144: 733190107 | F144: Tlaková skúška potrubia z oceľových rúrok závitových | J144: m | K144: 56 | L144: 0 | N144: =ROUND(L144*K144,3) -> 0 | U144: znížená | W144: =V144*K144 -> 0 | X144: 0 | Y144: =X144*K144 -> 0 | Z144: 0 | AA144: =Z144*K144 -> 0 | AR144: 16 | AT144: K | AU144: 2 | AY144: ROZPOCET | BE144: =IF(U144="základná",N144,0) -> 0 | BF144: =IF(U144="znížená",N144,0) -> 0 | BG144: =IF(U144="zákl. prenesená",N144,0) -> 0 | BH144: =IF(U144="zníž. prenesená",N144,0) -> 0 | BI144: =IF(U144="nulová",N144,0) -> 0 | BJ144: 2 | BK144: =ROUND(L144*K144,3) -> 0 | BL144: 16 | BM144: 28
C145: 6 | D145: K | E145: 998733203 | F145: Presun hmôt pre rozvody potrubia v objektoch výšky nad 6 do 24 m | J145: % | K145: 0 | L145: 0 | N145: =ROUND(L145*K145,3) -> 0 | U145: znížená | W145: =V145*K145 -> 0 | X145: 0 | Y145: =X145*K145 -> 0 | Z145: 0 | AA145: =Z145*K145 -> 0 | AR145: 16 | AT145: K | AU145: 2 | AY145: ROZPOCET | BE145: =IF(U145="základná",N145,0) -> 0 | BF145: =IF(U145="znížená",N145,0) -> 0 | BG145: =IF(U145="zákl. prenesená",N145,0) -> 0 | BH145: =IF(U145="zníž. prenesená",N145,0) -> 0 | BI145: =IF(U145="nulová",N145,0) -> 0 | BJ145: 2 | BK145: =ROUND(L145*K145,3) -> 0 | BL145: 16 | BM145: 30
D146: 734 - Ústredné kúrenie, armatúry. | N146: =BK146 -> 0 | W146: =SUM(W147:W154) -> 0 | Y146: =SUM(Y147:Y154) -> 0.00588 | AA146: =SUM(AA147:AA154) -> 0 | AR146: 2 | AT146: D | AU146: 1 | AY146: ROZPOCET | BK146: =SUM(BK147:BK154) -> 0
C147: 7 | D147: K | E147: 734209104 | F147: Montáž závitovej armatúry s 1 závitom G 3/4 | J147: ks | K147: 13 | L147: 0 | N147: =ROUND(L147*K147,3) -> 0 | U147: znížená | W147: =V147*K147 -> 0 | X147: 3e-05 | Y147: =X147*K147 -> 0.00039 | Z147: 0 | AA147: =Z147*K147 -> 0 | AR147: 16 | AT147: K | AU147: 2 | AY147: ROZPOCET | BE147: =IF(U147="základná",N147,0) -> 0 | BF147: =IF(U147="znížená",N147,0) -> 0 | BG147: =IF(U147="zákl. prenesená",N147,0) -> 0 | BH147: =IF(U147="zníž. prenesená",N147,0) -> 0 | BI147: =IF(U147="nulová",N147,0) -> 0 | BJ147: 2 | BK147: =ROUND(L147*K147,3) -> 0 | BL147: 16 | BM147: 32
C148: 19 | D148: M | E148: 4849211006 | F148: Príslušenstvo vykurovania HERZ Termostat HERZ "MINI", 6 - 28 °C Herz obj.č.1920060 | J148: ks | K148: 13 | L148: 0 | N148: =ROUND(L148*K148,3) -> 0 | U148: znížená | W148: =V148*K148 -> 0 | X148: 0.00012230769 | Y148: =X148*K148 -> 0.00159 | Z148: 0 | AA148: =Z148*K148 -> 0 | AR148: 32 | AT148: M | AU148: 2 | AY148: ROZPOCET | BE148: =IF(U148="základná",N148,0) -> 0 | BF148: =IF(U148="znížená",N148,0) -> 0 | BG148: =IF(U148="zákl. prenesená",N148,0) -> 0 | BH148: =IF(U148="zníž. prenesená",N148,0) -> 0 | BI148: =IF(U148="nulová",N148,0) -> 0 | BJ148: 2 | BK148: =ROUND(L148*K148,3) -> 0 | BL148: 16 | BM148: 34
C149: 10 | D149: K | E149: 734209112 | F149: Montáž závitovej armatúry s 2 závitmi do G 1/2 | J149: ks | K149: 13 | L149: 0 | N149: =ROUND(L149*K149,3) -> 0 | U149: znížená | W149: =V149*K149 -> 0 | X149: 2e-05 | Y149: =X149*K149 -> 0.00026 | Z149: 0 | AA149: =Z149*K149 -> 0 | AR149: 16 | AT149: K | AU149: 2 | AY149: ROZPOCET | BE149: =IF(U149="základná",N149,0) -> 0 | BF149: =IF(U149="znížená",N149,0) -> 0 | BG149: =IF(U149="zákl. prenesená",N149,0) -> 0 | BH149: =IF(U149="zníž. prenesená",N149,0) -> 0 | BI149: =IF(U149="nulová",N149,0) -> 0 | BJ149: 2 | BK149: =ROUND(L149*K149,3) -> 0 | BL149: 16 | BM149: 36
C150: 20 | D150: M | E150: 4228461003 | F150: Herz ventil priamy TS-90 E1/2" | J150: ks | K150: 5 | L150: 0 | N150: =ROUND(L150*K150,3) -> 0 | U150: znížená | W150: =V150*K150 -> 0 | X150: 0.00011 | Y150: =X150*K150 -> 0.00055 | Z150: 0 | AA150: =Z150*K150 -> 0 | AR150: 32 | AT150: M | AU150: 2 | AY150: ROZPOCET | BE150: =IF(U150="základná",N150,0) -> 0 | BF150: =IF(U150="znížená",N150,0) -> 0 | BG150: =IF(U150="zákl. prenesená",N150,0) -> 0 | BH150: =IF(U150="zníž. prenesená",N150,0) -> 0 | BI150: =IF(U150="nulová",N150,0) -> 0 | BJ150: 2 | BK150: =ROUND(L150*K150,3) -> 0 | BL150: 16 | BM150: 38
C151: 21 | D151: M | E151: 4228461007 | F151: Herz ventil rohový TS-90 E 1/2" | J151: ks | K151: 7 | L151: 0 | N151: =ROUND(L151*K151,3) -> 0 | U151: znížená | W151: =V151*K151 -> 0 | X151: 0.00011 | Y151: =X151*K151 -> 0.00077 | Z151: 0 | AA151: =Z151*K151 -> 0 | AR151: 32 | AT151: M | AU151: 2 | AY151: ROZPOCET | BE151: =IF(U151="základná",N151,0) -> 0 | BF151: =IF(U151="znížená",N151,0) -> 0 | BG151: =IF(U151="zákl. prenesená",N151,0) -> 0 | BH151: =IF(U151="zníž. prenesená",N151,0) -> 0 | BI151: =IF(U151="nulová",N151,0) -> 0 | BJ151: 2 | BK151: =ROUND(L151*K151,3) -> 0 | BL151: 16 | BM151: 40
C152: 38 | D152: M | E152: 484pa-hm-r | F152: Rohová pripojovacia armatúra HM Koratherm | J152: ks | K152: 1 | L152: 0 | N152: =ROUND(L152*K152,3) -> 0 | U152: znížená | W152: =V152*K152 -> 0 | X152: 0.00011 | Y152: =X152*K152 -> 0.00011 | Z152: 0 | AA152: =Z152*K152 -> 0 | AR152: 32 | AT152: M | AU152: 2 | AY152: ROZPOCET | BE152: =IF(U152="základná",N152,0) -> 0 | BF152: =IF(U152="znížená",N152,0) -> 0 | BG152: =IF(U152="zákl. prenesená",N152,0) -> 0 | BH152: =IF(U152="zníž. prenesená",N152,0) -> 0 | BI152: =IF(U152="nulová",N152,0) -> 0 | BJ152: 2 | BK152: =ROUND(L152*K152,3) -> 0 | BL152: 16 | BM152: 42
C153: 8 | D153: K | E153: 734211122 | F153: Ventil odvzdušňovací závitový vykurovacích telies K 1172 do G 3/8 | J153: ks | K153: 13 | L153: 0 | N153: =ROUND(L153*K153,3) -> 0 | U153: znížená | W153: =V153*K153 -> 0 | X153: 0.00017 | Y153: =X153*K153 -> 0.00221 | Z153: 0 | AA153: =Z153*K153 -> 0 | AR153: 16 | AT153: K | AU153: 2 | AY153: ROZPOCET | BE153: =IF(U153="základná",N153,0) -> 0 | BF153: =IF(U153="znížená",N153,0) -> 0 | BG153: =IF(U153="zákl. prenesená",N153,0) -> 0 | BH153: =IF(U153="zníž. prenesená",N153,0) -> 0 | BI153: =IF(U153="nulová",N153,0) -> 0 | BJ153: 2 | BK153: =ROUND(L153*K153,3) -> 0 | BL153: 16 | BM153: 44
C154: 9 | D154: K | E154: 998734203 | F154: Presun hmôt pre armatúry v objektoch výšky nad 6 do 24 m | J154: % | K154: 0 | L154: 0 | N154: =ROUND(L154*K154,3) -> 0 | U154: znížená | W154: =V154*K154 -> 0 | X154: 0 | Y154: =X154*K154 -> 0 | Z154: 0 | AA154: =Z154*K154 -> 0 | AR154: 16 | AT154: K | AU154: 2 | AY154: ROZPOCET | BE154: =IF(U154="základná",N154,0) -> 0 | BF154: =IF(U154="znížená",N154,0) -> 0 | BG154: =IF(U154="zákl. prenesená",N154,0) -> 0 | BH154: =IF(U154="zníž. prenesená",N154,0) -> 0 | BI154: =IF(U154="nulová",N154,0) -> 0 | BJ154: 2 | BK154: =ROUND(L154*K154,3) -> 0 | BL154: 16 | BM154: 46
D155: 735 - Ústredné kúrenie, vykurov. telesá | N155: =BK155 -> 0 | W155: =SUM(W156:W175) -> 0 | Y155: =SUM(Y156:Y175) -> 0.30926 | AA155: =SUM(AA156:AA175) -> 0 | AR155: 2 | AT155: D | AU155: 1 | AY155: ROZPOCET | BK155: =SUM(BK156:BK175) -> 0
C156: 31 | D156: K | E156: 735154040 | F156: Montáž vykurovacieho telesa panelového jednoradového 600 mm/ dĺžky 400-600 mm | J156: ks | K156: 1 | L156: 0 | N156: =ROUND(L156*K156,3) -> 0 | U156: znížená | W156: =V156*K156 -> 0 | X156: 2e-05 | Y156: =X156*K156 -> 2e-05 | Z156: 0 | AA156: =Z156*K156 -> 0 | AR156: 16 | AT156: K | AU156: 2 | AY156: ROZPOCET | BE156: =IF(U156="základná",N156,0) -> 0 | BF156: =IF(U156="znížená",N156,0) -> 0 | BG156: =IF(U156="zákl. prenesená",N156,0) -> 0 | BH156: =IF(U156="zníž. prenesená",N156,0) -> 0 | BI156: =IF(U156="nulová",N156,0) -> 0 | BJ156: 2 | BK156: =ROUND(L156*K156,3) -> 0 | BL156: 16 | BM156: 48
C157: 32 | D157: K | E157: 735154042 | F157: Montáž vykurovacieho telesa panelového jednoradového 600 mm/ dĺžky 1000-1200 mm | J157: ks | K157: 4 | L157: 0 | N157: =ROUND(L157*K157,3) -> 0 | U157: znížená | W157: =V157*K157 -> 0 | X157: 2e-05 | Y157: =X157*K157 -> 8e-05 | Z157: 0 | AA157: =Z157*K157 -> 0 | AR157: 16 | AT157: K | AU157: 2 | AY157: ROZPOCET | BE157: =IF(U157="základná",N157,0) -> 0 | BF157: =IF(U157="znížená",N157,0) -> 0 | BG157: =IF(U157="zákl. prenesená",N157,0) -> 0 | BH157: =IF(U157="zníž. prenesená",N157,0) -> 0 | BI157: =IF(U157="nulová",N157,0) -> 0 | BJ157: 2 | BK157: =ROUND(L157*K157,3) -> 0 | BL157: 16 | BM157: 50
C158: 33 | D158: K | E158: 735154123 | F158: Montáž vykurovacieho telesa panelového dvojradového výšky 400 mm/ dĺžky 1400-1800 mm | J158: ks | K158: 1 | L158: 0 | N158: =ROUND(L158*K158,3) -> 0 | U158: znížená | W158: =V158*K158 -> 0 | X158: 2e-05 | Y158: =X158*K158 -> 2e-05 | Z158: 0 | AA158: =Z158*K158 -> 0 | AR158: 16 | AT158: K | AU158: 2 | AY158: ROZPOCET | BE158: =IF(U158="základná",N158,0) -> 0 | BF158: =IF(U158="znížená",N158,0) -> 0 | BG158: =IF(U158="zákl. prenesená",N158,0) -> 0 | BH158: =IF(U158="zníž. prenesená",N158,0) -> 0 | BI158: =IF(U158="nulová",N158,0) -> 0 | BJ158: 2 | BK158: =ROUND(L158*K158,3) -> 0 | BL158: 16 | BM158: 52
C159: 34 | D159: K | E159: 735154124 | F159: Montáž vykurovacieho telesa panelového dvojradového výšky 400 mm/ dĺžky 2000-2600 mm | J159: ks | K159: 1 | L159: 0 | N159: =ROUND(L159*K159,3) -> 0 | U159: znížená | W159: =V159*K159 -> 0 | X159: 2e-05 | Y159: =X159*K159 -> 2e-05 | Z159: 0 | AA159: =Z159*K159 -> 0 | AR159: 16 | AT159: K | AU159: 2 | AY159: ROZPOCET | BE159: =IF(U159="základná",N159,0) -> 0 | BF159: =IF(U159="znížená",N159,0) -> 0 | BG159: =IF(U159="zákl. prenesená",N159,0) -> 0 | BH159: =IF(U159="zníž. prenesená",N159,0) -> 0 | BI159: =IF(U159="nulová",N159,0) -> 0 | BJ159: 2 | BK159: =ROUND(L159*K159,3) -> 0 | BL159: 16 | BM159: 54
C160: 35 | D160: K | E160: 735154141 | F160: Montáž vykurovacieho telesa panelového dvojradového výšky 600 mm/ dĺžky 700-900 mm | J160: ks | K160: 2 | L160: 0 | N160: =ROUND(L160*K160,3) -> 0 | U160: znížená | W160: =V160*K160 -> 0 | X160: 2e-05 | Y160: =X160*K160 -> 4e-05 | Z160: 0 | AA160: =Z160*K160 -> 0 | AR160: 16 | AT160: K | AU160: 2 | AY160: ROZPOCET | BE160: =IF(U160="základná",N160,0) -> 0 | BF160: =IF(U160="znížená",N160,0) -> 0 | BG160: =IF(U160="zákl. prenesená",N160,0) -> 0 | BH160: =IF(U160="zníž. prenesená",N160,0) -> 0 | BI160: =IF(U160="nulová",N160,0) -> 0 | BJ160: 2 | BK160: =ROUND(L160*K160,3) -> 0 | BL160: 16 | BM160: 56
...

Sheet 003 - Zdravotechnika 9.2.
D1: Hárok obsahuje: | F1: 1) Krycí list rozpočtu | H1: 2) Rekapitulácia rozpočtu | L1: 3) Rozpočet | O1: Späť na hárok: | S1: Rekapitulácia stavby
C2: optimalizované pre tlač zostáv vo formáte A4 - na výšku | S2: >> skryté stĺpce << | AT2: {b766ed25-539e-4662-87e8-db8fc541ba8d}
AT3: 0
C4: KRYCÍ LIST ROZPOČTU 9.2. | T4: v --- nižšie sa nachádzajú doplnkové a pomocné údaje k zostavám --- v | AT4: False
D6: Stavba: | F6: ='Rekapitulácia stavby 9.2.'!K6 -> Poradenské centrum UKF v Nitre - zmena 12/2016
D7: Objekt: | F7: 001 - I.etapa
D8: Časť: | F8: 003 - Zdravotechnika
D9: JKSO: | M9: KS:
D10: Miesto: | F10: Trieda A.Hlinku 1, Nitra | M10: Dátum: | O10: ='Rekapitulácia stavby 9.2.'!AN8 -> 19. 12. 2016
D12: Objednávateľ: | M12: IČO:
E13: UKF Nitra | M13: IČO DPH:
D15: Zhotoviteľ: | M15: IČO: | O15: =IF('Rekapitulácia stavby 9.2.'!AN13="","",'Rekapitulácia stavby 9.2.'!AN13) -> Vyplň údaj
E16: =IF('Rekapitulácia stavby 9.2.'!E14="","",'Rekapitulácia stavby 9.2.'!E14) -> Vyplň údaj | M16: IČO DPH: | O16: =IF('Rekapitulácia stavby 9.2.'!AN14="","",'Rekapitulácia stavby 9.2.'!AN14) -> Vyplň údaj
D18: Projektant: | M18: IČO:
E19: SH final s.r.o. Nitra | M19: IČO DPH:
D21: Spracovateľ: | M21: IČO:
E22: Ing.Košík | M22: IČO DPH:
D24: Poznámka:
D28: Náklady z rozpočtu | M28: =N89 -> 0
D29: Ostatné náklady | M29: =N106 -> 0
D31: Cena bez DPH | M31: =ROUND(M28+M29,2) -> 0
D33: DPH | E33: základná | F33: 0.2 | G33: z | H33: =ROUND((((SUM(BE106:BE113)+SUM(BE132:BE270))+SUM(BE272:BE276))),2) -> 0 | M33: =ROUND(((ROUND((SUM(BE106:BE113)+SUM(BE132:BE270)), 2)*F33)+SUM(BE272:BE276)*F33),2) -> 0
E34: znížená | F34: 0.2 | G34: z | H34: =ROUND((((SUM(BF106:BF113)+SUM(BF132:BF270))+SUM(BF272:BF276))),2) -> 0 | M34: =ROUND(((ROUND((SUM(BF106:BF113)+SUM(BF132:BF270)), 2)*F34)+SUM(BF272:BF276)*F34),2) -> 0
E35: zákl. prenesená | F35: 0.2 | G35: z | H35: =ROUND((((SUM(BG106:BG113)+SUM(BG132:BG270))+SUM(BG272:BG276))),2) -> 0 | M35: 0
E36: zníž. prenesená | F36: 0.2 | G36: z | H36: =ROUND((((SUM(BH106:BH113)+SUM(BH132:BH270))+SUM(BH272:BH276))),2) -> 0 | M36: 0
E37: nulová | F37: 0 | G37: z | H37: =ROUND((((SUM(BI106:BI113)+SUM(BI132:BI270))+SUM(BI272:BI276))),2) -> 0 | M37: 0
D39: Cena s DPH | G39: v | H39: EUR | L39: =SUM(M31:M37) -> 0
D50: Projektant | J50: Spracovateľ
D59: Dátum a podpis: | G59: Pečiatka | J59: Dátum a podpis: | N59: Pečiatka
D61: Objednávateľ | J61: Zhotoviteľ
D70: Dátum a podpis: | G70: Pečiatka | J70: Dátum a podpis: | N70: Pečiatka
C76: REKAPITULÁCIA ROZPOČTU
C78: Stavba: | F78: =F6 -> Poradenské centrum UKF v Nitre - zmena 12/2016
C79: Objekt: | F79: 001 - I.etapa
C80: Časť: | F80: =F8 -> 003 - Zdravotechnika
C82: Miesto: | F82: =F10 -> Trieda A.Hlinku 1, Nitra | K82: Dátum: | M82: =IF(O10="","",O10) -> 19. 12. 2016
C84: Objednávateľ: | F84: =E13 -> UKF Nitra | K84: Projektant: | M84: =E19 -> SH final s.r.o. Nitra
C85: Zhotoviteľ: | F85: =IF(E16="","",E16) -> Vyplň údaj | K85: Spracovateľ: | M85: =E22 -> Ing.Košík
C87: Kód - Popis | N87: Cena celkom [EUR]
C89: 1) Náklady z rozpočtu | N89: =N132 -> 0 | AU89: -1
D90: D1 - Práce a dodávky HSV | N90: =N134 -> 0
D91: D2 - Zemné práce | N91: =N135 -> 0
D92: D3 - Vodorovné konštrukcie | N92: =N148 -> 0
D93: D4 - Úpravy povrchov, podlahy, osadenie | N93: =N150 -> 0
D94: D5 - Ostatné konštrukcie a práce-búranie | N94: =N154 -> 0
D95: D6 - Práce a dodávky PSV | N95: =N158 -> 0
D96: D7 - Izolácie tepelné | N96: =N159 -> 0
D97: D8 - Izolácie proti chemickým vplyvom | N97: =N166 -> 0
D98: D9 - Zdravotech. vnútorná kanalizácia | N98: =N169 -> 0
D99: D10 - Zdravotechnika - vnútorný vodovod | N99: =N200 -> 0
D100: D11 - Zdravotechnika - zariaď. predmety | N100: =N224 -> 0
D101: D12 - Ústredné kúrenie, armatúry. | N101: =N263 -> 0
D102: D13 - Práce a dodávky M | N102: =N265 -> 0
D103: D14 - Montáž prev.,mer. a regul.zariadení | N103: =N266 -> 0
D104: VP - Práce naviac | N104: =N271 -> 0
C106: 2) Ostatné náklady | N106: =ROUND(N107+N108+N109+N110+N111+N112,2) -> 0 | U106: DPH
D107: GZS | N107: =ROUND(N89*T107,2) -> 0 | U107: znížená | AY107: VRN | BE107: =IF(U107="základná",N107,0) -> 0 | BF107: =IF(U107="znížená",N107,0) -> 0 | BG107: =IF(U107="zákl. prenesená",N107,0) -> 0 | BH107: =IF(U107="zníž. prenesená",N107,0) -> 0 | BI107: =IF(U107="nulová",N107,0) -> 0 | BJ107: 2
D108: Projektové práce | N108: =ROUND(N89*T108,2) -> 0 | U108: znížená | AY108: VRN | BE108: =IF(U108="základná",N108,0) -> 0 | BF108: =IF(U108="znížená",N108,0) -> 0 | BG108: =IF(U108="zákl. prenesená",N108,0) -> 0 | BH108: =IF(U108="zníž. prenesená",N108,0) -> 0 | BI108: =IF(U108="nulová",N108,0) -> 0 | BJ108: 2
D109: Sťažené podmienky | N109: =ROUND(N89*T109,2) -> 0 | U109: znížená | AY109: VRN | BE109: =IF(U109="základná",N109,0) -> 0 | BF109: =IF(U109="znížená",N109,0) -> 0 | BG109: =IF(U109="zákl. prenesená",N109,0) -> 0 | BH109: =IF(U109="zníž. prenesená",N109,0) -> 0 | BI109: =IF(U109="nulová",N109,0) -> 0 | BJ109: 2
D110: Vplyv prostredia | N110: =ROUND(N89*T110,2) -> 0 | U110: znížená | AY110: VRN | BE110: =IF(U110="základná",N110,0) -> 0 | BF110: =IF(U110="znížená",N110,0) -> 0 | BG110: =IF(U110="zákl. prenesená",N110,0) -> 0 | BH110: =IF(U110="zníž. prenesená",N110,0) -> 0 | BI110: =IF(U110="nulová",N110,0) -> 0 | BJ110: 2
D111: Iné VRN | N111: =ROUND(N89*T111,2) -> 0 | U111: znížená | AY111: VRN | BE111: =IF(U111="základná",N111,0) -> 0 | BF111: =IF(U111="znížená",N111,0) -> 0 | BG111: =IF(U111="zákl. prenesená",N111,0) -> 0 | BH111: =IF(U111="zníž. prenesená",N111,0) -> 0 | BI111: =IF(U111="nulová",N111,0) -> 0 | BJ111: 2
D112: Kompletačná činnosť | N112: =ROUND(N89*T112,2) -> 0 | U112: znížená | AY112: KOMPLETACNA | BE112: =IF(U112="základná",N112,0) -> 0 | BF112: =IF(U112="znížená",N112,0) -> 0 | BG112: =IF(U112="zákl. prenesená",N112,0) -> 0 | BH112: =IF(U112="zníž. prenesená",N112,0) -> 0 | BI112: =IF(U112="nulová",N112,0) -> 0 | BJ112: 2
C114: Celkové náklady za stavbu 1) + 2) | L114: =ROUND(SUM(N89+N106),N1112) -> 0
C120: ROZPOČET
C122: Stavba: | F122: =F6 -> Poradenské centrum UKF v Nitre - zmena 12/2016
C123: Objekt: | F123: 001 - I.etapa
C124: Časť: | F124: =F8 -> 003 - Zdravotechnika
C126: Miesto: | F126: =F10 -> Trieda A.Hlinku 1, Nitra | K126: Dátum: | M126: =IF(O10="","",O10) -> 19. 12. 2016
C128: Objednávateľ: | F128: =E13 -> UKF Nitra | K128: Projektant: | M128: =E19 -> SH final s.r.o. Nitra
C129: Zhotoviteľ: | F129: =IF(E16="","",E16) -> Vyplň údaj | K129: Spracovateľ: | M129: =E22 -> Ing.Košík
C131: PČ | D131: Typ | E131: Kód | F131: Popis | J131: MJ | K131: Množstvo | L131: J.cena [EUR] | N131: Cena celkom [EUR] | T131: Poznámka | U131: DPH | V131: J. Nh [h] | W131: Nh celkom [h] | X131: J. hmotnosť_x000D_ [t] | Y131: Hmotnosť_x000D_ celkom [t] | Z131: J. suť [t] | AA131: Suť Celkom [t]
C132: Náklady z rozpočtu | N132: =BK132 -> 0 | W132: =W133+W134+W158+W265+W271 -> 0 | Y132: =Y133+Y134+Y158+Y265+Y271 -> 0 | AA132: =AA133+AA134+AA158+AA265+AA271 -> 0 | AT132: D | AU132: -1 | BK132: =BK133+BK134+BK158+BK265+BK271 -> 0
U133: znížená | W133: =V133*K133 -> 0 | X133: 0 | Y133: =X133*K133 -> 0 | Z133: 0 | AA133: =Z133*K133 -> 0 | AR133: 4 | AT133: K | AU133: 0 | AY133: ROZPOCET | BE133: =IF(U133="základná",N133,0) -> 0 | BF133: =IF(U133="znížená",N133,0) -> 0 | BG133: =IF(U133="zákl. prenesená",N133,0) -> 0 | BH133: =IF(U133="zníž. prenesená",N133,0) -> 0 | BI133: =IF(U133="nulová",N133,0) -> 0 | BJ133: 2 | BK133: =ROUND(L133*K133,3) -> 0 | BL133: 4 | BM133: 2
D134: D1 - Práce a dodávky HSV | N134: 0 | W134: =W135+W148+W150+W154 -> 0 | Y134: =Y135+Y148+Y150+Y154 -> 0 | AA134: =AA135+AA148+AA150+AA154 -> 0 | AR134: 1 | AT134: D | AU134: 0 | AY134: ROZPOCET | BK134: =BK135+BK148+BK150+BK154 -> 0
D135: D2 - Zemné práce | N135: =BK135 -> 0 | W135: =SUM(W136:W147) -> 0 | Y135: =SUM(Y136:Y147) -> 0 | AA135: =SUM(AA136:AA147) -> 0 | AR135: 1 | AT135: D | AU135: 1 | AY135: ROZPOCET | BK135: =SUM(BK136:BK147) -> 0
C136: 2 | D136: K | E136: Pol2 | F136: Búranie podlahy v ploche do 200m2 z kameniva ťaženého, hr.100-200mm, -0,24000t | J136: m2 | K136: 10.2 | L136: 0 | N136: =ROUND(L136*K136,3) -> 0 | U136: znížená | W136: =V136*K136 -> 0 | X136: 0 | Y136: =X136*K136 -> 0 | Z136: 0 | AA136: =Z136*K136 -> 0 | AR136: 4 | AT136: K | AU136: 2 | AY136: ROZPOCET | BE136: =IF(U136="základná",N136,0) -> 0 | BF136: =IF(U136="znížená",N136,0) -> 0 | BG136: =IF(U136="zákl. prenesená",N136,0) -> 0 | BH136: =IF(U136="zníž. prenesená",N136,0) -> 0 | BI136: =IF(U136="nulová",N136,0) -> 0 | BJ136: 2 | BK136: =ROUND(L136*K136,3) -> 0 | BL136: 4 | BM136: 4
C137: 3 | D137: K | E137: Pol3 | F137: Búranie podlahy v ploche do 200 m2 z betónu prostého, hr. vrstvy 150 do 300 mm, -0,50000t | J137: m2 | K137: 10.2 | L137: 0 | N137: =ROUND(L137*K137,3) -> 0 | U137: znížená | W137: =V137*K137 -> 0 | X137: 0 | Y137: =X137*K137 -> 0 | Z137: 0 | AA137: =Z137*K137 -> 0 | AR137: 4 | AT137: K | AU137: 2 | AY137: ROZPOCET | BE137: =IF(U137="základná",N137,0) -> 0 | BF137: =IF(U137="znížená",N137,0) -> 0 | BG137: =IF(U137="zákl. prenesená",N137,0) -> 0 | BH137: =IF(U137="zníž. prenesená",N137,0) -> 0 | BI137: =IF(U137="nulová",N137,0) -> 0 | BJ137: 2 | BK137: =ROUND(L137*K137,3) -> 0 | BL137: 4 | BM137: 6
C138: 4 | D138: K | E138: Pol4 | F138: Výkop v uzavretých priestoroch s naložením výkopu na dopravný prostriedok v hornine 1 až 4 | J138: m3 | K138: 5.262 | L138: 0 | N138: =ROUND(L138*K138,3) -> 0 | U138: znížená | W138: =V138*K138 -> 0 | X138: 0 | Y138: =X138*K138 -> 0 | Z138: 0 | AA138: =Z138*K138 -> 0 | AR138: 4 | AT138: K | AU138: 2 | AY138: ROZPOCET | BE138: =IF(U138="základná",N138,0) -> 0 | BF138: =IF(U138="znížená",N138,0) -> 0 | BG138: =IF(U138="zákl. prenesená",N138,0) -> 0 | BH138: =IF(U138="zníž. prenesená",N138,0) -> 0 | BI138: =IF(U138="nulová",N138,0) -> 0 | BJ138: 2 | BK138: =ROUND(L138*K138,3) -> 0 | BL138: 4 | BM138: 8
C139: 5 | D139: K | E139: Pol5 | F139: Príplatok k cenám za sťaženie výkopu pre všetky triedy | J139: m3 | K139: 5.262 | L139: 0 | N139: =ROUND(L139*K139,3) -> 0 | U139: znížená | W139: =V139*K139 -> 0 | X139: 0 | Y139: =X139*K139 -> 0 | Z139: 0 | AA139: =Z139*K139 -> 0 | AR139: 4 | AT139: K | AU139: 2 | AY139: ROZPOCET | BE139: =IF(U139="základná",N139,0) -> 0 | BF139: =IF(U139="znížená",N139,0) -> 0 | BG139: =IF(U139="zákl. prenesená",N139,0) -> 0 | BH139: =IF(U139="zníž. prenesená",N139,0) -> 0 | BI139: =IF(U139="nulová",N139,0) -> 0 | BJ139: 2 | BK139: =ROUND(L139*K139,3) -> 0 | BL139: 4 | BM139: 10
C140: 6 | D140: K | E140: Pol6 | F140: Zvislé premiestnenie výkopku z horniny I až IV, nosením za každé 3 m výšky | J140: m3 | K140: 5.262 | L140: 0 | N140: =ROUND(L140*K140,3) -> 0 | U140: znížená | W140: =V140*K140 -> 0 | X140: 0 | Y140: =X140*K140 -> 0 | Z140: 0 | AA140: =Z140*K140 -> 0 | AR140: 4 | AT140: K | AU140: 2 | AY140: ROZPOCET | BE140: =IF(U140="základná",N140,0) -> 0 | BF140: =IF(U140="znížená",N140,0) -> 0 | BG140: =IF(U140="zákl. prenesená",N140,0) -> 0 | BH140: =IF(U140="zníž. prenesená",N140,0) -> 0 | BI140: =IF(U140="nulová",N140,0) -> 0 | BJ140: 2 | BK140: =ROUND(L140*K140,3) -> 0 | BL140: 4 | BM140: 12
C141: 7 | D141: K | E141: Pol7 | F141: Vodorovné premiestnenie výkopku tr.1-4 do 5000 m | J141: m3 | K141: 4.587 | L141: 0 | N141: =ROUND(L141*K141,3) -> 0 | U141: znížená | W141: =V141*K141 -> 0 | X141: 0 | Y141: =X141*K141 -> 0 | Z141: 0 | AA141: =Z141*K141 -> 0 | AR141: 4 | AT141: K | AU141: 2 | AY141: ROZPOCET | BE141: =IF(U141="základná",N141,0) -> 0 | BF141: =IF(U141="znížená",N141,0) -> 0 | BG141: =IF(U141="zákl. prenesená",N141,0) -> 0 | BH141: =IF(U141="zníž. prenesená",N141,0) -> 0 | BI141: =IF(U141="nulová",N141,0) -> 0 | BJ141: 2 | BK141: =ROUND(L141*K141,3) -> 0 | BL141: 4 | BM141: 14
C142: 8 | D142: K | E142: Pol8 | F142: Uloženie sypaniny na skládky do 100 m3 | J142: m3 | K142: 4.587 | L142: 0 | N142: =ROUND(L142*K142,3) -> 0 | U142: znížená | W142: =V142*K142 -> 0 | X142: 0 | Y142: =X142*K142 -> 0 | Z142: 0 | AA142: =Z142*K142 -> 0 | AR142: 4 | AT142: K | AU142: 2 | AY142: ROZPOCET | BE142: =IF(U142="základná",N142,0) -> 0 | BF142: =IF(U142="znížená",N142,0) -> 0 | BG142: =IF(U142="zákl. prenesená",N142,0) -> 0 | BH142: =IF(U142="zníž. prenesená",N142,0) -> 0 | BI142: =IF(U142="nulová",N142,0) -> 0 | BJ142: 2 | BK142: =ROUND(L142*K142,3) -> 0 | BL142: 4 | BM142: 16
C143: 9 | D143: M | E143: Pol9 | F143: Poplatok za skládku | J143: t | K143: 7.797 | L143: 0 | N143: =ROUND(L143*K143,3) -> 0 | U143: znížená | W143: =V143*K143 -> 0 | X143: 0 | Y143: =X143*K143 -> 0 | Z143: 0 | AA143: =Z143*K143 -> 0 | AR143: 8 | AT143: M | AU143: 2 | AY143: ROZPOCET | BE143: =IF(U143="základná",N143,0) -> 0 | BF143: =IF(U143="znížená",N143,0) -> 0 | BG143: =IF(U143="zákl. prenesená",N143,0) -> 0 | BH143: =IF(U143="zníž. prenesená",N143,0) -> 0 | BI143: =IF(U143="nulová",N143,0) -> 0 | BJ143: 2 | BK143: =ROUND(L143*K143,3) -> 0 | BL143: 4 | BM143: 18
C144: 10 | D144: K | E144: Pol10 | F144: Zásyp sypaninou v uzavretých priestoroch s urovnaním povrchu zásypu | J144: m3 | K144: 0.675 | L144: 0 | N144: =ROUND(L144*K144,3) -> 0 | U144: znížená | W144: =V144*K144 -> 0 | X144: 0 | Y144: =X144*K144 -> 0 | Z144: 0 | AA144: =Z144*K144 -> 0 | AR144: 4 | AT144: K | AU144: 2 | AY144: ROZPOCET | BE144: =IF(U144="základná",N144,0) -> 0 | BF144: =IF(U144="znížená",N144,0) -> 0 | BG144: =IF(U144="zákl. prenesená",N144,0) -> 0 | BH144: =IF(U144="zníž. prenesená",N144,0) -> 0 | BI144: =IF(U144="nulová",N144,0) -> 0 | BJ144: 2 | BK144: =ROUND(L144*K144,3) -> 0 | BL144: 4 | BM144: 20
C145: 11 | D145: K | E145: Pol11 | F145: Obsyp potrubia sypaninou z vhodných hornín 1 až 4 bez prehodenia sypaniny | J145: m3 | K145: 3.057 | L145: 0 | N145: =ROUND(L145*K145,3) -> 0 | U145: znížená | W145: =V145*K145 -> 0 | X145: 0 | Y145: =X145*K145 -> 0 | Z145: 0 | AA145: =Z145*K145 -> 0 | AR145: 4 | AT145: K | AU145: 2 | AY145: ROZPOCET | BE145: =IF(U145="základná",N145,0) -> 0 | BF145: =IF(U145="znížená",N145,0) -> 0 | BG145: =IF(U145="zákl. prenesená",N145,0) -> 0 | BH145: =IF(U145="zníž. prenesená",N145,0) -> 0 | BI145: =IF(U145="nulová",N145,0) -> 0 | BJ145: 2 | BK145: =ROUND(L145*K145,3) -> 0 | BL145: 4 | BM145: 22
C146: 12 | D146: M | E146: Pol12 | F146: Štrkopiesok 0-63 b | J146: t | K146: 5.196 | L146: 0 | N146: =ROUND(L146*K146,3) -> 0 | U146: znížená | W146: =V146*K146 -> 0 | X146: 0 | Y146: =X146*K146 -> 0 | Z146: 0 | AA146: =Z146*K146 -> 0 | AR146: 8 | AT146: M | AU146: 2 | AY146: ROZPOCET | BE146: =IF(U146="základná",N146,0) -> 0 | BF146: =IF(U146="znížená",N146,0) -> 0 | BG146: =IF(U146="zákl. prenesená",N146,0) -> 0 | BH146: =IF(U146="zníž. prenesená",N146,0) -> 0 | BI146: =IF(U146="nulová",N146,0) -> 0 | BJ146: 2 | BK146: =ROUND(L146*K146,3) -> 0 | BL146: 4 | BM146: 24
C147: 13 | D147: K | E147: Pol13 | F147: Príplatok k cene za prehodenie sypaniny | J147: m3 | K147: 3.057 | L147: 0 | N147: =ROUND(L147*K147,3) -> 0 | U147: znížená | W147: =V147*K147 -> 0 | X147: 0 | Y147: =X147*K147 -> 0 | Z147: 0 | AA147: =Z147*K147 -> 0 | AR147: 4 | AT147: K | AU147: 2 | AY147: ROZPOCET | BE147: =IF(U147="základná",N147,0) -> 0 | BF147: =IF(U147="znížená",N147,0) -> 0 | BG147: =IF(U147="zákl. prenesená",N147,0) -> 0 | BH147: =IF(U147="zníž. prenesená",N147,0) -> 0 | BI147: =IF(U147="nulová",N147,0) -> 0 | BJ147: 2 | BK147: =ROUND(L147*K147,3) -> 0 | BL147: 4 | BM147: 26
D148: D3 - Vodorovné konštrukcie | N148: =BK148 -> 0 | W148: =W149 -> 0 | Y148: =Y149 -> 0 | AA148: =AA149 -> 0 | AR148: 1 | AT148: D | AU148: 1 | AY148: ROZPOCET | BK148: =BK149 -> 0
C149: 14 | D149: K | E149: Pol14 | F149: Lôžko pod potrubie, stoky a drobné objekty, v otvorenom výkope z piesku a štrkopiesku do 63 mm | J149: m3 | K149: 1.53 | L149: 0 | N149: 0 | U149: znížená | W149: =V149*K149 -> 0 | X149: 0 | Y149: =X149*K149 -> 0 | Z149: 0 | AA149: =Z149*K149 -> 0 | AR149: 4 | AT149: K | AU149: 2 | AY149: ROZPOCET | BE149: =IF(U149="základná",N149,0) -> 0 | BF149: =IF(U149="znížená",N149,0) -> 0 | BG149: =IF(U149="zákl. prenesená",N149,0) -> 0 | BH149: =IF(U149="zníž. prenesená",N149,0) -> 0 | BI149: =IF(U149="nulová",N149,0) -> 0 | BJ149: 2 | BK149: =ROUND(L149*K149,3) -> 0 | BL149: 4 | BM149: 28
D150: D4 - Úpravy povrchov, podlahy, osadenie | N150: =BK150 -> 0 | W150: =SUM(W151:W153) -> 0 | Y150: =SUM(Y151:Y153) -> 0 | AA150: =SUM(AA151:AA153) -> 0 | AR150: 1 | AT150: D | AU150: 1 | AY150: ROZPOCET | BK150: =SUM(BK151:BK153) -> 0
C151: 15 | D151: K | E151: Pol15 | F151: Omietka stien z malty zo 450 kg cementu na 1 m3 malty hladená oceľovým hladidlom | J151: m2 | K151: 2.85 | L151: 0 | N151: =ROUND(L151*K151,3) -> 0 | U151: znížená | W151: =V151*K151 -> 0 | X151: 0 | Y151: =X151*K151 -> 0 | Z151: 0 | AA151: =Z151*K151 -> 0 | AR151: 4 | AT151: K | AU151: 2 | AY151: ROZPOCET | BE151: =IF(U151="základná",N151,0) -> 0 | BF151: =IF(U151="znížená",N151,0) -> 0 | BG151: =IF(U151="zákl. prenesená",N151,0) -> 0 | BH151: =IF(U151="zníž. prenesená",N151,0) -> 0 | BI151: =IF(U151="nulová",N151,0) -> 0 | BJ151: 2 | BK151: =ROUND(L151*K151,3) -> 0 | BL151: 4 | BM151: 30
C152: 16 | D152: K | E152: Pol16 | F152: Mazanina z betónu prostého tr.C 8/10 hr.nad 50 do 80 mm | J152: m3 | K152: 10.2 | L152: 0 | N152: =ROUND(L152*K152,3) -> 0 | U152: znížená | W152: =V152*K152 -> 0 | X152: 0 | Y152: =X152*K152 -> 0 | Z152: 0 | AA152: =Z152*K152 -> 0 | AR152: 4 | AT152: K | AU152: 2 | AY152: ROZPOCET | BE152: =IF(U152="základná",N152,0) -> 0 | BF152: =IF(U152="znížená",N152,0) -> 0 | BG152: =IF(U152="zákl. prenesená",N152,0) -> 0 | BH152: =IF(U152="zníž. prenesená",N152,0) -> 0 | BI152: =IF(U152="nulová",N152,0) -> 0 | BJ152: 2 | BK152: =ROUND(L152*K152,3) -> 0 | BL152: 4 | BM152: 32
C153: 17 | D153: K | E153: Pol17 | F153: Výstuž mazanín z betónov (z kameniva) a z ľahkých betónov zo zváraných sietí z drôtov typu KARI | J153: t | K153: 0.439 | L153: 0 | N153: =ROUND(L153*K153,3) -> 0 | U153: znížená | W153: =V153*K153 -> 0 | X153: 0 | Y153: =X153*K153 -> 0 | Z153: 0 | AA153: =Z153*K153 -> 0 | AR153: 4 | AT153: K | AU153: 2 | AY153: ROZPOCET | BE153: =IF(U153="základná",N153,0) -> 0 | BF153: =IF(U153="znížená",N153,0) -> 0 | BG153: =IF(U153="zákl. prenesená",N153,0) -> 0 | BH153: =IF(U153="zníž. prenesená",N153,0) -> 0 | BI153: =IF(U153="nulová",N153,0) -> 0 | BJ153: 2 | BK153: =ROUND(L153*K153,3) -> 0 | BL153: 4 | BM153: 34
D154: D5 - Ostatné konštrukcie a práce-búranie | N154: =BK154 -> 0 | W154: =SUM(W155:W157) -> 0 | Y154: =SUM(Y155:Y157) -> 0 | AA154: =SUM(AA155:AA157) -> 0 | AR154: 1 | AT154: D | AU154: 1 | AY154: ROZPOCET | BK154: =SUM(BK155:BK157) -> 0
C155: 18 | D155: K | E155: Pol18 | F155: Vysekanie škár pri hĺbke škáry do 70mm v murive z tehál -0,01700t | J155: m2 | K155: 0.85 | L155: 0 | N155: =ROUND(L155*K155,3) -> 0 | U155: znížená | W155: =V155*K155 -> 0 | X155: 0 | Y155: =X155*K155 -> 0 | Z155: 0 | AA155: =Z155*K155 -> 0 | AR155: 4 | AT155: K | AU155: 2 | AY155: ROZPOCET | BE155: =IF(U155="základná",N155,0) -> 0 | BF155: =IF(U155="znížená",N155,0) -> 0 | BG155: =IF(U155="zákl. prenesená",N155,0) -> 0 | BH155: =IF(U155="zníž. prenesená",N155,0) -> 0 | BI155: =IF(U155="nulová",N155,0) -> 0 | BJ155: 2 | BK155: =ROUND(L155*K155,3) -> 0 | BL155: 4 | BM155: 36
C156: 19 | D156: K | E156: Pol19 | F156: Vysekanie škár pri hĺbke 70 do 120mm v murive z lomového kameňa -0,02700t | J156: m2 | K156: 1.42 | L156: 0 | N156: =ROUND(L156*K156,3) -> 0 | U156: znížená | W156: =V156*K156 -> 0 | X156: 0 | Y156: =X156*K156 -> 0 | Z156: 0 | AA156: =Z156*K156 -> 0 | AR156: 4 | AT156: K | AU156: 2 | AY156: ROZPOCET | BE156: =IF(U156="základná",N156,0) -> 0 | BF156: =IF(U156="znížená",N156,0) -> 0 | BG156: =IF(U156="zákl. prenesená",N156,0) -> 0 | BH156: =IF(U156="zníž. prenesená",N156,0) -> 0 | BI156: =IF(U156="nulová",N156,0) -> 0 | BJ156: 2 | BK156: =ROUND(L156*K156,3) -> 0 | BL156: 4 | BM156: 38
C157: 20 | D157: K | E157: Pol20 | F157: Búranie železobetónových stropov doskových hr.nad 80 mm, -2,40000t | J157: m3 | K157: 1.09 | L157: 0 | N157: =ROUND(L157*K157,3) -> 0 | U157: znížená | W157: =V157*K157 -> 0 | X157: 0 | Y157: =X157*K157 -> 0 | Z157: 0 | AA157: =Z157*K157 -> 0 | AR157: 4 | AT157: K | AU157: 2 | AY157: ROZPOCET | BE157: =IF(U157="základná",N157,0) -> 0 | BF157: =IF(U157="znížená",N157,0) -> 0 | BG157: =IF(U157="zákl. prenesená",N157,0) -> 0 | BH157: =IF(U157="zníž. prenesená",N157,0) -> 0 | BI157: =IF(U157="nulová",N157,0) -> 0 | BJ157: 2 | BK157: =ROUND(L157*K157,3) -> 0 | BL157: 4 | BM157: 40
D158: D6 - Práce a dodávky PSV | N158: =BK158 -> 0 | W158: =W159+W166+W169+W200+W224+W263 -> 0 | Y158: =Y159+Y166+Y169+Y200+Y224+Y263 -> 0 | AA158: =AA159+AA166+AA169+AA200+AA224+AA263 -> 0 | AR158: 2 | AT158: D | AU158: 0 | AY158: ROZPOCET | BK158: =BK159+BK166+BK169+BK200+BK224+BK263 -> 0
D159: D7 - Izolácie tepelné | N159: =BK159 -> 0 | W159: =SUM(W160:W165) -> 0 | Y159: =SUM(Y160:Y165) -> 0 | AA159: =SUM(AA160:AA165) -> 0 | AR159: 2 | AT159: D | AU159: 1 | AY159: ROZPOCET | BK159: =SUM(BK160:BK165) -> 0
C160: 21 | D160: K | E160: Pol21 | F160: Montáž izolácie tepelnej potrubia D do 76 mm | J160: m | K160: 107 | L160: 0 | N160: =ROUND(L160*K160,3) -> 0 | U160: znížená | W160: =V160*K160 -> 0 | X160: 0 | Y160: =X160*K160 -> 0 | Z160: 0 | AA160: =Z160*K160 -> 0 | AR160: 16 | AT160: K | AU160: 2 | AY160: ROZPOCET | BE160: =IF(U160="základná",N160,0) -> 0 | BF160: =IF(U160="znížená",N160,0) -> 0 | BG160: =IF(U160="zákl. prenesená",N160,0) -> 0 | BH160: =IF(U160="zníž. prenesená",N160,0) -> 0 | BI160: =IF(U160="nulová",N160,0) -> 0 | BJ160: 2 | BK160: =ROUND(L160*K160,3) -> 0 | BL160: 16 | BM160: 42
...

Sheet 004 - Elektroinštalácia 9.2.
D1: Hárok obsahuje: | F1: 1) Krycí list rozpočtu | H1: 2) Rekapitulácia rozpočtu | L1: 3) Rozpočet | O1: Späť na hárok: | S1: Rekapitulácia stavby
C2: optimalizované pre tlač zostáv vo formáte A4 - na výšku | S2: >> skryté stĺpce << | AT2: {deb1db19-f6cf-41e7-baa4-d36fc3d11195}
AT3: 0
C4: KRYCÍ LIST ROZPOČTU 9.2. | T4: v --- nižšie sa nachádzajú doplnkové a pomocné údaje k zostavám --- v | AT4: False
D6: Stavba: | F6: ='Rekapitulácia stavby 9.2.'!K6 -> Poradenské centrum UKF v Nitre - zmena 12/2016
D7: Objekt: | F7: 001 - I.etapa
D8: Časť: | F8: 004 - Elektroinštalácia
D9: JKSO: | M9: KS:
D10: Miesto: | F10: Trieda A.Hlinku 1, Nitra | M10: Dátum: | O10: ='Rekapitulácia stavby 9.2.'!AN8 -> 19. 12. 2016
D12: Objednávateľ: | M12: IČO:
E13: UKF Nitra | M13: IČO DPH:
D15: Zhotoviteľ: | M15: IČO: | O15: =IF('Rekapitulácia stavby 9.2.'!AN13="","",'Rekapitulácia stavby 9.2.'!AN13) -> Vyplň údaj
E16: =IF('Rekapitulácia stavby 9.2.'!E14="","",'Rekapitulácia stavby 9.2.'!E14) -> Vyplň údaj | M16: IČO DPH: | O16: =IF('Rekapitulácia stavby 9.2.'!AN14="","",'Rekapitulácia stavby 9.2.'!AN14) -> Vyplň údaj
D18: Projektant: | M18: IČO:
E19: SH final s.r.o. Nitra | M19: IČO DPH:
D21: Spracovateľ: | M21: IČO:
E22: Ing.Hrapko | M22: IČO DPH:
D24: Poznámka:
D28: Náklady z rozpočtu | M28: =N89 -> 0
D29: Ostatné náklady | M29: =N94 -> 0
D31: Cena bez DPH | M31: =ROUND(M28+M29,2) -> 0
D33: DPH | E33: základná | F33: 0.2 | G33: z | H33: =ROUND((((SUM(BE94:BE101)+SUM(BE120:BE216))+SUM(BE218:BE222))),2) -> 0 | M33: =ROUND(((ROUND((SUM(BE94:BE101)+SUM(BE120:BE216)), 2)*F33)+SUM(BE218:BE222)*F33),2) -> 0
E34: znížená | F34: 0.2 | G34: z | H34: =ROUND((((SUM(BF94:BF101)+SUM(BF120:BF216))+SUM(BF218:BF222))),2) -> 0 | M34: =ROUND(((ROUND((SUM(BF94:BF101)+SUM(BF120:BF216)), 2)*F34)+SUM(BF218:BF222)*F34),2) -> 0
E35: zákl. prenesená | F35: 0.2 | G35: z | H35: =ROUND((((SUM(BG94:BG101)+SUM(BG120:BG216))+SUM(BG218:BG222))),2) -> 0 | M35: 0
E36: zníž. prenesená | F36: 0.2 | G36: z | H36: =ROUND((((SUM(BH94:BH101)+SUM(BH120:BH216))+SUM(BH218:BH222))),2) -> 0 | M36: 0
E37: nulová | F37: 0 | G37: z | H37: =ROUND((((SUM(BI94:BI101)+SUM(BI120:BI216))+SUM(BI218:BI222))),2) -> 0 | M37: 0
D39: Cena s DPH | G39: v | H39: EUR | L39: =SUM(M31:M37) -> 0
D50: Projektant | J50: Spracovateľ
D59: Dátum a podpis: | G59: Pečiatka | J59: Dátum a podpis: | N59: Pečiatka
D61: Objednávateľ | J61: Zhotoviteľ
D70: Dátum a podpis: | G70: Pečiatka | J70: Dátum a podpis: | N70: Pečiatka
C76: REKAPITULÁCIA ROZPOČTU
C78: Stavba: | F78: =F6 -> Poradenské centrum UKF v Nitre - zmena 12/2016
C79: Objekt: | F79: 001 - I.etapa
C80: Časť: | F80: =F8 -> 004 - Elektroinštalácia
C82: Miesto: | F82: =F10 -> Trieda A.Hlinku 1, Nitra | K82: Dátum: | M82: =IF(O10="","",O10) -> 19. 12. 2016
C84: Objednávateľ: | F84: =E13 -> UKF Nitra | K84: Projektant: | M84: =E19 -> SH final s.r.o. Nitra
C85: Zhotoviteľ: | F85: =IF(E16="","",E16) -> Vyplň údaj | K85: Spracovateľ: | M85: =E22 -> Ing.Hrapko
C87: Kód - Popis | N87: Cena celkom [EUR]
C89: 1) Náklady z rozpočtu | N89: =N120 -> 0 | AU89: -1
D90: M - Práce a dodávky M | N90: =N121 -> 0
D91: 210M - Elektroinštalácia | N91: =N122 -> 0
D92: VP - Práce naviac | N92: =N217 -> 0
C94: 2) Ostatné náklady | N94: =ROUND(N95+N96+N97+N98+N99+N100,2) -> 0 | U94: DPH
D95: GZS | N95: =ROUND(N89*T95,2) -> 0 | U95: znížená | AY95: VRN | BE95: =IF(U95="základná",N95,0) -> 0 | BF95: =IF(U95="znížená",N95,0) -> 0 | BG95: =IF(U95="zákl. prenesená",N95,0) -> 0 | BH95: =IF(U95="zníž. prenesená",N95,0) -> 0 | BI95: =IF(U95="nulová",N95,0) -> 0 | BJ95: 2
D96: Projektové práce | N96: =ROUND(N89*T96,2) -> 0 | U96: znížená | AY96: VRN | BE96: =IF(U96="základná",N96,0) -> 0 | BF96: =IF(U96="znížená",N96,0) -> 0 | BG96: =IF(U96="zákl. prenesená",N96,0) -> 0 | BH96: =IF(U96="zníž. prenesená",N96,0) -> 0 | BI96: =IF(U96="nulová",N96,0) -> 0 | BJ96: 2
D97: Sťažené podmienky | N97: =ROUND(N89*T97,2) -> 0 | U97: znížená | AY97: VRN | BE97: =IF(U97="základná",N97,0) -> 0 | BF97: =IF(U97="znížená",N97,0) -> 0 | BG97: =IF(U97="zákl. prenesená",N97,0) -> 0 | BH97: =IF(U97="zníž. prenesená",N97,0) -> 0 | BI97: =IF(U97="nulová",N97,0) -> 0 | BJ97: 2
D98: Vplyv prostredia | N98: =ROUND(N89*T98,2) -> 0 | U98: znížená | AY98: VRN | BE98: =IF(U98="základná",N98,0) -> 0 | BF98: =IF(U98="znížená",N98,0) -> 0 | BG98: =IF(U98="zákl. prenesená",N98,0) -> 0 | BH98: =IF(U98="zníž. prenesená",N98,0) -> 0 | BI98: =IF(U98="nulová",N98,0) -> 0 | BJ98: 2
D99: Iné VRN | N99: =ROUND(N89*T99,2) -> 0 | U99: znížená | AY99: VRN | BE99: =IF(U99="základná",N99,0) -> 0 | BF99: =IF(U99="znížená",N99,0) -> 0 | BG99: =IF(U99="zákl. prenesená",N99,0) -> 0 | BH99: =IF(U99="zníž. prenesená",N99,0) -> 0 | BI99: =IF(U99="nulová",N99,0) -> 0 | BJ99: 2
D100: Kompletačná činnosť | N100: =ROUND(N89*T100,2) -> 0 | U100: znížená | AY100: KOMPLETACNA | BE100: =IF(U100="základná",N100,0) -> 0 | BF100: =IF(U100="znížená",N100,0) -> 0 | BG100: =IF(U100="zákl. prenesená",N100,0) -> 0 | BH100: =IF(U100="zníž. prenesená",N100,0) -> 0 | BI100: =IF(U100="nulová",N100,0) -> 0 | BJ100: 2
C102: Celkové náklady za stavbu 1) + 2) | L102: =ROUND(SUM(N89+N94),2) -> 0
C108: ROZPOČET
C110: Stavba: | F110: =F6 -> Poradenské centrum UKF v Nitre - zmena 12/2016
C111: Objekt: | F111: 001 - I.etapa
C112: Časť: | F112: =F8 -> 004 - Elektroinštalácia
C114: Miesto: | F114: =F10 -> Trieda A.Hlinku 1, Nitra | K114: Dátum: | M114: =IF(O10="","",O10) -> 19. 12. 2016
C116: Objednávateľ: | F116: =E13 -> UKF Nitra | K116: Projektant: | M116: =E19 -> SH final s.r.o. Nitra
C117: Zhotoviteľ: | F117: =IF(E16="","",E16) -> Vyplň údaj | K117: Spracovateľ: | M117: =E22 -> Ing.Hrapko
C119: PČ | D119: Typ | E119: Kód | F119: Popis | J119: MJ | K119: Množstvo | L119: J.cena [EUR] | N119: Cena celkom [EUR] | T119: Poznámka | U119: DPH | V119: J. Nh [h] | W119: Nh celkom [h] | X119: J. hmotnosť_x000D_ [t] | Y119: Hmotnosť_x000D_ celkom [t] | Z119: J. suť [t] | AA119: Suť Celkom [t]
C120: Náklady z rozpočtu | N120: 0 | W120: =W121+W217 -> 0 | Y120: =Y121+Y217 -> 0 | AA120: =AA121+AA217 -> 0 | AT120: D | AU120: -1 | BK120: =BK121+BK217 -> 0
D121: M - Práce a dodávky M | N121: =BK121 -> 0 | W121: =W122 -> 0 | Y121: =Y122 -> 0 | AA121: =AA122 -> 0 | AR121: 3 | AT121: D | AU121: 0 | AY121: ROZPOCET | BK121: =BK122 -> 0
D122: 210M - Elektroinštalácia | N122: =BK122 -> 0 | W122: =SUM(W123:W216) -> 0 | Y122: =SUM(Y123:Y216) -> 0 | AA122: =SUM(AA123:AA216) -> 0 | AR122: 3 | AT122: D | AU122: 1 | AY122: ROZPOCET | BK122: =SUM(BK123:BK216) -> 0
C123: 1 | D123: M | E123: 1 | F123: Hmoždinka HM - 10 | J123: ks | K123: 100 | L123: 0 | N123: =ROUND(L123*K123,3) -> 0 | U123: znížená | W123: =V123*K123 -> 0 | X123: 0 | Y123: =X123*K123 -> 0 | Z123: 0 | AA123: =Z123*K123 -> 0 | AR123: 256 | AT123: M | AU123: 2 | AY123: ROZPOCET | BE123: =IF(U123="základná",N123,0) -> 0 | BF123: =IF(U123="znížená",N123,0) -> 0 | BG123: =IF(U123="zákl. prenesená",N123,0) -> 0 | BH123: =IF(U123="zníž. prenesená",N123,0) -> 0 | BI123: =IF(U123="nulová",N123,0) -> 0 | BJ123: 2 | BK123: =ROUND(L123*K123,3) -> 0 | BL123: 64 | BM123: 2
C124: 2 | D124: K | E124: 2 | F124: - montáž | J124: ks | K124: 100 | L124: 0 | N124: =ROUND(L124*K124,3) -> 0 | U124: znížená | W124: =V124*K124 -> 0 | X124: 0 | Y124: =X124*K124 -> 0 | Z124: 0 | AA124: =Z124*K124 -> 0 | AR124: 64 | AT124: K | AU124: 2 | AY124: ROZPOCET | BE124: =IF(U124="základná",N124,0) -> 0 | BF124: =IF(U124="znížená",N124,0) -> 0 | BG124: =IF(U124="zákl. prenesená",N124,0) -> 0 | BH124: =IF(U124="zníž. prenesená",N124,0) -> 0 | BI124: =IF(U124="nulová",N124,0) -> 0 | BJ124: 2 | BK124: =ROUND(L124*K124,3) -> 0 | BL124: 64 | BM124: 4
C125: 3 | D125: K | E125: 3 | F125: - vŕtanie otvoru | J125: ks | K125: 100 | L125: 0 | N125: =ROUND(L125*K125,3) -> 0 | U125: znížená | W125: =V125*K125 -> 0 | X125: 0 | Y125: =X125*K125 -> 0 | Z125: 0 | AA125: =Z125*K125 -> 0 | AR125: 64 | AT125: K | AU125: 2 | AY125: ROZPOCET | BE125: =IF(U125="základná",N125,0) -> 0 | BF125: =IF(U125="znížená",N125,0) -> 0 | BG125: =IF(U125="zákl. prenesená",N125,0) -> 0 | BH125: =IF(U125="zníž. prenesená",N125,0) -> 0 | BI125: =IF(U125="nulová",N125,0) -> 0 | BJ125: 2 | BK125: =ROUND(L125*K125,3) -> 0 | BL125: 64 | BM125: 6
C126: 4 | D126: M | E126: 4 | F126: Ochranná hadica SM 1225 | J126: m | K126: 15 | L126: 0 | N126: =ROUND(L126*K126,3) -> 0 | U126: znížená | W126: =V126*K126 -> 0 | X126: 0 | Y126: =X126*K126 -> 0 | Z126: 0 | AA126: =Z126*K126 -> 0 | AR126: 256 | AT126: M | AU126: 2 | AY126: ROZPOCET | BE126: =IF(U126="základná",N126,0) -> 0 | BF126: =IF(U126="znížená",N126,0) -> 0 | BG126: =IF(U126="zákl. prenesená",N126,0) -> 0 | BH126: =IF(U126="zníž. prenesená",N126,0) -> 0 | BI126: =IF(U126="nulová",N126,0) -> 0 | BJ126: 2 | BK126: =ROUND(L126*K126,3) -> 0 | BL126: 64 | BM126: 8
C127: 5 | D127: K | E127: 5 | F127: - montáž | J127: m | K127: 15 | L127: 0 | N127: =ROUND(L127*K127,3) -> 0 | U127: znížená | W127: =V127*K127 -> 0 | X127: 0 | Y127: =X127*K127 -> 0 | Z127: 0 | AA127: =Z127*K127 -> 0 | AR127: 64 | AT127: K | AU127: 2 | AY127: ROZPOCET | BE127: =IF(U127="základná",N127,0) -> 0 | BF127: =IF(U127="znížená",N127,0) -> 0 | BG127: =IF(U127="zákl. prenesená",N127,0) -> 0 | BH127: =IF(U127="zníž. prenesená",N127,0) -> 0 | BI127: =IF(U127="nulová",N127,0) -> 0 | BJ127: 2 | BK127: =ROUND(L127*K127,3) -> 0 | BL127: 64 | BM127: 10
C128: 6 | D128: M | E128: 6 | F128: Kábel CYKY - O 3 x 1,5 | J128: m | K128: 40 | L128: 0 | N128: =ROUND(L128*K128,3) -> 0 | U128: znížená | W128: =V128*K128 -> 0 | X128: 0 | Y128: =X128*K128 -> 0 | Z128: 0 | AA128: =Z128*K128 -> 0 | AR128: 256 | AT128: M | AU128: 2 | AY128: ROZPOCET | BE128: =IF(U128="základná",N128,0) -> 0 | BF128: =IF(U128="znížená",N128,0) -> 0 | BG128: =IF(U128="zákl. prenesená",N128,0) -> 0 | BH128: =IF(U128="zníž. prenesená",N128,0) -> 0 | BI128: =IF(U128="nulová",N128,0) -> 0 | BJ128: 2 | BK128: =ROUND(L128*K128,3) -> 0 | BL128: 64 | BM128: 12
C129: 7 | D129: K | E129: 7 | F129: - montáž | J129: m | K129: 40 | L129: 0 | N129: =ROUND(L129*K129,3) -> 0 | U129: znížená | W129: =V129*K129 -> 0 | X129: 0 | Y129: =X129*K129 -> 0 | Z129: 0 | AA129: =Z129*K129 -> 0 | AR129: 64 | AT129: K | AU129: 2 | AY129: ROZPOCET | BE129: =IF(U129="základná",N129,0) -> 0 | BF129: =IF(U129="znížená",N129,0) -> 0 | BG129: =IF(U129="zákl. prenesená",N129,0) -> 0 | BH129: =IF(U129="zníž. prenesená",N129,0) -> 0 | BI129: =IF(U129="nulová",N129,0) -> 0 | BJ129: 2 | BK129: =ROUND(L129*K129,3) -> 0 | BL129: 64 | BM129: 14
C130: 8 | D130: M | E130: 8 | F130: Kábel CYKY - J 3 x 1,5 | J130: m | K130: 300 | L130: 0 | N130: =ROUND(L130*K130,3) -> 0 | U130: znížená | W130: =V130*K130 -> 0 | X130: 0 | Y130: =X130*K130 -> 0 | Z130: 0 | AA130: =Z130*K130 -> 0 | AR130: 256 | AT130: M | AU130: 2 | AY130: ROZPOCET | BE130: =IF(U130="základná",N130,0) -> 0 | BF130: =IF(U130="znížená",N130,0) -> 0 | BG130: =IF(U130="zákl. prenesená",N130,0) -> 0 | BH130: =IF(U130="zníž. prenesená",N130,0) -> 0 | BI130: =IF(U130="nulová",N130,0) -> 0 | BJ130: 2 | BK130: =ROUND(L130*K130,3) -> 0 | BL130: 64 | BM130: 16
C131: 9 | D131: K | E131: 9 | F131: - montáž | J131: m | K131: 300 | L131: 0 | N131: =ROUND(L131*K131,3) -> 0 | U131: znížená | W131: =V131*K131 -> 0 | X131: 0 | Y131: =X131*K131 -> 0 | Z131: 0 | AA131: =Z131*K131 -> 0 | AR131: 64 | AT131: K | AU131: 2 | AY131: ROZPOCET | BE131: =IF(U131="základná",N131,0) -> 0 | BF131: =IF(U131="znížená",N131,0) -> 0 | BG131: =IF(U131="zákl. prenesená",N131,0) -> 0 | BH131: =IF(U131="zníž. prenesená",N131,0) -> 0 | BI131: =IF(U131="nulová",N131,0) -> 0 | BJ131: 2 | BK131: =ROUND(L131*K131,3) -> 0 | BL131: 64 | BM131: 18
C132: 10 | D132: M | E132: 10 | F132: Kábel CYKY - J 3 x 2,5 | J132: m | K132: 380 | L132: 0 | N132: =ROUND(L132*K132,3) -> 0 | U132: znížená | W132: =V132*K132 -> 0 | X132: 0 | Y132: =X132*K132 -> 0 | Z132: 0 | AA132: =Z132*K132 -> 0 | AR132: 256 | AT132: M | AU132: 2 | AY132: ROZPOCET | BE132: =IF(U132="základná",N132,0) -> 0 | BF132: =IF(U132="znížená",N132,0) -> 0 | BG132: =IF(U132="zákl. prenesená",N132,0) -> 0 | BH132: =IF(U132="zníž. prenesená",N132,0) -> 0 | BI132: =IF(U132="nulová",N132,0) -> 0 | BJ132: 2 | BK132: =ROUND(L132*K132,3) -> 0 | BL132: 64 | BM132: 20
C133: 11 | D133: K | E133: 11 | F133: - montáž | J133: m | K133: 380 | L133: 0 | N133: =ROUND(L133*K133,3) -> 0 | U133: znížená | W133: =V133*K133 -> 0 | X133: 0 | Y133: =X133*K133 -> 0 | Z133: 0 | AA133: =Z133*K133 -> 0 | AR133: 64 | AT133: K | AU133: 2 | AY133: ROZPOCET | BE133: =IF(U133="základná",N133,0) -> 0 | BF133: =IF(U133="znížená",N133,0) -> 0 | BG133: =IF(U133="zákl. prenesená",N133,0) -> 0 | BH133: =IF(U133="zníž. prenesená",N133,0) -> 0 | BI133: =IF(U133="nulová",N133,0) -> 0 | BJ133: 2 | BK133: =ROUND(L133*K133,3) -> 0 | BL133: 64 | BM133: 22
C134: 12 | D134: M | E134: 12 | F134: Kábel CYKY - J 4 x 1,5 | J134: m | K134: 50 | L134: 0 | N134: =ROUND(L134*K134,3) -> 0 | U134: znížená | W134: =V134*K134 -> 0 | X134: 0 | Y134: =X134*K134 -> 0 | Z134: 0 | AA134: =Z134*K134 -> 0 | AR134: 256 | AT134: M | AU134: 2 | AY134: ROZPOCET | BE134: =IF(U134="základná",N134,0) -> 0 | BF134: =IF(U134="znížená",N134,0) -> 0 | BG134: =IF(U134="zákl. prenesená",N134,0) -> 0 | BH134: =IF(U134="zníž. prenesená",N134,0) -> 0 | BI134: =IF(U134="nulová",N134,0) -> 0 | BJ134: 2 | BK134: =ROUND(L134*K134,3) -> 0 | BL134: 64 | BM134: 24
... C216: 94 | D216: K | E216: Pol192 | F216: Odborná prehliadka a skúška | J216: hod | K216: 20 | L216: 0 | N216: =ROUND(L216*K216,3) -> 0 | U216: znížená | W216: =V216*K216 -> 0 | X216: 0 | Y216: =X216*K216 -> 0 | Z216: 0 | AA216: =Z216*K216 -> 0 | AR216: 64 | AT216: K | AU216: 2 | AY216: ROZPOCET | BE216: =IF(U216="základná",N216,0) -> 0 | BF216: =IF(U216="znížená",N216,0) -> 0 | BG216: =IF(U216="zákl. prenesená",N216,0) -> 0 | BH216: =IF(U216="zníž. prenesená",N216,0) -> 0 | BI216: =IF(U216="nulová",N216,0) -> 0 | BJ216: 2 | BK216: =ROUND(L216*K216,3) -> 0 | BL216: 64 | BM216: 168
D217: VP - Práce naviac | N217: =BK217 -> 0 | AT217: D | AU217: 0 | AY217: PN | BK217: =SUM(BK218:BK222) -> 0
D218: K | N218: =BK218 -> 0 | U218: znížená | AT218: PN | AU218: 1 | AY218: PN | BE218: =IF(U218="základná",N218,0) -> 0 | BF218: =IF(U218="znížená",N218,0) -> 0 | BG218: =IF(U218="zákl. prenesená",N218,0) -> 0 | BH218: =IF(U218="zníž. prenesená",N218,0) -> 0 | BI218: =IF(U218="nulová",N218,0) -> 0 | BJ218: 2 | BK218: =L218*K218 -> 0
D219: K | N219: =BK219 -> 0 | U219: znížená | AT219: PN | AU219: 1 | AY219: PN | BE219: =IF(U219="základná",N219,0) -> 0 | BF219: =IF(U219="znížená",N219,0) -> 0 | BG219: =IF(U219="zákl. prenesená",N219,0) -> 0 | BH219: =IF(U219="zníž. prenesená",N219,0) -> 0 | BI219: =IF(U219="nulová",N219,0) -> 0 | BJ219: 2 | BK219: =L219*K219 -> 0
D220: K | N220: =BK220 -> 0 | U220: znížená | AT220: PN | AU220: 1 | AY220: PN | BE220: =IF(U220="základná",N220,0) -> 0 | BF220: =IF(U220="znížená",N220,0) -> 0 | BG220: =IF(U220="zákl. prenesená",N220,0) -> 0 | BH220: =IF(U220="zníž. prenesená",N220,0) -> 0 | BI220: =IF(U220="nulová",N220,0) -> 0 | BJ220: 2 | BK220: =L220*K220 -> 0
D221: K | N221: =BK221 -> 0 | U221: znížená | AT221: PN | AU221: 1 | AY221: PN | BE221: =IF(U221="základná",N221,0) -> 0 | BF221: =IF(U221="znížená",N221,0) -> 0 | BG221: =IF(U221="zákl. prenesená",N221,0) -> 0 | BH221: =IF(U221="zníž. prenesená",N221,0) -> 0 | BI221: =IF(U221="nulová",N221,0) -> 0 | BJ221: 2 | BK221: =L221*K221 -> 0
D222: K | N222: =BK222 -> 0 | U222: znížená | AT222: PN | AU222: 1 | AY222: PN | BE222: =IF(U222="základná",N222,0) -> 0 | BF222: =IF(U222="znížená",N222,0) -> 0 | BG222: =IF(U222="zákl. prenesená",N222,0) -> 0 | BH222: =IF(U222="zníž. prenesená",N222,0) -> 0 | BI222: =IF(U222="nulová",N222,0) -> 0 | BJ222: 2 | BK222: =L222*K222 -> 0

Sheet 005 - Vzduchotechnika 9.2.
D1: Hárok obsahuje: | F1: 1) Krycí list rozpočtu | H1: 2) Rekapitulácia rozpočtu | L1: 3) Rozpočet | O1: Späť na hárok: | S1: Rekapitulácia stavby
C2: optimalizované pre tlač zostáv vo formáte A4 - na výšku | S2: >> skryté stĺpce << | AT2: {da178629-ffd1-4f1f-993b-f1949832b927}
AT3: 0
C4: KRYCÍ LIST ROZPOČTU 9.2. | T4: v --- nižšie sa nachádzajú doplnkové a pomocné údaje k zostavám --- v | AT4: False
D6: Stavba: | F6: ='Rekapitulácia stavby 9.2.'!K6 -> Poradenské centrum UKF v Nitre - zmena 12/2016
D7: Objekt: | F7: 001 - I.etapa
D8: Časť: | F8: 005 - Vzduchotechnika
D9: JKSO: | M9: KS:
D10: Miesto: | F10: Trieda A.Hlinku 1, Nitra | M10: Dátum: | O10: ='Rekapitulácia stavby 9.2.'!AN8 -> 19. 12. 2016
D12: Objednávateľ: | M12: IČO:
E13: UKF Nitra | M13: IČO DPH:
D15: Zhotoviteľ: | M15: IČO: | O15: =IF('Rekapitulácia stavby 9.2.'!AN13="","",'Rekapitulácia stavby 9.2.'!AN13) -> Vyplň údaj
E16: =IF('Rekapitulácia stavby 9.2.'!E14="","",'Rekapitulácia stavby 9.2.'!E14) -> Vyplň údaj | M16: IČO DPH: | O16: =IF('Rekapitulácia stavby 9.2.'!AN14="","",'Rekapitulácia stavby 9.2.'!AN14) -> Vyplň údaj
D18: Projektant: | M18: IČO:
E19: SH final s.r.o. Nitra | M19: IČO DPH:
D21: Spracovateľ: | M21: IČO:
E22: L.Oravec | M22: IČO DPH:
D24: Poznámka:
D28: Náklady z rozpočtu | M28: =N89 -> 0
D29: Ostatné náklady | M29: =N97 -> 0
D31: Cena bez DPH | M31: =ROUND(M28+M29,2) -> 0
D33: DPH | E33: základná | F33: 0.2 | G33: z | H33: =ROUND((((SUM(BE97:BE104)+SUM(BE123:BE160))+SUM(BE162:BE166))),2) -> 0 | M33: =ROUND(((ROUND((SUM(BE97:BE104)+SUM(BE123:BE160)), 2)*F33)+SUM(BE162:BE166)*F33),2) -> 0
E34: znížená | F34: 0.2 | G34: z | H34: =ROUND((((SUM(BF97:BF104)+SUM(BF123:BF160))+SUM(BF162:BF166))),2) -> 0 | M34: =ROUND(((ROUND((SUM(BF97:BF104)+SUM(BF123:BF160)), 2)*F34)+SUM(BF162:BF166)*F34),2) -> 0
E35: zákl. prenesená | F35: 0.2 | G35: z | H35: =ROUND((((SUM(BG97:BG104)+SUM(BG123:BG160))+SUM(BG162:BG166))),2) -> 0 | M35: 0
E36: zníž. prenesená | F36: 0.2 | G36: z | H36: =ROUND((((SUM(BH97:BH104)+SUM(BH123:BH160))+SUM(BH162:BH166))),2) -> 0 | M36: 0
E37: nulová | F37: 0 | G37: z | H37: =ROUND((((SUM(BI97:BI104)+SUM(BI123:BI160))+SUM(BI162:BI166))),2) -> 0 | M37: 0
D39: Cena s DPH | G39: v | H39: EUR | L39: =SUM(M31:M37) -> 0
D50: Projektant | J50: Spracovateľ
D59: Dátum a podpis: | G59: Pečiatka | J59: Dátum a podpis: | N59: Pečiatka
D61: Objednávateľ | J61: Zhotoviteľ
D70: Dátum a podpis: | G70: Pečiatka | J70: Dátum a podpis: | N70: Pečiatka
C76: REKAPITULÁCIA ROZPOČTU
C78: Stavba: | F78: =F6 -> Poradenské centrum UKF v Nitre - zmena 12/2016
C79: Objekt: | F79: 001 - I.etapa
C80: Časť: | F80: =F8 -> 005 - Vzduchotechnika
C82: Miesto: | F82: =F10 -> Trieda A.Hlinku 1, Nitra | K82: Dátum: | M82: =IF(O10="","",O10) -> 19. 12. 2016
C84: Objednávateľ: | F84: =E13 -> UKF Nitra | K84: Projektant: | M84: =E19 -> SH final s.r.o. Nitra
C85: Zhotoviteľ: | F85: =IF(E16="","",E16) -> Vyplň údaj | K85: Spracovateľ: | M85: =E22 -> L.Oravec
C87: Kód - Popis | N87: Cena celkom [EUR]
C89: 1) Náklady z rozpočtu | N89: =N123 -> 0 | AU89: -1
D90: M - Práce a dodávky M | N90: =N124 -> 0
D91: VZT - Vzduchotechnika | N91: =N125 -> 0
D92: D1 - Zariadenie č. 1 Spoločenská sála | N92: =N126 -> 0
D93: D2 - Zariadenie č. 2 Poradenské centrum | N93: =N136 -> 0
D94: OST - Ostatné | N94: =N156 -> 0
D95: VP - Práce naviac | N95: =N161 -> 0
C97: 2) Ostatné náklady | N97: =ROUND(N98+N99+N100+N101+N102+N103,2) -> 0 | U97: DPH
D98: GZS | N98: =ROUND(N89*T98,2) -> 0 | U98: znížená | AY98: VRN | BE98: =IF(U98="základná",N98,0) -> 0 | BF98: =IF(U98="znížená",N98,0) -> 0 | BG98: =IF(U98="zákl. prenesená",N98,0) -> 0 | BH98: =IF(U98="zníž. prenesená",N98,0) -> 0 | BI98: =IF(U98="nulová",N98,0) -> 0 | BJ98: 2
D99: Projektové práce | N99: =ROUND(N89*T99,2) -> 0 | U99: znížená | AY99: VRN | BE99: =IF(U99="základná",N99,0) -> 0 | BF99: =IF(U99="znížená",N99,0) -> 0 | BG99: =IF(U99="zákl. prenesená",N99,0) -> 0 | BH99: =IF(U99="zníž. prenesená",N99,0) -> 0 | BI99: =IF(U99="nulová",N99,0) -> 0 | BJ99: 2
D100: Sťažené podmienky | N100: =ROUND(N89*T100,2) -> 0 | U100: znížená | AY100: VRN | BE100: =IF(U100="základná",N100,0) -> 0 | BF100: =IF(U100="znížená",N100,0) -> 0 | BG100: =IF(U100="zákl. prenesená",N100,0) -> 0 | BH100: =IF(U100="zníž. prenesená",N100,0) -> 0 | BI100: =IF(U100="nulová",N100,0) -> 0 | BJ100: 2
D101: Vplyv prostredia | N101: =ROUND(N89*T101,2) -> 0 | U101: znížená | AY101: VRN | BE101: =IF(U101="základná",N101,0) -> 0 | BF101: =IF(U101="znížená",N101,0) -> 0 | BG101: =IF(U101="zákl. prenesená",N101,0) -> 0 | BH101: =IF(U101="zníž. prenesená",N101,0) -> 0 | BI101: =IF(U101="nulová",N101,0) -> 0 | BJ101: 2
D102: Iné VRN | N102: =ROUND(N89*T102,2) -> 0 | U102: znížená | AY102: VRN | BE102: =IF(U102="základná",N102,0) -> 0 | BF102: =IF(U102="znížená",N102,0) -> 0 | BG102: =IF(U102="zákl. prenesená",N102,0) -> 0 | BH102: =IF(U102="zníž. prenesená",N102,0) -> 0 | BI102: =IF(U102="nulová",N102,0) -> 0 | BJ102: 2
D103: Kompletačná činnosť | N103: =ROUND(N89*T103,2) -> 0 | U103: znížená | AY103: KOMPLETACNA | BE103: =IF(U103="základná",N103,0) -> 0 | BF103: =IF(U103="znížená",N103,0) -> 0 | BG103: =IF(U103="zákl. prenesená",N103,0) -> 0 | BH103: =IF(U103="zníž. prenesená",N103,0) -> 0 | BI103: =IF(U103="nulová",N103,0) -> 0 | BJ103: 2
C105: Celkové náklady za stavbu 1) + 2) | L105: =ROUND(SUM(N89+N97),2) -> 0
C111: ROZPOČET
C113: Stavba: | F113: =F6 -> Poradenské centrum UKF v Nitre - zmena 12/2016
C114: Objekt: | F114: 001 - I.etapa
C115: Časť: | F115: =F8 -> 005 - Vzduchotechnika
C117: Miesto: | F117: =F10 -> Trieda A.Hlinku 1, Nitra | K117: Dátum: | M117: =IF(O10="","",O10) -> 19. 12. 2016
C119: Objednávateľ: | F119: =E13 -> UKF Nitra | K119: Projektant: | M119: =E19 -> SH final s.r.o. Nitra
C120: Zhotoviteľ: | F120: =IF(E16="","",E16) -> Vyplň údaj | K120: Spracovateľ: | M120: =E22 -> L.Oravec
C122: PČ | D122: Typ | E122: Kód | F122: Popis | J122: MJ | K122: Množstvo | L122: J.cena [EUR] | N122: Cena celkom [EUR] | T122: Poznámka | U122: DPH | V122: J. Nh [h] | W122: Nh celkom [h] | X122: J. hmotnosť_x000D_ [t] | Y122: Hmotnosť_x000D_ celkom [t] | Z122: J. suť [t] | AA122: Suť Celkom [t]
C123: Náklady z rozpočtu | N123: =BK123 -> 0 | W123: =W124+W161 -> 0 | Y123: =Y124+Y161 -> 0 | AA123: =AA124+AA161 -> 0 | AT123: D | AU123: -1 | BK123: =BK124+BK161 -> 0
D124: M - Práce a dodávky M | N124: =BK124 -> 0 | W124: =W125 -> 0 | Y124: =Y125 -> 0 | AA124: =AA125 -> 0 | AR124: 1 | AT124: D | AU124: 0 | AY124: ROZPOCET | BK124: =BK125 -> 0
D125: VZT - Vzduchotechnika | N125: =BK125 -> 0 | W125: =W126+W136+W156 -> 0 | Y125: =Y126+Y136+Y156 -> 0 | AA125: =AA126+AA136+AA156 -> 0 | AR125: 1 | AT125: D | AU125: 1 | AY125: ROZPOCET | BK125: =BK126+BK136+BK156 -> 0
D126: D1 - Zariadenie č. 1 Spoločenská sála | N126: =BK126 -> 0 | W126: =SUM(W127:W135) -> 0 | Y126: =SUM(Y127:Y135) -> 0 | AA126: =SUM(AA127:AA135) -> 0 | AR126: 1 | AT126: D | AU126: 2 | AY126: ROZPOCET | BK126: =SUM(BK127:BK135) -> 0
C127: 0 | D127: K | E127: Pol124 | F127: demontáž vírivej výustky a jej repasia | J127: ks | K127: 12 | L127: 0 | N127: =ROUND(L127*K127,3) -> 0 | U127: znížená | W127: =V127*K127 -> 0 | X127: 0 | Y127: =X127*K127 -> 0 | Z127: 0 | AA127: =Z127*K127 -> 0 | AR127: 4 | AT127: K | AU127: 3 | AY127: ROZPOCET | BE127: =IF(U127="základná",N127,0) -> 0 | BF127: =IF(U127="znížená",N127,0) -> 0 | BG127: =IF(U127="zákl. prenesená",N127,0) -> 0 | BH127: =IF(U127="zníž. prenesená",N127,0) -> 0 | BI127: =IF(U127="nulová",N127,0) -> 0 | BJ127: 2 | BK127: =ROUND(L127*K127,3) -> 0 | BL127: 4 | BM127: 2
C128: 0 | D128: K | E128: Pol125 | F128: demontáž pružného potrubia k prívodným výustkám | J128: m | K128: 6 | L128: 0 | N128: =ROUND(L128*K128,3) -> 0 | U128: znížená | W128: =V128*K128 -> 0 | X128: 0 | Y128: =X128*K128 -> 0 | Z128: 0 | AA128: =Z128*K128 -> 0 | AR128: 4 | AT128: K | AU128: 3 | AY128: ROZPOCET | BE128: =IF(U128="základná",N128,0) -> 0 | BF128: =IF(U128="znížená",N128,0) -> 0 | BG128: =IF(U128="zákl. prenesená",N128,0) -> 0 | BH128: =IF(U128="zníž. prenesená",N128,0) -> 0 | BI128: =IF(U128="nulová",N128,0) -> 0 | BJ128: 2 | BK128: =ROUND(L128*K128,3) -> 0 | BL128: 4 | BM128: 4
C129: 0 | D129: K | E129: Pol126 | F129: repasia celého vzduchotechnického zariadenia vrátane vzt jednotky a MaR | J129: kpl | K129: 1 | L129: 0 | N129: =ROUND(L129*K129,3) -> 0 | U129: znížená | W129: =V129*K129 -> 0 | X129: 0 | Y129: =X129*K129 -> 0 | Z129: 0 | AA129: =Z129*K129 -> 0 | AR129: 4 | AT129: K | AU129: 3 | AY129: ROZPOCET | BE129: =IF(U129="základná",N129,0) -> 0 | BF129: =IF(U129="znížená",N129,0) -> 0 | BG129: =IF(U129="zákl. prenesená",N129,0) -> 0 | BH129: =IF(U129="zníž. prenesená",N129,0) -> 0 | BI129: =IF(U129="nulová",N129,0) -> 0 | BJ129: 2 | BK129: =ROUND(L129*K129,3) -> 0 | BL129: 4 | BM129: 6
C130: 0 | D130: K | E130: 1.1 | F130: Znovunamontovanie demontovaných prívodných vírivých výustiek | J130: ks | K130: 12 | L130: 0 | N130: =ROUND(L130*K130,3) -> 0 | U130: znížená | W130: =V130*K130 -> 0 | X130: 0 | Y130: =X130*K130 -> 0 | Z130: 0 | AA130: =Z130*K130 -> 0 | AR130: 4 | AT130: K | AU130: 3 | AY130: ROZPOCET | BE130: =IF(U130="základná",N130,0) -> 0 | BF130: =IF(U130="znížená",N130,0) -> 0 | BG130: =IF(U130="zákl. prenesená",N130,0) -> 0 | BH130: =IF(U130="zníž. prenesená",N130,0) -> 0 | BI130: =IF(U130="nulová",N130,0) -> 0 | BJ130: 2 | BK130: =ROUND(L130*K130,3) -> 0 | BL130: 4 | BM130: 8
C131: 0 | D131: M | E131: 1.10 | F131: Pružný tlmič hluku Systemair Sonodec 25 O254 | J131: m | K131: 24 | L131: 0 | N131: =ROUND(L131*K131,3) -> 0 | U131: znížená | W131: =V131*K131 -> 0 | X131: 0 | Y131: =X131*K131 -> 0 | Z131: 0 | AA131: =Z131*K131 -> 0 | AR131: 8 | AT131: M | AU131: 3 | AY131: ROZPOCET | BE131: =IF(U131="základná",N131,0) -> 0 | BF131: =IF(U131="znížená",N131,0) -> 0 | BG131: =IF(U131="zákl. prenesená",N131,0) -> 0 | BH131: =IF(U131="zníž. prenesená",N131,0) -> 0 | BI131: =IF(U131="nulová",N131,0) -> 0 | BJ131: 2 | BK131: =ROUND(L131*K131,3) -> 0 | BL131: 4 | BM131: 10
C132: 0 | D132: K | E132: Pol127 | F132: montáž | J132: m | K132: 24 | L132: 0 | N132: =ROUND(L132*K132,3) -> 0 | U132: znížená | W132: =V132*K132 -> 0 | X132: 0 | Y132: =X132*K132 -> 0 | Z132: 0 | AA132: =Z132*K132 -> 0 | AR132: 4 | AT132: K | AU132: 3 | AY132: ROZPOCET | BE132: =IF(U132="základná",N132,0) -> 0 | BF132: =IF(U132="znížená",N132,0) -> 0 | BG132: =IF(U132="zákl. prenesená",N132,0) -> 0 | BH132: =IF(U132="zníž. prenesená",N132,0) -> 0 | BI132: =IF(U132="nulová",N132,0) -> 0 | BJ132: 2 | BK132: =ROUND(L132*K132,3) -> 0 | BL132: 4 | BM132: 12
C133: 0 | D133: M | E133: Pol128 | F133: Zaslepenie nástavca O250 | J133: ks | K133: 2 | L133: 0 | N133: =ROUND(L133*K133,3) -> 0 | U133: znížená | W133: =V133*K133 -> 0 | X133: 0 | Y133: =X133*K133 -> 0 | Z133: 0 | AA133: =Z133*K133 -> 0 | AR133: 8 | AT133: M | AU133: 3 | AY133: ROZPOCET | BE133: =IF(U133="základná",N133,0) -> 0 | BF133: =IF(U133="znížená",N133,0) -> 0 | BG133: =IF(U133="zákl. prenesená",N133,0) -> 0 | BH133: =IF(U133="zníž. prenesená",N133,0) -> 0 | BI133: =IF(U133="nulová",N133,0) -> 0 | BJ133: 2 | BK133: =ROUND(L133*K133,3) -> 0 | BL133: 4 | BM133: 14
C134: 0 | D134: M | E134: Pol129 | F134: Nástavec O250, na hranaté potrubie | J134: ks | K134: 2 | L134: 0 | N134: =ROUND(L134*K134,3) -> 0 | U134: znížená | W134: =V134*K134 -> 0 | X134: 0 | Y134: =X134*K134 -> 0 | Z134: 0 | AA134: =Z134*K134 -> 0 | AR134: 8 | AT134: M | AU134: 3 | AY134: ROZPOCET | BE134: =IF(U134="základná",N134,0) -> 0 | BF134: =IF(U134="znížená",N134,0) -> 0 | BG134: =IF(U134="zákl. prenesená",N134,0) -> 0 | BH134: =IF(U134="zníž. prenesená",N134,0) -> 0 | BI134: =IF(U134="nulová",N134,0) -> 0 | BJ134: 2 | BK134: =ROUND(L134*K134,3) -> 0 | BL134: 4 | BM134: 16
C135: 0 | D135: K | E135: Pol130 | F135: montáž | J135: ks | K135: 2 | L135: 0 | N135: =ROUND(L135*K135,3) -> 0 | U135: znížená | W135: =V135*K135 -> 0 | X135: 0 | Y135: =X135*K135 -> 0 | Z135: 0 | AA135: =Z135*K135 -> 0 | AR135: 4 | AT135: K | AU135: 3 | AY135: ROZPOCET | BE135: =IF(U135="základná",N135,0) -> 0 | BF135: =IF(U135="znížená",N135,0) -> 0 | BG135: =IF(U135="zákl. prenesená",N135,0) -> 0 | BH135: =IF(U135="zníž. prenesená",N135,0) -> 0 | BI135: =IF(U135="nulová",N135,0) -> 0 | BJ135: 2 | BK135: =ROUND(L135*K135,3) -> 0 | BL135: 4 | BM135: 18
D136: D2 - Zariadenie č. 2 Poradenské centrum | N136: =BK136 -> 0 | W136: =SUM(W137:W155) -> 0 | Y136: =SUM(Y137:Y155) -> 0 | AA136: =SUM(AA137:AA155) -> 0 | AR136: 1 | AT136: D | AU136: 2 | AY136: ROZPOCET | BK136: =SUM(BK137:BK155) -> 0
C137: 0 | D137: M | E137: 2.1 | F137: Odvodný ventilátor Systemair K 160 XL sileo 400 m3/h 200 Pa, 230-1-50 102,0 W 0,447 A, príslušenstvo: 2x spojka na potrubie, ovládač REE 1 | J137: kpl | K137: 1 | L137: 0 | N137: =ROUND(L137*K137,3) -> 0 | U137: znížená | W137: =V137*K137 -> 0 | X137: 0 | Y137: =X137*K137 -> 0 | Z137: 0 | AA137: =Z137*K137 -> 0 | AR137: 8 | AT137: M | AU137: 3 | AY137: ROZPOCET | BE137: =IF(U137="základná",N137,0) -> 0 | BF137: =IF(U137="znížená",N137,0) -> 0 | BG137: =IF(U137="zákl. prenesená",N137,0) -> 0 | BH137: =IF(U137="zníž. prenesená",N137,0) -> 0 | BI137: =IF(U137="nulová",N137,0) -> 0 | BJ137: 2 | BK137: =ROUND(L137*K137,3) -> 0 | BL137: 4 | BM137: 20
C138: 0 | D138: K | E138: Pol131 | F138: montáž | J138: kpl | K138: 1 | L138: 0 | N138: =ROUND(L138*K138,3) -> 0 | U138: znížená | W138: =V138*K138 -> 0 | X138: 0 | Y138: =X138*K138 -> 0 | Z138: 0 | AA138: =Z138*K138 -> 0 | AR138: 4 | AT138: K | AU138: 3 | AY138: ROZPOCET | BE138: =IF(U138="základná",N138,0) -> 0 | BF138: =IF(U138="znížená",N138,0) -> 0 | BG138: =IF(U138="zákl. prenesená",N138,0) -> 0 | BH138: =IF(U138="zníž. prenesená",N138,0) -> 0 | BI138: =IF(U138="nulová",N138,0) -> 0 | BJ138: 2 | BK138: =ROUND(L138*K138,3) -> 0 | BL138: 4 | BM138: 22
C139: 0 | D139: M | E139: 2.5 | F139: Odvodný tanierový ventil Systemair EFF 125, príslušenstvo: montážny krúžok RFU | J139: kpl | K139: 2 | L139: 0 | N139: =ROUND(L139*K139,3) -> 0 | U139: znížená | W139: =V139*K139 -> 0 | X139: 0 | Y139: =X139*K139 -> 0 | Z139: 0 | AA139: =Z139*K139 -> 0 | AR139: 8 | AT139: M | AU139: 3 | AY139: ROZPOCET | BE139: =IF(U139="základná",N139,0) -> 0 | BF139: =IF(U139="znížená",N139,0) -> 0 | BG139: =IF(U139="zákl. prenesená",N139,0) -> 0 | BH139: =IF(U139="zníž. prenesená",N139,0) -> 0 | BI139: =IF(U139="nulová",N139,0) -> 0 | BJ139: 2 | BK139: =ROUND(L139*K139,3) -> 0 | BL139: 4 | BM139: 24
C140: 0 | D140: K | E140: Pol132 | F140: montáž | J140: kpl | K140: 2 | L140: 0 | N140: =ROUND(L140*K140,3) -> 0 | U140: znížená | W140: =V140*K140 -> 0 | X140: 0 | Y140: =X140*K140 -> 0 | Z140: 0 | AA140: =Z140*K140 -> 0 | AR140: 4 | AT140: K | AU140: 3 | AY140: ROZPOCET | BE140: =IF(U140="základná",N140,0) -> 0 | BF140: =IF(U140="znížená",N140,0) -> 0 | BG140: =IF(U140="zákl. prenesená",N140,0) -> 0 | BH140: =IF(U140="zníž. prenesená",N140,0) -> 0 | BI140: =IF(U140="nulová",N140,0) -> 0 | BJ140: 2 | BK140: =ROUND(L140*K140,3) -> 0 | BL140: 4 | BM140: 26
C141: 0 | D141: M | E141: 2.6 | F141: Odvodný tanierový ventil Systemair EFF 100, príslušenstvo: montážny krúžok RFU | J141: kpl | K141: 4 | L141: 0 | N141: =ROUND(L141*K141,3) -> 0 | U141: znížená | W141: =V141*K141 -> 0 | X141: 0 | Y141: =X141*K141 -> 0 | Z141: 0 | AA141: =Z141*K141 -> 0 | AR141: 8 | AT141: M | AU141: 3 | AY141: ROZPOCET | BE141: =IF(U141="základná",N141,0) -> 0 | BF141: =IF(U141="znížená",N141,0) -> 0 | BG141: =IF(U141="zákl. prenesená",N141,0) -> 0 | BH141: =IF(U141="zníž. prenesená",N141,0) -> 0 | BI141: =IF(U141="nulová",N141,0) -> 0 | BJ141: 2 | BK141: =ROUND(L141*K141,3) -> 0 | BL141: 4 | BM141: 28
C142: 0 | D142: K | E142: Pol132 | F142: montáž | J142: kpl | K142: 4 | L142: 0 | N142: =ROUND(L142*K142,3) -> 0 | U142: znížená | W142: =V142*K142 -> 0 | X142: 0 | Y142: =X142*K142 -> 0 | Z142: 0 | AA142: =Z142*K142 -> 0 | AR142: 4 | AT142: K | AU142: 3 | AY142: ROZPOCET | BE142: =IF(U142="základná",N142,0) -> 0 | BF142: =IF(U142="znížená",N142,0) -> 0 | BG142: =IF(U142="zákl. prenesená",N142,0) -> 0 | BH142: =IF(U142="zníž. prenesená",N142,0) -> 0 | BI142: =IF(U142="nulová",N142,0) -> 0 | BJ142: 2 | BK142: =ROUND(L142*K142,3) -> 0 | BL142: 4 | BM142: 30
C143: 0 | D143: M | E143: 2.7 | F143: Dverová mriežka Systemair NOVA-D-2-400x200-UR1 | J143: ks | K143: 3 | L143: 0 | N143: =ROUND(L143*K143,3) -> 0 | U143: znížená | W143: =V143*K143 -> 0 | X143: 0 | Y143: =X143*K143 -> 0 | Z143: 0 | AA143: =Z143*K143 -> 0 | AR143: 8 | AT143: M | AU143: 3 | AY143: ROZPOCET | BE143: =IF(U143="základná",N143,0) -> 0 | BF143: =IF(U143="znížená",N143,0) -> 0 | BG143: =IF(U143="zákl. prenesená",N143,0) -> 0 | BH143: =IF(U143="zníž. prenesená",N143,0) -> 0 | BI143: =IF(U143="nulová",N143,0) -> 0 | BJ143: 2 | BK143: =ROUND(L143*K143,3) -> 0 | BL143: 4 | BM143: 32
C144: 0 | D144: K | E144: Pol133 | F144: montáž | J144: ks | K144: 3 | L144: 0 | N144: =ROUND(L144*K144,3) -> 0 | U144: znížená | W144: =V144*K144 -> 0 | X144: 0 | Y144: =X144*K144 -> 0 | Z144: 0 | AA144: =Z144*K144 -> 0 | AR144: 4 | AT144: K | AU144: 3 | AY144: ROZPOCET | BE144: =IF(U144="základná",N144,0) -> 0 | BF144: =IF(U144="znížená",N144,0) -> 0 | BG144: =IF(U144="zákl. prenesená",N144,0) -> 0 | BH144: =IF(U144="zníž. prenesená",N144,0) -> 0 | BI144: =IF(U144="nulová",N144,0) -> 0 | BJ144: 2 | BK144: =ROUND(L144*K144,3) -> 0 | BL144: 4 | BM144: 34
C145: 0 | D145: M | E145: 2.8 | F145: Protidažďová žalúzia Systemair IGC - LI - 200 | J145: ks | K145: 1 | L145: 0 | N145: =ROUND(L145*K145,3) -> 0 | U145: znížená | W145: =V145*K145 -> 0 | X145: 0 | Y145: =X145*K145 -> 0 | Z145: 0 | AA145: =Z145*K145 -> 0 | AR145: 8 | AT145: M | AU145: 3 | AY145: ROZPOCET | BE145: =IF(U145="základná",N145,0) -> 0 | BF145: =IF(U145="znížená",N145,0) -> 0 | BG145: =IF(U145="zákl. prenesená",N145,0) -> 0 | BH145: =IF(U145="zníž. prenesená",N145,0) -> 0 | BI145: =IF(U145="nulová",N145,0) -> 0 | BJ145: 2 | BK145: =ROUND(L145*K145,3) -> 0 | BL145: 4 | BM145: 36
C146: 0 | D146: K | E146: Pol134 | F146: montáž | J146: ks | K146: 1 | L146: 0 | N146: =ROUND(L146*K146,3) -> 0 | U146: znížená | W146: =V146*K146 -> 0 | X146: 0 | Y146: =X146*K146 -> 0 | Z146: 0 | AA146: =Z146*K146 -> 0 | AR146: 4 | AT146: K | AU146: 3 | AY146: ROZPOCET | BE146: =IF(U146="základná",N146,0) -> 0 | BF146: =IF(U146="znížená",N146,0) -> 0 | BG146: =IF(U146="zákl. prenesená",N146,0) -> 0 | BH146: =IF(U146="zníž. prenesená",N146,0) -> 0 | BI146: =IF(U146="nulová",N146,0) -> 0 | BJ146: 2 | BK146: =ROUND(L146*K146,3) -> 0 | BL146: 4 | BM146: 38
C147: 0 | D147: M | E147: 2.9 | F147: Tlmič hluku pre kruhové potrubie Systemair LDC 160-900 | J147: ks | K147: 2 | L147: 0 | N147: =ROUND(L147*K147,3) -> 0 | U147: znížená | W147: =V147*K147 -> 0 | X147: 0 | Y147: =X147*K147 -> 0 | Z147: 0 | AA147: =Z147*K147 -> 0 | AR147: 8 | AT147: M | AU147: 3 | AY147: ROZPOCET | BE147: =IF(U147="základná",N147,0) -> 0 | BF147: =IF(U147="znížená",N147,0) -> 0 | BG147: =IF(U147="zákl. prenesená",N147,0) -> 0 | BH147: =IF(U147="zníž. prenesená",N147,0) -> 0 | BI147: =IF(U147="nulová",N147,0) -> 0 | BJ147: 2 | BK147: =ROUND(L147*K147,3) -> 0 | BL147: 4 | BM147: 40
C148: 0 | D148: K | E148: Pol135 | F148: montáž | J148: ks | K148: 2 | L148: 0 | N148: =ROUND(L148*K148,3) -> 0 | U148: znížená | W148: =V148*K148 -> 0 | X148: 0 | Y148: =X148*K148 -> 0 | Z148: 0 | AA148: =Z148*K148 -> 0 | AR148: 4 | AT148: K | AU148: 3 | AY148: ROZPOCET | BE148: =IF(U148="základná",N148,0) -> 0 | BF148: =IF(U148="znížená",N148,0) -> 0 | BG148: =IF(U148="zákl. prenesená",N148,0) -> 0 | BH148: =IF(U148="zníž. prenesená",N148,0) -> 0 | BI148: =IF(U148="nulová",N148,0) -> 0 | BJ148: 2 | BK148: =ROUND(L148*K148,3) -> 0 | BL148: 4 | BM148: 42
... C155: 0 | D155: M | E155: Pol140 | F155: Spojovací a tesniaci material | J155: kpl | K155: 1 | L155: 0 | N155: =ROUND(L155*K155,3) -> 0 | U155: znížená | W155: =V155*K155 -> 0 | X155: 0 | Y155: =X155*K155 -> 0 | Z155: 0 | AA155: =Z155*K155 -> 0 | AR155: 8 | AT155: M | AU155: 3 | AY155: ROZPOCET | BE155: =IF(U155="základná",N155,0) -> 0 | BF155: =IF(U155="znížená",N155,0) -> 0 | BG155: =IF(U155="zákl. prenesená",N155,0) -> 0 | BH155: =IF(U155="zníž. prenesená",N155,0) -> 0 | BI155: =IF(U155="nulová",N155,0) -> 0 | BJ155: 2 | BK155: =ROUND(L155*K155,3) -> 0 | BL155: 4 | BM155: 56
D156: OST - Ostatné | N156: =BK156 -> 0 | W156: =SUM(W157:W160) -> 0 | Y156: =SUM(Y157:Y160) -> 0 | AA156: =SUM(AA157:AA160) -> 0 | AR156: 1 | AT156: D | AU156: 2 | AY156: ROZPOCET | BK156: =SUM(BK157:BK160) -> 0
C157: 0 | D157: K | E157: Pol141 | F157: Zaregulovanie, skúšobná prevádzka a odovzdanie zariadenia, vrátane všetkych protokolov o zaregulovaní a skúšobnej prevádzke, prehlásení o zhode, projekte skutočného vyhotovenia a ostatnej dokumentácie | J157: kpl | K157: 1 | L157: 0 | N157: =ROUND(L157*K157,3) -> 0 | U157: znížená | W157: =V157*K157 -> 0 | X157: 0 | Y157: =X157*K157 -> 0 | Z157: 0 | AA157: =Z157*K157 -> 0 | AR157: 4 | AT157: K | AU157: 3 | AY157: ROZPOCET | BE157: =IF(U157="základná",N157,0) -> 0 | BF157: =IF(U157="znížená",N157,0) -> 0 | BG157: =IF(U157="zákl. prenesená",N157,0) -> 0 | BH157: =IF(U157="zníž. prenesená",N157,0) -> 0 | BI157: =IF(U157="nulová",N157,0) -> 0 | BJ157: 2 | BK157: =ROUND(L157*K157,3) -> 0 | BL157: 4 | BM157: 58
C158: 0 | D158: K | E158: Pol142 | F158: mimostavenisková doprava | J158: sbr | K158: 1 | L158: 0 | N158: =ROUND(L158*K158,3) -> 0 | U158: znížená | W158: =V158*K158 -> 0 | X158: 0 | Y158: =X158*K158 -> 0 | Z158: 0 | AA158: =Z158*K158 -> 0 | AR158: 4 | AT158: K | AU158: 3 | AY158: ROZPOCET | BE158: =IF(U158="základná",N158,0) -> 0 | BF158: =IF(U158="znížená",N158,0) -> 0 | BG158: =IF(U158="zákl. prenesená",N158,0) -> 0 | BH158: =IF(U158="zníž. prenesená",N158,0) -> 0 | BI158: =IF(U158="nulová",N158,0) -> 0 | BJ158: 2 | BK158: =ROUND(L158*K158,3) -> 0 | BL158: 4 | BM158: 60
C159: 0 | D159: K | E159: Pol143 | F159: podiel pridružených výkonov a murárska výpomoc | J159: sbr | K159: 1 | L159: 0 | N159: =ROUND(L159*K159,3) -> 0 | U159: znížená | W159: =V159*K159 -> 0 | X159: 0 | Y159: =X159*K159 -> 0 | Z159: 0 | AA159: =Z159*K159 -> 0 | AR159: 4 | AT159: K | AU159: 3 | AY159: ROZPOCET | BE159: =IF(U159="základná",N159,0) -> 0 | BF159: =IF(U159="znížená",N159,0) -> 0 | BG159: =IF(U159="zákl. prenesená",N159,0) -> 0 | BH159: =IF(U159="zníž. prenesená",N159,0) -> 0 | BI159: =IF(U159="nulová",N159,0) -> 0 | BJ159: 2 | BK159: =ROUND(L159*K159,3) -> 0 | BL159: 4 | BM159: 62
C160: 0 | D160: K | E160: Pol144 | F160: vnútrostaveniskový presun | J160: sbr | K160: 1 | L160: 0 | N160: =ROUND(L160*K160,3) -> 0 | U160: znížená | W160: =V160*K160 -> 0 | X160: 0 | Y160: =X160*K160 -> 0 | Z160: 0 | AA160: =Z160*K160 -> 0 | AR160: 4 | AT160: K | AU160: 3 | AY160: ROZPOCET | BE160: =IF(U160="základná",N160,0) -> 0 | BF160: =IF(U160="znížená",N160,0) -> 0 | BG160: =IF(U160="zákl. prenesená",N160,0) -> 0 | BH160: =IF(U160="zníž. prenesená",N160,0) -> 0 | BI160: =IF(U160="nulová",N160,0) -> 0 | BJ160: 2 | BK160: =ROUND(L160*K160,3) -> 0 | BL160: 4 | BM160: 64
D161: VP - Práce naviac | N161: =BK161 -> 0 | AT161: D | AU161: 0 | AY161: PN | BK161: =SUM(BK162:BK166) -> 0
D162: K | N162: =BK162 -> 0 | U162: znížená | AT162: PN | AU162: 1 | AY162: PN | BE162: =IF(U162="základná",N162,0) -> 0 | BF162: =IF(U162="znížená",N162,0) -> 0 | BG162: =IF(U162="zákl. prenesená",N162,0) -> 0 | BH162: =IF(U162="zníž. prenesená",N162,0) -> 0 | BI162: =IF(U162="nulová",N162,0) -> 0 | BJ162: 2 | BK162: =L162*K162 -> 0
D163: K | N163: =BK163 -> 0 | U163: znížená | AT163: PN | AU163: 1 | AY163: PN | BE163: =IF(U163="základná",N163,0) -> 0 | BF163: =IF(U163="znížená",N163,0) -> 0 | BG163: =IF(U163="zákl. prenesená",N163,0) -> 0 | BH163: =IF(U163="zníž. prenesená",N163,0) -> 0 | BI163: =IF(U163="nulová",N163,0) -> 0 | BJ163: 2 | BK163: =L163*K163 -> 0
D164: K | N164: =BK164 -> 0 | U164: znížená | AT164: PN | AU164: 1 | AY164: PN | BE164: =IF(U164="základná",N164,0) -> 0 | BF164: =IF(U164="znížená",N164,0) -> 0 | BG164: =IF(U164="zákl. prenesená",N164,0) -> 0 | BH164: =IF(U164="zníž. prenesená",N164,0) -> 0 | BI164: =IF(U164="nulová",N164,0) -> 0 | BJ164: 2 | BK164: =L164*K164 -> 0
D165: K | N165: =BK165 -> 0 | U165: znížená | AT165: PN | AU165: 1 | AY165: PN | BE165: =IF(U165="základná",N165,0) -> 0 | BF165: =IF(U165="znížená",N165,0) -> 0 | BG165: =IF(U165="zákl. prenesená",N165,0) -> 0 | BH165: =IF(U165="zníž. prenesená",N165,0) -> 0 | BI165: =IF(U165="nulová",N165,0) -> 0 | BJ165: 2 | BK165: =L165*K165 -> 0
D166: K | N166: =BK166 -> 0 | U166: znížená | AT166: PN | AU166: 1 | AY166: PN | BE166: =IF(U166="základná",N166,0) -> 0 | BF166: =IF(U166="znížená",N166,0) -> 0 | BG166: =IF(U166="zákl. prenesená",N166,0) -> 0 | BH166: =IF(U166="zníž. prenesená",N166,0) -> 0 | BI166: =IF(U166="nulová",N166,0) -> 0 | BJ166: 2 | BK166: =L166*K166 -> 0

Sheet 006 - Poplachové zariaden...9.2
D1: Hárok obsahuje: | F1: 1) Krycí list rozpočtu | H1: 2) Rekapitulácia rozpočtu | L1: 3) Rozpočet | O1: Späť na hárok: | S1: Rekapitulácia stavby
C2: optimalizované pre tlač zostáv vo formáte A4 - na výšku | S2: >> skryté stĺpce << | AT2: {64ed96b1-95be-42cb-aa1c-2a1d2904f7b3}
AT3: 0
C4: KRYCÍ LIST ROZPOČTU 9.2. | T4: v --- nižšie sa nachádzajú doplnkové a pomocné údaje k zostavám --- v | AT4: False
D6: Stavba: | F6: ='Rekapitulácia stavby 9.2.'!K6 -> Poradenské centrum UKF v Nitre - zmena 12/2016
D7: Objekt: | F7: 001 - I.etapa
D8: Časť: | F8: 006 - Poplachové zariadenie narušenia
D9: JKSO: | M9: KS:
D10: Miesto: | F10: Trieda A.Hlinku 1, Nitra | M10: Dátum: | O10: ='Rekapitulácia stavby 9.2.'!AN8 -> 19. 12. 2016
D12: Objednávateľ: | M12: IČO:
E13: UKF Nitra | M13: IČO DPH:
D15: Zhotoviteľ: | M15: IČO: | O15: =IF('Rekapitulácia stavby 9.2.'!AN13="","",'Rekapitulácia stavby 9.2.'!AN13) -> Vyplň údaj
E16: =IF('Rekapitulácia stavby 9.2.'!E14="","",'Rekapitulácia stavby 9.2.'!E14) -> Vyplň údaj | M16: IČO DPH: | O16: =IF('Rekapitulácia stavby 9.2.'!AN14="","",'Rekapitulácia stavby 9.2.'!AN14) -> Vyplň údaj
D18: Projektant: | M18: IČO:
E19: SH final s.r.o. Nitra | M19: IČO DPH:
D21: Spracovateľ: | M21: IČO:
E22: Morez s.r.o. | M22: IČO DPH:
D24: Poznámka:
D28: Náklady z rozpočtu | M28: =N89 -> 0
D29: Ostatné náklady | M29: =N98 -> 0
D31: Cena bez DPH | M31: =ROUND(M28+M29,2) -> 0
D33: DPH | E33: základná | F33: 0.2 | G33: z | H33: =ROUND((((SUM(BE98:BE105)+SUM(BE124:BE152))+SUM(BE154:BE158))),2) -> 0 | M33: =ROUND(((ROUND((SUM(BE98:BE105)+SUM(BE124:BE152)), 2)*F33)+SUM(BE154:BE158)*F33),2) -> 0
E34: znížená | F34: 0.2 | G34: z | H34: =ROUND((((SUM(BF98:BF105)+SUM(BF124:BF152))+SUM(BF154:BF158))),2) -> 0 | M34: =ROUND(((ROUND((SUM(BF98:BF105)+SUM(BF124:BF152)), 2)*F34)+SUM(BF154:BF158)*F34),2) -> 0
E35: zákl. prenesená | F35: 0.2 | G35: z | H35: =ROUND((((SUM(BG98:BG105)+SUM(BG124:BG152))+SUM(BG154:BG158))),2) -> 0 | M35: 0
E36: zníž. prenesená | F36: 0.2 | G36: z | H36: =ROUND((((SUM(BH98:BH105)+SUM(BH124:BH152))+SUM(BH154:BH158))),2) -> 0 | M36: 0
E37: nulová | F37: 0 | G37: z | H37: =ROUND((((SUM(BI98:BI105)+SUM(BI124:BI152))+SUM(BI154:BI158))),2) -> 0 | M37: 0
D39: Cena s DPH | G39: v | H39: EUR | L39: =SUM(M31:M37) -> 0
D50: Projektant | J50: Spracovateľ
D59: Dátum a podpis: | G59: Pečiatka | J59: Dátum a podpis: | N59: Pečiatka
D61: Objednávateľ | J61: Zhotoviteľ
D70: Dátum a podpis: | G70: Pečiatka | J70: Dátum a podpis: | N70: Pečiatka
C76: REKAPITULÁCIA ROZPOČTU
C78: Stavba: | F78: =F6 -> Poradenské centrum UKF v Nitre - zmena 12/2016
C79: Objekt: | F79: 001 - I.etapa
C80: Časť: | F80: =F8 -> 006 - Poplachové zariadenie narušenia
C82: Miesto: | F82: =F10 -> Trieda A.Hlinku 1, Nitra | K82: Dátum: | M82: =IF(O10="","",O10) -> 19. 12. 2016
C84: Objednávateľ: | F84: =E13 -> UKF Nitra | K84: Projektant: | M84: =E19 -> SH final s.r.o. Nitra
C85: Zhotoviteľ: | F85: =IF(E16="","",E16) -> Vyplň údaj | K85: Spracovateľ: | M85: =E22 -> Morez s.r.o.
C87: Kód - Popis | N87: Cena celkom [EUR]
C89: 1) Náklady z rozpočtu | N89: =N124 -> 0 | AU89: -1
D90: M - Práce a dodávky M | N90: =N125 -> 0
D91: D1 - Zariadenia PSN DIGIPLEX EVO 192 | N91: =N126 -> 0
D92: D2 - Oživovacie a programovacie práce | N92: =N143 -> 0
D93: D3 - Vstupná odborná prehliadka a skúška | N93: =N145 -> 0
D94: D4 - Montážny materiál a práce | N94: =N147 -> 0
D95: HZS - Hodinové zúčtovacie sadzby | N95: =N150 -> 0
D96: VP - Práce naviac | N96: =N153 -> 0
C98: 2) Ostatné náklady | N98: =ROUND(N99+N100+N101+N102+N103+N104,2) -> 0 | U98: DPH
D99: GZS | N99: =ROUND(N89*T99,2) -> 0 | U99: znížená | AY99: VRN | BE99: =IF(U99="základná",N99,0) -> 0 | BF99: =IF(U99="znížená",N99,0) -> 0 | BG99: =IF(U99="zákl. prenesená",N99,0) -> 0 | BH99: =IF(U99="zníž. prenesená",N99,0) -> 0 | BI99: =IF(U99="nulová",N99,0) -> 0 | BJ99: 2
D100: Projektové práce | N100: =ROUND(N89*T100,2) -> 0 | U100: znížená | AY100: VRN | BE100: =IF(U100="základná",N100,0) -> 0 | BF100: =IF(U100="znížená",N100,0) -> 0 | BG100: =IF(U100="zákl. prenesená",N100,0) -> 0 | BH100: =IF(U100="zníž. prenesená",N100,0) -> 0 | BI100: =IF(U100="nulová",N100,0) -> 0 | BJ100: 2
D101: Sťažené podmienky | N101: =ROUND(N89*T101,2) -> 0 | U101: znížená | AY101: VRN | BE101: =IF(U101="základná",N101,0) -> 0 | BF101: =IF(U101="znížená",N101,0) -> 0 | BG101: =IF(U101="zákl. prenesená",N101,0) -> 0 | BH101: =IF(U101="zníž. prenesená",N101,0) -> 0 | BI101: =IF(U101="nulová",N101,0) -> 0 | BJ101: 2
D102: Vplyv prostredia | N102: =ROUND(N89*T102,2) -> 0 | U102: znížená | AY102: VRN | BE102: =IF(U102="základná",N102,0) -> 0 | BF102: =IF(U102="znížená",N102,0) -> 0 | BG102: =IF(U102="zákl. prenesená",N102,0) -> 0 | BH102: =IF(U102="zníž. prenesená",N102,0) -> 0 | BI102: =IF(U102="nulová",N102,0) -> 0 | BJ102: 2
D103: Iné VRN | N103: =ROUND(N89*T103,2) -> 0 | U103: znížená | AY103: VRN | BE103: =IF(U103="základná",N103,0) -> 0 | BF103: =IF(U103="znížená",N103,0) -> 0 | BG103: =IF(U103="zákl. prenesená",N103,0) -> 0 | BH103: =IF(U103="zníž. prenesená",N103,0) -> 0 | BI103: =IF(U103="nulová",N103,0) -> 0 | BJ103: 2
D104: Kompletačná činnosť | N104: =ROUND(N89*T104,2) -> 0 | U104: znížená | AY104: KOMPLETACNA | BE104: =IF(U104="základná",N104,0) -> 0 | BF104: =IF(U104="znížená",N104,0) -> 0 | BG104: =IF(U104="zákl. prenesená",N104,0) -> 0 | BH104: =IF(U104="zníž. prenesená",N104,0) -> 0 | BI104: =IF(U104="nulová",N104,0) -> 0 | BJ104: 2
C106: Celkové náklady za stavbu 1) + 2) | L106: =ROUND(SUM(N89+N98),2) -> 0
C112: ROZPOČET
C114: Stavba: | F114: =F6 -> Poradenské centrum UKF v Nitre - zmena 12/2016
C115: Objekt: | F115: 001 - I.etapa
C116: Časť: | F116: =F8 -> 006 - Poplachové zariadenie narušenia
C118: Miesto: | F118: =F10 -> Trieda A.Hlinku 1, Nitra | K118: Dátum: | M118: =IF(O10="","",O10) -> 19. 12. 2016
C120: Objednávateľ: | F120: =E13 -> UKF Nitra | K120: Projektant: | M120: =E19 -> SH final s.r.o. Nitra
C121: Zhotoviteľ: | F121: =IF(E16="","",E16) -> Vyplň údaj | K121: Spracovateľ: | M121: =E22 -> Morez s.r.o.
C123: PČ | D123: Typ | E123: Kód | F123: Popis | J123: MJ | K123: Množstvo | L123: J.cena [EUR] | N123: Cena celkom [EUR] | T123: Poznámka | U123: DPH | V123: J. Nh [h] | W123: Nh celkom [h] | X123: J. hmotnosť_x000D_ [t] | Y123: Hmotnosť_x000D_ celkom [t] | Z123: J. suť [t] | AA123: Suť Celkom [t]
C124: Náklady z rozpočtu | N124: =BK124 -> 0 | W124: =W125+W150+W153 -> 0 | Y124: =Y125+Y150+Y153 -> 0 | AA124: =AA125+AA150+AA153 -> 0 | AT124: D | AU124: -1 | BK124: =BK125+BK150+BK153 -> 0
D125: M - Práce a dodávky M | N125: =BK125 -> 0 | W125: =W126+W143+W145+W147 -> 0 | Y125: =Y126+Y143+Y145+Y147 -> 0 | AA125: =AA126+AA143+AA145+AA147 -> 0 | AR125: 1 | AT125: D | AU125: 0 | AY125: ROZPOCET | BK125: =BK126+BK143+BK145+BK147 -> 0
D126: D1 - Zariadenia PSN DIGIPLEX EVO 192 | N126: =BK126 -> 0 | W126: =SUM(W127:W142) -> 0 | Y126: =SUM(Y127:Y142) -> 0 | AA126: =SUM(AA127:AA142) -> 0 | AR126: 1 | AT126: D | AU126: 1 | AY126: ROZPOCET | BK126: =SUM(BK127:BK142) -> 0
C127: 1 | D127: M | E127: EVO 192 | F127: Ústredňa 16/192 zón, 8 oblasti, 999 užívatelov | J127: ks/m | K127: 1 | L127: 0 | N127: =ROUND(L127*K127,3) -> 0 | U127: znížená | W127: =V127*K127 -> 0 | X127: 0 | Y127: =X127*K127 -> 0 | Z127: 0 | AA127: =Z127*K127 -> 0 | AR127: 8 | AT127: M | AU127: 2 | AY127: ROZPOCET | BE127: =IF(U127="základná",N127,0) -> 0 | BF127: =IF(U127="znížená",N127,0) -> 0 | BG127: =IF(U127="zákl. prenesená",N127,0) -> 0 | BH127: =IF(U127="zníž. prenesená",N127,0) -> 0 | BI127: =IF(U127="nulová",N127,0) -> 0 | BJ127: 2 | BK127: =ROUND(L127*K127,3) -> 0 | BL127: 4 | BM127: 2
C128: 2 | D128: K | E128: Pol145 | F128: montáž | J128: ks/m | K128: 1 | L128: 0 | N128: =ROUND(L128*K128,3) -> 0 | U128: znížená | W128: =V128*K128 -> 0 | X128: 0 | Y128: =X128*K128 -> 0 | Z128: 0 | AA128: =Z128*K128 -> 0 | AR128: 4 | AT128: K | AU128: 2 | AY128: ROZPOCET | BE128: =IF(U128="základná",N128,0) -> 0 | BF128: =IF(U128="znížená",N128,0) -> 0 | BG128: =IF(U128="zákl. prenesená",N128,0) -> 0 | BH128: =IF(U128="zníž. prenesená",N128,0) -> 0 | BI128: =IF(U128="nulová",N128,0) -> 0 | BJ128: 2 | BK128: =ROUND(L128*K128,3) -> 0 | BL128: 4 | BM128: 4
C129: 3 | D129: M | E129: K641 | F129: klávesnica LCD | J129: ks/m | K129: 1 | L129: 0 | N129: =ROUND(L129*K129,3) -> 0 | U129: znížená | W129: =V129*K129 -> 0 | X129: 0 | Y129: =X129*K129 -> 0 | Z129: 0 | AA129: =Z129*K129 -> 0 | AR129: 8 | AT129: M | AU129: 2 | AY129: ROZPOCET | BE129: =IF(U129="základná",N129,0) -> 0 | BF129: =IF(U129="znížená",N129,0) -> 0 | BG129: =IF(U129="zákl. prenesená",N129,0) -> 0 | BH129: =IF(U129="zníž. prenesená",N129,0) -> 0 | BI129: =IF(U129="nulová",N129,0) -> 0 | BJ129: 2 | BK129: =ROUND(L129*K129,3) -> 0 | BL129: 4 | BM129: 6
C130: 4 | D130: K | E130: Pol146 | F130: montáž | J130: ks/m | K130: 1 | L130: 0 | N130: =ROUND(L130*K130,3) -> 0 | U130: znížená | W130: =V130*K130 -> 0 | X130: 0 | Y130: =X130*K130 -> 0 | Z130: 0 | AA130: =Z130*K130 -> 0 | AR130: 4 | AT130: K | AU130: 2 | AY130: ROZPOCET | BE130: =IF(U130="základná",N130,0) -> 0 | BF130: =IF(U130="znížená",N130,0) -> 0 | BG130: =IF(U130="zákl. prenesená",N130,0) -> 0 | BH130: =IF(U130="zníž. prenesená",N130,0) -> 0 | BI130: =IF(U130="nulová",N130,0) -> 0 | BJ130: 2 | BK130: =ROUND(L130*K130,3) -> 0 | BL130: 4 | BM130: 8
C131: 5 | D131: M | E131: DM 50 | F131: Zbernicový digitálny PIR snímač interierový | J131: ks/m | K131: 9 | L131: 0 | N131: =ROUND(L131*K131,3) -> 0 | U131: znížená | W131: =V131*K131 -> 0 | X131: 0 | Y131: =X131*K131 -> 0 | Z131: 0 | AA131: =Z131*K131 -> 0 | AR131: 8 | AT131: M | AU131: 2 | AY131: ROZPOCET | BE131: =IF(U131="základná",N131,0) -> 0 | BF131: =IF(U131="znížená",N131,0) -> 0 | BG131: =IF(U131="zákl. prenesená",N131,0) -> 0 | BH131: =IF(U131="zníž. prenesená",N131,0) -> 0 | BI131: =IF(U131="nulová",N131,0) -> 0 | BJ131: 2 | BK131: =ROUND(L131*K131,3) -> 0 | BL131: 4 | BM131: 464359998
C132: 6 | D132: K | E132: Pol147 | F132: montáž | J132: ks/m | K132: 9 | L132: 0 | N132: =ROUND(L132*K132,3) -> 0 | U132: znížená | W132: =V132*K132 -> 0 | X132: 0 | Y132: =X132*K132 -> 0 | Z132: 0 | AA132: =Z132*K132 -> 0 | AR132: 4 | AT132: K | AU132: 2 | AY132: ROZPOCET | BE132: =IF(U132="základná",N132,0) -> 0 | BF132: =IF(U132="znížená",N132,0) -> 0 | BG132: =IF(U132="zákl. prenesená",N132,0) -> 0 | BH132: =IF(U132="zníž. prenesená",N132,0) -> 0 | BI132: =IF(U132="nulová",N132,0) -> 0 | BJ132: 2 | BK132: =ROUND(L132*K132,3) -> 0 | BL132: 4 | BM132: -778880610
C133: 7 | D133: M | E133: PRO | F133: Magneticky kontakt | J133: ks/m | K133: 1 | L133: 0 | N133: =ROUND(L133*K133,3) -> 0 | U133: znížená | W133: =V133*K133 -> 0 | X133: 0 | Y133: =X133*K133 -> 0 | Z133: 0 | AA133: =Z133*K133 -> 0 | AR133: 8 | AT133: M | AU133: 2 | AY133: ROZPOCET | BE133: =IF(U133="základná",N133,0) -> 0 | BF133: =IF(U133="znížená",N133,0) -> 0 | BG133: =IF(U133="zákl. prenesená",N133,0) -> 0 | BH133: =IF(U133="zníž. prenesená",N133,0) -> 0 | BI133: =IF(U133="nulová",N133,0) -> 0 | BJ133: 2 | BK133: =ROUND(L133*K133,3) -> 0 | BL133: 4 | BM133: 14
C134: 8 | D134: K | E134: Pol147 | F134: montáž | J134: ks/m | K134: 1 | L134: 0 | N134: =ROUND(L134*K134,3) -> 0 | U134: znížená | W134: =V134*K134 -> 0 | X134: 0 | Y134: =X134*K134 -> 0 | Z134: 0 | AA134: =Z134*K134 -> 0 | AR134: 4 | AT134: K | AU134: 2 | AY134: ROZPOCET | BE134: =IF(U134="základná",N134,0) -> 0 | BF134: =IF(U134="znížená",N134,0) -> 0 | BG134: =IF(U134="zákl. prenesená",N134,0) -> 0 | BH134: =IF(U134="zníž. prenesená",N134,0) -> 0 | BI134: =IF(U134="nulová",N134,0) -> 0 | BJ134: 2 | BK134: =ROUND(L134*K134,3) -> 0 | BL134: 4 | BM134: 16
C135: 9 | D135: M | E135: VDMP3 | F135: hlasový modul pre PCS 200 | J135: ks/m | K135: 1 | L135: 0 | N135: =ROUND(L135*K135,3) -> 0 | U135: znížená | W135: =V135*K135 -> 0 | X135: 0 | Y135: =X135*K135 -> 0 | Z135: 0 | AA135: =Z135*K135 -> 0 | AR135: 8 | AT135: M | AU135: 2 | AY135: ROZPOCET | BE135: =IF(U135="základná",N135,0) -> 0 | BF135: =IF(U135="znížená",N135,0) -> 0 | BG135: =IF(U135="zákl. prenesená",N135,0) -> 0 | BH135: =IF(U135="zníž. prenesená",N135,0) -> 0 | BI135: =IF(U135="nulová",N135,0) -> 0 | BJ135: 2 | BK135: =ROUND(L135*K135,3) -> 0 | BL135: 4 | BM135: 18
C136: 10 | D136: K | E136: Pol148 | F136: montáž | J136: ks/m | K136: 1 | L136: 0 | N136: =ROUND(L136*K136,3) -> 0 | U136: znížená | W136: =V136*K136 -> 0 | X136: 0 | Y136: =X136*K136 -> 0 | Z136: 0 | AA136: =Z136*K136 -> 0 | AR136: 4 | AT136: K | AU136: 2 | AY136: ROZPOCET | BE136: =IF(U136="základná",N136,0) -> 0 | BF136: =IF(U136="znížená",N136,0) -> 0 | BG136: =IF(U136="zákl. prenesená",N136,0) -> 0 | BH136: =IF(U136="zníž. prenesená",N136,0) -> 0 | BI136: =IF(U136="nulová",N136,0) -> 0 | BJ136: 2 | BK136: =ROUND(L136*K136,3) -> 0 | BL136: 4 | BM136: 20
C137: 11 | D137: M | E137: PCS250 | F137: Komunikátor GSM / GPRS | J137: ks/m | K137: 1 | L137: 0 | N137: =ROUND(L137*K137,3) -> 0 | U137: znížená | W137: =V137*K137 -> 0 | X137: 0 | Y137: =X137*K137 -> 0 | Z137: 0 | AA137: =Z137*K137 -> 0 | AR137: 8 | AT137: M | AU137: 2 | AY137: ROZPOCET | BE137: =IF(U137="základná",N137,0) -> 0 | BF137: =IF(U137="znížená",N137,0) -> 0 | BG137: =IF(U137="zákl. prenesená",N137,0) -> 0 | BH137: =IF(U137="zníž. prenesená",N137,0) -> 0 | BI137: =IF(U137="nulová",N137,0) -> 0 | BJ137: 2 | BK137: =ROUND(L137*K137,3) -> 0 | BL137: 4 | BM137: 22
C138: 12 | D138: K | E138: Pol146 | F138: montáž | J138: ks/m | K138: 1 | L138: 0 | N138: =ROUND(L138*K138,3) -> 0 | U138: znížená | W138: =V138*K138 -> 0 | X138: 0 | Y138: =X138*K138 -> 0 | Z138: 0 | AA138: =Z138*K138 -> 0 | AR138: 4 | AT138: K | AU138: 2 | AY138: ROZPOCET | BE138: =IF(U138="základná",N138,0) -> 0 | BF138: =IF(U138="znížená",N138,0) -> 0 | BG138: =IF(U138="zákl. prenesená",N138,0) -> 0 | BH138: =IF(U138="zníž. prenesená",N138,0) -> 0 | BI138: =IF(U138="nulová",N138,0) -> 0 | BJ138: 2 | BK138: =ROUND(L138*K138,3) -> 0 | BL138: 4 | BM138: 24
... C142: 16 | D142: K | E142: Pol149 | F142: montáž | J142: ks/m | K142: 1 | L142: 0 | N142: =ROUND(L142*K142,3) -> 0 | U142: znížená | W142: =V142*K142 -> 0 | X142: 0 | Y142: =X142*K142 -> 0 | Z142: 0 | AA142: =Z142*K142 -> 0 | AR142: 4 | AT142: K | AU142: 2 | AY142: ROZPOCET | BE142: =IF(U142="základná",N142,0) -> 0 | BF142: =IF(U142="znížená",N142,0) -> 0 | BG142: =IF(U142="zákl. prenesená",N142,0) -> 0 | BH142: =IF(U142="zníž. prenesená",N142,0) -> 0 | BI142: =IF(U142="nulová",N142,0) -> 0 | BJ142: 2 | BK142: =ROUND(L142*K142,3) -> 0 | BL142: 4 | BM142: 32
D143: D2 - Oživovacie a programovacie práce | N143: =BK143 -> 0 | W143: =W144 -> 0 | Y143: =Y144 -> 0 | AA143: =AA144 -> 0 | AR143: 1 | AT143: D | AU143: 1 | AY143: ROZPOCET | BK143: =BK144 -> 0
C144: 17 | D144: K | E144: Pol150 | F144: Oživenie systému PSN DIGIPLEX EVO 192 | J144: ks/m | K144: 1 | L144: 0 | N144: =ROUND(L144*K144,3) -> 0 | U144: znížená | W144: =V144*K144 -> 0 | X144: 0 | Y144: =X144*K144 -> 0 | Z144: 0 | AA144: =Z144*K144 -> 0 | AR144: 4 | AT144: K | AU144: 2 | AY144: ROZPOCET | BE144: =IF(U144="základná",N144,0) -> 0 | BF144: =IF(U144="znížená",N144,0) -> 0 | BG144: =IF(U144="zákl. prenesená",N144,0) -> 0 | BH144: =IF(U144="zníž. prenesená",N144,0) -> 0 | BI144: =IF(U144="nulová",N144,0) -> 0 | BJ144: 2 | BK144: =ROUND(L144*K144,3) -> 0 | BL144: 4 | BM144: 34
D145: D3 - Vstupná odborná prehliadka a skúška | N145: =BK145 -> 0 | W145: =W146 -> 0 | Y145: =Y146 -> 0 | AA145: =AA146 -> 0 | AR145: 1 | AT145: D | AU145: 1 | AY145: ROZPOCET | BK145: =BK146 -> 0
C146: 18 | D146: K | E146: Pol151 | F146: Vstupná odborná prehliadka a skúška | J146: ks/m | K146: 1 | L146: 0 | N146: =ROUND(L146*K146,3) -> 0 | U146: znížená | W146: =V146*K146 -> 0 | X146: 0 | Y146: =X146*K146 -> 0 | Z146: 0 | AA146: =Z146*K146 -> 0 | AR146: 4 | AT146: K | AU146: 2 | AY146: ROZPOCET | BE146: =IF(U146="základná",N146,0) -> 0 | BF146: =IF(U146="znížená",N146,0) -> 0 | BG146: =IF(U146="zákl. prenesená",N146,0) -> 0 | BH146: =IF(U146="zníž. prenesená",N146,0) -> 0 | BI146: =IF(U146="nulová",N146,0) -> 0 | BJ146: 2 | BK146: =ROUND(L146*K146,3) -> 0 | BL146: 4 | BM146: 36
D147: D4 - Montážny materiál a práce | N147: =BK147 -> 0 | W147: =SUM(W148:W149) -> 0 | Y147: =SUM(Y148:Y149) -> 0 | AA147: =SUM(AA148:AA149) -> 0 | AR147: 1 | AT147: D | AU147: 1 | AY147: ROZPOCET | BK147: =SUM(BK148:BK149) -> 0
C148: 19 | D148: M | E148: 220280221p | F148: kábel pre hlásnu líniu SYKFY 3x2x0,5, žľab/trubka | J148: ks/m | K148: 250 | L148: 0 | N148: =ROUND(L148*K148,3) -> 0 | U148: znížená | W148: =V148*K148 -> 0 | X148: 0 | Y148: =X148*K148 -> 0 | Z148: 0 | AA148: =Z148*K148 -> 0 | AR148: 8 | AT148: M | AU148: 2 | AY148: ROZPOCET | BE148: =IF(U148="základná",N148,0) -> 0 | BF148: =IF(U148="znížená",N148,0) -> 0 | BG148: =IF(U148="zákl. prenesená",N148,0) -> 0 | BH148: =IF(U148="zníž. prenesená",N148,0) -> 0 | BI148: =IF(U148="nulová",N148,0) -> 0 | BJ148: 2 | BK148: =ROUND(L148*K148,3) -> 0 | BL148: 4 | BM148: 38
C149: 20 | D149: K | E149: Pol152 | F149: montáž | J149: ks/m | K149: 250 | L149: 0 | N149: =ROUND(L149*K149,3) -> 0 | U149: znížená | W149: =V149*K149 -> 0 | X149: 0 | Y149: =X149*K149 -> 0 | Z149: 0 | AA149: =Z149*K149 -> 0 | AR149: 4 | AT149: K | AU149: 2 | AY149: ROZPOCET | BE149: =IF(U149="základná",N149,0) -> 0 | BF149: =IF(U149="znížená",N149,0) -> 0 | BG149: =IF(U149="zákl. prenesená",N149,0) -> 0 | BH149: =IF(U149="zníž. prenesená",N149,0) -> 0 | BI149: =IF(U149="nulová",N149,0) -> 0 | BJ149: 2 | BK149: =ROUND(L149*K149,3) -> 0 | BL149: 4 | BM149: 40
D150: HZS - Hodinové zúčtovacie sadzby | N150: =BK150 -> 0 | W150: =SUM(W151:W152) -> 0 | Y150: =SUM(Y151:Y152) -> 0 | AA150: =SUM(AA151:AA152) -> 0 | AR150: 4 | AT150: D | AU150: 0 | AY150: ROZPOCET | BK150: =SUM(BK151:BK152) -> 0
C151: 21 | D151: K | E151: HZS000101 | F151: Zaškolenie obsluhy, riadenie a managment prostrdníctvom PC | J151: hod | K151: 1 | L151: 0 | N151: =ROUND(L151*K151,3) -> 0 | U151: znížená | W151: =V151*K151 -> 0 | X151: 0 | Y151: =X151*K151 -> 0 | Z151: 0 | AA151: =Z151*K151 -> 0 | AR151: 512 | AT151: K | AU151: 1 | AY151: ROZPOCET | BE151: =IF(U151="základná",N151,0) -> 0 | BF151: =IF(U151="znížená",N151,0) -> 0 | BG151: =IF(U151="zákl. prenesená",N151,0) -> 0 | BH151: =IF(U151="zníž. prenesená",N151,0) -> 0 | BI151: =IF(U151="nulová",N151,0) -> 0 | BJ151: 2 | BK151: =ROUND(L151*K151,3) -> 0 | BL151: 512 | BM151: 1690650965
C152: 22 | D152: K | E152: HZS000102 | F152: Projektová dokumentácia - projekt skutočného vyhotovenia | J152: hod | K152: 5 | L152: 0 | N152: =ROUND(L152*K152,3) -> 0 | U152: znížená | W152: =V152*K152 -> 0 | X152: 0 | Y152: =X152*K152 -> 0 | Z152: 0 | AA152: =Z152*K152 -> 0 | AR152: 512 | AT152: K | AU152: 1 | AY152: ROZPOCET | BE152: =IF(U152="základná",N152,0) -> 0 | BF152: =IF(U152="znížená",N152,0) -> 0 | BG152: =IF(U152="zákl. prenesená",N152,0) -> 0 | BH152: =IF(U152="zníž. prenesená",N152,0) -> 0 | BI152: =IF(U152="nulová",N152,0) -> 0 | BJ152: 2 | BK152: =ROUND(L152*K152,3) -> 0 | BL152: 512 | BM152: 187690285
D153: VP - Práce naviac | N153: =BK153 -> 0 | AT153: D | AU153: 0 | AY153: PN | BK153: =SUM(BK154:BK158) -> 0
D154: K | N154: =BK154 -> 0 | U154: znížená | AT154: PN | AU154: 1 | AY154: PN | BE154: =IF(U154="základná",N154,0) -> 0 | BF154: =IF(U154="znížená",N154,0) -> 0 | BG154: =IF(U154="zákl. prenesená",N154,0) -> 0 | BH154: =IF(U154="zníž. prenesená",N154,0) -> 0 | BI154: =IF(U154="nulová",N154,0) -> 0 | BJ154: 2 | BK154: =L154*K154 -> 0
D155: K | N155: =BK155 -> 0 | U155: znížená | AT155: PN | AU155: 1 | AY155: PN | BE155: =IF(U155="základná",N155,0) -> 0 | BF155: =IF(U155="znížená",N155,0) -> 0 | BG155: =IF(U155="zákl. prenesená",N155,0) -> 0 | BH155: =IF(U155="zníž. prenesená",N155,0) -> 0 | BI155: =IF(U155="nulová",N155,0) -> 0 | BJ155: 2 | BK155: =L155*K155 -> 0
D156: K | N156: =BK156 -> 0 | U156: znížená | AT156: PN | AU156: 1 | AY156: PN | BE156: =IF(U156="základná",N156,0) -> 0 | BF156: =IF(U156="znížená",N156,0) -> 0 | BG156: =IF(U156="zákl. prenesená",N156,0) -> 0 | BH156: =IF(U156="zníž. prenesená",N156,0) -> 0 | BI156: =IF(U156="nulová",N156,0) -> 0 | BJ156: 2 | BK156: =L156*K156 -> 0
D157: K | N157: =BK157 -> 0 | U157: znížená | AT157: PN | AU157: 1 | AY157: PN | BE157: =IF(U157="základná",N157,0) -> 0 | BF157: =IF(U157="znížená",N157,0) -> 0 | BG157: =IF(U157="zákl. prenesená",N157,0) -> 0 | BH157: =IF(U157="zníž. prenesená",N157,0) -> 0 | BI157: =IF(U157="nulová",N157,0) -> 0 | BJ157: 2 | BK157: =L157*K157 -> 0
D158: K | N158: =BK158 -> 0 | U158: znížená | AT158: PN | AU158: 1 | AY158: PN | BE158: =IF(U158="základná",N158,0) -> 0 | BF158: =IF(U158="znížená",N158,0) -> 0 | BG158: =IF(U158="zákl. prenesená",N158,0) -> 0 | BH158: =IF(U158="zníž. prenesená",N158,0) -> 0 | BI158: =IF(U158="nulová",N158,0) -> 0 | BJ158: 2 | BK158: =L158*K158 -> 0

Sheet 007 - Štrukturovaná kabeláž 9.2
D1: Hárok obsahuje: | F1: 1) Krycí list rozpočtu | H1: 2) Rekapitulácia rozpočtu | L1: 3) Rozpočet | O1: Späť na hárok: | S1: Rekapitulácia stavby
C2: optimalizované pre tlač zostáv vo formáte A4 - na výšku | S2: >> skryté stĺpce << | AT2: {6f53eee6-2d88-4d08-9ffb-aca62f36a450}
AT3: 0
C4: KRYCÍ LIST ROZPOČTU 9.2. | T4: v --- nižšie sa nachádzajú doplnkové a pomocné údaje k zostavám --- v | AT4: False
D6: Stavba: | F6: ='Rekapitulácia stavby 9.2.'!K6 -> Poradenské centrum UKF v Nitre - zmena 12/2016
D7: Objekt: | F7: 001 - I.etapa
D8: Časť: | F8: 007 - Štrukturovaná kabeláž
D9: JKSO: | M9: KS:
D10: Miesto: | F10: Trieda A.Hlinku 1, Nitra | M10: Dátum: | O10: ='Rekapitulácia stavby 9.2.'!AN8 -> 19. 12. 2016
D12: Objednávateľ: | M12: IČO:
E13: UKF Nitra | M13: IČO DPH:
D15: Zhotoviteľ: | M15: IČO: | O15: =IF('Rekapitulácia stavby 9.2.'!AN13="","",'Rekapitulácia stavby 9.2.'!AN13) -> Vyplň údaj
E16: =IF('Rekapitulácia stavby 9.2.'!E14="","",'Rekapitulácia stavby 9.2.'!E14) -> Vyplň údaj | M16: IČO DPH: | O16: =IF('Rekapitulácia stavby 9.2.'!AN14="","",'Rekapitulácia stavby 9.2.'!AN14) -> Vyplň údaj
D18: Projektant: | M18: IČO:
E19: SH final s.r.o. Nitra | M19: IČO DPH:
D21: Spracovateľ: | M21: IČO:
E22: Morez s.r.o. | M22: IČO DPH:
D24: Poznámka:
D28: Náklady z rozpočtu | M28: =N89 -> 0
D29: Ostatné náklady | M29: =N94 -> 0
D31: Cena bez DPH | M31: =ROUND(M28+M29,L392) -> 0
D33: DPH | E33: základná | F33: 0.2 | G33: z | H33: =ROUND((((SUM(BE94:BE101)+SUM(BE120:BE166))+SUM(BE168:BE172))),2) -> 0 | M33: =ROUND(((ROUND((SUM(BE94:BE101)+SUM(BE120:BE166)), 2)*F33)+SUM(BE168:BE172)*F33),2) -> 0
E34: znížená | F34: 0.2 | G34: z | H34: =ROUND((((SUM(BF94:BF101)+SUM(BF120:BF166))+SUM(BF168:BF172))),2) -> 0 | M34: =ROUND(((ROUND((SUM(BF94:BF101)+SUM(BF120:BF166)), 2)*F34)+SUM(BF168:BF172)*F34),2) -> 0
E35: zákl. prenesená | F35: 0.2 | G35: z | H35: =ROUND((((SUM(BG94:BG101)+SUM(BG120:BG166))+SUM(BG168:BG172))),2) -> 0 | M35: 0
E36: zníž. prenesená | F36: 0.2 | G36: z | H36: =ROUND((((SUM(BH94:BH101)+SUM(BH120:BH166))+SUM(BH168:BH172))),2) -> 0 | M36: 0
E37: nulová | F37: 0 | G37: z | H37: =ROUND((((SUM(BI94:BI101)+SUM(BI120:BI166))+SUM(BI168:BI172))),2) -> 0 | M37: 0
D39: Cena s DPH | G39: v | H39: EUR | L39: =SUM(M31:M37) -> 0
D50: Projektant | J50: Spracovateľ
D59: Dátum a podpis: | G59: Pečiatka | J59: Dátum a podpis: | N59: Pečiatka
D61: Objednávateľ | J61: Zhotoviteľ
D70: Dátum a podpis: | G70: Pečiatka | J70: Dátum a podpis: | N70: Pečiatka
C76: REKAPITULÁCIA ROZPOČTU
C78: Stavba: | F78: =F6 -> Poradenské centrum UKF v Nitre - zmena 12/2016
C79: Objekt: | F79: 001 - I.etapa
C80: Časť: | F80: =F8 -> 007 - Štrukturovaná kabeláž
C82: Miesto: | F82: =F10 -> Trieda A.Hlinku 1, Nitra | K82: Dátum: | M82: =IF(O10="","",O10) -> 19. 12. 2016
C84: Objednávateľ: | F84: =E13 -> UKF Nitra | K84: Projektant: | M84: =E19 -> SH final s.r.o. Nitra
C85: Zhotoviteľ: | F85: =IF(E16="","",E16) -> Vyplň údaj | K85: Spracovateľ: | M85: =E22 -> Morez s.r.o.
C87: Kód - Popis | N87: Cena celkom [EUR]
C89: 1) Náklady z rozpočtu | N89: =N120 -> 0 | AU89: -1
D90: M - Práce a dodávky M | N90: =N121 -> 0
D91: SK - Štrukturovaná kabeláž | N91: =N122 -> 0
D92: VP - Práce naviac | N92: =N167 -> 0
C94: 2) Ostatné náklady | N94: =ROUND(N95+N96+N97+N98+N99+N100,2) -> 0 | U94: DPH
D95: GZS | N95: =ROUND(N89*T95,2) -> 0 | U95: znížená | AY95: VRN | BE95: =IF(U95="základná",N95,0) -> 0 | BF95: =IF(U95="znížená",N95,0) -> 0 | BG95: =IF(U95="zákl. prenesená",N95,0) -> 0 | BH95: =IF(U95="zníž. prenesená",N95,0) -> 0 | BI95: =IF(U95="nulová",N95,0) -> 0 | BJ95: 2
D96: Projektové práce | N96: =ROUND(N89*T96,2) -> 0 | U96: znížená | AY96: VRN | BE96: =IF(U96="základná",N96,0) -> 0 | BF96: =IF(U96="znížená",N96,0) -> 0 | BG96: =IF(U96="zákl. prenesená",N96,0) -> 0 | BH96: =IF(U96="zníž. prenesená",N96,0) -> 0 | BI96: =IF(U96="nulová",N96,0) -> 0 | BJ96: 2
D97: Sťažené podmienky | N97: =ROUND(N89*T97,2) -> 0 | U97: znížená | AY97: VRN | BE97: =IF(U97="základná",N97,0) -> 0 | BF97: =IF(U97="znížená",N97,0) -> 0 | BG97: =IF(U97="zákl. prenesená",N97,0) -> 0 | BH97: =IF(U97="zníž. prenesená",N97,0) -> 0 | BI97: =IF(U97="nulová",N97,0) -> 0 | BJ97: 2
D98: Vplyv prostredia | N98: =ROUND(N89*T98,2) -> 0 | U98: znížená | AY98: VRN | BE98: =IF(U98="základná",N98,0) -> 0 | BF98: =IF(U98="znížená",N98,0) -> 0 | BG98: =IF(U98="zákl. prenesená",N98,0) -> 0 | BH98: =IF(U98="zníž. prenesená",N98,0) -> 0 | BI98: =IF(U98="nulová",N98,0) -> 0 | BJ98: 2
D99: Iné VRN | N99: =ROUND(N89*T99,2) -> 0 | U99: znížená | AY99: VRN | BE99: =IF(U99="základná",N99,0) -> 0 | BF99: =IF(U99="znížená",N99,0) -> 0 | BG99: =IF(U99="zákl. prenesená",N99,0) -> 0 | BH99: =IF(U99="zníž. prenesená",N99,0) -> 0 | BI99: =IF(U99="nulová",N99,0) -> 0 | BJ99: 2
D100: Kompletačná činnosť | N100: =ROUND(N89*T100,2) -> 0 | U100: znížená | AY100: KOMPLETACNA | BE100: =IF(U100="základná",N100,0) -> 0 | BF100: =IF(U100="znížená",N100,0) -> 0 | BG100: =IF(U100="zákl. prenesená",N100,0) -> 0 | BH100: =IF(U100="zníž. prenesená",N100,0) -> 0 | BI100: =IF(U100="nulová",N100,0) -> 0 | BJ100: 2
C102: Celkové náklady za stavbu 1) + 2) | L102: =ROUND(SUM(N89+N94),2) -> 0
C108: ROZPOČET
C110: Stavba: | F110: =F6 -> Poradenské centrum UKF v Nitre - zmena 12/2016
C111: Objekt: | F111: 001 - I.etapa
C112: Časť: | F112: =F8 -> 007 - Štrukturovaná kabeláž
C114: Miesto: | F114: =F10 -> Trieda A.Hlinku 1, Nitra | K114: Dátum: | M114: =IF(O10="","",O10) -> 19. 12. 2016
C116: Objednávateľ: | F116: =E13 -> UKF Nitra | K116: Projektant: | M116: =E19 -> SH final s.r.o. Nitra
C117: Zhotoviteľ: | F117: =IF(E16="","",E16) -> Vyplň údaj | K117: Spracovateľ: | M117: =E22 -> Morez s.r.o.
C119: PČ | D119: Typ | E119: Kód | F119: Popis | J119: MJ | K119: Množstvo | L119: J.cena [EUR] | N119: Cena celkom [EUR] | T119: Poznámka | U119: DPH | V119: J. Nh [h] | W119: Nh celkom [h] | X119: J. hmotnosť_x000D_ [t] | Y119: Hmotnosť_x000D_ celkom [t] | Z119: J. suť [t] | AA119: Suť Celkom [t]
C120: Náklady z rozpočtu | N120: =BK120 -> 0 | W120: =W121+W167 -> 0 | Y120: =Y121+Y167 -> 0 | AA120: =AA121+AA167 -> 0 | AT120: D | AU120: -1 | BK120: =BK121+BK167 -> 0
D121: M - Práce a dodávky M | N121: =BK121 -> 0 | W121: =W122 -> 0 | Y121: =Y122 -> 0 | AA121: =AA122 -> 0 | AR121: 1 | AT121: D | AU121: 0 | AY121: ROZPOCET | BK121: =BK122 -> 0
D122: SK - Štrukturovaná kabeláž | N122: =BK122 -> 0 | W122: =SUM(W123:W166) -> 0 | Y122: =SUM(Y123:Y166) -> 0 | AA122: =SUM(AA123:AA166) -> 0 | AR122: 1 | AT122: D | AU122: 1 | AY122: ROZPOCET | BK122: =SUM(BK123:BK166) -> 0
C123: 1 | D123: M | E123: legrand | F123: zásuvka rj.45 cat. 6 Valena s rámčekom a montážnou doskou biela | J123: ks/m | K123: 15 | L123: 0 | N123: =ROUND(L123*K123,3) -> 0 | U123: znížená | W123: =V123*K123 -> 0 | X123: 0 | Y123: =X123*K123 -> 0 | Z123: 0 | AA123: =Z123*K123 -> 0 | AR123: 8 | AT123: M | AU123: 2 | AY123: ROZPOCET | BE123: =IF(U123="základná",N123,0) -> 0 | BF123: =IF(U123="znížená",N123,0) -> 0 | BG123: =IF(U123="zákl. prenesená",N123,0) -> 0 | BH123: =IF(U123="zníž. prenesená",N123,0) -> 0 | BI123: =IF(U123="nulová",N123,0) -> 0 | BJ123: 2 | BK123: =ROUND(L123*K123,3) -> 0 | BL123: 4 | BM123: 2
C124: 0 | D124: K | E124: Pol153 | F124: montáž | J124: ks/m | K124: 15 | L124: 0 | N124: =ROUND(L124*K124,3) -> 0 | U124: znížená | W124: =V124*K124 -> 0 | X124: 0 | Y124: =X124*K124 -> 0 | Z124: 0 | AA124: =Z124*K124 -> 0 | AR124: 4 | AT124: K | AU124: 2 | AY124: ROZPOCET | BE124: =IF(U124="základná",N124,0) -> 0 | BF124: =IF(U124="znížená",N124,0) -> 0 | BG124: =IF(U124="zákl. prenesená",N124,0) -> 0 | BH124: =IF(U124="zníž. prenesená",N124,0) -> 0 | BI124: =IF(U124="nulová",N124,0) -> 0 | BJ124: 2 | BK124: =ROUND(L124*K124,3) -> 0 | BL124: 4 | BM124: 4
C125: 2 | D125: M | E125: Pol154 | F125: patch panel cat.6 24 port. Tienený | J125: ks/m | K125: 2 | L125: 0 | N125: =ROUND(L125*K125,3) -> 0 | U125: znížená | W125: =V125*K125 -> 0 | X125: 0 | Y125: =X125*K125 -> 0 | Z125: 0 | AA125: =Z125*K125 -> 0 | AR125: 8 | AT125: M | AU125: 2 | AY125: ROZPOCET | BE125: =IF(U125="základná",N125,0) -> 0 | BF125: =IF(U125="znížená",N125,0) -> 0 | BG125: =IF(U125="zákl. prenesená",N125,0) -> 0 | BH125: =IF(U125="zníž. prenesená",N125,0) -> 0 | BI125: =IF(U125="nulová",N125,0) -> 0 | BJ125: 2 | BK125: =ROUND(L125*K125,3) -> 0 | BL125: 4 | BM125: 6
C126: 0 | D126: K | E126: Pol155 | F126: montáž | J126: ks/m | K126: 2 | L126: 0 | N126: =ROUND(L126*K126,3) -> 0 | U126: znížená | W126: =V126*K126 -> 0 | X126: 0 | Y126: =X126*K126 -> 0 | Z126: 0 | AA126: =Z126*K126 -> 0 | AR126: 4 | AT126: K | AU126: 2 | AY126: ROZPOCET | BE126: =IF(U126="základná",N126,0) -> 0 | BF126: =IF(U126="znížená",N126,0) -> 0 | BG126: =IF(U126="zákl. prenesená",N126,0) -> 0 | BH126: =IF(U126="zníž. prenesená",N126,0) -> 0 | BI126: =IF(U126="nulová",N126,0) -> 0 | BJ126: 2 | BK126: =ROUND(L126*K126,3) -> 0 | BL126: 4 | BM126: 8
C127: 3 | D127: M | E127: Pol156 | F127: káblový organizér vodorovný 1U | J127: ks/m | K127: 2 | L127: 0 | N127: =ROUND(L127*K127,3) -> 0 | U127: znížená | W127: =V127*K127 -> 0 | X127: 0 | Y127: =X127*K127 -> 0 | Z127: 0 | AA127: =Z127*K127 -> 0 | AR127: 8 | AT127: M | AU127: 2 | AY127: ROZPOCET | BE127: =IF(U127="základná",N127,0) -> 0 | BF127: =IF(U127="znížená",N127,0) -> 0 | BG127: =IF(U127="zákl. prenesená",N127,0) -> 0 | BH127: =IF(U127="zníž. prenesená",N127,0) -> 0 | BI127: =IF(U127="nulová",N127,0) -> 0 | BJ127: 2 | BK127: =ROUND(L127*K127,3) -> 0 | BL127: 4 | BM127: 10
C128: 0 | D128: K | E128: Pol157 | F128: montáž | J128: ks/m | K128: 2 | L128: 0 | N128: =ROUND(L128*K128,3) -> 0 | U128: znížená | W128: =V128*K128 -> 0 | X128: 0 | Y128: =X128*K128 -> 0 | Z128: 0 | AA128: =Z128*K128 -> 0 | AR128: 4 | AT128: K | AU128: 2 | AY128: ROZPOCET | BE128: =IF(U128="základná",N128,0) -> 0 | BF128: =IF(U128="znížená",N128,0) -> 0 | BG128: =IF(U128="zákl. prenesená",N128,0) -> 0 | BH128: =IF(U128="zníž. prenesená",N128,0) -> 0 | BI128: =IF(U128="nulová",N128,0) -> 0 | BJ128: 2 | BK128: =ROUND(L128*K128,3) -> 0 | BL128: 4 | BM128: 12
C129: 4 | D129: M | E129: Pol158 | F129: kábel optický 4vid. SM 4 | J129: ks/m | K129: 20 | L129: 0 | N129: =ROUND(L129*K129,3) -> 0 | U129: znížená | W129: =V129*K129 -> 0 | X129: 0 | Y129: =X129*K129 -> 0 | Z129: 0 | AA129: =Z129*K129 -> 0 | AR129: 8 | AT129: M | AU129: 2 | AY129: ROZPOCET | BE129: =IF(U129="základná",N129,0) -> 0 | BF129: =IF(U129="znížená",N129,0) -> 0 | BG129: =IF(U129="zákl. prenesená",N129,0) -> 0 | BH129: =IF(U129="zníž. prenesená",N129,0) -> 0 | BI129: =IF(U129="nulová",N129,0) -> 0 | BJ129: 2 | BK129: =ROUND(L129*K129,3) -> 0 | BL129: 4 | BM129: 14
C130: 0 | D130: K | E130: Pol159 | F130: montáž | J130: ks/m | K130: 20 | L130: 0 | N130: =ROUND(L130*K130,3) -> 0 | U130: znížená | W130: =V130*K130 -> 0 | X130: 0 | Y130: =X130*K130 -> 0 | Z130: 0 | AA130: =Z130*K130 -> 0 | AR130: 4 | AT130: K | AU130: 2 | AY130: ROZPOCET | BE130: =IF(U130="základná",N130,0) -> 0 | BF130: =IF(U130="znížená",N130,0) -> 0 | BG130: =IF(U130="zákl. prenesená",N130,0) -> 0 | BH130: =IF(U130="zníž. prenesená",N130,0) -> 0 | BI130: =IF(U130="nulová",N130,0) -> 0 | BJ130: 2 | BK130: =ROUND(L130*K130,3) -> 0 | BL130: 4 | BM130: 16
C131: 6 | D131: M | E131: Pol160 | F131: kábel cat.6 FTP lsoh | J131: ks/m | K131: 1500 | L131: 0 | N131: =ROUND(L131*K131,3) -> 0 | U131: znížená | W131: =V131*K131 -> 0 | X131: 0 | Y131: =X131*K131 -> 0 | Z131: 0 | AA131: =Z131*K131 -> 0 | AR131: 8 | AT131: M | AU131: 2 | AY131: ROZPOCET | BE131: =IF(U131="základná",N131,0) -> 0 | BF131: =IF(U131="znížená",N131,0) -> 0 | BG131: =IF(U131="zákl. prenesená",N131,0) -> 0 | BH131: =IF(U131="zníž. prenesená",N131,0) -> 0 | BI131: =IF(U131="nulová",N131,0) -> 0 | BJ131: 2 | BK131: =ROUND(L131*K131,3) -> 0 | BL131: 4 | BM131: 18
C132: 0 | D132: K | E132: Pol161 | F132: montáž | J132: ks/m | K132: 1500 | L132: 0 | N132: =ROUND(L132*K132,3) -> 0 | U132: znížená | W132: =V132*K132 -> 0 | X132: 0 | Y132: =X132*K132 -> 0 | Z132: 0 | AA132: =Z132*K132 -> 0 | AR132: 4 | AT132: K | AU132: 2 | AY132: ROZPOCET | BE132: =IF(U132="základná",N132,0) -> 0 | BF132: =IF(U132="znížená",N132,0) -> 0 | BG132: =IF(U132="zákl. prenesená",N132,0) -> 0 | BH132: =IF(U132="zníž. prenesená",N132,0) -> 0 | BI132: =IF(U132="nulová",N132,0) -> 0 | BJ132: 2 | BK132: =ROUND(L132*K132,3) -> 0 | BL132: 4 | BM132: 20
C133: 7 | D133: M | E133: Pol162 | F133: HFX rúrka 20 | J133: ks/m | K133: 140 | L133: 0 | N133: =ROUND(L133*K133,3) -> 0 | U133: znížená | W133: =V133*K133 -> 0 | X133: 0 | Y133: =X133*K133 -> 0 | Z133: 0 | AA133: =Z133*K133 -> 0 | AR133: 8 | AT133: M | AU133: 2 | AY133: ROZPOCET | BE133: =IF(U133="základná",N133,0) -> 0 | BF133: =IF(U133="znížená",N133,0) -> 0 | BG133: =IF(U133="zákl. prenesená",N133,0) -> 0 | BH133: =IF(U133="zníž. prenesená",N133,0) -> 0 | BI133: =IF(U133="nulová",N133,0) -> 0 | BJ133: 2 | BK133: =ROUND(L133*K133,3) -> 0 | BL133: 4 | BM133: 22
C134: 0 | D134: K | E134: Pol163 | F134: montáž | J134: ks/m | K134: 140 | L134: 0 | N134: =ROUND(L134*K134,3) -> 0 | U134: znížená | W134: =V134*K134 -> 0 | X134: 0 | Y134: =X134*K134 -> 0 | Z134: 0 | AA134: =Z134*K134 -> 0 | AR134: 4 | AT134: K | AU134: 2 | AY134: ROZPOCET | BE134: =IF(U134="základná",N134,0) -> 0 | BF134: =IF(U134="znížená",N134,0) -> 0 | BG134: =IF(U134="zákl. prenesená",N134,0) -> 0 | BH134: =IF(U134="zníž. prenesená",N134,0) -> 0 | BI134: =IF(U134="nulová",N134,0) -> 0 | BJ134: 2 | BK134: =ROUND(L134*K134,3) -> 0 | BL134: 4 | BM134: 24
... C166: 38 | D166: K | E166: Pol189 | F166: merania a meracie protokoly | J166: ks/m | K166: 1 | L166: 0 | N166: =ROUND(L166*K166,3) -> 0 | U166: znížená | W166: =V166*K166 -> 0 | X166: 0 | Y166: =X166*K166 -> 0 | Z166: 0 | AA166: =Z166*K166 -> 0 | AR166: 4 | AT166: K | AU166: 2 | AY166: ROZPOCET | BE166: =IF(U166="základná",N166,0) -> 0 | BF166: =IF(U166="znížená",N166,0) -> 0 | BG166: =IF(U166="zákl. prenesená",N166,0) -> 0 | BH166: =IF(U166="zníž. prenesená",N166,0) -> 0 | BI166: =IF(U166="nulová",N166,0) -> 0 | BJ166: 2 | BK166: =ROUND(L166*K166,3) -> 0 | BL166: 4 | BM166: 88
D167: VP - Práce naviac | N167: =BK167 -> 0 | AT167: D | AU167: 0 | AY167: PN | BK167: =SUM(BK168:BK172) -> 0
D168: K | N168: =BK168 -> 0 | U168: znížená | AT168: PN | AU168: 1 | AY168: PN | BE168: =IF(U168="základná",N168,0) -> 0 | BF168: =IF(U168="znížená",N168,0) -> 0 | BG168: =IF(U168="zákl. prenesená",N168,0) -> 0 | BH168: =IF(U168="zníž. prenesená",N168,0) -> 0 | BI168: =IF(U168="nulová",N168,0) -> 0 | BJ168: 2 | BK168: =L168*K168 -> 0
D169: K | N169: =BK169 -> 0 | U169: znížená | AT169: PN | AU169: 1 | AY169: PN | BE169: =IF(U169="základná",N169,0) -> 0 | BF169: =IF(U169="znížená",N169,0) -> 0 | BG169: =IF(U169="zákl. prenesená",N169,0) -> 0 | BH169: =IF(U169="zníž. prenesená",N169,0) -> 0 | BI169: =IF(U169="nulová",N169,0) -> 0 | BJ169: 2 | BK169: =L169*K169 -> 0
D170: K | N170: =BK170 -> 0 | U170: znížená | AT170: PN | AU170: 1 | AY170: PN | BE170: =IF(U170="základná",N170,0) -> 0 | BF170: =IF(U170="znížená",N170,0) -> 0 | BG170: =IF(U170="zákl. prenesená",N170,0) -> 0 | BH170: =IF(U170="zníž. prenesená",N170,0) -> 0 | BI170: =IF(U170="nulová",N170,0) -> 0 | BJ170: 2 | BK170: =L170*K170 -> 0
D171: K | N171: =BK171 -> 0 | U171: znížená | AT171: PN | AU171: 1 | AY171: PN | BE171: =IF(U171="základná",N171,0) -> 0 | BF171: =IF(U171="znížená",N171,0) -> 0 | BG171: =IF(U171="zákl. prenesená",N171,0) -> 0 | BH171: =IF(U171="zníž. prenesená",N171,0) -> 0 | BI171: =IF(U171="nulová",N171,0) -> 0 | BJ171: 2 | BK171: =L171*K171 -> 0
D172: K | N172: =BK172 -> 0 | U172: znížená | AT172: PN | AU172: 1 | AY172: PN | BE172: =IF(U172="základná",N172,0) -> 0 | BF172: =IF(U172="znížená",N172,0) -> 0 | BG172: =IF(U172="zákl. prenesená",N172,0) -> 0 | BH172: =IF(U172="zníž. prenesená",N172,0) -> 0 | BI172: =IF(U172="nulová",N172,0) -> 0 | BJ172: 2 | BK172: =L172*K172 -> 0

Sheet 001-Architektúra statika 01 9.2
D1: Hárok obsahuje: | F1: 1) Krycí list rozpočtu | H1: 2) Rekapitulácia rozpočtu | L1: 3) Rozpočet | O1: Späť na hárok: | S1: Rekapitulácia stavby
C2: optimalizované pre tlač zostáv vo formáte A4 - na výšku | S2: >> skryté stĺpce << | AT2: {616e4a8e-c50a-4b25-a1ae-6a8e6340d4ed}
AT3: 0
C4: KRYCÍ LIST ROZPOČTU 9.2. | T4: v --- nižšie sa nachádzajú doplnkové a pomocné údaje k zostavám --- v | AT4: False
D6: Stavba: | F6: ='Rekapitulácia stavby 9.2.'!K6 -> Poradenské centrum UKF v Nitre - zmena 12/2016
D7: Objekt: | F7: 001a - Konferenčná sála
D8: Časť: | F8: 001 - Architektúra a statika
D9: JKSO: | M9: KS:
D10: Miesto: | F10: Trieda A.Hlinku 1, Nitra | M10: Dátum: | O10: ='Rekapitulácia stavby 9.2.'!AN8 -> 19. 12. 2016
D12: Objednávateľ: | M12: IČO:
E13: UKF Nitra | M13: IČO DPH:
D15: Zhotoviteľ: | M15: IČO: | O15: =IF('Rekapitulácia stavby 9.2.'!AN13="","",'Rekapitulácia stavby 9.2.'!AN13) -> Vyplň údaj
E16: =IF('Rekapitulácia stavby 9.2.'!E14="","",'Rekapitulácia stavby 9.2.'!E14) -> Vyplň údaj | M16: IČO DPH: | O16: =IF('Rekapitulácia stavby 9.2.'!AN14="","",'Rekapitulácia stavby 9.2.'!AN14) -> Vyplň údaj
D18: Projektant: | M18: IČO:
E19: SH final s.r.o. Nitra | M19: IČO DPH:
D21: Spracovateľ: | M21: IČO:
E22: Ing.Janečka | M22: IČO DPH:
D24: Poznámka:
D28: Náklady z rozpočtu | M28: =N89 -> 0
D29: Ostatné náklady | M29: =N102 -> 0
D31: Cena bez DPH | M31: =ROUND(M28+M29,M282) -> 0
D33: DPH | E33: základná | F33: 0.2 | G33: z | H33: =ROUND((((SUM(BE102:BE109)+SUM(BE128:BE154))+SUM(BE156:BE160))),2) -> 0 | M33: =ROUND(((ROUND((SUM(BE102:BE109)+SUM(BE128:BE154)), 2)*F33)+SUM(BE156:BE160)*F33),2) -> 0
E34: znížená | F34: 0.2 | G34: z | H34: =ROUND((((SUM(BF102:BF109)+SUM(BF128:BF154))+SUM(BF156:BF160))),2) -> 0 | M34: =ROUND(((ROUND((SUM(BF102:BF109)+SUM(BF128:BF154)), 2)*F34)+SUM(BF156:BF160)*F34),2) -> 0
E35: zákl. prenesená | F35: 0.2 | G35: z | H35: =ROUND((((SUM(BG102:BG109)+SUM(BG128:BG154))+SUM(BG156:BG160))),2) -> 0 | M35: 0
E36: zníž. prenesená | F36: 0.2 | G36: z | H36: =ROUND((((SUM(BH102:BH109)+SUM(BH128:BH154))+SUM(BH156:BH160))),2) -> 0 | M36: 0
E37: nulová | F37: 0 | G37: z | H37: =ROUND((((SUM(BI102:BI109)+SUM(BI128:BI154))+SUM(BI156:BI160))),2) -> 0 | M37: 0
D39: Cena s DPH | G39: v | H39: EUR | L39: =SUM(M31:M37) -> 0
D50: Projektant | J50: Spracovateľ
D59: Dátum a podpis: | G59: Pečiatka | J59: Dátum a podpis: | N59: Pečiatka
D61: Objednávateľ | J61: Zhotoviteľ
D70: Dátum a podpis: | G70: Pečiatka | J70: Dátum a podpis: | N70: Pečiatka
C76: REKAPITULÁCIA ROZPOČTU
C78: Stavba: | F78: =F6 -> Poradenské centrum UKF v Nitre - zmena 12/2016
C79: Objekt: | F79: 001a - Konferenčná sála
C80: Časť: | F80: =F8 -> 001 - Architektúra a statika
C82: Miesto: | F82: =F10 -> Trieda A.Hlinku 1, Nitra | K82: Dátum: | M82: =IF(O10="","",O10) -> 19. 12. 2016
C84: Objednávateľ: | F84: =E13 -> UKF Nitra | K84: Projektant: | M84: =E19 -> SH final s.r.o. Nitra
C85: Zhotoviteľ: | F85: =IF(E16="","",E16) -> Vyplň údaj | K85: Spracovateľ: | M85: =E22 -> Ing.Janečka
C87: Kód - Popis | N87: Cena celkom [EUR]
C89: 1) Náklady z rozpočtu | N89: =N128 -> 0 | AU89: -1
D90: HSV - Práce a dodávky HSV | N90: =N129 -> 0
D91: 9 - Ostatné konštrukcie a práce-búranie | N91: =N130 -> 0
D92: 99 - Presun hmôt HSV | N92: =N132 -> 0
D93: PSV - Práce a dodávky PSV | N93: =N134 -> 0
D94: 763 - Konštrukcie - drevostavby | N94: =N135 -> 0
D95: 766 - Konštrukcie stolárske | N95: =N138 -> 0
D96: 767 - Konštrukcie doplnkové kovové | N96: =N142 -> 0
D97: 783 - Dokončovacie práce - nátery | N97: =N149 -> 0
D98: 786a - Mobilné deliace steny | N98: =N151 -> 0
D99: HZS - Hodinové zúčtovacie sadzby | N99: =N153 -> 0
D100: VP - Práce naviac | N100: =N155 -> 0
C102: 2) Ostatné náklady | N102: =ROUND(N103+N104+N105+N106+N107+N108,2) -> 0 | U102: DPH
D103: GZS | N103: =ROUND(N89*T103,2) -> 0 | U103: znížená | AY103: VRN | BE103: =IF(U103="základná",N103,0) -> 0 | BF103: =IF(U103="znížená",N103,0) -> 0 | BG103: =IF(U103="zákl. prenesená",N103,0) -> 0 | BH103: =IF(U103="zníž. prenesená",N103,0) -> 0 | BI103: =IF(U103="nulová",N103,0) -> 0 | BJ103: 2
D104: Projektové práce | N104: =ROUND(N89*T104,2) -> 0 | U104: znížená | AY104: VRN | BE104: =IF(U104="základná",N104,0) -> 0 | BF104: =IF(U104="znížená",N104,0) -> 0 | BG104: =IF(U104="zákl. prenesená",N104,0) -> 0 | BH104: =IF(U104="zníž. prenesená",N104,0) -> 0 | BI104: =IF(U104="nulová",N104,0) -> 0 | BJ104: 2
D105: Sťažené podmienky | N105: =ROUND(N89*T105,2) -> 0 | U105: znížená | AY105: VRN | BE105: =IF(U105="základná",N105,0) -> 0 | BF105: =IF(U105="znížená",N105,0) -> 0 | BG105: =IF(U105="zákl. prenesená",N105,0) -> 0 | BH105: =IF(U105="zníž. prenesená",N105,0) -> 0 | BI105: =IF(U105="nulová",N105,0) -> 0 | BJ105: 2
D106: Vplyv prostredia | N106: =ROUND(N89*T106,2) -> 0 | U106: znížená | AY106: VRN | BE106: =IF(U106="základná",N106,0) -> 0 | BF106: =IF(U106="znížená",N106,0) -> 0 | BG106: =IF(U106="zákl. prenesená",N106,0) -> 0 | BH106: =IF(U106="zníž. prenesená",N106,0) -> 0 | BI106: =IF(U106="nulová",N106,0) -> 0 | BJ106: 2
D107: Iné VRN | N107: =ROUND(N89*T107,2) -> 0 | U107: znížená | AY107: VRN | BE107: =IF(U107="základná",N107,0) -> 0 | BF107: =IF(U107="znížená",N107,0) -> 0 | BG107: =IF(U107="zákl. prenesená",N107,0) -> 0 | BH107: =IF(U107="zníž. prenesená",N107,0) -> 0 | BI107: =IF(U107="nulová",N107,0) -> 0 | BJ107: 2
D108: Kompletačná činnosť | N108: =ROUND(N89*T108,2) -> 0 | U108: znížená | AY108: KOMPLETACNA | BE108: =IF(U108="základná",N108,0) -> 0 | BF108: =IF(U108="znížená",N108,0) -> 0 | BG108: =IF(U108="zákl. prenesená",N108,0) -> 0 | BH108: =IF(U108="zníž. prenesená",N108,0) -> 0 | BI108: =IF(U108="nulová",N108,0) -> 0 | BJ108: 2
C110: Celkové náklady za stavbu 1) + 2) | L110: =ROUND(SUM(N89+N102),2) -> 0
C116: ROZPOČET
C118: Stavba: | F118: =F6 -> Poradenské centrum UKF v Nitre - zmena 12/2016
C119: Objekt: | F119: 001a - Konferenčná sála
C120: Časť: | F120: =F8 -> 001 - Architektúra a statika
C122: Miesto: | F122: =F10 -> Trieda A.Hlinku 1, Nitra | K122: Dátum: | M122: =IF(O10="","",O10) -> 19. 12. 2016
C124: Objednávateľ: | F124: =E13 -> UKF Nitra | K124: Projektant: | M124: =E19 -> SH final s.r.o. Nitra
C125: Zhotoviteľ: | F125: =IF(E16="","",E16) -> Vyplň údaj | K125: Spracovateľ: | M125: =E22 -> Ing.Janečka
C127: PČ | D127: Typ | E127: Kód | F127: Popis | J127: MJ | K127: Množstvo | L127: J.cena [EUR] | N127: Cena celkom [EUR] | T127: Poznámka | U127: DPH | V127: J. Nh [h] | W127: Nh celkom [h] | X127: J. hmotnosť_x000D_ [t] | Y127: Hmotnosť_x000D_ celkom [t] | Z127: J. suť [t] | AA127: Suť Celkom [t]
C128: Náklady z rozpočtu | N128: =BK128 -> 0 | W128: =W129+W134+W153+W155 -> 0 | Y128: =Y129+Y134+Y153+Y155 -> 3.4887277 | AA128: =AA129+AA134+AA153+AA155 -> 2.5942767 | AT128: D | AU128: -1 | BK128: =BK129+BK134+BK153+BK155 -> 0
D129: HSV - Práce a dodávky HSV | N129: =BK129 -> 0 | W129: =W130+W132 -> 0 | Y129: =Y130+Y132 -> 1.2389046 | AA129: =AA130+AA132 -> 0 | AR129: 1 | AT129: D | AU129: 0 | AY129: ROZPOCET | BK129: =BK130+BK132 -> 0
D130: 9 - Ostatné konštrukcie a práce-búranie | N130: =BK130 -> 0 | W130: =W131 -> 0 | Y130: =Y131 -> 1.2389046 | AA130: =AA131 -> 0 | AR130: 1 | AT130: D | AU130: 1 | AY130: ROZPOCET | BK130: =BK131 -> 0
C131: 1 | D131: K | E131: 941955004 | F131: Lešenie ľahké pracovné pomocné s výškou lešeňovej podlahy nad 2,50 do 3,5 m | J131: m2 | K131: 200.47 | L131: 0 | N131: =ROUND(L131*K131,3) -> 0 | U131: znížená | W131: =V131*K131 -> 0 | X131: 0.00618 | Y131: =X131*K131 -> 1.2389046 | Z131: 0 | AA131: =Z131*K131 -> 0 | AR131: 4 | AT131: K | AU131: 2 | AY131: ROZPOCET | BE131: =IF(U131="základná",N131,0) -> 0 | BF131: =IF(U131="znížená",N131,0) -> 0 | BG131: =IF(U131="zákl. prenesená",N131,0) -> 0 | BH131: =IF(U131="zníž. prenesená",N131,0) -> 0 | BI131: =IF(U131="nulová",N131,0) -> 0 | BJ131: 2 | BK131: =ROUND(L131*K131,3) -> 0 | BL131: 4 | BM131: 719843069
D132: 99 - Presun hmôt HSV | N132: =BK132 -> 0 | W132: =W133 -> 0 | Y132: =Y133 -> 0 | AA132: =AA133 -> 0 | AR132: 1 | AT132: D | AU132: 1 | AY132: ROZPOCET | BK132: =BK133 -> 0
C133: 2 | D133: K | E133: 998011001 | F133: Presun hmôt pre budovy (801, 803, 812), zvislá konštr. z tehál, tvárnic, z kovu výšky do 6 m | J133: t | K133: 1.239 | L133: 0 | N133: =ROUND(L133*K133,3) -> 0 | U133: znížená | W133: =V133*K133 -> 0 | X133: 0 | Y133: =X133*K133 -> 0 | Z133: 0 | AA133: =Z133*K133 -> 0 | AR133: 4 | AT133: K | AU133: 2 | AY133: ROZPOCET | BE133: =IF(U133="základná",N133,0) -> 0 | BF133: =IF(U133="znížená",N133,0) -> 0 | BG133: =IF(U133="zákl. prenesená",N133,0) -> 0 | BH133: =IF(U133="zníž. prenesená",N133,0) -> 0 | BI133: =IF(U133="nulová",N133,0) -> 0 | BJ133: 2 | BK133: =ROUND(L133*K133,3) -> 0 | BL133: 4 | BM133: -2099077419
D134: PSV - Práce a dodávky PSV | N134: =BK134 -> 0 | W134: =W135+W138+W142+W149+W151 -> 0 | Y134: =Y135+Y138+Y142+Y149+Y151 -> 2.2498231 | AA134: =AA135+AA138+AA142+AA149+AA151 -> 2.5942767 | AR134: 2 | AT134: D | AU134: 0 | AY134: ROZPOCET | BK134: =BK135+BK138+BK142+BK149+BK151 -> 0
D135: 763 - Konštrukcie - drevostavby | N135: =BK135 -> 0 | W135: =SUM(W136:W137) -> 0 | Y135: =SUM(Y136:Y137) -> 2.145029 | AA135: =SUM(AA136:AA137) -> 0 | AR135: 2 | AT135: D | AU135: 1 | AY135: ROZPOCET | BK135: =SUM(BK136:BK137) -> 0
C136: 3 | D136: K | E136: 7631360 | F136: Kazetový podhľad | J136: m2 | K136: 200.47 | L136: 0 | N136: =ROUND(L136*K136,3) -> 0 | U136: znížená | W136: =V136*K136 -> 0 | X136: 0.0107 | Y136: =X136*K136 -> 2.145029 | Z136: 0 | AA136: =Z136*K136 -> 0 | AC136: hrúbka doiek 19 mm, perforácia 1202 mm2/ kazeta (otvor priemer 4 mm) | AR136: 16 | AT136: K | AU136: 2 | AY136: ROZPOCET | BE136: =IF(U136="základná",N136,0) -> 0 | BF136: =IF(U136="znížená",N136,0) -> 0 | BG136: =IF(U136="zákl. prenesená",N136,0) -> 0 | BH136: =IF(U136="zníž. prenesená",N136,0) -> 0 | BI136: =IF(U136="nulová",N136,0) -> 0 | BJ136: 2 | BK136: =ROUND(L136*K136,3) -> 0 | BL136: 16 | BM136: 105336677
C137: 4 | D137: K | E137: 998763401 | F137: Presun hmôt pre sádrokartónové konštrukcie v stavbách (objektoch )výšky do 7 m | J137: % | K137: 0 | L137: 0 | N137: =ROUND(L137*K137,3) -> 0 | U137: znížená | W137: =V137*K137 -> 0 | X137: 0 | Y137: =X137*K137 -> 0 | Z137: 0 | AA137: =Z137*K137 -> 0 | AR137: 16 | AT137: K | AU137: 2 | AY137: ROZPOCET | BE137: =IF(U137="základná",N137,0) -> 0 | BF137: =IF(U137="znížená",N137,0) -> 0 | BG137: =IF(U137="zákl. prenesená",N137,0) -> 0 | BH137: =IF(U137="zníž. prenesená",N137,0) -> 0 | BI137: =IF(U137="nulová",N137,0) -> 0 | BJ137: 2 | BK137: =ROUND(L137*K137,3) -> 0 | BL137: 16 | BM137: -655371595
D138: 766 - Konštrukcie stolárske | N138: =BK138 -> 0 | W138: =SUM(W139:W141) -> 0 | Y138: =SUM(Y139:Y141) -> 0.0009599 | AA138: =SUM(AA139:AA141) -> 1.1830767 | AR138: 2 | AT138: D | AU138: 1 | AY138: ROZPOCET | BK138: =SUM(BK139:BK141) -> 0
C139: 5 | D139: K | E139: 766411811 | F139: Demontáž obloženia stien panelmi, veľ. do 1,5 m2, -0,02465t | J139: m2 | K139: 47.995 | L139: 0 | N139: =ROUND(L139*K139,3) -> 0 | U139: znížená | W139: =V139*K139 -> 0 | X139: 0 | Y139: =X139*K139 -> 0 | Z139: 0.02465 | AA139: =Z139*K139 -> 1.1830767 | AR139: 16 | AT139: K | AU139: 2 | AY139: ROZPOCET | BE139: =IF(U139="základná",N139,0) -> 0 | BF139: =IF(U139="znížená",N139,0) -> 0 | BG139: =IF(U139="zákl. prenesená",N139,0) -> 0 | BH139: =IF(U139="zníž. prenesená",N139,0) -> 0 | BI139: =IF(U139="nulová",N139,0) -> 0 | BJ139: 2 | BK139: =ROUND(L139*K139,3) -> 0 | BL139: 16 | BM139: 1663678989
C140: 6 | D140: K | E140: 766414132 | F140: Montáž oblož. stien, stĺpov a pilierov do 5 m2 panelmi obkladovými dyhovanými, veľkosti nad 0.6 do 1,5 m2 | J140: m2 | K140: 47.995 | L140: 0 | N140: =ROUND(L140*K140,3) -> 0 | U140: znížená | W140: =V140*K140 -> 0 | X140: 2e-05 | Y140: =X140*K140 -> 0.0009599 | Z140: 0 | AA140: =Z140*K140 -> 0 | AC140: - Ide o demontáž a montáž jestvujúcich kompozitných dosiek pre potreby montáže elektroištalácie | AR140: 16 | AT140: K | AU140: 2 | AY140: ROZPOCET | BE140: =IF(U140="základná",N140,0) -> 0 | BF140: =IF(U140="znížená",N140,0) -> 0 | BG140: =IF(U140="zákl. prenesená",N140,0) -> 0 | BH140: =IF(U140="zníž. prenesená",N140,0) -> 0 | BI140: =IF(U140="nulová",N140,0) -> 0 | BJ140: 2 | BK140: =ROUND(L140*K140,3) -> 0 | BL140: 16 | BM140: -879651178
C141: 7 | D141: K | E141: 998766201 | F141: Presun hmot pre konštrukcie stolárske v objektoch výšky do 6 m | J141: % | K141: 0 | L141: 0 | N141: =ROUND(L141*K141,3) -> 0 | U141: znížená | W141: =V141*K141 -> 0 | X141: 0 | Y141: =X141*K141 -> 0 | Z141: 0 | AA141: =Z141*K141 -> 0 | AR141: 16 | AT141: K | AU141: 2 | AY141: ROZPOCET | BE141: =IF(U141="základná",N141,0) -> 0 | BF141: =IF(U141="znížená",N141,0) -> 0 | BG141: =IF(U141="zákl. prenesená",N141,0) -> 0 | BH141: =IF(U141="zníž. prenesená",N141,0) -> 0 | BI141: =IF(U141="nulová",N141,0) -> 0 | BJ141: 2 | BK141: =ROUND(L141*K141,3) -> 0 | BL141: 16 | BM141: -60162433
D142: 767 - Konštrukcie doplnkové kovové | N142: =BK142 -> 0 | W142: =SUM(W143:W148) -> 0 | Y142: =SUM(Y143:Y148) -> 0.087978 | AA142: =SUM(AA143:AA148) -> 1.4112 | AR142: 2 | AT142: D | AU142: 1 | AY142: ROZPOCET | BK142: =SUM(BK143:BK148) -> 0
C143: 8 | D143: K | E143: 767581801 | F143: Demontáž podhľadov kaziet, -0,00500t | J143: m2 | K143: 201.6 | L143: 0 | N143: =ROUND(L143*K143,3) -> 0 | U143: znížená | W143: =V143*K143 -> 0 | X143: 0 | Y143: =X143*K143 -> 0 | Z143: 0.005 | AA143: =Z143*K143 -> 1.008 | AR143: 16 | AT143: K | AU143: 2 | AY143: ROZPOCET | BE143: =IF(U143="základná",N143,0) -> 0 | BF143: =IF(U143="znížená",N143,0) -> 0 | BG143: =IF(U143="zákl. prenesená",N143,0) -> 0 | BH143: =IF(U143="zníž. prenesená",N143,0) -> 0 | BI143: =IF(U143="nulová",N143,0) -> 0 | BJ143: 2 | BK143: =ROUND(L143*K143,3) -> 0 | BL143: 16 | BM143: 908561909
C144: 9 | D144: K | E144: 767582800 | F144: Demontáž podhľadov roštov -0,00200t | J144: m2 | K144: 201.6 | L144: 0 | N144: =ROUND(L144*K144,3) -> 0 | U144: znížená | W144: =V144*K144 -> 0 | X144: 0 | Y144: =X144*K144 -> 0 | Z144: 0.002 | AA144: =Z144*K144 -> 0.4032 | AR144: 16 | AT144: K | AU144: 2 | AY144: ROZPOCET | BE144: =IF(U144="základná",N144,0) -> 0 | BF144: =IF(U144="znížená",N144,0) -> 0 | BG144: =IF(U144="zákl. prenesená",N144,0) -> 0 | BH144: =IF(U144="zníž. prenesená",N144,0) -> 0 | BI144: =IF(U144="nulová",N144,0) -> 0 | BJ144: 2 | BK144: =ROUND(L144*K144,3) -> 0 | BL144: 16 | BM144: 290748104
C145: 10 | D145: K | E145: 767995105 | F145: Montáž ostatných atypických kovových stavebných doplnkových konštrukcií nad 50 do 100 kg | J145: kg | K145: 1466.3 | L145: 0 | N145: =ROUND(L145*K145,3) -> 0 | U145: znížená | W145: =V145*K145 -> 0 | X145: 6e-05 | Y145: =X145*K145 -> 0.087978 | Z145: 0 | AA145: =Z145*K145 -> 0 | AR145: 16 | AT145: K | AU145: 2 | AY145: ROZPOCET | BE145: =IF(U145="základná",N145,0) -> 0 | BF145: =IF(U145="znížená",N145,0) -> 0 | BG145: =IF(U145="zákl. prenesená",N145,0) -> 0 | BH145: =IF(U145="zníž. prenesená",N145,0) -> 0 | BI145: =IF(U145="nulová",N145,0) -> 0 | BJ145: 2 | BK145: =ROUND(L145*K145,3) -> 0 | BL145: 16 | BM145: 1600521150
C146: 11 | D146: M | E146: 5530000008 | F146: Oceľový väzník OV1 | J146: kg | K146: 1014.5 | L146: 0 | N146: =ROUND(L146*K146,3) -> 0 | U146: znížená | W146: =V146*K146 -> 0 | X146: 0 | Y146: =X146*K146 -> 0 | Z146: 0 | AA146: =Z146*K146 -> 0 | AR146: 32 | AT146: M | AU146: 2 | AY146: ROZPOCET | BE146: =IF(U146="základná",N146,0) -> 0 | BF146: =IF(U146="znížená",N146,0) -> 0 | BG146: =IF(U146="zákl. prenesená",N146,0) -> 0 | BH146: =IF(U146="zníž. prenesená",N146,0) -> 0 | BI146: =IF(U146="nulová",N146,0) -> 0 | BJ146: 2 | BK146: =ROUND(L146*K146,3) -> 0 | BL146: 16 | BM146: -1546904497
C147: 12 | D147: M | E147: 5530000009 | F147: Oceľový rám RR1 | J147: kg | K147: 451.8 | L147: 0 | N147: =ROUND(L147*K147,3) -> 0 | U147: znížená | W147: =V147*K147 -> 0 | X147: 0 | Y147: =X147*K147 -> 0 | Z147: 0 | AA147: =Z147*K147 -> 0 | AR147: 32 | AT147: M | AU147: 2 | AY147: ROZPOCET | BE147: =IF(U147="základná",N147,0) -> 0 | BF147: =IF(U147="znížená",N147,0) -> 0 | BG147: =IF(U147="zákl. prenesená",N147,0) -> 0 | BH147: =IF(U147="zníž. prenesená",N147,0) -> 0 | BI147: =IF(U147="nulová",N147,0) -> 0 | BJ147: 2 | BK147: =ROUND(L147*K147,3) -> 0 | BL147: 16 | BM147: -1103537690
C148: 13 | D148: K | E148: 998767201 | F148: Presun hmôt pre kovové stavebné doplnkové konštrukcie v objektoch výšky do 6 m | J148: % | K148: 0 | L148: 0 | N148: =ROUND(L148*K148,3) -> 0 | U148: znížená | W148: =V148*K148 -> 0 | X148: 0 | Y148: =X148*K148 -> 0 | Z148: 0 | AA148: =Z148*K148 -> 0 | AR148: 16 | AT148: K | AU148: 2 | AY148: ROZPOCET | BE148: =IF(U148="základná",N148,0) -> 0 | BF148: =IF(U148="znížená",N148,0) -> 0 | BG148: =IF(U148="zákl. prenesená",N148,0) -> 0 | BH148: =IF(U148="zníž. prenesená",N148,0) -> 0 | BI148: =IF(U148="nulová",N148,0) -> 0 | BJ148: 2 | BK148: =ROUND(L148*K148,3) -> 0 | BL148: 16 | BM148: 1156099350
D149: 783 - Dokončovacie práce - nátery | N149: =BK149 -> 0 | W149: =W150 -> 0 | Y149: =Y150 -> 0.01583616 | AA149: =AA150 -> 0 | AR149: 2 | AT149: D | AU149: 1 | AY149: ROZPOCET | BK149: =BK150 -> 0
C150: 14 | D150: K | E150: 783225100 | F150: Nátery kov.stav.doplnk.konštr. syntetické na vzduchu schnúce dvojnás. 1x s emailov. - 105µm | J150: m2 | K150: 65.984 | L150: 0 | N150: =ROUND(L150*K150,3) -> 0 | U150: znížená | W150: =V150*K150 -> 0 | X150: 0.00024 | Y150: =X150*K150 -> 0.01583616 | Z150: 0 | AA150: =Z150*K150 -> 0 | AC150: RAL 7016 | AR150: 16 | AT150: K | AU150: 2 | AY150: ROZPOCET | BE150: =IF(U150="základná",N150,0) -> 0 | BF150: =IF(U150="znížená",N150,0) -> 0 | BG150: =IF(U150="zákl. prenesená",N150,0) -> 0 | BH150: =IF(U150="zníž. prenesená",N150,0) -> 0 | BI150: =IF(U150="nulová",N150,0) -> 0 | BJ150: 2 | BK150: =ROUND(L150*K150,3) -> 0 | BL150: 16 | BM150: 168184377
D151: 786a - Mobilné deliace steny | N151: =BK151 -> 0 | W151: =W152 -> 0 | Y151: =Y152 -> 2e-05 | AA151: =AA152 -> 0 | AR151: 2 | AT151: D | AU151: 1 | AY151: ROZPOCET | BK151: =BK152 -> 0
C152: 15 | D152: K | E152: 786681003 | F152: D+M mobilná deliaca stena D1 - 11200x4588 | J152: ks | K152: 1 | L152: 0 | N152: =ROUND(L152*K152,3) -> 0 | U152: znížená | W152: =V152*K152 -> 0 | X152: 2e-05 | Y152: =X152*K152 -> 2e-05 | Z152: 0 | AA152: =Z152*K152 -> 0 | AR152: 16 | AT152: K | AU152: 2 | AY152: ROZPOCET | BE152: =IF(U152="základná",N152,0) -> 0 | BF152: =IF(U152="znížená",N152,0) -> 0 | BG152: =IF(U152="zákl. prenesená",N152,0) -> 0 | BH152: =IF(U152="zníž. prenesená",N152,0) -> 0 | BI152: =IF(U152="nulová",N152,0) -> 0 | BJ152: 2 | BK152: =ROUND(L152*K152,3) -> 0 | BL152: 16 | BM152: 1111589547
D153: HZS - Hodinové zúčtovacie sadzby | N153: =BK153 -> 0 | W153: =W154 -> 0 | Y153: =Y154 -> 0 | AA153: =AA154 -> 0 | AR153: 4 | AT153: D | AU153: 0 | AY153: ROZPOCET | BK153: =BK154 -> 0
C154: 16 | D154: K | E154: HZS000111 | F154: Búracie a sekacie práce pre rozvody inštalácií | J154: hod | K154: 20 | L154: 0 | N154: =ROUND(L154*K154,3) -> 0 | U154: znížená | W154: =V154*K154 -> 0 | X154: 0 | Y154: =X154*K154 -> 0 | Z154: 0 | AA154: =Z154*K154 -> 0 | AR154: 512 | AT154: K | AU154: 1 | AY154: ROZPOCET | BE154: =IF(U154="základná",N154,0) -> 0 | BF154: =IF(U154="znížená",N154,0) -> 0 | BG154: =IF(U154="zákl. prenesená",N154,0) -> 0 | BH154: =IF(U154="zníž. prenesená",N154,0) -> 0 | BI154: =IF(U154="nulová",N154,0) -> 0 | BJ154: 2 | BK154: =ROUND(L154*K154,3) -> 0 | BL154: 512 | BM154: -1998204182
D155: VP - Práce naviac | N155: =BK155 -> 0 | AT155: D | AU155: 0 | AY155: PN | BK155: =SUM(BK156:BK160) -> 0
D156: K | N156: =BK156 -> 0 | U156: znížená | AT156: PN | AU156: 1 | AY156: PN | BE156: =IF(U156="základná",N156,0) -> 0 | BF156: =IF(U156="znížená",N156,0) -> 0 | BG156: =IF(U156="zákl. prenesená",N156,0) -> 0 | BH156: =IF(U156="zníž. prenesená",N156,0) -> 0 | BI156: =IF(U156="nulová",N156,0) -> 0 | BJ156: 2 | BK156: =L156*K156 -> 0
D157: K | N157: =BK157 -> 0 | U157: znížená | AT157: PN | AU157: 1 | AY157: PN | BE157: =IF(U157="základná",N157,0) -> 0 | BF157: =IF(U157="znížená",N157,0) -> 0 | BG157: =IF(U157="zákl. prenesená",N157,0) -> 0 | BH157: =IF(U157="zníž. prenesená",N157,0) -> 0 | BI157: =IF(U157="nulová",N157,0) -> 0 | BJ157: 2 | BK157: =L157*K157 -> 0
D158: K | N158: =BK158 -> 0 | U158: znížená | AT158: PN | AU158: 1 | AY158: PN | BE158: =IF(U158="základná",N158,0) -> 0 | BF158: =IF(U158="znížená",N158,0) -> 0 | BG158: =IF(U158="zákl. prenesená",N158,0) -> 0 | BH158: =IF(U158="zníž. prenesená",N158,0) -> 0 | BI158: =IF(U158="nulová",N158,0) -> 0 | BJ158: 2 | BK158: =L158*K158 -> 0
D159: K | N159: =BK159 -> 0 | U159: znížená | AT159: PN | AU159: 1 | AY159: PN | BE159: =IF(U159="základná",N159,0) -> 0 | BF159: =IF(U159="znížená",N159,0) -> 0 | BG159: =IF(U159="zákl. prenesená",N159,0) -> 0 | BH159: =IF(U159="zníž. prenesená",N159,0) -> 0 | BI159: =IF(U159="nulová",N159,0) -> 0 | BJ159: 2 | BK159: =L159*K159 -> 0
D160: K | N160: =BK160 -> 0 | U160: znížená | AT160: PN | AU160: 1 | AY160: PN | BE160: =IF(U160="základná",N160,0) -> 0 | BF160: =IF(U160="znížená",N160,0) -> 0 | BG160: =IF(U160="zákl. prenesená",N160,0) -> 0 | BH160: =IF(U160="zníž. prenesená",N160,0) -> 0 | BI160: =IF(U160="nulová",N160,0) -> 0 | BJ160: 2 | BK160: =L160*K160 -> 0

Sheet 002 - Elektroinštalácia 9.2.
D1: Hárok obsahuje: | F1: 1) Krycí list rozpočtu | H1: 2) Rekapitulácia rozpočtu | L1: 3) Rozpočet | O1: Späť na hárok: | S1: Rekapitulácia stavby
C2: optimalizované pre tlač zostáv vo formáte A4 - na výšku | S2: >> skryté stĺpce << | AT2: {69d00bbe-abf9-49b9-a2c7-bcaa94f5c99e}
AT3: 0
C4: KRYCÍ LIST ROZPOČTU 9.2. | T4: v --- nižšie sa nachádzajú doplnkové a pomocné údaje k zostavám --- v | AT4: False
D6: Stavba: | F6: ='Rekapitulácia stavby 9.2.'!K6 -> Poradenské centrum UKF v Nitre - zmena 12/2016
D7: Objekt: | F7: 001a - Konferenčná sála
D8: Časť: | F8: 002 - Elektroinštalácia
D9: JKSO: | M9: KS:
D10: Miesto: | F10: Trieda A.Hlinku 1, Nitra | M10: Dátum: | O10: ='Rekapitulácia stavby 9.2.'!AN8 -> 19. 12. 2016
D12: Objednávateľ: | M12: IČO:
E13: UKF Nitra | M13: IČO DPH:
D15: Zhotoviteľ: | M15: IČO: | O15: =IF('Rekapitulácia stavby 9.2.'!AN13="","",'Rekapitulácia stavby 9.2.'!AN13) -> Vyplň údaj
E16: =IF('Rekapitulácia stavby 9.2.'!E14="","",'Rekapitulácia stavby 9.2.'!E14) -> Vyplň údaj | M16: IČO DPH: | O16: =IF('Rekapitulácia stavby 9.2.'!AN14="","",'Rekapitulácia stavby 9.2.'!AN14) -> Vyplň údaj
D18: Projektant: | M18: IČO:
E19: SH final s.r.o. Nitra | M19: IČO DPH:
D21: Spracovateľ: | M21: IČO:
E22: Ing.Hrapko | M22: IČO DPH:
D24: Poznámka:
D28: Náklady z rozpočtu | M28: =N89 -> 0
D29: Ostatné náklady | M29: =N94 -> 0
D31: Cena bez DPH | M31: =ROUND(M28+M29,2) -> 0
D33: DPH | E33: základná | F33: 0.2 | G33: z | H33: =ROUND((((SUM(BE94:BE101)+SUM(BE120:BE159))+SUM(BE161:BE165))),2) -> 0 | M33: =ROUND(((ROUND((SUM(BE94:BE101)+SUM(BE120:BE159)), 2)*F33)+SUM(BE161:BE165)*F33),2) -> 0
E34: znížená | F34: 0.2 | G34: z | H34: =ROUND((((SUM(BF94:BF101)+SUM(BF120:BF159))+SUM(BF161:BF165))),2) -> 0 | M34: =ROUND(((ROUND((SUM(BF94:BF101)+SUM(BF120:BF159)), 2)*F34)+SUM(BF161:BF165)*F34),2) -> 0
E35: zákl. prenesená | F35: 0.2 | G35: z | H35: =ROUND((((SUM(BG94:BG101)+SUM(BG120:BG159))+SUM(BG161:BG165))),2) -> 0 | M35: 0
E36: zníž. prenesená | F36: 0.2 | G36: z | H36: =ROUND((((SUM(BH94:BH101)+SUM(BH120:BH159))+SUM(BH161:BH165))),2) -> 0 | M36: 0
E37: nulová | F37: 0 | G37: z | H37: =ROUND((((SUM(BI94:BI101)+SUM(BI120:BI159))+SUM(BI161:BI165))),2) -> 0 | M37: 0
D39: Cena s DPH | G39: v | H39: EUR | L39: =SUM(M31:M37) -> 0
D50: Projektant | J50: Spracovateľ
D59: Dátum a podpis: | G59: Pečiatka | J59: Dátum a podpis: | N59: Pečiatka
D61: Objednávateľ | J61: Zhotoviteľ
D70: Dátum a podpis: | G70: Pečiatka | J70: Dátum a podpis: | N70: Pečiatka
C76: REKAPITULÁCIA ROZPOČTU
C78: Stavba: | F78: =F6 -> Poradenské centrum UKF v Nitre - zmena 12/2016
C79: Objekt: | F79: 001a - Konferenčná sála
C80: Časť: | F80: =F8 -> 002 - Elektroinštalácia
C82: Miesto: | F82: =F10 -> Trieda A.Hlinku 1, Nitra | K82: Dátum: | M82: =IF(O10="","",O10) -> 19. 12. 2016
C84: Objednávateľ: | F84: =E13 -> UKF Nitra | K84: Projektant: | M84: =E19 -> SH final s.r.o. Nitra
C85: Zhotoviteľ: | F85: =IF(E16="","",E16) -> Vyplň údaj | K85: Spracovateľ: | M85: =E22 -> Ing.Hrapko
C87: Kód - Popis | N87: Cena celkom [EUR]
C89: 1) Náklady z rozpočtu | N89: =N120 -> 0 | AU89: -1
D90: M - Práce a dodávky M | N90: =N121 -> 0
D91: 210M - Elektroinštalácia | N91: =N122 -> 0
D92: VP - Práce naviac | N92: =N160 -> 0
C94: 2) Ostatné náklady | N94: =ROUND(N95+N96+N97+N98+N99+N100,2) -> 0 | U94: DPH
D95: GZS | N95: =ROUND(N89*T95,2) -> 0 | U95: znížená | AY95: VRN | BE95: =IF(U95="základná",N95,0) -> 0 | BF95: =IF(U95="znížená",N95,0) -> 0 | BG95: =IF(U95="zákl. prenesená",N95,0) -> 0 | BH95: =IF(U95="zníž. prenesená",N95,0) -> 0 | BI95: =IF(U95="nulová",N95,0) -> 0 | BJ95: 2
D96: Projektové práce | N96: =ROUND(N89*T96,2) -> 0 | U96: znížená | AY96: VRN | BE96: =IF(U96="základná",N96,0) -> 0 | BF96: =IF(U96="znížená",N96,0) -> 0 | BG96: =IF(U96="zákl. prenesená",N96,0) -> 0 | BH96: =IF(U96="zníž. prenesená",N96,0) -> 0 | BI96: =IF(U96="nulová",N96,0) -> 0 | BJ96: 2
D97: Sťažené podmienky | N97: =ROUND(N89*T97,2) -> 0 | U97: znížená | AY97: VRN | BE97: =IF(U97="základná",N97,0) -> 0 | BF97: =IF(U97="znížená",N97,0) -> 0 | BG97: =IF(U97="zákl. prenesená",N97,0) -> 0 | BH97: =IF(U97="zníž. prenesená",N97,0) -> 0 | BI97: =IF(U97="nulová",N97,0) -> 0 | BJ97: 2
D98: Vplyv prostredia | N98: =ROUND(N89*T98,2) -> 0 | U98: znížená | AY98: VRN | BE98: =IF(U98="základná",N98,0) -> 0 | BF98: =IF(U98="znížená",N98,0) -> 0 | BG98: =IF(U98="zákl. prenesená",N98,0) -> 0 | BH98: =IF(U98="zníž. prenesená",N98,0) -> 0 | BI98: =IF(U98="nulová",N98,0) -> 0 | BJ98: 2
D99: Iné VRN | N99: =ROUND(N89*T99,2) -> 0 | U99: znížená | AY99: VRN | BE99: =IF(U99="základná",N99,0) -> 0 | BF99: =IF(U99="znížená",N99,0) -> 0 | BG99: =IF(U99="zákl. prenesená",N99,0) -> 0 | BH99: =IF(U99="zníž. prenesená",N99,0) -> 0 | BI99: =IF(U99="nulová",N99,0) -> 0 | BJ99: 2
D100: Kompletačná činnosť | N100: =ROUND(N89*T100,2) -> 0 | U100: znížená | AY100: KOMPLETACNA | BE100: =IF(U100="základná",N100,0) -> 0 | BF100: =IF(U100="znížená",N100,0) -> 0 | BG100: =IF(U100="zákl. prenesená",N100,0) -> 0 | BH100: =IF(U100="zníž. prenesená",N100,0) -> 0 | BI100: =IF(U100="nulová",N100,0) -> 0 | BJ100: 2
C102: Celkové náklady za stavbu 1) + 2) | L102: =ROUND(SUM(N89+N94),2) -> 0
C108: ROZPOČET
C110: Stavba: | F110: =F6 -> Poradenské centrum UKF v Nitre - zmena 12/2016
C111: Objekt: | F111: 001a - Konferenčná sála
C112: Časť: | F112: =F8 -> 002 - Elektroinštalácia
C114: Miesto: | F114: =F10 -> Trieda A.Hlinku 1, Nitra | K114: Dátum: | M114: =IF(O10="","",O10) -> 19. 12. 2016
C116: Objednávateľ: | F116: =E13 -> UKF Nitra | K116: Projektant: | M116: =E19 -> SH final s.r.o. Nitra
C117: Zhotoviteľ: | F117: =IF(E16="","",E16) -> Vyplň údaj | K117: Spracovateľ: | M117: =E22 -> Ing.Hrapko
C119: PČ | D119: Typ | E119: Kód | F119: Popis | J119: MJ | K119: Množstvo | L119: J.cena [EUR] | N119: Cena celkom [EUR] | T119: Poznámka | U119: DPH | V119: J. Nh [h] | W119: Nh celkom [h] | X119: J. hmotnosť_x000D_ [t] | Y119: Hmotnosť_x000D_ celkom [t] | Z119: J. suť [t] | AA119: Suť Celkom [t]
C120: Náklady z rozpočtu | N120: =BK120 -> 0 | W120: =W121+W160 -> 0 | Y120: =Y121+Y160 -> 0 | AA120: =AA121+AA160 -> 0 | AT120: D | AU120: -1 | BK120: =BK121+BK160 -> 0
D121: M - Práce a dodávky M | N121: =BK121 -> 0 | W121: =W122 -> 0 | Y121: =Y122 -> 0 | AA121: =AA122 -> 0 | AR121: 3 | AT121: D | AU121: 0 | AY121: ROZPOCET | BK121: =BK122 -> 0
D122: 210M - Elektroinštalácia | N122: =BK122 -> 0 | W122: =SUM(W123:W159) -> 0 | Y122: =SUM(Y123:Y159) -> 0 | AA122: =SUM(AA123:AA159) -> 0 | AR122: 3 | AT122: D | AU122: 1 | AY122: ROZPOCET | BK122: =SUM(BK123:BK159) -> 0
C123: 0 | D123: M | E123: 1 | F123: Hmoždinka HM - 10 | J123: ks | K123: 60 | L123: 0 | N123: =ROUND(L123*K123,3) -> 0 | U123: znížená | W123: =V123*K123 -> 0 | X123: 0 | Y123: =X123*K123 -> 0 | Z123: 0 | AA123: =Z123*K123 -> 0 | AR123: 256 | AT123: M | AU123: 2 | AY123: ROZPOCET | BE123: =IF(U123="základná",N123,0) -> 0 | BF123: =IF(U123="znížená",N123,0) -> 0 | BG123: =IF(U123="zákl. prenesená",N123,0) -> 0 | BH123: =IF(U123="zníž. prenesená",N123,0) -> 0 | BI123: =IF(U123="nulová",N123,0) -> 0 | BJ123: 2 | BK123: =ROUND(L123*K123,3) -> 0 | BL123: 64 | BM123: 2
C124: 0 | D124: K | E124: 2 | F124: - montáž | J124: ks | K124: 60 | L124: 0 | N124: =ROUND(L124*K124,3) -> 0 | U124: znížená | W124: =V124*K124 -> 0 | X124: 0 | Y124: =X124*K124 -> 0 | Z124: 0 | AA124: =Z124*K124 -> 0 | AR124: 64 | AT124: K | AU124: 2 | AY124: ROZPOCET | BE124: =IF(U124="základná",N124,0) -> 0 | BF124: =IF(U124="znížená",N124,0) -> 0 | BG124: =IF(U124="zákl. prenesená",N124,0) -> 0 | BH124: =IF(U124="zníž. prenesená",N124,0) -> 0 | BI124: =IF(U124="nulová",N124,0) -> 0 | BJ124: 2 | BK124: =ROUND(L124*K124,3) -> 0 | BL124: 64 | BM124: 4
C125: 0 | D125: K | E125: 3 | F125: - vŕtanie otvoru | J125: ks | K125: 60 | L125: 0 | N125: =ROUND(L125*K125,3) -> 0 | U125: znížená | W125: =V125*K125 -> 0 | X125: 0 | Y125: =X125*K125 -> 0 | Z125: 0 | AA125: =Z125*K125 -> 0 | AR125: 64 | AT125: K | AU125: 2 | AY125: ROZPOCET | BE125: =IF(U125="základná",N125,0) -> 0 | BF125: =IF(U125="znížená",N125,0) -> 0 | BG125: =IF(U125="zákl. prenesená",N125,0) -> 0 | BH125: =IF(U125="zníž. prenesená",N125,0) -> 0 | BI125: =IF(U125="nulová",N125,0) -> 0 | BJ125: 2 | BK125: =ROUND(L125*K125,3) -> 0 | BL125: 64 | BM125: 6
C126: 0 | D126: M | E126: 4 | F126: Kábel CYKY - J 3 x 1,5 | J126: m | K126: 200 | L126: 0 | N126: =ROUND(L126*K126,3) -> 0 | U126: znížená | W126: =V126*K126 -> 0 | X126: 0 | Y126: =X126*K126 -> 0 | Z126: 0 | AA126: =Z126*K126 -> 0 | AR126: 256 | AT126: M | AU126: 2 | AY126: ROZPOCET | BE126: =IF(U126="základná",N126,0) -> 0 | BF126: =IF(U126="znížená",N126,0) -> 0 | BG126: =IF(U126="zákl. prenesená",N126,0) -> 0 | BH126: =IF(U126="zníž. prenesená",N126,0) -> 0 | BI126: =IF(U126="nulová",N126,0) -> 0 | BJ126: 2 | BK126: =ROUND(L126*K126,3) -> 0 | BL126: 64 | BM126: 8
C127: 0 | D127: K | E127: 5 | F127: - montáž | J127: m | K127: 200 | L127: 0 | N127: =ROUND(L127*K127,3) -> 0 | U127: znížená | W127: =V127*K127 -> 0 | X127: 0 | Y127: =X127*K127 -> 0 | Z127: 0 | AA127: =Z127*K127 -> 0 | AR127: 64 | AT127: K | AU127: 2 | AY127: ROZPOCET | BE127: =IF(U127="základná",N127,0) -> 0 | BF127: =IF(U127="znížená",N127,0) -> 0 | BG127: =IF(U127="zákl. prenesená",N127,0) -> 0 | BH127: =IF(U127="zníž. prenesená",N127,0) -> 0 | BI127: =IF(U127="nulová",N127,0) -> 0 | BJ127: 2 | BK127: =ROUND(L127*K127,3) -> 0 | BL127: 64 | BM127: 10
C128: 0 | D128: M | E128: 6 | F128: Kábel CYKY - J 3 x 2,5 | J128: m | K128: 100 | L128: 0 | N128: =ROUND(L128*K128,3) -> 0 | U128: znížená | W128: =V128*K128 -> 0 | X128: 0 | Y128: =X128*K128 -> 0 | Z128: 0 | AA128: =Z128*K128 -> 0 | AR128: 256 | AT128: M | AU128: 2 | AY128: ROZPOCET | BE128: =IF(U128="základná",N128,0) -> 0 | BF128: =IF(U128="znížená",N128,0) -> 0 | BG128: =IF(U128="zákl. prenesená",N128,0) -> 0 | BH128: =IF(U128="zníž. prenesená",N128,0) -> 0 | BI128: =IF(U128="nulová",N128,0) -> 0 | BJ128: 2 | BK128: =ROUND(L128*K128,3) -> 0 | BL128: 64 | BM128: 12
C129: 0 | D129: K | E129: 7 | F129: - montáž | J129: m | K129: 100 | L129: 0 | N129: =ROUND(L129*K129,3) -> 0 | U129: znížená | W129: =V129*K129 -> 0 | X129: 0 | Y129: =X129*K129 -> 0 | Z129: 0 | AA129: =Z129*K129 -> 0 | AR129: 64 | AT129: K | AU129: 2 | AY129: ROZPOCET | BE129: =IF(U129="základná",N129,0) -> 0 | BF129: =IF(U129="znížená",N129,0) -> 0 | BG129: =IF(U129="zákl. prenesená",N129,0) -> 0 | BH129: =IF(U129="zníž. prenesená",N129,0) -> 0 | BI129: =IF(U129="nulová",N129,0) -> 0 | BJ129: 2 | BK129: =ROUND(L129*K129,3) -> 0 | BL129: 64 | BM129: 14
C130: 0 | D130: M | E130: 8 | F130: Kábel CYKY - J 4 x 1,5 | J130: m | K130: 15 | L130: 0 | N130: =ROUND(L130*K130,3) -> 0 | U130: znížená | W130: =V130*K130 -> 0 | X130: 0 | Y130: =X130*K130 -> 0 | Z130: 0 | AA130: =Z130*K130 -> 0 | AR130: 256 | AT130: M | AU130: 2 | AY130: ROZPOCET | BE130: =IF(U130="základná",N130,0) -> 0 | BF130: =IF(U130="znížená",N130,0) -> 0 | BG130: =IF(U130="zákl. prenesená",N130,0) -> 0 | BH130: =IF(U130="zníž. prenesená",N130,0) -> 0 | BI130: =IF(U130="nulová",N130,0) -> 0 | BJ130: 2 | BK130: =ROUND(L130*K130,3) -> 0 | BL130: 64 | BM130: 16
C131: 0 | D131: K | E131: 9 | F131: - montáž | J131: m | K131: 15 | L131: 0 | N131: =ROUND(L131*K131,3) -> 0 | U131: znížená | W131: =V131*K131 -> 0 | X131: 0 | Y131: =X131*K131 -> 0 | Z131: 0 | AA131: =Z131*K131 -> 0 | AR131: 64 | AT131: K | AU131: 2 | AY131: ROZPOCET | BE131: =IF(U131="základná",N131,0) -> 0 | BF131: =IF(U131="znížená",N131,0) -> 0 | BG131: =IF(U131="zákl. prenesená",N131,0) -> 0 | BH131: =IF(U131="zníž. prenesená",N131,0) -> 0 | BI131: =IF(U131="nulová",N131,0) -> 0 | BJ131: 2 | BK131: =ROUND(L131*K131,3) -> 0 | BL131: 64 | BM131: 18
C132: 0 | D132: M | E132: 10 | F132: Elektroinštalačná lišta LV 24x22 | J132: m | K132: 100 | L132: 0 | N132: =ROUND(L132*K132,3) -> 0 | U132: znížená | W132: =V132*K132 -> 0 | X132: 0 | Y132: =X132*K132 -> 0 | Z132: 0 | AA132: =Z132*K132 -> 0 | AR132: 256 | AT132: M | AU132: 2 | AY132: ROZPOCET | BE132: =IF(U132="základná",N132,0) -> 0 | BF132: =IF(U132="znížená",N132,0) -> 0 | BG132: =IF(U132="zákl. prenesená",N132,0) -> 0 | BH132: =IF(U132="zníž. prenesená",N132,0) -> 0 | BI132: =IF(U132="nulová",N132,0) -> 0 | BJ132: 2 | BK132: =ROUND(L132*K132,3) -> 0 | BL132: 64 | BM132: 20
C133: 0 | D133: K | E133: 11 | F133: - montáž | J133: m | K133: 100 | L133: 0 | N133: =ROUND(L133*K133,3) -> 0 | U133: znížená | W133: =V133*K133 -> 0 | X133: 0 | Y133: =X133*K133 -> 0 | Z133: 0 | AA133: =Z133*K133 -> 0 | AR133: 64 | AT133: K | AU133: 2 | AY133: ROZPOCET | BE133: =IF(U133="základná",N133,0) -> 0 | BF133: =IF(U133="znížená",N133,0) -> 0 | BG133: =IF(U133="zákl. prenesená",N133,0) -> 0 | BH133: =IF(U133="zníž. prenesená",N133,0) -> 0 | BI133: =IF(U133="nulová",N133,0) -> 0 | BJ133: 2 | BK133: =ROUND(L133*K133,3) -> 0 | BL133: 64 | BM133: 22
C134: 0 | D134: M | E134: 12 | F134: Svorkovnica štvorpólová typ 6303-13 | J134: ks | K134: 32 | L134: 0 | N134: =ROUND(L134*K134,3) -> 0 | U134: znížená | W134: =V134*K134 -> 0 | X134: 0 | Y134: =X134*K134 -> 0 | Z134: 0 | AA134: =Z134*K134 -> 0 | AR134: 256 | AT134: M | AU134: 2 | AY134: ROZPOCET | BE134: =IF(U134="základná",N134,0) -> 0 | BF134: =IF(U134="znížená",N134,0) -> 0 | BG134: =IF(U134="zákl. prenesená",N134,0) -> 0 | BH134: =IF(U134="zníž. prenesená",N134,0) -> 0 | BI134: =IF(U134="nulová",N134,0) -> 0 | BJ134: 2 | BK134: =ROUND(L134*K134,3) -> 0 | BL134: 64 | BM134: 24
... C159: 0 | D159: K | E159: Pol192 | F159: Revizia | J159: hod | K159: 8 | L159: 0 | N159: =ROUND(L159*K159,3) -> 0 | U159: znížená | W159: =V159*K159 -> 0 | X159: 0 | Y159: =X159*K159 -> 0 | Z159: 0 | AA159: =Z159*K159 -> 0 | AR159: 64 | AT159: K | AU159: 2 | AY159: ROZPOCET | BE159: =IF(U159="základná",N159,0) -> 0 | BF159: =IF(U159="znížená",N159,0) -> 0 | BG159: =IF(U159="zákl. prenesená",N159,0) -> 0 | BH159: =IF(U159="zníž. prenesená",N159,0) -> 0 | BI159: =IF(U159="nulová",N159,0) -> 0 | BJ159: 2 | BK159: =ROUND(L159*K159,3) -> 0 | BL159: 64 | BM159: 74
D160: VP - Práce naviac | N160: =BK160 -> 0 | AT160: D | AU160: 0 | AY160: PN | BK160: =SUM(BK161:BK165) -> 0
D161: K | N161: =BK161 -> 0 | U161: znížená | AT161: PN | AU161: 1 | AY161: PN | BE161: =IF(U161="základná",N161,0) -> 0 | BF161: =IF(U161="znížená",N161,0) -> 0 | BG161: =IF(U161="zákl. prenesená",N161,0) -> 0 | BH161: =IF(U161="zníž. prenesená",N161,0) -> 0 | BI161: =IF(U161="nulová",N161,0) -> 0 | BJ161: 2 | BK161: =L161*K161 -> 0
D162: K | N162: =BK162 -> 0 | U162: znížená | AT162: PN | AU162: 1 | AY162: PN | BE162: =IF(U162="základná",N162,0) -> 0 | BF162: =IF(U162="znížená",N162,0) -> 0 | BG162: =IF(U162="zákl. prenesená",N162,0) -> 0 | BH162: =IF(U162="zníž. prenesená",N162,0) -> 0 | BI162: =IF(U162="nulová",N162,0) -> 0 | BJ162: 2 | BK162: =L162*K162 -> 0
D163: K | N163: =BK163 -> 0 | U163: znížená | AT163: PN | AU163: 1 | AY163: PN | BE163: =IF(U163="základná",N163,0) -> 0 | BF163: =IF(U163="znížená",N163,0) -> 0 | BG163: =IF(U163="zákl. prenesená",N163,0) -> 0 | BH163: =IF(U163="zníž. prenesená",N163,0) -> 0 | BI163: =IF(U163="nulová",N163,0) -> 0 | BJ163: 2 | BK163: =L163*K163 -> 0
D164: K | N164: =BK164 -> 0 | U164: znížená | AT164: PN | AU164: 1 | AY164: PN | BE164: =IF(U164="základná",N164,0) -> 0 | BF164: =IF(U164="znížená",N164,0) -> 0 | BG164: =IF(U164="zákl. prenesená",N164,0) -> 0 | BH164: =IF(U164="zníž. prenesená",N164,0) -> 0 | BI164: =IF(U164="nulová",N164,0) -> 0 | BJ164: 2 | BK164: =L164*K164 -> 0
D165: K | N165: =BK165 -> 0 | U165: znížená | AT165: PN | AU165: 1 | AY165: PN | BE165: =IF(U165="základná",N165,0) -> 0 | BF165: =IF(U165="znížená",N165,0) -> 0 | BG165: =IF(U165="zákl. prenesená",N165,0) -> 0 | BH165: =IF(U165="zníž. prenesená",N165,0) -> 0 | BI165: =IF(U165="nulová",N165,0) -> 0 | BJ165: 2 | BK165: =L165*K165 -> 0

Sheet 006 - Poplachové zariaden01 9.2
D1: Hárok obsahuje: | F1: 1) Krycí list rozpočtu | H1: 2) Rekapitulácia rozpočtu | L1: 3) Rozpočet | O1: Späť na hárok: | S1: Rekapitulácia stavby
C2: optimalizované pre tlač zostáv vo formáte A4 - na výšku | S2: >> skryté stĺpce << | AT2: {febb44b1-e5bb-4261-8a3e-23c6005aff76}
AT3: 0
C4: KRYCÍ LIST ROZPOČTU 9.2. | T4: v --- nižšie sa nachádzajú doplnkové a pomocné údaje k zostavám --- v | AT4: False
D6: Stavba: | F6: ='Rekapitulácia stavby 9.2.'!K6 -> Poradenské centrum UKF v Nitre - zmena 12/2016
D7: Objekt: | F7: 001a - Konferenčná sála
D8: Časť: | F8: 006 - Poplachové zariadenie narušenia
D9: JKSO: | M9: KS:
D10: Miesto: | F10: Trieda A.Hlinku 1, Nitra | M10: Dátum: | O10: ='Rekapitulácia stavby 9.2.'!AN8 -> 19. 12. 2016
D12: Objednávateľ: | M12: IČO:
E13: UKF Nitra | M13: IČO DPH:
D15: Zhotoviteľ: | M15: IČO: | O15: =IF('Rekapitulácia stavby 9.2.'!AN13="","",'Rekapitulácia stavby 9.2.'!AN13) -> Vyplň údaj
E16: =IF('Rekapitulácia stavby 9.2.'!E14="","",'Rekapitulácia stavby 9.2.'!E14) -> Vyplň údaj | M16: IČO DPH: | O16: =IF('Rekapitulácia stavby 9.2.'!AN14="","",'Rekapitulácia stavby 9.2.'!AN14) -> Vyplň údaj
D18: Projektant: | M18: IČO:
E19: SH final s.r.o. Nitra | M19: IČO DPH:
D21: Spracovateľ: | M21: IČO:
E22: Morez s.r.o. | M22: IČO DPH:
D24: Poznámka:
D28: Náklady z rozpočtu | M28: =N89 -> 0
D29: Ostatné náklady | M29: =N95 -> 0
D31: Cena bez DPH | M31: =ROUND(M28+M29,2) -> 0
D33: DPH | E33: základná | F33: 0.2 | G33: z | H33: =ROUND((((SUM(BE95:BE102)+SUM(BE121:BE132))+SUM(BE134:BE138))),2) -> 0 | M33: =ROUND(((ROUND((SUM(BE95:BE102)+SUM(BE121:BE132)), 2)*F33)+SUM(BE134:BE138)*F33),2) -> 0
E34: znížená | F34: 0.2 | G34: z | H34: =ROUND((((SUM(BF95:BF102)+SUM(BF121:BF132))+SUM(BF134:BF138))),2) -> 0 | M34: =ROUND(((ROUND((SUM(BF95:BF102)+SUM(BF121:BF132)), 2)*F34)+SUM(BF134:BF138)*F34),2) -> 0
E35: zákl. prenesená | F35: 0.2 | G35: z | H35: =ROUND((((SUM(BG95:BG102)+SUM(BG121:BG132))+SUM(BG134:BG138))),2) -> 0 | M35: 0
E36: zníž. prenesená | F36: 0.2 | G36: z | H36: =ROUND((((SUM(BH95:BH102)+SUM(BH121:BH132))+SUM(BH134:BH138))),2) -> 0 | M36: 0
E37: nulová | F37: 0 | G37: z | H37: =ROUND((((SUM(BI95:BI102)+SUM(BI121:BI132))+SUM(BI134:BI138))),2) -> 0 | M37: 0
D39: Cena s DPH | G39: v | H39: EUR | L39: =SUM(M31:M37) -> 0
D50: Projektant | J50: Spracovateľ
D59: Dátum a podpis: | G59: Pečiatka | J59: Dátum a podpis: | N59: Pečiatka
D61: Objednávateľ | J61: Zhotoviteľ
D70: Dátum a podpis: | G70: Pečiatka | J70: Dátum a podpis: | N70: Pečiatka
C76: REKAPITULÁCIA ROZPOČTU
C78: Stavba: | F78: =F6 -> Poradenské centrum UKF v Nitre - zmena 12/2016
C79: Objekt: | F79: 001a - Konferenčná sála
C80: Časť: | F80: =F8 -> 006 - Poplachové zariadenie narušenia
C82: Miesto: | F82: =F10 -> Trieda A.Hlinku 1, Nitra | K82: Dátum: | M82: =IF(O10="","",O10) -> 19. 12. 2016
C84: Objednávateľ: | F84: =E13 -> UKF Nitra | K84: Projektant: | M84: =E19 -> SH final s.r.o. Nitra
C85: Zhotoviteľ: | F85: =IF(E16="","",E16) -> Vyplň údaj | K85: Spracovateľ: | M85: =E22 -> Morez s.r.o.
