Workbook
Name _kmp1: #REF!
Name _kmp1: #REF!
Name _kmp1: #REF!
Name _kmp1: #REF!
Name _kmp2: #REF!
Name _kmp2: #REF!
Name _kmp2: #REF!
Name _kmt1: #REF!
Name _kmt1: #REF!
Name _kmt1: #REF!
Name _kmt1: #REF!
Name _T1: #REF!
Name _T1: #REF!
Name _T1: #REF!
Name _wd1: [1]vahy!$B$1
Name _wd1: [1]vahy!$B$1
Name _wd3: [1]vahy!$B$3
Name _wd3: [1]vahy!$B$3
Name _we1: [1]vahy!$B$2
Name _we1: [1]vahy!$B$2
Name _we3: [1]vahy!$B$4
Name _we3: [1]vahy!$B$4
Name denní: #REF!
Name denní: #REF!
Name denní: #REF!
Name denní: #REF!
Name dokpo: #REF!
Name dokpo: #REF!
Name dokpo: #REF!
Name dokpo: #REF!
Name dokpred: #REF!
Name dokpred: #REF!
Name dokpred: #REF!
Name dokpred: #REF!
Name druhý: #REF!
Name druhý: #REF!
Name druhý: #REF!
Name druhý: #REF!
Name exterdruhý: #REF!
Name exterdruhý: #REF!
Name exterdruhý: #REF!
Name exterdruhý: #REF!
Name externeplat: #REF!
Name externeplat: #REF!
Name externeplat: #REF!
Name externeplat: #REF!
Name exterplat: #REF!
Name exterplat: #REF!
Name exterplat: #REF!
Name exterplat: #REF!
Name KKS_doc: #REF!
Name KKS_doc: #REF!
Name KKS_doc: #REF!
Name KKS_doc: #REF!
Name KKS_ost: #REF!
Name KKS_ost: #REF!
Name KKS_ost: #REF!
Name KKS_ost: #REF!
Name KKS_phd: #REF!
Name KKS_phd: #REF!

Sheet Obsah
B1: Obsah tabuľkovej prílohy výročnej správy o hospodárení verejnej vysokej školy za rok 2018
A2: Vysvetlivky | B2: Vysvetlivky k tabuľkám výročnej správy o hospodárení verejných vysokých škôl za rok 2018
A3: Súvzťažnosti | B3: Súvzťažnosti tabuliek výročnej správy o hospodárení verejných vysokých škôl za rok 2018
A4: Kódy z CRŠ | B4: Kódy z Centrálneho registra študentov
A5: Tabuľka 1 | B5: Príjmy z dotácií verejnej vysokej škole zo štátneho rozpočtu z kapitoly MŠVVaŠ SR poskytnuté na základe Zmluvy o poskytnutí dotácie zo štátneho rozpočtu prostredníctvom rozpočtu Ministerstva školstva, vedy, výskumu a športu Slovenskej republiky na rok 2018 na programe 077
A6: Tabuľka 2 | B6: Príjmy verejnej vysokej školy v roku 2018 majúce charakter dotácie okrem príjmov z dotácií z kapitoly MŠVVaŠ SR a okrem štrukturálnych fondov EÚ
A7: Tabuľka 3 | B7: Výnosy verejnej vysokej školy v rokoch 2017 a 2018
A8: Tabuľka 4 | B8: Výnosy verejnej vysokej školy zo školného a z poplatkov spojených so štúdiom v rokoch 2017 a 2018
A9: Tabuľka 5 | B9: Náklady verejnej vysokej školy v rokoch 2017 a 2018
A10: Tabuľka 6 | B10: Zamestnanci a náklady na mzdy verejnej vysokej školy v roku 2018
A11: Tabuľka 6a | B11: Zamestnanci a náklady na mzdy verejnej vysokej školy v roku 2018 - len ženy
A12: Tabuľka 7 | B12: Náklady verejnej vysokej školy na štipendiá interných doktorandov v roku 2018
A13: Tabuľka 8 | B13: Údaje o systéme sociálnej podpory - časť sociálne štipendiá (§ 96 zákona) za roky 2017 a 2018
... A26: Tabuľka 23 | B26: Náklady verejnej vysokej školy v roku 2018 v oblasti sociálnej podpory študentov

Sheet zmeny
A1: Zmeny tabuliek výročnej správy o hospodárení za rok 2018 v porovnaní s rokom 2017
A2: Všeobecná poznámka č. 1 | C2: v hlavičkách, vo vysvetlivkách a v súvsťažnostiach boli zmenené (aktualizované) roky a upravené vzťahy v T3_V1, T4_V1
A3: Tabuľka 1 | B3: príjmy z dotácie na základe dotačnej zmluvy , len 077 | C3: bez zmien
A4: Tabuľka 2 | B4: príjmy verejnej vysokej školy v roku 2018 majúce charakter dotácie | C4: bez zmien
A5: Tabuľka 3 | B5: výnosy VVŠ | C5: vložený riadok 23 v riadku 24 vložený účet 648 011 v riadku 20, 26, 50, 65 upravený vzorec
A6: Tabuľka 4 | B6: výnosy VVŠ zo školného a poplatkov | C6: v riadku 4 vložený účet 648 010 v riadku 5 vložený účet 648 011
A7: Tabuľka 5 | B7: náklady VVŠ | C7: v riadku 42 vložený účet 518 054
A8: Tabuľka 6 | B8: náklady na mzdy | C8: bez zmien
A9: Tabuľka 6a | B9: náklady na mzdy žien | C9: bez zmien
A10: Tabuľka 7 | B10: doktorandi a doktorandské štipendiá | C10: bez zmien
A11: Tabuľka 8 | B11: sociálne štipendiá | C11: bez zmien
A12: Tabuľka 9 | B12: študentské domovy | C12: bez zmien
A13: Tabuľka 10 | B13: študentské jedálne | C13: bez zmien
A14: Tabuľka 11 | B14: zdroje obstarania a technického zhodnotenia majetku | C14: bez zmien
... A24: Tabuľka 23 | B24: náklady verejnej vysokej školy v roku 2018 v oblasti sociálnej podpory študentov | C24: bez zmien

Sheet Vysvetlivky
A1: Vysvetlivky k tabuľkám výročnej správy o hospodárení verejnej vysokej školy za rok 2018
A2: Kód vysvetlivky | B2: Vysvetlivka
A3: SPOL_1 | B3: Vysvetlivky k tabuľkám sú organizované v dvoch stĺpcoch. Prvý stĺpec označený ako "Kód vysvetlivky" obsahuje označenie vysvetlivky, ktoré určuje, ku ktorej tabuľke a ku ktorej časti tabuľky sa vysvetlivka vzťahuje. Význam použitých kódov je illustrovaný na nasledovných príkladoch: Príklad č. 1: T1_R10 - vysvetlivka sa vzťahuje k tabuľke č.1, k riadku 10 Príklad č. 2: T1_R4:R8 - vysvetlivka sa vzťahuje k tabuľke č. 1, k riadkom 4 až 8 Príklad č. 3: T1_V1 - ide o všeobecnú vysvetlivku č. 1 k tabuľke č. 1 Príklad č. 4: T14_SA - vysvetlivka sa vzťahuje k tabuľke č. 14, k stĺpcu A Príklad č. 5: SPOL_1 - ide o vysvetlivku č. 1 platnú pre všetky tabuľky
A4: SPOL_2 | B4: Niektoré polia tabuliek sa počítajú alebo inak odvodzujú z iných polí. Tieto polia sú označené žltou farbou a vysoká škola ich nevyplňuje. Polia, ktoré je potrebné vyplniť, sú označené zelenou farbou. Polia, v ktorých nemôže byť žiadny údaj, sú označené X.
A5: SPOL_3 | B5: Ak nie je uvedené inak, všetky údaje o výške finančných prostriedkov z roku 2017 a 2018 sa uvádzajú v eurách s presnosťou na dve desatinné miesta. Dôvodom tohto pravidla je, aby pri sumarizácii nedochádzalo k väčším chybám zo zaokrúhľovania.
A6: SPOL_4 | B6: Vo všetkých predpísaných tabuľkách výročnej správy sa dodržiavajú nasledujúce konvencie: a) Všetky riadky tabuliek, ktoré obsahujú údaje, sú číslované. Ak sa údaj v riadku vypočíta z údajov v iných riadkoch, je v riadku s vypočítaným údajom uvedený príslušný vzorec. b) Riadky tabuľky s hlavnými údajmi za sledovanú oblasť sú vyznačené tučným písmom. Ak v riadkoch nasledujúcich za takýmto riadkom je uvedený podrobnejší rozpis údaja, ktorý riadok obsahuje, je v riadku s hlavným údajom informácia, z ktorých riadkov sa daný hlavný údaj vypočíta. Riadky s rozpisom hlavného údaja začínajú znakom „-“ a sú vytlačené normálnym písmom (pozri napríklad riadky R2 až R5 v tabuľke č. 3). c) Ak je potrebné za riadkom s údajom uviesť, že tento údaj obsahuje v sebe nejaký čiastkový údaj (napríklad koľko z uvedeného objemu išlo na výskum a vývoj), uvedie sa v riadku za údajom „z toho“ a na ďalší riadok sa uvedie uvedený čiastkový údaj. Riadok s čiastkovým údajom začína znakom „-“ (pozri napríklad riadok R51 z tabuľky č. 3 alebo riadok R60 z tabuľky č. 5) d) Výraz „SUM(R1:R5)“ znamená „súčet riadkov R1 až R5“. e) Ak tabuľka obsahuje časť, o ktorej nie je dopredu známe, koľko bude mať riadkov, vkladané riadky sa označia číslom predchádzajúceho riadku a postupne písmenami a, b, c, ... (pozri napríklad riadky R15 a R15a v tabuľke č. 6). Pri vkladaní nového riadku je potrebné postupovať nasledovne: nastaviť kurzor na voľný riadok za riadok končiaci sa písmenom, napr. 2a, cez hlavné menu vložiť riadok, resp. viac riadkov. Údaje doplnené do takto vloženého riadku sa automaticky prenesú do sumárneho riadku (riadok 2). Vložené riadky označte nasledujúcimi písmenami abecedy napr. 2b, 2c. f) V poliach tabuliek, ktoré sa nevypĺňajú, je uvedený znak „X“
A7: SPOL_5 | B7: Ak položke požadovanej v tabuľke zodpovedá podľa predpísanej analytickej evidencie na príslušnom syntetickom účte nejaký špecifikcký kód (napríklad kód ekonomickej klasifikácie), uvedie sa tento kód za názvom položky.
A8: T1_V1 | B8: Tabuľka č. 1 poskytuje informácie o celkovom objeme a programovej štruktúre príjmov na základe Zmluvy o poskytnutí dotácií zo štátneho rozpočtu prostredníctvom kapitoly MŠVVaŠ na programe 077. Dotácie programov 021, 05T, 06K, resp. programov zo štrukturálnych fondov EÚ nie sú súčasťou tejto zmluvy.
A9: T1_R1:R15 | B9: V riadku 1 až 15 sa uvádzajú príjmy na programe 077 podľa programovej štruktúry na rok 2017.
A10: T1_R12 a T1_R13 | B10: Uvádza sa skutočne poskytnutá dotácia na sociálne a motivačné štipendiá a nie nárok vyplývajúci z potreby štipendií podľa zákona.
A11: T2_V1 | B11: Tabuľka č. 2 poskytuje informácie o celkovom objeme a štruktúre príjmov z dotácií alebo príjmov majúcich charakter dotácií, ktoré neboli poskytnuté z kapitoly MŠVVaŠ SR. Uvedú sa tu aj dotácie z rozpočtovej kapitoly Úrad vlády SR, určené na riešenie projektov v rámci Finančného mechanizmu EHP a Nórskeho finančného mechanizmu.
A12: T2_R1, R1a,... | B12: V riadku 1 uvedie vysoká škola celkový objem príjmov z dotácií zo štátneho rozpočtu poskytnutých z iných kapitol ako je kapitola MŠVVaŠ SR. V riadkoch 1a ... rozpíše podrobnejšie jednotlivé druhy týchto dotácií. Príklady: 1. dotácie z iných kapitol, 2. dotácie z APVV pre VVŠ ako spoluriešiteľa, resp.dotácie, ak hlavným riešiteľom je iná právnická osoba ako VVŠ.
A13: T2_R2, R2a... | B13: V riadku 2 uvedie vysoká škola celkový objem príjmov z dotácií z rozpočtu obcí a VÚC. V riadkoch R2a ... rozpíše podrobnejšie jednotlivé druhy týchto dotácií, každú na osobitný riadok.
... A92: T23_V1 | B92: Tabuľka č. 23 poskytuje informácie o výkaze ziskov a strát sumár za VVŠ za oblasť sociálnej podpory študentov časť "Náklady". Údaje sa uvádzajú s presnosťou na dve desatinné miesta.

Sheet Súvzťažnosti
A1: Súvzťažnostimedzi tabuľkami výročnej správy o hospodárení verejnej vysokej školy za rok 2018
A2: Kód vysvetlivky | B2: Kontrola | C2: Poznámky
A3: T1_V1 | B3: T1 = dotačná zmluva na 2018 | C3: Bežná a kapitálová dotácia je kontrolovaná na Zmluvu o poskytnutí dotácií zo štátneho rozpočtu prostredníctvom kapitoly MŠVVaŠ (ďalej len "dotačná zmluva") a jej dodatkov na rok 2018 na programe 077.
A4: T2_V1 | B4: T2 | C4: Údaje v T2 nie je možné odkontrolovať na údaje z výkazníctva ani na údaje v iných tabuľkách, nakoľko ide o údaje účtované na rôznych účtoch. (691,649). Príjmy zo zahraničia majúce charakter dotácie majú obsahovať aj údaje z výskumných, resp. vzdelávacích projektov, ktoré sú podkladom k rozpisu metodiky bežnej dotácie pre VVŠ na kalendárny rok. V R4a... je potrebné uviesť príjmy zo zahraničia (zo zahraničných účtov) a k nim príslušné hodnoty. Neuvádzajú sa tu dotácie, ktoré VVŠ obdržala zo štrukturálnych fondov prostredníctvom iných kapitol štátneho rozpočtu, napr. MPSVaR SR (tieto údaje patria do T17) a dotácie z APVV pre VVŠ ako hlavného riešiteľa (údaje patria do T18). Do tejto tabuľky sa uvádzajú dotácie z APVV pre VVŠ ako spoluriešiteľa, resp.dotácie, ak hlavným riešiteľom je iná právnická osoba ako VVŠ. Nepatria sem prostriedky na zahraničné mobility na 05T 08 a 021 02 03.
A5: T2_R1 | B5: T2_R3 | C5: Uvedie sa dotácia z Úradu vlády SR (na R3) , poskytnutá na riešenie projektov v rámci Finančného mechanizmu EHP a Nórskeho finančného mechanizmu. Údaje budú kontrolované na hodnoty z výkazníctva - bežné a kapitálové výdavky evidované na zdrojoch 11E1, 11E2, 11E3, 11E4 a 121.
A6: T3_V1 | B6: T3_R20_SA (SC) = T4_R1_SA (SB), T3_R26_SA (SC) = T4_R7_SA (SB) | C6: Výnosy sú kontrolované na údaje z výkazníctva - výkaz ziskov a strát, časť výnosy. Údaje v T3 z roku 2018 a údaje z roku 2018 sa uvádzajú v eurách s presnosťou na dve desatinné miestá ( pričom zobrazenie tabuliek je nastavené na Eur). Výnosy zo školného, resp. z poplatkov spojených so štúdiom za hlavnú činnosť v T3_R20, R26 sa taktiež kontrolujú na T4_R1_SB a T4_R7_SB. | D6: zmena
A7: T4_V1 | B7: T4_R1_SA(SB) = T3_R20_SA(SC), T4_R7_SA(SB) = T3_R26_SA(SC) T4_R15_SA(SB) = T13_R9_SE(SF) T4_R15_SA = T22_R58_SA T4_R15_SB = T22_R57_SB | C7: Údaje v T4 sú kontrolované na údaje z T3, a to na výnosy z hlavnej činnosti - školné (T3_R20), poplatky spojené so štúdiom (T3_R26). Údaj v R15 - návrh na prídel do štipendijného fondu musí byť minimálne vo výške vykazovanom na riadku R14 - základ pre prídel do štipendijného fondu. | D7: zmena
A8: T5_V1 | B8: T5_R56_SC+SD >=< T6_R18_SH T5_R77_(SC+SD) = T7_R1_SE T5_R81_SC = T19_R1_SC | C8: Náklady sú kontrolované na údaje z výkazníctva - výkaz ziskov a strát, časť náklady. Obdobne ako pri T3 sa údaje z roku 2017 a údaje z roku 2018 sa uvádzajú v eurách s presnosťou na dve desatinné miestá (pričom zobrazenie tabuliek je nastavené na Eur). Za oblasť miezd sú údaje za rok 2018 - účet 521 (R55) v T5 kontrolované na výkazníctvo, časť náklady a údaje v T5_R56_(SC + SD) na T6_R18_SH. Rozdiel medzi údajom v T6_R18_SH a údajmi v T5_R56_SC+SD (Mzdy) môže o.i. tvoriť výška nákladov za nevyčerpané dovolenky. Štipendiá doktorandov z T5_R77_SC+SD sa kontrolujú na údaje z T7_R1_SC. Štipendiá z vlastných zdrojov z T5_R81_SC sa kontrolujú na údaje v T19_R1_SC.
A9: T5_V2 | B9: T5_R88-R91 | C9: Údaje v T5 sú rozšírené o tvorbu fondov
A10: T5_V3 | B10: T5_R90_(SA+SB)=T13_R5_SC T5_R90_(SC+SD)=T13_R5_SD | C10: Náklady sú kontrolované na údaje z výkazníctva - tvorba fondu z likvidovaného / predaného majetku
A11: T6_V1 | B11: T6_R1..R6, R7, R9, R13, R14, R16, R17 = Škol 2-04 za 2018, T6_R15a.. = dotačná zmluva na 2018, špecifiká | C11: Údaje v riadkoch R1:R6, R7, R9, R13, R14, R16, R17 sú kontrolované s údajmi v štatistickom výkaze Škol (MŠ SR) 2-04 za rok 2018. Údaje v riadkoch 15a ... (špecifiká) sú kontrolované na rozpis dotácie v roku 2018. Rozdiel medzi údajom v T6_R18_SH a údajmi v T5_R56_SC+SD (Mzdy) je potrebné vyčísliť a s komentárom uviesť v poznámke pod tabuľkou T6.
A12: T7_V1 | B12: T7_R1_SC = T5_R77_(SC +SD), | C12: Údaje v R1_SC za rok 2018 sú kontrolované na T5_R77_SC + SD
A13: T8_R5 | B13: T8_R5_SA (SC) = dotačná zmluva na rok 2017 (2018), prvok 077 15 01 - účelové prostriedky na sociálne štipendiá | C13: Údaje sú kontrolované na dotačné zmluvy a na účelovú dotáciu na rok 2017, 2018. Za rok 2018 na T1_R12_SA. Údaje v T8_R1_SC by sa mali rovnať údajom z CRŠ kód 1.
A14: T8_V1 | B14: T8_R5_SC= T1_R12_SA T8_R4_SC = zostatok k 31.12.2017 T8_R6_SA = T8_R4_SC T8_R1_SA (SC) ≤ T13_R11_SE (SF) | C14: Údaj v T8_R4_SA predstavuje zostatok nevyčerpanej dotácie z predchádzajúceho roka, t. j. k 31. 12. 2017. Údaj v T8_R6_SA (SC) predstavuje zostatok nevyčerpanej dotácie k 31. 12. príslušného roka (2017, resp. 2018) a ich hodnoty sa vypočítajú z ostatných uvedených údajov. Zostatok nevyčerpanej dotácie k 31. 12. 2017 je totožný s údajmi vykazovanými v tabuľke T8 výročnej správy za rok 2017.
A15: T9_V1 | B15: T9_R1 = štatistické výkazy MŠVVaŠ SR 2017 (2018) | C15: Údaje o projektovanej lôžkovej kapacite v T9_R1 sa kontrolujú na štatistické výkazy MŠVVaŠ SR (posielané na CVTI SR) 2017, 2018.
A16: T9_V2 | B16: T9_R6_SA (SB) = dotačná zmluva 2017 (2018) - účelové prostriedky na študentské domovy (vrátane dotácie na valorizáciu miezd ŠJ) | C16: Údaje sa kontrolujú na poskytnutú dotáciu na študentské domovy (vrátane zmluvných zariadení a dotácie na valorizáciu platov zamestnancov ŠJ)
A17: T10_V1 | B17: T10_R7_SA (SB) = dotačná zmluva 2017 (2018)_účelová dotácia na študentské jedálne | C17: Údaje v R7_SA (SB) sú kontrolované na dotačné zmluvy a na účelovú dotáciu na rok 2017, 2018.
A18: T10_V2 | B18: T10_R5_SA (SB) | C18: Výnos z dotácie zo štátneho rozpočtu na študentské jedálne v kalendárneho roku sa odvíja od zostatku dotácie predchádzajúceho kalendárneho roka a účelovej dotácie daného kalendárneho roka zníženej o prenos zostatku do nasledujúceho kalendárneho roka, resp. zvýšenej o nárok na poskytnutie nedoplatku.
A19: T10_V3 | B19: T10_R13 = štatistické výkazy MŠVVaŠ SR 2017 (2018) | C19: Údaje sa kontrolujú na štatistické údaje MŠVVaŠ SR zasielané CVTI SR. | E19: dňa 27.3.2018
A20: T11_V1 | B20: T11_R2_SA (SB) = T13_R2_SC (SD) | C20: Údaje v T11_R2 - tvorba fondu reprodukcie za roky 2017 a 2018 sa musia rovnať údajom v T13_R2_SC (SD).
A21: T11_V2 | B21: T11_SB_R10 ≥ T1_SB_R15 | C21: V T11_SB_R10 sa uvádzajú kapitálové dotácie prijaté (cash) zo zdroja 111. Ide o dotácie z programu 077 (T1_SB_R15), z iných kapitol štátneho rozpočtu (T2_SB_R1), z kapitoly MŠVVaŠ (T18_SB_R9). Objem kapitálovej dotácie z iných kapitol žiadame osobitne uviesť do poznámky.
A22: T11_V3 | B22: T11_SB_R10a = T17_SC+SD_R10 | C22: V T11_R10a sa uvádzajú kapitálové výdavky prijaté (cash) z prostriedkov EÚ (štrukturálnych fondov) vrátane spolufinancovania.
A23: T11_V4 | B23: T11_SB_R11 | C23: V T11_R11 sa uvádza zostatok z kapitálovej dotácie z predchádzajúceho roku (z dotácií podľa R10 a R10a).
A24: T11_V5 | B24: T11_SB_R13 | C24: V T11_R13 sa uvádza objem na obstaranie a technické zhodnotenie dlhodobého majetku z iných zdrojov v danom roku vrátane zostatkov na týchto zdrojoch. Patria sem aj dotácie z T2_R2+R3+R4.
A25: T12_V1 | B25: T12_R17_SG = výkazníctvo 2018, kategória 700, všetky zdroje | C25: Údaje v R17, SG - celkové výdavky na obstaranie a technické zhodnotenie majetku sa musia rovnať hodnotám, vykazovaným vo výkaze "Príjmy a výdavky" v kategórii 700 za všetky zdroje (štátny rozpočet, vlastné zdroje, prostriedky EÚ, PČ, finančný mechanizmus EHP a Nórsky finančný mechanizmus...) spolu. Ak tieto udaje nie sú v súlade, je potrebné v poznámke vysvetliť dôvod. | D25: zmena
A26: T13_V1 | B26: T13_R2_SC (SD) = T11_R2_SA (SB) T13_R8_SF ≥ T8_R5_SC + T20_R2_(SC + SD) T13_R13_SD = T16_R13_SB T13_R13_SF = T16_R10_SB | C26: Údaje v T13_ R2_SC (SD) - tvorba fondu reprodukcie sa musia rovnať údajom v T11_R2_SA (SB). Údaje v T13_R8_SE (SF) majú súvzťažnosť s údajmi v T8_R5 (sociálne štipendiá), T20_R2 (motivačné štipendiá). Tvorba fondu z dotácie v T13_R8 má byť minimálne vo výške súčtu dotácie na sociálne štipendiá (T8_R5) a motivačné štipendiá (T20_R2). Údaje v T13_R13_SD(SF) majú byť totožné s údajmi v T16, účet štipendijného fondu (R10), účet fondu reprodukcie (R13).
A27: T13_V2 | B27: T13_R12_SF ≥T8_R6_SC + T20_R4_(SC +SD) | C27: Stav štipendijného fondu k 31. 12. uvedený v R12_SF nemá byť nižší ako súčet zostatku nevyčerpanej dotácie na sociálne štipendiá v T8_R6_SC a na motivačné štipendiá v T20_R4_(SC +SD).
A28: T13_V3 | B28: T13_R9_SF = T4_R15_SB | C28: Súvzťažnosť tvorby štipendijného fondu z výnosov zo školného v T13_R9_SF na T4_R15_SB.
A29: T13_V4 | B29: T13_R1_SK(SL) = výkazníctvo súvaha, časť Pasíva, riadky 064 + 065 + 069 + 070 + 071 (k 1. 1.) T13_R12_SK(SL) = výkazníctvo súvaha, časť Pasíva, riadky 064 + 065 + 069 + 070 + 071 (k 31. 12.) T13_R1_SL = T13_R12_SK | C29: Stavy fondov k 1.1. a k 31.12.2018 za všetky fondy spolu sa kontrolujú na výkazníctvo, súvaha - časť Pasíva, riadky 064 + 065 + 069 + 070 + 071 "netto" Stavy fondov k 1.1.sa rovnajú stavom fondov k 31.12. predchádzajúceho roka.
A30: T13_V5 | B30: T13_R4_SD = T5_R86_SC+SD | C30: Tvorba fondu reprodukcie z odpisov v roku 2018 sa rovná odpisom ostatného DN a HM za rok 2016 (T5_R86_SC+SD)
A31: T13_V6 | B31: T13_R5_SC=T5_R90_(SA+SB) T13_R5_SD=T5_R90_(SC+SD) | C31: Náklady sú kontrolované na údaje z výkazníctva - tvorba fondu z predaja a likvidácie majetku
A32: T13_V7 | B32: T13_R11_SF=T8_R1_SC+T19_R1_SC+T20_R3_(SC+SD) | C32: Čerpanie štipendijného fondu je vo výške čerpania soc. štipendií , čerpania motivač. štipendií a čerpania štipendií z vlastných zdrojov.
A33: T16_V1 | B33: T16_R18_SB = výkazníctvo, súvaha, časť Aktíva, riadok 053, | C33: Globálna hodnota na bankových účtoch z R18 sa kontroluje na Súvahu, časť Aktíva, r. 053. Ak nie je údaj v R2 (dotačný účet) k 31. 12. 2018 vynulovaný, je potrebné doplniť vysvetlenie v stĺpci C.
A34: T17_V1 | C34: Údaje v T17 sú kontrolované na hodnoty z výkazníctva, finančné prostriedky z EÚ (vrátane spolufinancovania zo štátneho rozpočtu), zabezpečované prostredníctvom MŠVVaŠ SR v roku 2018.
A35: T18_V1 | C35: Údaje v T18_R1 sú kontrolované na rozpis bežnej a kapitálovej dotácie na programe 06K v roku 2018 poskytnuté vysokým školám mimo "dotačnej zmluvy" prostredníctvom APVV resp. sekcie vedy a techniky. Údaje v T18_R7 a R8 sú kontrolované na rozpis bežnej dotácie na podrograme 05T 08 a prvku 021 02 03 v roku 2018, poskytnuté vysokým školám mimo "dotačnej zmluvy" prostredníctvom sekcie medzinárodnej spolupráce.
A36: T19_V1 | B36: T19_R1_SC + T20_R3(SC+SD) + T8_R1_SC = T13_R11_SF | C36: Údaje v T19 majú súvzťažnosť s T13, štipendiá z vlastných zdrojov sú taktiež súčasťou štipendijného fondu. Údaj v T13_R11 - čerpanie štipendijného fondu by malo byť vo výške čerpania sociálnych štipendií z T8, motivačných štipendií z T20 a štipendií z vlastných zdrojov z T19.
A37: T20_V1 | B37: T20_R2 = dotačná zmluva 2017 (2018)_účelová dotácia na motivačné štipendiá | C37: Údaje v R2 sú kontrolované na dotačnú zmluvu a na rozpis účelových dotácií na podprograme 077 15 02. Údaje v R3 sú kontrolované na údaje v CRŠ.
A38: T21_V1 | B38: T21_R1_SF = výkazníctvo 2017 súvaha, časť pasíva, riadok 103, predchádzajúce účtovné obdobie T21_R1_SL = výkazníctvo 2018, súvaha, časť pasíva, riadok 103, bežné účtovné obdobie | C38: Celková hodnota účtu 384 za rok 2017 a 2018, uvedená v T21_SF a SL je kontrolovaná na výkaz Súvaha, časť Pasíva, r.103. Štruktúru účtu žiadame uviesť v členení na zvyšok prijatej kapitálovej dotácie zo štátneho rozpočtu a z prostriedkov EÚ (analytický účet 384.11), nevyčerpanú bežnú dotáciu na aktivity budúcich odbobí (384.12) a prostriedky zo zahraničných projektov na budúce aktivity (384.13). Ak sú na tomto účte zaúčtované aj iné výnosy, žiadame ich osobitne uviesť v SD (2017), resp. SI (2018). Údaje za rok 2017 musia byť totožné s údajmi, ktoré VVŠ predložili k výsledkom hospodárenia VVŠ za rok 2017.
A39: T21_V1 | B39: T21_R1_SA + T11_R10_SB -T5_R85_SC = T21_R1_SG | C39: V stĺpci SG sa zvyšok prijatej kapitálovej dotácie, používanej na kompenzáciu odpisov za rok 2017 rovná súčtu zvyšku prijatej kapitálovej dotácie na kompenzáciu odpisov z roku 2017 (stĺpec SA) a výšky kapitálovej dotácie (2018) z T11_R10_SB, zníženému o odpisy, vykazované v T5_R85_SC.
A40: T21_V1 | B40: T21_R1_SB + T11_R10a_SB - T5_R86a_SC = T21_R1_SH | C40: V stĺpci SH sa zvyšok prijatej kapitálovej dotácie, používanej na kompenzáciu odpisov za rok 2018 rovná súčtu zvyšku prijatej kapitálovej dotácie na kompenzáciu odpisov z roku 2017 (stĺpec SB) a výšky kapitálovej dotácie (2018) z T11_R10a_SB, zníženému o odpisy, vykazované v T5_R86a_SC.
A41: T22_V1 | B41: T22_R58_SA=T4_R15_SA T22_R57_SB= T4_R15_SB T22R_R64_SA_(SB)= T19_R1_SA_(SC) | C41: Pri vypĺňaní tabuľky je potrebné dodržiavať "Metodické usmernenie k vedeniu účtovníctva od 1. januára 2008 pre verejné vysoké školy používajúce finančný informačný systém SOFIA "
A42: T23_V1 | B42: T23_R24_SA_(SB)≤T19_R1_SA_(SC) T23_R30_SA_(SB)=T4_R15_SA_(SB) | C42: Pri vypĺňaní tabuľky je potrebné dodržiavať "Metodické usmernenie k vedeniu účtovníctva od 1. januára 2008 pre verejné vysoké školy používajúce finančný informačný systém SOFIA "

Sheet Kódy z CRŠ
A1: Kódy z Centrálneho registra študentov
A2: Kód | B2: Názov | C2: Platné od
A3: 1 | B3: sociálne štipendium | C3: 38623
A4: 4 | B4: motivačné štipendium - vynikajúce plnenie študijných povinností | C4: 39326
A5: 5 | B5: motivačné štipendium - mimoriadny študijný výsledok | C5: 39326
A6: 6 | B6: motivačné štipendium - mimoriadny výsledok vo výskume/vývoji | C6: 39326
A7: 7 | B7: motivačné štipendium - mimoriadny výsledok v umeleckej činnosti | C7: 39326
A8: 8 | B8: motivačné štipendium - mimoriadny výsledok v športovej činnosti | C8: 39326
A9: 9 | B9: štipendium z vlastných zdrojov vysokej školy | C9: 39326
A10: 10 | B10: základné z UD MSSR, pred dizer.sk. | C10: 40245 | D10: DrŠ
A11: 11 | B11: základné z UD MSSR, po dizer. sk. | C11: 40245 | D11: DrŠ
A12: 12 | B12: základné z NeúčelD MSSR | C12: 40245 | D12: DrŠ
A13: 13 | B13: z mimo dotačných zdrojov | C13: 40245 | D13: DrŠ
A14: 14 | B14: bezpečnostný príplatok z UD MSSR | C14: 40245 | D14: DrŠ
A15: 15 | B15: zvýšenie PhD. štipendia z UD MSSR | C15: 40245 | D15: DrŠ
A16: 16 | B16: zvýšenie PhD. štipendia z Neúčel D MSSR | C16: 40245 | D16: DrŠ
A17: 17 | B17: štipendium poskytuje EVI | C17: 40245 | D17: DrŠ
A18: 18 | B18: vládny štipendista | C18: 40245
A19: 19 | B19: motivačné štipendium - vybrané odbory (§ 96a ods.1 písm. a)) | C19: 41275

Sheet T1-Dotácie podľa DZ
A1: Tabuľka č. 1: Príjmy z dotácií verejnej vysokej škole zo štátneho rozpočtu z kapitoly MŠVVaŠ SR poskytnuté na základe Zmluvy o poskytnutí dotácie zo štátneho rozpočtu prostredníctvom rozpočtu Ministerstva školstva, vedy, výskumu a športu Slovenskej republiky na rok 2018 na programe 077
A2: Názov verejnej vysokej školy: Univerzita Konštantína Filozofa v Nitre Názov fakulty:
A3: Číslo riadku | B3: Dotácia / program | C3: Bežné dotácie | D3: Kapitálové dotácie | E3: Dotácie spolu
C4: A | D4: B | E4: C=A+B
A5: 1 | B5: Dotácia na uskutočňovanie akreditovaných študijných programov [R2] | C5: =C6 -> 14295205 | D5: =D6 -> 1130000 | E5: =SUM(C5:D5) -> 15425205
A6: =A5+1 -> 2 | B6: - Podprogram 077 11 | C6: 14295205 | D6: 1130000 | E6: =SUM(C6:D6) -> 15425205
A7: =A6+1 -> 3 | B7: Dotácia na výskumnú, vývojovú alebo umeleckú činnosť [R4+R5+R6+R7+R8] | C7: =SUM(C8:C12) -> 6595249 | D7: =SUM(D8:D12) -> 0 | E7: =SUM(C7:D7) -> 6595249
A8: =A7+1 -> 4 | B8: - Prvok 077 12 01 | C8: 6102106 | E8: =SUM(C8:D8) -> 6102106
A9: =A8+1 -> 5 | B9: - Prvok 077 12 02 | C9: 340173 | E9: =SUM(C9:D9) -> 340173
A10: =A9+1 -> 6 | B10: - Prvok 077 12 03 | E10: =SUM(C10:D10) -> 0
A11: =A10+1 -> 7 | B11: - Prvok 077 12 04 | E11: =SUM(C11:D11) -> 0
A12: =A11+1 -> 8 | B12: - Prvok 077 12 05 | C12: 152970 | E12: =SUM(C12:D12) -> 152970
A13: =A12+1 -> 9 | B13: Dotácia na rozvoj vysokej školy [R10] | C13: =C14 -> 290838 | D13: =D14 -> 43500 | E13: =SUM(C13:D13) -> 334338
A14: =A13+1 -> 10 | B14: - Podprogram 077 13 | C14: 290838 | D14: 43500 | E14: =SUM(C14:D14) -> 334338
A15: =A14+1 -> 11 | B15: Dotácia na sociálnu podporu študentov [R12+R13+R14] | C15: =SUM(C16:C18) -> 2349994 | D15: =SUM(D16:D18) -> 0 | E15: =SUM(C15:D15) -> 2349994
A16: =A15+1 -> 12 | B16: - Prvok 077 15 01 | C16: 753082 | E16: =SUM(C16:D16) -> 753082
A17: =A16+1 -> 13 | B17: - Prvok 077 15 02 | C17: 464929 | E17: =SUM(C17:D17) -> 464929
A18: =A17+1 -> 14 | B18: - Prvok 077 15 03 | C18: 1131983 | E18: =SUM(C18:D18) -> 1131983
A19: =A18+1 -> 15 | B19: Spolu [R1+R3+R9+R11] | C19: =C5+C7+C13+C15 -> 23531286 | D19: =D5+D7+D13+D15 -> 1173500 | E19: =SUM(C19:D19) -> 24704786 | F19: ok, Šut

Sheet T2-Ostatné dot mimo MŠ SR
A1: Tabuľka č. 2: Príjmy verejnej vysokej školy v roku 2018 majúce charakter dotácie okrem príjmov z dotácií z kapitoly MŠVVaŠ SR a okrem prostriedkov EÚ (štrukturálnych fondov)
A2: Názov verejnej vysokej školy: Univerzita Konštantína Filozofa v Nitre Názov fakulty:
A3: Číslo riadku | B3: Položka | C3: Bežné dotácie | D3: Kapitálové dotácie | E3: Dotácie spolu
C4: A | D4: B | E4: C=A+B
A5: 1 | B5: Dotácie z kapitol štátneho rozpočtu okrem kapitoly MŠVVaŠ SR (na zdroji 111) [SUM(R1a:R1...)] | C5: =SUM(C6:C8) -> 33050 | D5: =SUM(D6:D7) -> 0 | E5: =C5+D5 -> 33050
A6: 1a | B6: Ministerstvo zahraničných vecí a európ. záložitostí SR | C6: 5050 | D6: 0 | E6: =C6+D6 -> 5050
A7: 1b | B7: Fond na podporu kultúry národnostných menšín | C7: 25000 | E7: =C7+D7 -> 25000
A8: 1c | B8: Fond na podporu umenia | C8: 3000 | E8: =C8+D8 -> 3000
E9: =C9+D9 -> 0
A10: 2 | B10: Dotácie z rozpočtov obcí a z rozpočtov vyšších územných celkov [SUM(R2a:R2...)] | C10: =SUM(C11:C12) -> 4200 | D10: =SUM(D11:D12) -> 0 | E10: =C10+D10 -> 4200
A11: 2a | B11: Nitr.samosprávny kraj | C11: 1700 | E11: =C11+D11 -> 1700
A12: 2b | B12: Mesto Nitra | C12: 2500 | E12: =C12+D12 -> 2500
E13: =C13+D13 -> 0
A14: 3 | B14: Ostatné domáce príjmy s charakterom dotácie [SUM(R3a:R3...)] | C14: =SUM(C15:C17) -> 206809 | D14: =SUM(D15:D16) -> 0 | E14: =C14+D14 -> 206809
A15: 3a | B15: APVV - spoluriešiteľ | C15: 71573 | E15: =C15+D15 -> 71573
A16: 3b | B16: Ministerstvo zdravotníctva SR | C16: 27664 | E16: =C16+D16 -> 27664
A17: 3c | B17: Slov.akademická asociácia pre medzinár.spoluprácu | C17: 107572 | E17: =C17+D17 -> 107572
E18: =C18+D18 -> 0
A19: 4 | B19: Príjmy zo zahraničia majúce charakter dotácie [SUM(R4a:R4...)] | C19: =SUM(C20:C21) -> 996174.22 | D19: =SUM(D20:D21) -> 0 | E19: =C19+D19 -> 996174.22
A20: 4a | B20: zahraničné | C20: 996174.22 | E20: =C20+D20 -> 996174.22
A21: 4b | E21: =C21+D21 -> 0
E22: =C22+D22 -> 0
A23: 5 | B23: Spolu [R1+R2+R3+R4] | C23: =C5+C10+C14+C19 -> 1240233.2 | D23: =D5+D10+D14+D19 -> 0 | E23: =C23+D23 -> 1240233.2 | F23: ok

Sheet T3-Výnosy
A1: Tabuľka č. 3: Výnosy verejnej vysokej školy v rokoch 2017 a 2018 | I1: POZOR ZMENA!!!
A2: Názov verejnej vysokej školy: Univerzita Konštantína Filozofa v Nitre Názov fakulty:
A3: Číslo riadku | B3: Položka | C3: 2017 | E3: 2018 | G3: Rozdiel 2018-2017
C4: Hlavná činnosť | D4: Podnikateľská činnosť | E4: Hlavná činnosť | F4: Podnikateľská činnosť | G4: Hlavná činnosť | H4: Podnikateľská činnosť
C5: A | D5: B | E5: C | F5: D | G5: E=C-A | H5: F=D-B
A6: 1 | B6: Tržby za vlastné výrobky (účet 601) [SUM(R2:R5)] | C6: =SUM(C7:C10) -> 0 | D6: =SUM(D7:D10) -> 0 | E6: =SUM(E7:E10) -> 0 | F6: =SUM(F7:F10) -> 0 | G6: =E6-C6 -> 0 | H6: =F6-D6 -> 0
A7: =A6+1 -> 2 | B7: - vysokoškolské podniky | G7: =E7-C7 -> 0 | H7: =F7-D7 -> 0
A8: =A7+1 -> 3 | B8: - študentské domovy | G8: =E8-C8 -> 0 | H8: =F8-D8 -> 0
A9: =A8+1 -> 4 | B9: - študentské jedálne | G9: =E9-C9 -> 0 | H9: =F9-D9 -> 0
A10: =A9+1 -> 5 | B10: - ostatné tržby za vlastné výrobky | G10: =E10-C10 -> 0 | H10: =F10-D10 -> 0
A11: =A10+1 -> 6 | B11: Tržby z predaja služieb (účet 602) [SUM(R7:R10)] | C11: =SUM(C12:C15) -> 1058706.2 | D11: =SUM(D12:D15) -> 150049.57 | E11: =SUM(E12:E15) -> 1030781.4 | F11: =SUM(F12:F15) -> 120634.43 | G11: =E11-C11 -> -27924.81 | H11: =F11-D11 -> -29415.14
A12: =A11+1 -> 7 | B12: - z ubytovania študentov (účet 602 001) | C12: 801310 | E12: 794408 | G12: =E12-C12 -> -6902 | H12: =F12-D12 -> 0
A13: =A12+1 -> 8 | B13: - zo stravných lístkov študentov a doktorandov (účet 602 009) | C13: 120572.94 | E13: 117048.23 | G13: =E13-C13 -> -3524.71 | H13: =F13-D13 -> 0
A14: =A13+1 -> 9 | B14: - z ubytovania a stravovania iných fyzických osôb (účet 602 008 a 602 010) | C14: 27377.26 | D14: 90317.92 | E14: 29649.49 | F14: 79027.95 | G14: =E14-C14 -> 2272.23 | H14: =F14-D14 -> -11289.97
A15: =A14+1 -> 10 | B15: - iné analyticky sledované výnosy (účty 602 002-007, 602 011-019, 602 099, 602 199) | C15: 109446.03 | D15: 59731.65 | E15: 89675.7 | F15: 41606.48 | G15: =E15-C15 -> -19770.33 | H15: =F15-D15 -> -18125.17
A16: =A15+1 -> 11 | B16: Tržby za predaný tovar (účet 604) | C16: 16040.48 | D16: 68490.74 | E16: 10590.09 | F16: 73505.14 | G16: =E16-C16 -> -5450.39 | H16: =F16-D16 -> 5014.4
A17: =A16+1 -> 12 | B17: Zmeny stavu zásob vlastnej výroby (účtová skupina 611-614) | G17: =E17-C17 -> 0 | H17: =F17-D17 -> 0
A18: =A17+1 -> 13 | B18: Aktivácia (účet 621-624) | C18: 93533.53 | D18: 35648.2 | E18: 88085.1 | F18: 35161.82 | G18: =E18-C18 -> -5448.43 | H18: =F18-D18 -> -486.38
A19: =A18+1 -> 14 | B19: Pokuty a penále (účet 641+642) | C19: 14843.02 | E19: 6990.51 | G19: =E19-C19 -> -7852.51 | H19: =F19-D19 -> 0
A20: =A19+1 -> 15 | B20: Platby za odpísané pohľadávky (účet 643) | G20: =E20-C20 -> 0 | H20: =F20-D20 -> 0
A21: =A20+1 -> 16 | B21: Úroky (účet 644) [R17+R18] | C21: =SUM(C22:C23) -> 1339.66 | D21: =SUM(D22:D23) -> 15.25 | E21: =SUM(E22:E23) -> 1436.24 | F21: =SUM(F22:F23) -> 10.74 | G21: =E21-C21 -> 96.58 | H21: =F21-D21 -> -4.51
A22: =A21+1 -> 17 | B22: - z dotačného účtu (účet 644 001) | G22: =E22-C22 -> 0 | H22: =F22-D22 -> 0
A23: =A22+1 -> 18 | B23: - z ostatných účtov (účet 644 002) | C23: 1339.66 | D23: 15.25 | E23: 1436.24 | F23: 10.74 | G23: =E23-C23 -> 96.58 | H23: =F23-D23 -> -4.51
A24: =A23+1 -> 19 | B24: Kurzové zisky (účet 645) | C24: 6.89 | E24: 46.98 | G24: =E24-C24 -> 40.09 | H24: =F24-D24 -> 0
A25: =A24+1 -> 20 | B25: Výnosy zo školného (účet 648) [SUM(R21:R25)] | C25: =SUM(C26:C30) -> 1447838.2 | D25: =SUM(D26:D30) -> 0 | E25: =SUM(E26:E30) -> 1261891.3 | F25: =SUM(F26:F30) -> 0 | G25: =E25-C25 -> -185946.84 | H25: =F25-D25 -> 0 | I25: zmena aj vo vzorci
A26: =A25+1 -> 21 | B26: - školné za prekročenie štandardnej dĺžky štúdia účet 648 001 | C26: 340193.1 | E26: 336910.6 | G26: =E26-C26 -> -3282.5 | H26: =F26-D26 -> 0
A27: =A26+1 -> 22 | B27: - školné od cudzincov (§ 92 ods. 9 zákona) účty 648 002, 648 023 | C27: 2887.5 | G27: =E27-C27 -> -2887.5 | H27: =F27-D27 -> 0
A28: =A27+1 -> 23 | B28: - za cudzojazyčné štúdium dennou formou, 648 010 | G28: =E28-C28 -> 0 | H28: =F28-D28 -> 0 | I28: vložený riadok, školné za cudzojazyčné štúdium v dennej forme ??? TUAD, v roku 2018 neúčtované
A29: =A28+1 -> 24 | B29: - školné od externých študentov (§ 92 ods. 4 zákona) účet 648 020,648011 | C29: 1104425.6 | E29: 924648.72 | G29: =E29-C29 -> -179776.84 | H29: =F29-D29 -> 0 | I29: vložený účet 648 011, v roku 2018 neúčtované
A30: =A29+1 -> 25 | B30: - poplatky za súbežné štúdium (§ 92, ods. 5) účet 648 026 | C30: 332 | E30: 332 | G30: =E30-C30 -> 0 | H30: =F30-D30 -> 0
A31: =A30+1 -> 26 | B31: Výnosy z poplatkov spojených so štúdiom (účet 648) [SUM(R27:R32)] | C31: =SUM(C32:C37) -> 183079.21 | D31: =SUM(D32:D37) -> 0 | E31: =SUM(E32:E37) -> 173431.13 | F31: =SUM(F32:F37) -> 0 | G31: =E31-C31 -> -9648.08 | H31: =F31-D31 -> 0 | I31: zmena
A32: =A31+1 -> 27 | B32: - poplatky za prijímacie konanie (§ 92, ods. 10) účet 648 003 | C32: 152787.3 | E32: 149524.05 | G32: =E32-C32 -> -3263.25 | H32: =F32-D32 -> 0
A33: =A32+1 -> 28 | B33: - poplatky za rigorózne konanie (§ 92, ods. 11) účet 648 004 | C33: 23356.41 | E33: 16788.75 | G33: =E33-C33 -> -6567.66 | H33: =F33-D33 -> 0
A34: =A33+1 -> 29 | B34: - poplatky za rigorózne konanie - vydanie diplómu účet 648 005 | C34: 2737.5 | E34: 2507 | G34: =E34-C34 -> -230.5 | H34: =F34-D34 -> 0
A35: =A34+1 -> 30 | B35: - poplatky za vydanie dokladov o štúdiu, účet 648 006, | C35: 1791.3 | E35: 2532.33 | G35: =E35-C35 -> 741.03 | H35: =F35-D35 -> 0
A36: =A35+1 -> 31 | B36: - poplatky za vydanie dokladov o absolvovaní štúdia (§92, ods. 15, účet 648 024) | C36: 2267.2 | E36: 2079 | G36: =E36-C36 -> -188.2 | H36: =F36-D36 -> 0
A37: =A36+1 -> 32 | B37: - poplatky za uznávanie rovnocennosti dokladov o štúdiu (§92, ods. 15, účet 648 025) | C37: 139.5 | E37: 0 | G37: =E37-C37 -> -139.5 | H37: =F37-D37 -> 0
A38: =A37+1 -> 33 | B38: - výnosy účtu 648 (648 007-8, 648 016, 648 019, 648 022, 648 099) | C38: 123581.12 | E38: 111765.06 | G38: =E38-C38 -> -11816.06 | H38: =F38-D38 -> 0
A39: =A38+1 -> 34 | B39: Iné ostatné výnosy (účet 646, 649) [SUM(R35:R44)] | C39: =SUM(C40:C49) -> 560752.24 | D39: =SUM(D40:D49) -> 15533.81 | E39: =SUM(E40:E49) -> 648789.44 | F39: =SUM(F40:F49) -> 9443.39 | G39: =E39-C39 -> 88037.2 | H39: =F39-D39 -> -6090.42
A40: =A39+1 -> 35 | B40: - dary (účet 649 009) (646 001) (646 002) | C40: 3606.44 | E40: 10654.02 | G40: =E40-C40 -> 7047.58 | H40: =F40-D40 -> 0
A41: =A40+1 -> 36 | B41: - výnosy z dedičstva (účet 649 010) | G41: =E41-C41 -> 0 | H41: =F41-D41 -> 0
A42: =A41+1 -> 37 | B42: - výnosy z duševného vlastníctva (účet 649 011) | G42: =E42-C42 -> 0 | H42: =F42-D42 -> 0
A43: =A42+1 -> 38 | B43: - oprava výnosov minulých účtovných období (účet 649 013) | G43: =E43-C43 -> 0 | H43: =F43-D43 -> 0
A44: =A43+1 -> 39 | B44: - použitie prostriedkov fondov (účet 649 014) | G44: =E44-C44 -> 0 | H44: =F44-D44 -> 0
A45: =A44+1 -> 40 | B45: - použitie prostriedkov výnosov budúcich období - projekty (účet 649 015) | C45: 516583.21 | E45: 426595.48 | G45: =E45-C45 -> -89987.73 | H45: =F45-D45 -> 0
A46: =A45+1 -> 41 | B46: - príspevok na úhradu výdavkov zahraničných študentov/lektorov (649 016) | G46: =E46-C46 -> 0 | H46: =F46-D46 -> 0
A47: =A46+1 -> 42 | B47: - dobropisy minulých období (účet 649 017) | G47: =E47-C47 -> 0 | H47: =F47-D47 -> 0
A48: =A47+1 -> 43 | B48: - vložné na konferencie (649 018) | C48: 9568 | E48: 16304.86 | G48: =E48-C48 -> 6736.86 | H48: =F48-D48 -> 0
A49: =A48+1 -> 44 | B49: - ostatné výnosy (účty 649 012, 649 021, 649 098, 649 099) | C49: 30994.59 | D49: 15533.81 | E49: 195235.08 | F49: 9443.39 | G49: =E49-C49 -> 164240.49 | H49: =F49-D49 -> -6090.42
A50: =A49+1 -> 45 | B50: Tržby z predaja dlhodobého NM a HM (účet 651) | E50: 5850 | G50: =E50-C50 -> 5850 | H50: =F50-D50 -> 0
A51: =A50+1 -> 46 | B51: Výnosy z dlhodobého finančného majetku (účet 652) | G51: =E51-C51 -> 0 | H51: =F51-D51 -> 0
A52: =A51+1 -> 47 | B52: Tržby z predaja cenných papierov a podielov (účet 653) | G52: =E52-C52 -> 0 | H52: =F52-D52 -> 0
A53: =A52+1 -> 48 | B53: Tržby z predaja materiálu (účet 654) | G53: =E53-C53 -> 0 | H53: =F53-D53 -> 0
A54: =A53+1 -> 49 | B54: Výnosy z krátkodobého finančného majetku (účet 655) | G54: =E54-C54 -> 0 | H54: =F54-D54 -> 0
A55: =A54+1 -> 50 | B55: Výnosy z použitia fondov (účet 656) [SUM(R51:R55)] 1) | C55: =SUM(C56:C61) -> 88607.52 | D55: =SUM(D56:D61) -> 0 | E55: =SUM(E56:E61) -> 73945.12 | F55: =SUM(F56:F61) -> 0 | G55: =E55-C55 -> -14662.4 | H55: =F55-D55 -> 0 | I55: zmena
A56: =A55+1 -> 51 | B56: - rezervného fondu (účet 656 100) | D56: X | F56: X | G56: =E56-C56 -> 0 | H56: X
A57: =A56+1 -> 52 | B57: - štipendijného fondu (účet 656 200) | C57: 59248 | D57: X | E57: 72513 | F57: X | G57: =E57-C57 -> 13265 | H57: X
A58: =A57+1 -> 53 | B58: - fondu na podporu štúdia študentov so špecifickými potrebami (účet 656 300) | D58: X | F58: X | G58: =E58-C58 -> 0 | H58: X
A59: =A58+1 -> 54 | B59: - fondu reprodukcie (účet 656 400) 2) | D59: X | F59: X | G59: =E59-C59 -> 0 | H59: X
A60: =A59+1 -> 55 | B60: - ostatných fondov (účet 656 510, 656 520) | C60: 29359.52 | D60: X | E60: 1432.12 | F60: X | G60: =E60-C60 -> -27927.4 | H60: X
A61: =A60+1 -> 56 | B61: Výnosy z precenenia cenných papierov (účet 657) | G61: =E61-C61 -> 0 | H61: =F61-D61 -> 0
A62: =A61+1 -> 57 | B62: Výnosy z nájmu majetku (účet 658) | C62: 75027.49 | E62: 85447.68 | F62: 622.96 | G62: =E62-C62 -> 10420.19 | H62: =F62-D62 -> 622.96
A63: =A62+1 -> 58 | B63: Prijaté príspevky od iných organizácií (účet 662) | E63: 222 | G63: =E63-C63 -> 222 | H63: =F63-D63 -> 0
A64: =A63+1 -> 59 | B64: Prijaté príspevky od fyzických osôb 663 | G64: =E64-C64 -> 0 | H64: =F64-D64 -> 0
A65: =A64+1 -> 60 | B65: Príspevky z podielu zaplatenej dane (účet 665) | C65: 3364.09 | E65: 5183.53 | G65: =E65-C65 -> 1819.44 | H65: =F65-D65 -> 0
A66: =A65+1 -> 61 | B66: Prijaté príspevky z verejných zbierok (667) | G66: =E66-C66 -> 0 | H66: =F66-D66 -> 0
A67: =A66+1 -> 62 | B67: Prevádzkové dotácie (účet 691) | C67: 25174185 | E67: 25840477 | G67: =E67-C67 -> 666292.02 | H67: =F67-D67 -> 0
A68: =A67+1 -> 63 | B68: z toho: | G68: =E68-C68 -> 0 | H68: =F68-D68 -> 0
A69: =A68+1 -> 64 | B69: - zúčtovanie dotácie zo ŠR na DN a HM vo výške odpisov | C69: 626607.31 | E69: 628057.52 | G69: =E69-C69 -> 1450.21 | H69: =F69-D69 -> 0
A70: =A69+1 -> 65 | B70: Spolu [R1+R6+SUM(R11:R16)+R19+R20+R26+R33+R34+SUM(R45:R50)+SUM(R56:R62)] | C70: =C6+C11+C16+C17+C18+C19+C20+C21+C24+C25+C31+C38+C39+C50+C51+C52+C53+C54+C55+C61+C62+C63+C64+C65+C66+C67 -> 28840904 | D70: =D6+D11+D16+D17+D18+D19+D20+D21+D24+D25+D31+D38+D39+D50+D51+D52+D53+D54+D55+D61+D62+D63+D64+D65+D66+D67 -> 269737.57 | E70: =E6+E11+E16+E17+E18+E19+E20+E21+E24+E25+E31+E38+E39+E50+E51+E52+E53+E54+E55+E61+E62+E63+E64+E65+E66+E67 -> 29344932 | F70: =F6+F11+F16+F17+F18+F19+F20+F21+F24+F25+F31+F38+F39+F50+F51+F52+F53+F54+F55+F61+F62+F63+F64+F65+F66+F67 -> 239378.48 | G70: =E70-C70 -> 504028 | H70: =F70-D70 -> -30359.09 | I70: pozor upravený vzorec
D71: =C70+D70 -> 29110642 | F71: =E70+F70 -> 29584311 | I71: súčet HČ+PČ
A72: 1) V R50-54 sa uvedú výnosy účtované v súvislosti s použitím príslušného fondu. | I72: ok Gon
A73: 2) Výnosy z Fondu reprodukcie možno účtovať len v súvislosti s krytím nákladov na vedenie príslušného bankového účtu a nákladov vyplývajúcich z kurzových strát v zmysle 16a ods. 8 zákona.
C75: =C6+C11+C16+C17+C18+C19+C20+C21+C25+C31+C39+C50+C51+C52+C53+C54+C55+C61+C62+C63+C64+C65+C66+C67 -> 28717316

Sheet T4-Výnosy zo školného
A1: Tabuľka č. 4: Výnosy verejnej vysokej školy zo školného a z poplatkov spojených so štúdiom v rokoch 2017 a 2018 | E1: POZOR ZMENA!!!
A2: Názov verejnej vysokej školy: Univerzita Konštantína Filozofa v Nitre Názov fakulty:
A3: Číslo riadku | B3: Položka | C3: 2017 | D3: 2018
C4: A | D4: B
A5: 1 | B5: Výnosy zo školného [SUM (R2:R5)] | C5: =+SUM(C6:C9) -> 1447838.2 | D5: =+SUM(D6:D9) -> 1261891.3
A6: 2 | B6: - za súbežné štúdium v dennej forme (§ 92 ods. 5, 648 026) | C6: 332 | D6: 332
A7: 3 | B7: - za prekročenie štandardnej dĺžky štúdia v dennej forme (§ 92 ods. 6) (648 001) | C7: 340193.1 | D7: 336910.6
A8: 4 | B8: - za cudzojazyčné štúdium dennou formou (§ 92 ods. 8 a 9) (648 002, 648 010, 648 023) | C8: 2887.5 | D8: 0 | E8: vložený účet 641 10, v roku 2018 neúčtované
A9: 5 | B9: - za externú formu štúdia (§ 92 ods. 4) (648 020, 648 011) | C9: 1104425.6 | D9: 924648.72 | E9: vložený účet 641 011, v roku 2018 neúčtované
A10: 6 | B10: - cudzinci podľa prechodných ustanovení 1) | C10: 0 | D10: 0
A11: 7 | B11: Výnosy z poplatkov spojených so štúdiom [SUM (R8:R13)] | C11: =SUM(C12:C17) -> 183079.21 | D11: =SUM(D12:D17) -> 173431.13
A12: 8 | B12: - za prijímacie konanie (§ 92 ods. 12 zákona) (účet 648 003) | C12: 152787.3 | D12: 149524.05
A13: 9 | B13: - za rigorózne konanie (§ 92 ods. 13 zákona) (účet 648 004) | C13: 23356.41 | D13: 16788.75
A14: 10 | B14: - za vydanie diplomu za rigorózne konanie (§ 92 ods. 14 zákona) (účet 648 005) | C14: 2737.5 | D14: 2507
A15: 11 | B15: - za vydanie dokladov o štúdiu a ich kópií (§ 92 ods. 15 zákona) (účet 648 006) | C15: 1791.3 | D15: 2532.33
A16: 12 | B16: - za vydanie dokladov o absolvovaní štúdia v štátnom jazyku a v jazyku požadovanom študentom a ich kópií (§ 92 ods. 15 zákona) (účet 648 024) | C16: 2267.2 | D16: 2079
A17: 13 | B17: - za uznávanie rovnocennosti dokladov o štúdiu (§ 92 ods. 15 zákona) (účet 648 025) | C17: 139.5 | D17: 0
A18: 14 | B18: Základ pre prídel do štipendijného fondu | C18: =(C6+C7)*0.2 -> 68105.02 | D18: =(D6+D7)*0.2 -> 67448.52
A19: 15 | B19: Návrh na prídel do štipendijného fondu | C19: 68105.02 | D19: 67448.52
E20: OK, Šim.
B21: 1) v riadku 6 sa uvádzajú len cudzinci, ktorým nevznikla povinnosť uhradiť školné z dôvodov uvedených v riadkoch 2 až 5

Sheet T5 - Analýza nákladov
A1: Tabuľka č. 5: Náklady verejnej vysokej školy v rokoch 2017 a 2018 | I1: POZOR ZMENA!!!
A2: Názov verejnej vysokej školy: Univerzita Konštantína Filozofa v Nitre Názov fakulty:
A3: Číslo riadku | B3: Položka | C3: 2017 | E3: 2018 | G3: Rozdiel 2018-2017
C4: Hlavná činnosť | D4: Podnikateľská činnosť | E4: Hlavná činnosť | F4: Podnikateľská činnosť | G4: Hlavná činnosť | H4: Podnikateľská činnosť
C5: A | D5: B | E5: C | F5: D | G5: E=C-A | H5: F=D-B
A6: 1 | B6: Spotreba materiálu (účet 501) [SUM(R2:R13)] | C6: =SUM(C7:C18) -> 1162892.8 | D6: =SUM(D7:D18) -> 46234.83 | E6: =SUM(E7:E18) -> 1587233.6 | F6: =SUM(F7:F18) -> 32315.07 | G6: =E6-C6 -> 424340.84 | H6: =F6-D6 -> -13919.76
A7: =A6+1 -> 2 | B7: - knihy, časopisy a noviny (účet 501 001,501 051) | C7: 148614.76 | E7: 147383.15 | F7: 129.97 | G7: =E7-C7 -> -1231.61 | H7: =F7-D7 -> 129.97
A8: =A7+1 -> 3 | B8: - chemikálie a ostatný materiál pre zabezpečenie experimentálnej výučby (účet 501 002, 501 052) | C8: 99392.27 | E8: 199806.9 | G8: =E8-C8 -> 100414.63 | H8: =F8-D8 -> 0
A9: =A8+1 -> 4 | B9: - kancelárske potreby a materiál (účet 501 003, 501 053) | C9: 155181.07 | D9: 1376.4 | E9: 176733.27 | F9: 404.89 | G9: =E9-C9 -> 21552.2 | H9: =F9-D9 -> -971.51
A10: =A9+1 -> 5 | B10: - papier (účet 501 004, 501 054) | C10: 21135.96 | D10: 22.75 | E10: 18709.46 | G10: =E10-C10 -> -2426.5 | H10: =F10-D10 -> -22.75
A11: =A10+1 -> 6 | B11: - pohonné hmoty a ostatný materiál na dopravu (účet 501 007, 501 057) | C11: 38208.54 | D11: 352.03 | E11: 35874.18 | F11: 526.9 | G11: =E11-C11 -> -2334.36 | H11: =F11-D11 -> 174.87
A12: =A11+1 -> 7 | B12: - čistiace, hygienické a dezinfekčné potreby (účet 501 008, 501 020) | C12: 50877.99 | D12: 5698.32 | E12: 40945.15 | F12: 2629.68 | G12: =E12-C12 -> -9932.84 | H12: =F12-D12 -> -3068.64
A13: =A12+1 -> 8 | B13: - stavebný, vodoinštalačný a elektroinštalačný materiál (účet 501 009) | C13: 34294.04 | D13: 1280.64 | E13: 30973.66 | F13: 1552.16 | G13: =E13-C13 -> -3320.38 | H13: =F13-D13 -> 271.52
A14: =A13+1 -> 9 | B14: - potraviny (účet 501 010) | C14: 152348.78 | D14: 28800.18 | E14: 143565.41 | F14: 23286.38 | G14: =E14-C14 -> -8783.37 | H14: =F14-D14 -> -5513.8
A15: =A14+1 -> 10 | B15: - DHM - prístroje a zariadenia laboratórií, výpočtová technika (účet 501 011) | C15: 183932.03 | D15: 430.22 | E15: 210661.26 | G15: =E15-C15 -> 26729.23 | H15: =F15-D15 -> -430.22
A16: =A15+1 -> 11 | B16: - DHM - nábytok (účet 501 012) | C16: 30325.1 | E16: 344034.92 | G16: =E16-C16 -> 313709.82 | H16: =F16-D16 -> 0
A17: =A16+1 -> 12 | B17: - iné analyticky sledované náklady (účty 501 005-006, 501 013-018, 501 019, 501 077, 501 515) | C17: 104966.5 | D17: 4220.8 | E17: 102558.72 | F17: 1116.06 | G17: =E17-C17 -> -2407.78 | H17: =F17-D17 -> -3104.74
A18: =A17+1 -> 13 | B18: - ostatný materiál (účet 501 099, 501 030, 501 100, 501 599) | C18: 143615.75 | D18: 4053.49 | E18: 135987.55 | F18: 2669.03 | G18: =E18-C18 -> -7628.2 | H18: =F18-D18 -> -1384.46
A19: =A18+1 -> 14 | B19: Spotreba energie (účet 502) [SUM(R15:R20)] | C19: =SUM(C20:C25) -> 691395.13 | D19: =SUM(D20:D25) -> 25471.16 | E19: =SUM(E20:E25) -> 662733.74 | F19: =SUM(F20:F25) -> 22512.61 | G19: =E19-C19 -> -28661.39 | H19: =F19-D19 -> -2958.55
A20: =A19+1 -> 15 | B20: - elektrická energia (účet 502 001, 502 051) | C20: 261690.19 | D20: 10691.4 | E20: 283174.89 | F20: 11116.57 | G20: =E20-C20 -> 21484.7 | H20: =F20-D20 -> 425.17
A21: =A20+1 -> 16 | B21: - tepelná energia (účet 502 002, 502 052) | C21: 53012.7 | E21: 49197.37 | G21: =E21-C21 -> -3815.33 | H21: =F21-D21 -> 0
A22: =A21+1 -> 17 | B22: - vodné a stočné (účet 502 003, 502 053) | C22: 54263.4 | D22: 4270.58 | E22: 50987.84 | F22: 2830.89 | G22: =E22-C22 -> -3275.56 | H22: =F22-D22 -> -1439.69
A23: =A22+1 -> 18 | B23: - plyn (účet 502 004, 502 054) | C23: 320960.25 | D23: 10509.18 | E23: 277883.93 | F23: 8565.15 | G23: =E23-C23 -> -43076.32 | H23: =F23-D23 -> -1944.03
A24: =A23+1 -> 19 | B24: - palivá (účet 502 005, 502 055) | C24: 1468.59 | E24: 1489.71 | G24: =E24-C24 -> 21.12 | H24: =F24-D24 -> 0
A25: =A24+1 -> 20 | B25: - ostatné energie (502 099) | E25: 0 | G25: =E25-C25 -> 0 | H25: =F25-D25 -> 0
A26: =A25+1 -> 21 | B26: Spotreba ostatných neskladovateľných dodávok (účet 503) | C26: X | D26: X | E26: X | F26: X
A27: =A26+1 -> 22 | B27: Predaný tovar (účet 504) [SUM(R23:R26)] | C27: =SUM(C28:C31) -> 15262.78 | D27: =SUM(D28:D31) -> 43993.55 | E27: =SUM(E28:E31) -> 10073.13 | F27: =SUM(F28:F31) -> 48481.86 | G27: =E27-C27 -> -5189.65 | H27: =F27-D27 -> 4488.31
A28: =A27+1 -> 23 | B28: - vysokoškolské podniky | E28: 0 | G28: =E28-C28 -> 0 | H28: =F28-D28 -> 0
A29: =A28+1 -> 24 | B29: - študentské domovy | E29: 0 | G29: =E29-C29 -> 0 | H29: =F29-D29 -> 0
A30: =A29+1 -> 25 | B30: - študentské jedálne | D30: 43993.55 | E30: 0 | F30: 48481.86 | G30: =E30-C30 -> 0 | H30: =F30-D30 -> 4488.31
A31: =A30+1 -> 26 | B31: - ostatný predaný tovar | C31: 15262.78 | E31: 10073.13 | G31: =E31-C31 -> -5189.65 | H31: =F31-D31 -> 0
A32: =A31+1 -> 27 | B32: Opravy a udržiavanie (účet 511) [SUM(R28:R34)] | C32: =SUM(C33:C39) -> 184104.27 | D32: =SUM(D33:D39) -> 14503.48 | E32: =SUM(E33:E39) -> 283167.32 | F32: =SUM(F33:F39) -> 3962.74 | G32: =E32-C32 -> 99063.05 | H32: =F32-D32 -> -10540.74
A33: =A32+1 -> 28 | B33: - opravy a udržiavanie stavieb (účet 511 001) | C33: 122661.16 | D33: 11180.63 | E33: 218204.79 | F33: 2369.8 | G33: =E33-C33 -> 95543.63 | H33: =F33-D33 -> -8810.83
A34: =A33+1 -> 29 | B34: - opravy a udržiavanie strojov, prístrojov, zariadení a inventára (účet 511 002) | C34: 19824.61 | D34: 1376.36 | E34: 26823.11 | F34: 801.03 | G34: =E34-C34 -> 6998.5 | H34: =F34-D34 -> -575.33
A35: =A34+1 -> 30 | B35: - opravy a udržiavanie dopravných prostriedkov (účet 511 003) | C35: 11376.42 | D35: 252.52 | E35: 17110.24 | F35: 277.93 | G35: =E35-C35 -> 5733.82 | H35: =F35-D35 -> 25.41
A36: =A35+1 -> 31 | B36: - opravy a udržiavanie prostriedkov IT (účet 511 004) | C36: 7490.77 | E36: 4144.62 | G36: =E36-C36 -> -3346.15 | H36: =F36-D36 -> 0
A37: =A36+1 -> 32 | B37: - údržba a opravy meracej techniky, telovýchovných zariadení ...(účet 511 005) | C37: 4117.2 | E37: 4100.12 | G37: =E37-C37 -> -17.08 | H37: =F37-D37 -> 0
A38: =A37+1 -> 33 | B38: - iné analyticky sledované náklady (účet 511 006-008, 511 056) | C38: 18566.37 | D38: 1692.15 | E38: 12782.64 | F38: 513.98 | G38: =E38-C38 -> -5783.73 | H38: =F38-D38 -> -1178.17
A39: =A38+1 -> 34 | B39: - ostatná údržba a opravy (účet 511 099) | C39: 67.74 | D39: 1.82 | E39: 1.8 | G39: =E39-C39 -> -65.94 | H39: =F39-D39 -> -1.82
A40: =A39+1 -> 35 | B40: Cestovné (účet 512) [SUM(R36:R37)] | C40: =C41+C42 -> 452901.13 | D40: =D41+D42 -> 625.3 | E40: =E41+E42 -> 517086.12 | F40: =F41+F42 -> 378.87 | G40: =E40-C40 -> 64184.99 | H40: =F40-D40 -> -246.43
A41: =A40+1 -> 36 | B41: - domáce cestovné (účet 512 001, 512 051) | C41: 49533.42 | D41: 625.3 | E41: 49803.76 | F41: 378.87 | G41: =E41-C41 -> 270.34 | H41: =F41-D41 -> -246.43
A42: =A41+1 -> 37 | B42: - zahraničné cestovné (účet 512 002, 512 003,512 004, 512 052) | C42: 403367.71 | E42: 467282.36 | G42: =E42-C42 -> 63914.65 | H42: =F42-D42 -> 0
A43: =A42+1 -> 38 | B43: Náklady na reprezentáciu (účet 513) | C43: 21420.16 | E43: 32776.33 | G43: =E43-C43 -> 11356.17 | H43: =F43-D43 -> 0
A44: =A43+1 -> 39 | B44: Ostatné služby (účet 518) [SUM(R40:R54)] | C44: =SUM(C45:C59) -> 812708 | D44: =SUM(D45:D59) -> 22448.49 | E44: =SUM(E45:E59) -> 820109.33 | F44: =SUM(F45:F59) -> 11892.36 | G44: =E44-C44 -> 7401.33 | H44: =F44-D44 -> -10556.13
A45: =A44+1 -> 40 | B45: - prenájom priestorov (účet 518 001) | C45: 45869.17 | E45: 47287.41 | G45: =E45-C45 -> 1418.24 | H45: =F45-D45 -> 0
A46: =A45+1 -> 41 | B46: - prenájom zariadení (účet 518 002) | C46: 3711.34 | D46: 239.8 | E46: 8248.51 | F46: 193.2 | G46: =E46-C46 -> 4537.17 | H46: =F46-D46 -> -46.6
A47: =A46+1 -> 42 | B47: - vložné na konferencie (účet 518 004, 518 054) | C47: 83839.19 | E47: 80512.51 | G47: =E47-C47 -> -3326.68 | H47: =F47-D47 -> 0 | I47: vložený účet 518 054
A48: =A47+1 -> 43 | B48: - ďalšie vzdelávanie zamestnancov (účet 518 005) | C48: 18191.37 | D48: 55.86 | E48: 21980.35 | G48: =E48-C48 -> 3788.98 | H48: =F48-D48 -> -55.86
A49: =A48+1 -> 44 | B49: - telefón, fax (účet 518 006, 518 056) | C49: 21677.55 | D49: 171.8 | E49: 17623.72 | F49: 161.5 | G49: =E49-C49 -> -4053.83 | H49: =F49-D49 -> -10.3
A50: =A49+1 -> 45 | B50: - počítačové siete a prenosy údajov (účet 518 007) | C50: 19886.78 | E50: 31773.26 | G50: =E50-C50 -> 11886.48 | H50: =F50-D50 -> 0
A51: =A50+1 -> 46 | B51: - poštovné (účet 518 008, 518 058) | C51: 43815.64 | D51: 10.4 | E51: 41360 | F51: 0.65 | G51: =E51-C51 -> -2455.64 | H51: =F51-D51 -> -9.75
A52: =A51+1 -> 47 | B52: - odvoz odpadu (účet 518 009, 518 059) | C52: 10627.83 | D52: 2305.71 | E52: 15788.46 | F52: 2711.74 | G52: =E52-C52 -> 5160.63 | H52: =F52-D52 -> 406.03
A53: =A52+1 -> 48 | B53: - revízie zariadení (účet 518 010) | C53: 41564.52 | D53: 5271.78 | E53: 45048.41 | F53: 1198.95 | G53: =E53-C53 -> 3483.89 | H53: =F53-D53 -> -4072.83
A54: =A53+1 -> 49 | B54: - čistenie verejných priestranstiev (účet 518 011) | E54: 0 | G54: =E54-C54 -> 0 | H54: =F54-D54 -> 0
A55: =A54+1 -> 50 | B55: - dopravné služby (účet 518 012, 518 512) | C55: 21346.82 | D55: 16.4 | E55: 17141.43 | G55: =E55-C55 -> -4205.39 | H55: =F55-D55 -> -16.4
A56: =A55+1 -> 51 | B56: - drobný nehmotný majetok (účet 518 014) | C56: 3887.12 | E56: 19225.29 | G56: =E56-C56 -> 15338.17 | H56: =F56-D56 -> 0
A57: =A56+1 -> 52 | B57: - používanie plavárne (účet 518 019) | E57: 0 | G57: =E57-C57 -> 0 | H57: =F57-D57 -> 0
A58: =A57+1 -> 53 | B58: - iné analyticky sledované náklady (účty 518 003, 518 013, 518 015-018, 518 020-030, 518 031-034 , 518 040, 518 041, 518 529, 518 530, 518 599, 518 099, ) | C58: 498290.67 | D58: 14376.74 | E58: 474119.98 | F58: 7626.32 | G58: =E58-C58 -> -24170.69 | H58: =F58-D58 -> -6750.42
A59: =A58+1 -> 54 | B59: - ostatné služby (účet 518 035) | E59: 0 | G59: =E59-C59 -> 0 | H59: =F59-D59 -> 0
A60: =A59+1 -> 55 | B60: Mzdové náklady (účet 521) [SUM(R56:R57)] | C60: =C61+C62 -> 13630748 | D60: =D61+D62 -> 78102.74 | E60: =E61+E62 -> 13777548 | F60: =F61+F62 -> 69216.35 | G60: =E60-C60 -> 146800.27 | H60: =F60-D60 -> -8886.39
A61: =A60+1 -> 56 | B61: - MZDY (účty 521 001-008, 521 012, 521 013, 581 003) | C61: 13243042 | D61: 76532.33 | E61: 13378759 | F61: 68033.96 | G61: =E61-C61 -> 135716.78 | H61: =F61-D61 -> -8498.37
A62: =A61+1 -> 57 | B62: - OON [SUM(R58:R60)] | C62: =SUM(C63:C65) -> 387705.46 | D62: =SUM(D63:D65) -> 1570.41 | E62: =SUM(E63:E65) -> 398788.95 | F62: =SUM(F63:F65) -> 1182.39 | G62: =E62-C62 -> 11083.49 | H62: =F62-D62 -> -388.02
A63: =A62+1 -> 58 | B63: - dohody o vykonaní práce - externí účitelia (účet 521 009) | E63: 77.46 | F63: 13.8 | G63: =E63-C63 -> 77.46 | H63: =F63-D63 -> 13.8
A64: =A63+1 -> 59 | B64: - dohody o vykonaní práce, dohody o pracovnej činnosti (účet 521 010) | C64: 382724.43 | D64: 1555.64 | E64: 396268 | F64: 1168.59 | G64: =E64-C64 -> 13543.57 | H64: =F64-D64 -> -387.05
A65: =A64+1 -> 60 | B65: - dohody o brigádnickej práci študentov (účet 521 011) | C65: 4981.03 | D65: 14.77 | E65: 2443.49 | G65: =E65-C65 -> -2537.54 | H65: =F65-D65 -> -14.77
A66: =A65+1 -> 61 | B66: Zákonné sociálne poistenie (účet 524) | C66: 4713171 | D66: 27437.09 | E66: 4760253.1 | F66: 24791.39 | G66: =E66-C66 -> 47082.12 | H66: =F66-D66 -> -2645.7
A67: =A66+1 -> 62 | B67: Ostatné sociálne poistenia (účet 525) | C67: 109417.01 | D67: 1250.99 | E67: 116809.18 | F67: 1246.82 | G67: =E67-C67 -> 7392.17 | H67: =F67-D67 -> -4.17
A68: =A67+1 -> 63 | B68: Zákonné sociálne náklady (účet 527) [SUM(R64:R69)] | C68: =SUM(C69:C74) -> 376760.03 | D68: =SUM(D69:D74) -> 2566.91 | E68: =SUM(E69:E74) -> 371585.79 | F68: =SUM(F69:F74) -> 2185.4 | G68: =E68-C68 -> -5174.24 | H68: =F68-D68 -> -381.51
A69: =A68+1 -> 64 | B69: - tvorba sociálneho fondu (účet 527 001) | C69: 144216.58 | E69: 145638.77 | G69: =E69-C69 -> 1422.19 | H69: =F69-D69 -> 0
A70: =A69+1 -> 65 | B70: - príspevok zamestnancom na stravovanie (účet 527 002, 527 052) | C70: 121799.81 | E70: 127048.51 | G70: =E70-C70 -> 5248.7 | H70: =F70-D70 -> 0
A71: =A70+1 -> 66 | B71: - zákonné odstupné, odchodné (účet 527 003) | C71: 38665 | D71: 1825 | E71: 30919.55 | F71: 1290.45 | G71: =E71-C71 -> -7745.45 | H71: =F71-D71 -> -534.55
A72: =A71+1 -> 67 | B72: - náhrada príjmu pri PN (účet 527 004) | C72: 62315.58 | D72: 741.91 | E72: 65880.64 | F72: 674.35 | G72: =E72-C72 -> 3565.06 | H72: =F72-D72 -> -67.56
A73: =A72+1 -> 68 | B73: - ochranné pracovné pomôcky podľa Zákonníka práce (účet 527 005) | C73: 9763.06 | E73: 2098.32 | F73: 220.6 | G73: =E73-C73 -> -7664.74 | H73: =F73-D73 -> 220.6
A74: =A73+1 -> 69 | B74: - ostatné zákonné sociálne náklady (účet 527 099) | E74: 0 | G74: =E74-C74 -> 0 | H74: =F74-D74 -> 0
A75: =A74+1 -> 70 | B75: Ostatné sociálne náklady (účet 528) | E75: 0 | G75: =E75-C75 -> 0 | H75: =F75-D75 -> 0
A76: =A75+1 -> 71 | B76: Daň z motorových vozidiel (účet 531) | C76: 343.01 | D76: 155.19 | E76: 245.54 | F76: 99.82 | G76: =E76-C76 -> -97.47 | H76: =F76-D76 -> -55.37
A77: =A76+1 -> 72 | B77: Daň z nehnuteľnosti (účet 532) | C77: 40380.77 | E77: 39261.89 | G77: =E77-C77 -> -1118.88 | H77: =F77-D77 -> 0
A78: =A77+1 -> 73 | B78: Ostatné dane a poplatky (účet 538) | C78: 58454.16 | D78: 1125.92 | E78: 60026.19 | F78: 1219.42 | G78: =E78-C78 -> 1572.03 | H78: =F78-D78 -> 93.5
A79: =A78+1 -> 74 | B79: Ostatné náklady (účtová skupina 54) [R75+ R76] | C79: =C80+C81 -> 1566689.2 | D79: =D80+D81 -> 648.19 | E79: =E80+E81 -> 1566383.4 | F79: =F80+F81 -> 290.03 | G79: =E79-C79 -> -305.74 | H79: =F79-D79 -> -358.16
A80: =A79+1 -> 75 | B80: - Náklady účtovnej skupiny 54 okrem nákladov účtu 549 (541 až 548) | C80: 987.09 | E80: 2452.67 | G80: =E80-C80 -> 1465.58 | H80: =F80-D80 -> 0
A81: =A80+1 -> 76 | B81: - Iné ostatné náklady (účet 549) [SUM(R77:R83)] | C81: =SUM(C82:C89) -> 1565702.1 | D81: =SUM(D82:D89) -> 648.19 | E81: =SUM(E82:E89) -> 1563930.8 | F81: =SUM(F82:F89) -> 290.03 | G81: =E81-C81 -> -1771.32 | H81: =F81-D81 -> -358.16
A82: =A81+1 -> 77 | B82: - štipendiá doktorandov (účet 549 001, 549 016, 549 017) | C82: 1221219.1 | E82: 1198597.5 | G82: =E82-C82 -> -22621.63 | H82: =F82-D82 -> 0
A83: =A82+1 -> 78 | B83: - bankové poplatky (účet 549 002) | C83: 6185.21 | D83: 111.57 | E83: 6471.72 | F83: 99.17 | G83: =E83-C83 -> 286.51 | H83: =F83-D83 -> -12.4
A84: =A83+1 -> 79 | B84: - úhrada výnosov z úrokov na dotačnom účte (účet 549 003) | E84: 0 | G84: =E84-C84 -> 0 | H84: =F84-D84 -> 0
A85: =A84+1 -> 80 | B85: - poistné náklady (havarijné, majetok, na študentov) (účet 549 004, 549 014, 549 015, 549 054) | C85: 16954.69 | E85: 16523.51 | G85: =E85-C85 -> -431.18 | H85: =F85-D85 -> 0
A86: =A85+1 -> 81 | B86: - štipendiá z vlastných zdrojov (549 007-010, 549 019, 549 020) | C86: 59248 | E86: 72513 | G86: =E86-C86 -> 13265 | H86: =F86-D86 -> 0
A87: 81a | B87: - Podpora štud. so špecifickými potrebami podľa §100 (549 018) | C87: 28144.41 | E87: 11189.61 | G87: =E87-C87 -> -16954.8 | H87: =F87-D87 -> 0
A88: =A86+1 -> 82 | B88: - iné analyticky sledované náklady (účet 549 005-006, 549 012) | C88: 143030 | E88: 131015 | G88: =E88-C88 -> -12015 | H88: =F88-D88 -> 0
A89: =A88+1 -> 83 | B89: - ostatné iné náklady (účet 549 098, 549 099, 549 011, 549 013) | C89: 90920.63 | D89: 536.62 | E89: 127620.41 | F89: 190.86 | G89: =E89-C89 -> 36699.78 | H89: =F89-D89 -> -345.76
A90: =A89+1 -> 84 | B90: Odpisy, predaný majetok a opravné položky (účtová skupina 55: 551 až 558) [SUM(R85:R92)] | C90: =SUM(C91:C99) -> 3795579.7 | D90: =SUM(D91:D99) -> 4046 | E90: =SUM(E91:E99) -> 3477692.5 | F90: =SUM(F91:F99) -> 3713 | G90: =E90-C90 -> -317887.18 | H90: =F90-D90 -> -333
A91: =A90+1 -> 85 | B91: - odpisy DN a HM nadobudnutého z kapitálových dotácií zo ŠR (účet 551 100, 551 121, 551 123, 551 001, 551 003) | C91: 626607.31 | E91: 628057.52 | G91: =E91-C91 -> 1450.21 | H91: =F91-D91 -> 0
A92: =A91+1 -> 86 | B92: - odpisy ostatného DN a HM (účet 551 200, 551 221, 551 223, 551 400, 551 500, 551 900, 551 921, 551 923) | C92: 887426.82 | D92: 4046 | E92: 736679.97 | F92: 3713 | G92: =E92-C92 -> -150746.85 | H92: =F92-D92 -> -333
A93: 86a | B93: - odpisy DN a HM nadobudnutého z kapitálových dotácií z EÚ (zo štrukturálnych fondov) (účet 551 300, 551 321, 551 323 ) | C93: 1072550.6 | E93: 821645.52 | G93: =E93-C93 -> -250905.04 | H93: =F93-D93 -> 0
A94: =A92+1 -> 87 | B94: - ostatné náklady z účtovej skupiny 55 (účty 552, 553, 554, 557, 558, 559) | E94: 0 | G94: =E94-C94 -> 0 | H94: =F94-D94 -> 0
A95: =A94+1 -> 88 | B95: - náklady na tvorbu rezervného fondu (účet 556 100) | E95: 0 | G95: =E95-C95 -> 0 | H95: =F95-D95 -> 0
A96: =A95+1 -> 89 | B96: - náklady na tvorbu štipendijného fondu (účet 556 200) | C96: 1208995 | E96: 1285459.5 | G96: =E96-C96 -> 76464.5 | H96: =F96-D96 -> 0
A97: =A96+1 -> 90 | B97: - náklady na tvorbu fondu reprodukcie (účet 556 400) (z predaja a likvidácie majetku) | E97: 5850 | G97: =E97-C97 -> 5850 | H97: =F97-D97 -> 0 | I97: ok na T13_SD_R5
A98: =A97+1 -> 91 | B98: - náklady na tvorbu fondu na podporu štúdia študentov so špecifickými potrebami (účet 556 300) | E98: 0 | G98: =E98-C98 -> 0 | H98: =F98-D98 -> 0
A99: =A98+1 -> 92 | B99: - náklady na tvorbu ostatných fondov (účty 556 510, 556 520) | E99: 0 | G99: =E99-C99 -> 0 | H99: =F99-D99 -> 0
A100: =A99+1 -> 93 | B100: Poskytnuté príspevky (účtová skupina 56: 562 a 563) | C100: 272902.54 | E100: 322964.66 | G100: =E100-C100 -> 50062.12 | H100: =F100-D100 -> 0
...

Sheet T6-Zamestnanci_a_mzdy
A1: Tabuľka č. 6: Zamestnanci a náklady na mzdy verejnej vysokej školy v roku 2018
A2: Názov verejnej vysokej školy: Univerzita Konštantína Filozofa v Nitre
A3: Číslo riadku | B3: Kategória zamestnancov | C3: Priemerný evidenčný prepočítaný počet zamestnancov za rok 2018 | G3: Náklady na mzdy poskytované z prostriedkov štátneho rozpočtu (v Eur) | H3: z toho: | I3: Náklady na mzdy poskytované z iných zdrojov (v Eur) | J3: Náklady na mzdy spolu (v Eur) | K3: Priemerné platy | L3: kvartil q1 25% | M3: kvartil q2 50% medián *) | N3: kvartil q3 75%
C4: Počet zamestnancov platených z prostriedkov štátneho rozpočtu | D4: z toho: | E4: Počet zamestnancov platených z iných zdrojov | F4: Počet zamestnancov spolu
D5: Zamestnanci platení z dotácie MŠVVaŠ SR | H5: Náklady na mzdy poskytované z dotácie MŠVVaŠ SR (v Eur)
C6: A | D6: B | E6: C | F6: D=A+C | G6: E | H6: F | I6: G | J6: H=E+G | K6: I=H/D/12
A7: 1 | B7: Vysokoškolskí učitelia spolu [SUM(R2:R6)] | C7: =SUM(C8:C12) -> 514.6 | D7: =SUM(D8:D12) -> 512.9 | E7: =SUM(E8:E12) -> 1 | F7: =C7+E7 -> 515.6 | G7: =SUM(G8:G12) -> 8768197 | H7: =SUM(H8:H12) -> 8689030 | I7: =SUM(I8:I12) -> 326081 | J7: =G7+I7 -> 9094278 | K7: =IF(F7=0,0,J7/F7/12) -> 1469.8536 | L7: 1138 | M7: 1318 | N7: 1628
A8: 2 | B8: - vysokoškolskí učitelia s funkčným zaradením "profesor" *) | C8: 67.2 | D8: 67.2 | F8: =C8+E8 -> 67.2 | G8: 1565341 | H8: 1552508 | I8: 43045 | J8: =G8+I8 -> 1608386 | K8: =IF(F8=0,0,J8/F8/12) -> 1994.5263 | L8: 1584 | M8: 1832 | N8: 2196
A9: 3 | B9: - vysokoškolskí učitelia s funkčným zaradením "docent" | C9: 152.2 | D9: 152.2 | F9: =C9+E9 -> 152.2 | G9: 2867176 | H9: 2843094 | I9: 102884 | J9: =G9+I9 -> 2970060 | K9: =IF(F9=0,0,J9/F9/12) -> 1626.1827 | L9: 1354 | M9: 1511 | N9: 1752
A10: 4 | B10: - vysokoškolskí učitelia s funkčným zaradením "odborný asistent" | C10: 284.9 | D10: 283.2 | E10: 1 | F10: =C10+E10 -> 285.9 | G10: 4206290 | H10: 4164488 | I10: 178094 | J10: =G10+I10 -> 4384384 | K10: =IF(F10=0,0,J10/F10/12) -> 1277.948 | L10: 1070 | M10: 1187 | N10: 1339
A11: 5 | B11: - vysokoškolskí učitelia s funkčným zaradením "asistent" | F11: =C11+E11 -> 0 | J11: =G11+I11 -> 0 | K11: =IF(F11=0,0,J11/F11/12) -> 0
A12: 6 | B12: - vysokoškolskí učitelia s funkčným zaradením "lektor" | C12: 10.3 | D12: 10.3 | F12: =C12+E12 -> 10.3 | G12: 129390 | H12: 128940 | I12: 2058 | J12: =G12+I12 -> 131448 | K12: =IF(F12=0,0,J12/F12/12) -> 1063.4951 | L12: 892 | M12: 1015 | N12: 1109
A13: 7 | B13: Odborní zamestnanci | C13: 75.7 | D13: 75.7 | F13: =C13+E13 -> 75.7 | G13: 904617 | H13: 903144 | I13: 19575 | J13: =G13+I13 -> 924192 | K13: =IF(F13=0,0,J13/F13/12) -> 1017.3844 | L13: 786 | M13: 990 | N13: 1171
B14: z toho:
A15: 8 | B15: - na oblasť IT | C15: 28.8 | D15: 28.8 | F15: =C15+E15 -> 28.8 | G15: 390714 | H15: 390714 | I15: 16723 | J15: =G15+I15 -> 407437 | K15: =IF(F15=0,0,J15/F15/12) -> 1178.9265 | L15: 980 | M15: 1104 | N15: 1273
A16: 9 | B16: Administratívni zamestnanci spolu [SUM(R10:R12)] | C16: =SUM(C17:C19) -> 148.1 | D16: =SUM(D17:D19) -> 148.1 | E16: =SUM(E17:E19) -> 1.7 | F16: =C16+E16 -> 149.8 | G16: =SUM(G17:G19) -> 2081147 | H16: =SUM(H17:H19) -> 2069727 | I16: =SUM(I17:I19) -> 97168 | J16: =G16+I16 -> 2178315 | K16: =IF(F16=0,0,J16/F16/12) -> 1211.7907 | L16: 784 | M16: 965 | N16: 1251
A17: 10 | B17: - zamestnanci zaradení na rektorátoch | C17: 57.8 | D17: 57.8 | E17: 1.7 | F17: =C17+E17 -> 59.5 | G17: 980515 | H17: 980515 | I17: 22252 | J17: =G17+I17 -> 1002767 | K17: =IF(F17=0,0,J17/F17/12) -> 1404.4356 | L17: 952 | M17: 1058 | N17: 1832
A18: 11 | B18: - zamestnanci zaradení na dekanátoch | C18: 56.3 | D18: 56.3 | F18: =C18+E18 -> 56.3 | G18: 828064 | H18: 816644 | I18: 59827 | J18: =G18+I18 -> 887891 | K18: =IF(F18=0,0,J18/F18/12) -> 1314.2259 | L18: 871 | M18: 974 | N18: 1438
A19: 12 | B19: - zamestnanci zaradení na ostatných pracoviskách | C19: 34 | D19: 34 | F19: =C19+E19 -> 34 | G19: 272568 | H19: 272568 | I19: 15089 | J19: =G19+I19 -> 287657 | K19: =IF(F19=0,0,J19/F19/12) -> 705.04167 | L19: 623 | M19: 708 | N19: 778
A20: 13 | B20: Výskumní pracovníci alebo umeleckí pracovníci | C20: 3.8 | D20: 3.7 | F20: =C20+E20 -> 3.8 | G20: 64586 | H20: 61684 | I20: 481 | J20: =G20+I20 -> 65067 | K20: =IF(F20=0,0,J20/F20/12) -> 1426.9079 | L20: 1010 | M20: 1123 | N20: 1653
A21: 14 | B21: Prevádzkoví zamestnanci okrem zamestnancov študentských domovov a jedální | C21: 74.5 | D21: 74.5 | F21: =C21+E21 -> 74.5 | G21: 583891 | H21: 583891 | I21: 18329 | J21: =G21+I21 -> 602220 | K21: =IF(F21=0,0,J21/F21/12) -> 673.62416 | L21: 533 | M21: 586 | N21: 729
A22: 15 | B22: Zamestnanci osobitne financovaných súčastí verejnej vysokej školy (špecifiká) z R1, R7, R9, R13, R14 spolu [SUM(R15a:R15...)] | C22: =SUM(C23:C26) -> 5.8 | D22: =SUM(D23:D26) -> 5.8 | E22: =SUM(E23:E26) -> 0 | F22: =SUM(F27:F27) -> 0 | G22: =SUM(G23:G26) -> 69022 | H22: =SUM(H23:H26) -> 69022 | I22: =SUM(I23:I26) -> 0 | J22: =SUM(J23:J26) -> 69022 | K22: =IF(F22=0,0,J22/F22/12) -> 0 | L22: X | M22: X | N22: X
A23: 15a | B23: Zahraniční lektori | C23: 5.8 | D23: 5.8 | F23: =C23+E23 -> 5.8 | G23: 69022 | H23: 69022 | I23: 0 | J23: =G23+I23 -> 69022 | K23: =IF(F23=0,0,J23/F23/12) -> 991.6954 | L23: X | M23: X | N23: X
A24: 15b | F24: =C24+E24 -> 0 | J24: =G24+I24 -> 0 | K24: =IF(F24=0,0,J24/F24/12) -> 0 | L24: X | M24: X | N24: X
A25: 15c | F25: =C25+E25 -> 0 | J25: =G25+I25 -> 0 | K25: =IF(F25=0,0,J25/F25/12) -> 0 | L25: X | M25: X | N25: X
A26: 15d | F26: =C26+E26 -> 0 | J26: =G26+I26 -> 0 | K26: =IF(F26=0,0,J26/F26/12) -> 0 | L26: X | M26: X | N26: X
F27: =C27+E27 -> 0
A28: 16 | B28: Zamestnanci študentských domovov | C28: 56.5 | D28: 56.5 | F28: =C28+E28 -> 56.5 | G28: 408218 | H28: 408218 | I28: 3110 | J28: =G28+I28 -> 411328 | K28: =IF(F28=0,0,J28/F28/12) -> 606.67847 | L28: 501 | M28: 587 | N28: 682
A29: 17 | B29: Zamestnanci študentských jedální | E29: 22 | F29: =C29+E29 -> 22 | I29: 161434 | J29: =G29+I29 -> 161434 | K29: =IF(F29=0,0,J29/F29/12) -> 611.49242 | L29: 504 | M29: 554 | N29: 673
A30: 18 | B30: Spolu [R1+R7+R9+R13+R14+R16+R17] | C30: =C7+C13+C16+C20+C21+C28+C29 -> 873.2 | D30: =D7+D13+D16+D20+D21+D28+D29 -> 871.4 | E30: =E7+E13+E16+E20+E21+E28+E29 -> 24.7 | F30: =F7+F13+F16+F20+F21+F28+F29 -> 897.9 | G30: =G7+G13+G16+G20+G21+G28+G29 -> 12810656 | H30: =H7+H13+H16+H20+H21+H28+H29 -> 12715694 | I30: =I7+I13+I16+I20+I21+I28+I29 -> 626178 | J30: =J7+J13+J16+J20+J21+J28+J29 -> 13436834 | K30: =IF(F30=0,0,J30/F30/12) -> 1247.0611 | L30: 777 | M30: 1149 | N30: 1447
A32: pozn.1): rozdiel medzi údajom, vykazovaným v stĺpci T6_R18_SH a údajom v T5_R56_(SC+SD) uviesť v komentári | L32: medián *) = stredná hodnota
A33: *) medzi profesorov sa započítava aj funkčné zaradenie "hosťujúci profesor"
B34: Pre účely výpočtu počtu zamestnancov bola použitá metóda - Priemerný evidenčný počet zamestnancov - prepočítaný počet - je aritmetickým priemerom denných evidenčných počtov zamestnancov za sledované obdobie prepočítaných na plnú zamestnanosť podľa dĺžky pracovných úväzkov zamestnancov, resp. podľa skutočne odpracovaných hodín. U zamestnancov, ktorí vykonávajú v organizácii činnosť v ďalšom pracovnom pomere, sa výpočet priemerného evidenčného počtu zamestnancov prepočítaného na plne zamestnaných skladá z dvoch častí : | M34: OK-vie
B35: - prvýkrát sa započítavajú do evidenčného počtu zamestnancov vo fyzických osobách s plným týždenným pracovným časom, ktorý sa rovná ich prepočítanému počtu, a to pracovným úväzkom v hlavnom zamestnaní;
B36: - druhýkrát sa započítavajú do evidenčného počtu zamestnancov prepočítaného, a to svojím pracovným úväzkom v ďalšom pracovnom pomere.
B37: Do evidenčného počtu zamestnancov prepočítaného sa títo zamestnanci započítavajú dvakrát na rozdiel od evidenčného počtu zamestnancov vo fyzických osobách, v ktorom sú započítaní iba raz.
B39: Komentár: rozdiel vo výške 9 959 EUR medzi údajom vykazovaným v stĺpci T6_R18_SH vo výške 13 436 834 EUR a údajom v T5_R56_(SC+SD) vo výške 13 446 793 EUR je spôsobený zaúčtovaním rezervy na mzdy.

Sheet T6a-Zamestnanci_a_mzdy (ženy)
A1: Tabuľka č. 6a: Zamestnanci a náklady na mzdy verejnej vysokej školy v roku 2018 - len ženy a výpočet priemerného platu mužov
A2: Názov verejnej vysokej školy: Univerzita Konštantína Filozofa v Nitre | L2: Výpočet
A3: Číslo riadku | B3: Kategória zamestnancov - žien | C3: Priemerný evidenčný prepočítaný počet žien za rok 2018 | G3: Náklady na mzdy poskytované z prostriedkov štátneho rozpočtu (v Eur) | H3: z toho: | I3: Náklady na mzdy poskytované z iných zdrojov (v Eur) | J3: Náklady na mzdy spolu (v Eur) | K3: Priemerné platy žien | L3: Priemerné platy mužov | M3: kvartil q1 25% | N3: kvartil q2 50% medián *) | O3: kvartil q3 75%
C4: Počet žien platených z prostriedkov štátneho rozpočtu | D4: z toho: | E4: Počet žien platených z iných zdrojov | F4: Počet žien spolu
D5: Ženy platené z dotácie MŠVVaŠ SR | H5: Náklady na mzdy poskytované z dotácie MŠVVaŠ SR (v Eur)
C6: A | D6: B | E6: C | F6: D=A+C | G6: E | H6: F | I6: G | J6: H=E+G | K6: I=H/D/12 | L6: J
A7: 1 | B7: Vysokoškolskí učitelia spolu [SUM(R2:R6)] | C7: =SUM(C8:C12) -> 290.2 | D7: =SUM(D8:D12) -> 290.2 | E7: =SUM(E8:E12) -> 0 | F7: =C7+E7 -> 290.2 | G7: =SUM(G8:G12) -> 4794558 | H7: =SUM(H8:H12) -> 4792858 | I7: =SUM(I8:I12) -> 166854 | J7: =G7+I7 -> 4961412 | K7: =IF(F7=0,0,J7/F7/12) -> 1424.7105 | L7: =IF('T6-Zamestnanci_a_mzdy'!F7-'T6a-Zamestnanci_a_mzdy (ženy)'!F7=0,0,('T6-Zamestnanci_a_mzdy'!J7-'T6a-Zamestnanci_a_mzdy (ženy)'!J7)/('T6-Zamestnanci_a_mzdy'!F7-'T6a-Zamestnanci_a_mzdy (ženy)'!F7)/12) -> 1527.9747 | M7: 1128 | N7: 1277 | O7: 1584
A8: 2 | B8: - vysokoškolskí učitelia s funkčným zaradením "profesor" *) | C8: 28.2 | D8: 28.2 | F8: =C8+E8 -> 28.2 | G8: 652006 | H8: 652006 | I8: 25023 | J8: =G8+I8 -> 677029 | K8: =IF(F8=0,0,J8/F8/12) -> 2000.6767 | L8: =IF('T6-Zamestnanci_a_mzdy'!F8-'T6a-Zamestnanci_a_mzdy (ženy)'!F8=0,0,('T6-Zamestnanci_a_mzdy'!J8-'T6a-Zamestnanci_a_mzdy (ženy)'!J8)/('T6-Zamestnanci_a_mzdy'!F8-'T6a-Zamestnanci_a_mzdy (ženy)'!F8)/12) -> 1990.0791 | M8: 1729 | N8: 1926 | O8: 2160
A9: 3 | B9: - vysokoškolskí učitelia s funkčným zaradením "docent" | C9: 79.1 | D9: 79.1 | F9: =C9+E9 -> 79.1 | G9: 1511472 | H9: 1509772 | I9: 60035 | J9: =G9+I9 -> 1571507 | K9: =IF(F9=0,0,J9/F9/12) -> 1655.6121 | L9: =IF('T6-Zamestnanci_a_mzdy'!F9-'T6a-Zamestnanci_a_mzdy (ženy)'!F9=0,0,('T6-Zamestnanci_a_mzdy'!J9-'T6a-Zamestnanci_a_mzdy (ženy)'!J9)/('T6-Zamestnanci_a_mzdy'!F9-'T6a-Zamestnanci_a_mzdy (ženy)'!F9)/12) -> 1594.3377 | M9: 1398 | N9: 1523 | O9: 1770
A10: 4 | B10: - vysokoškolskí učitelia s funkčným zaradením "odborný asistent" | C10: 177.3 | D10: 177.3 | F10: =C10+E10 -> 177.3 | G10: 2561023 | H10: 2561023 | I10: 81592 | J10: =G10+I10 -> 2642615 | K10: =IF(F10=0,0,J10/F10/12) -> 1242.0638 | L10: =IF('T6-Zamestnanci_a_mzdy'!F10-'T6a-Zamestnanci_a_mzdy (ženy)'!F10=0,0,('T6-Zamestnanci_a_mzdy'!J10-'T6a-Zamestnanci_a_mzdy (ženy)'!J10)/('T6-Zamestnanci_a_mzdy'!F10-'T6a-Zamestnanci_a_mzdy (ženy)'!F10)/12) -> 1336.5324 | M10: 1070 | N10: 1186 | O10: 1317
A11: 5 | B11: - vysokoškolskí učitelia s funkčným zaradením "asistent" | F11: =C11+E11 -> 0 | J11: =G11+I11 -> 0 | K11: =IF(F11=0,0,J11/F11/12) -> 0 | L11: =IF('T6-Zamestnanci_a_mzdy'!F11-'T6a-Zamestnanci_a_mzdy (ženy)'!F11=0,0,('T6-Zamestnanci_a_mzdy'!J11-'T6a-Zamestnanci_a_mzdy (ženy)'!J11)/('T6-Zamestnanci_a_mzdy'!F11-'T6a-Zamestnanci_a_mzdy (ženy)'!F11)/12) -> 0
A12: 6 | B12: - vysokoškolskí učitelia s funkčným zaradením "lektor" | C12: 5.6 | D12: 5.6 | F12: =C12+E12 -> 5.6 | G12: 70057 | H12: 70057 | I12: 204 | J12: =G12+I12 -> 70261 | K12: =IF(F12=0,0,J12/F12/12) -> 1045.5506 | L12: =IF('T6-Zamestnanci_a_mzdy'!F12-'T6a-Zamestnanci_a_mzdy (ženy)'!F12=0,0,('T6-Zamestnanci_a_mzdy'!J12-'T6a-Zamestnanci_a_mzdy (ženy)'!J12)/('T6-Zamestnanci_a_mzdy'!F12-'T6a-Zamestnanci_a_mzdy (ženy)'!F12)/12) -> 1084.8759 | M12: 892 | N12: 961 | O12: 1129
A13: 7 | B13: Odborní zamestnanci | C13: 37.3 | D13: 37.3 | F13: =C13+E13 -> 37.3 | G13: 401111 | H13: 401111 | I13: 2936 | J13: =G13+I13 -> 404047 | K13: =IF(F13=0,0,J13/F13/12) -> 902.6966 | L13: =IF('T6-Zamestnanci_a_mzdy'!F13-'T6a-Zamestnanci_a_mzdy (ženy)'!F13=0,0,('T6-Zamestnanci_a_mzdy'!J13-'T6a-Zamestnanci_a_mzdy (ženy)'!J13)/('T6-Zamestnanci_a_mzdy'!F13-'T6a-Zamestnanci_a_mzdy (ženy)'!F13)/12) -> 1128.7869 | M13: 761 | N13: 873 | O13: 1006
B14: z toho:
A15: 8 | B15: - na oblasť IT | C15: 5 | D15: 5 | F15: =C15+E15 -> 5 | G15: 64679 | H15: 64679 | I15: 1430 | J15: =G15+I15 -> 66109 | K15: =IF(F15=0,0,J15/F15/12) -> 1101.8167 | L15: =IF('T6-Zamestnanci_a_mzdy'!F15-'T6a-Zamestnanci_a_mzdy (ženy)'!F15=0,0,('T6-Zamestnanci_a_mzdy'!J15-'T6a-Zamestnanci_a_mzdy (ženy)'!J15)/('T6-Zamestnanci_a_mzdy'!F15-'T6a-Zamestnanci_a_mzdy (ženy)'!F15)/12) -> 1195.1261 | M15: 902 | N15: 1085 | O15: 1244
A16: 9 | B16: Administratívni zamestnanci spolu [SUM(R10:R12)] | C16: =SUM(C17:C19) -> 137.7 | D16: =SUM(D17:D19) -> 137.7 | E16: =SUM(E17:E19) -> 1.7 | F16: =C16+E16 -> 139.4 | G16: =SUM(G17:G19) -> 1745716 | H16: =SUM(H17:H19) -> 1745165 | I16: =SUM(I17:I19) -> 84252 | J16: =G16+I16 -> 1829968 | K16: =IF(F16=0,0,J16/F16/12) -> 1093.955 | L16: =IF('T6-Zamestnanci_a_mzdy'!F16-'T6a-Zamestnanci_a_mzdy (ženy)'!F16=0,0,('T6-Zamestnanci_a_mzdy'!J16-'T6a-Zamestnanci_a_mzdy (ženy)'!J16)/('T6-Zamestnanci_a_mzdy'!F16-'T6a-Zamestnanci_a_mzdy (ženy)'!F16)/12) -> 2791.242 | M16: 764 | N16: 947 | O16: 1169
A17: 10 | B17: - zamestnanci zaradení na rektorátoch | C17: 50.7 | D17: 50.7 | E17: 1.7 | F17: =C17+E17 -> 52.4 | G17: 785907 | H17: 785907 | I17: 27281 | J17: =G17+I17 -> 813188 | K17: =IF(F17=0,0,J17/F17/12) -> 1293.2379 | L17: =IF('T6-Zamestnanci_a_mzdy'!F17-'T6a-Zamestnanci_a_mzdy (ženy)'!F17=0,0,('T6-Zamestnanci_a_mzdy'!J17-'T6a-Zamestnanci_a_mzdy (ženy)'!J17)/('T6-Zamestnanci_a_mzdy'!F17-'T6a-Zamestnanci_a_mzdy (ženy)'!F17)/12) -> 2225.1056 | M17: 948 | N17: 1045 | O17: 1404
A18: 11 | B18: - zamestnanci zaradení na dekanátoch | C18: 53 | D18: 53 | F18: =C18+E18 -> 53 | G18: 687241 | H18: 686690 | I18: 41882 | J18: =G18+I18 -> 729123 | K18: =IF(F18=0,0,J18/F18/12) -> 1146.4198 | L18: =IF('T6-Zamestnanci_a_mzdy'!F18-'T6a-Zamestnanci_a_mzdy (ženy)'!F18=0,0,('T6-Zamestnanci_a_mzdy'!J18-'T6a-Zamestnanci_a_mzdy (ženy)'!J18)/('T6-Zamestnanci_a_mzdy'!F18-'T6a-Zamestnanci_a_mzdy (ženy)'!F18)/12) -> 4009.2929 | M18: 856 | N18: 956 | O18: 1123
A19: 12 | B19: - zamestnanci zaradení na ostatných pracoviskách | C19: 34 | D19: 34 | F19: =C19+E19 -> 34 | G19: 272568 | H19: 272568 | I19: 15089 | J19: =G19+I19 -> 287657 | K19: =IF(F19=0,0,J19/F19/12) -> 705.04167 | L19: =IF('T6-Zamestnanci_a_mzdy'!F19-'T6a-Zamestnanci_a_mzdy (ženy)'!F19=0,0,('T6-Zamestnanci_a_mzdy'!J19-'T6a-Zamestnanci_a_mzdy (ženy)'!J19)/('T6-Zamestnanci_a_mzdy'!F19-'T6a-Zamestnanci_a_mzdy (ženy)'!F19)/12) -> 0 | M19: 623 | N19: 708 | O19: 778
A20: 13 | B20: Výskumní pracovníci alebo umeleckí pracovníci | C20: 2.7 | D20: 2.7 | F20: =C20+E20 -> 2.7 | G20: 42441 | H20: 42441 | I20: 400 | J20: =G20+I20 -> 42841 | K20: =IF(F20=0,0,J20/F20/12) -> 1322.2531 | L20: =IF('T6-Zamestnanci_a_mzdy'!F20-'T6a-Zamestnanci_a_mzdy (ženy)'!F20=0,0,('T6-Zamestnanci_a_mzdy'!J20-'T6a-Zamestnanci_a_mzdy (ženy)'!J20)/('T6-Zamestnanci_a_mzdy'!F20-'T6a-Zamestnanci_a_mzdy (ženy)'!F20)/12) -> 1683.7879 | M20: 867 | N20: 1010 | O20: 1450
A21: 14 | B21: Prevádzkoví zamestnanci okrem zamestnancov študentských domovov a jedální | C21: 52.1 | D21: 52.1 | F21: =C21+E21 -> 52.1 | G21: 353071 | H21: 353071 | I21: 13190 | J21: =G21+I21 -> 366261 | K21: =IF(F21=0,0,J21/F21/12) -> 585.83013 | L21: =IF('T6-Zamestnanci_a_mzdy'!F21-'T6a-Zamestnanci_a_mzdy (ženy)'!F21=0,0,('T6-Zamestnanci_a_mzdy'!J21-'T6a-Zamestnanci_a_mzdy (ženy)'!J21)/('T6-Zamestnanci_a_mzdy'!F21-'T6a-Zamestnanci_a_mzdy (ženy)'!F21)/12) -> 877.82366 | M21: 507 | N21: 558 | O21: 655
A22: 15 | B22: Zamestnanci osobitne financovaných súčastí verejnej vysokej školy (špecifiká) z R1, R7, R9, R13, R14 spolu [SUM(R15a:R15...)] | C22: =SUM(C23:C26) -> 3.6 | D22: =SUM(D23:D26) -> 3.6 | E22: =SUM(E23:E26) -> 0 | F22: =SUM(F27:F27) -> 0 | G22: =SUM(G23:G26) -> 45398 | H22: =SUM(H23:H26) -> 45398 | I22: =SUM(I23:I26) -> 0 | J22: =SUM(J23:J26) -> 45398 | K22: =IF(F22=0,0,J22/F22/12) -> 0 | L22: =IF('T6-Zamestnanci_a_mzdy'!F22-'T6a-Zamestnanci_a_mzdy (ženy)'!F22=0,0,('T6-Zamestnanci_a_mzdy'!J22-'T6a-Zamestnanci_a_mzdy (ženy)'!J22)/('T6-Zamestnanci_a_mzdy'!F22-'T6a-Zamestnanci_a_mzdy (ženy)'!F22)/12) -> 0 | M22: X | N22: X | O22: X
A23: 15a | B23: Zahraniční lektori | C23: 3.6 | D23: 3.6 | F23: =C23+E23 -> 3.6 | G23: 45398 | H23: 45398 | J23: =G23+I23 -> 45398 | K23: =IF(F23=0,0,J23/F23/12) -> 1050.8796 | L23: =IF('T6-Zamestnanci_a_mzdy'!F23-'T6a-Zamestnanci_a_mzdy (ženy)'!F23=0,0,('T6-Zamestnanci_a_mzdy'!J23-'T6a-Zamestnanci_a_mzdy (ženy)'!J23)/('T6-Zamestnanci_a_mzdy'!F23-'T6a-Zamestnanci_a_mzdy (ženy)'!F23)/12) -> 894.84848 | M23: X | N23: X | O23: X
A24: 15b | F24: =C24+E24 -> 0 | J24: =G24+I24 -> 0 | K24: =IF(F24=0,0,J24/F24/12) -> 0 | L24: =IF('T6-Zamestnanci_a_mzdy'!F24-'T6a-Zamestnanci_a_mzdy (ženy)'!F24=0,0,('T6-Zamestnanci_a_mzdy'!J24-'T6a-Zamestnanci_a_mzdy (ženy)'!J24)/('T6-Zamestnanci_a_mzdy'!F24-'T6a-Zamestnanci_a_mzdy (ženy)'!F24)/12) -> 0 | M24: X | N24: X | O24: X
A25: 15c | F25: =C25+E25 -> 0 | J25: =G25+I25 -> 0 | K25: =IF(F25=0,0,J25/F25/12) -> 0 | L25: =IF('T6-Zamestnanci_a_mzdy'!F25-'T6a-Zamestnanci_a_mzdy (ženy)'!F25=0,0,('T6-Zamestnanci_a_mzdy'!J25-'T6a-Zamestnanci_a_mzdy (ženy)'!J25)/('T6-Zamestnanci_a_mzdy'!F25-'T6a-Zamestnanci_a_mzdy (ženy)'!F25)/12) -> 0 | M25: X | N25: X | O25: X
A26: 15d | F26: =C26+E26 -> 0 | J26: =G26+I26 -> 0 | K26: =IF(F26=0,0,J26/F26/12) -> 0 | L26: =IF('T6-Zamestnanci_a_mzdy'!F26-'T6a-Zamestnanci_a_mzdy (ženy)'!F26=0,0,('T6-Zamestnanci_a_mzdy'!J26-'T6a-Zamestnanci_a_mzdy (ženy)'!J26)/('T6-Zamestnanci_a_mzdy'!F26-'T6a-Zamestnanci_a_mzdy (ženy)'!F26)/12) -> 0 | M26: X | N26: X | O26: X
F27: =C27+E27 -> 0
A28: 16 | B28: Zamestnanci študentských domovov | C28: 37.2 | D28: 37.2 | F28: =C28+E28 -> 37.2 | G28: 240353 | H28: 240353 | I28: 0 | J28: =G28+I28 -> 240353 | K28: =IF(F28=0,0,J28/F28/12) -> 538.42518 | L28: =IF('T6-Zamestnanci_a_mzdy'!F28-'T6a-Zamestnanci_a_mzdy (ženy)'!F28=0,0,('T6-Zamestnanci_a_mzdy'!J28-'T6a-Zamestnanci_a_mzdy (ženy)'!J28)/('T6-Zamestnanci_a_mzdy'!F28-'T6a-Zamestnanci_a_mzdy (ženy)'!F28)/12) -> 738.23402 | M28: 479 | N28: 518 | O28: 605
A29: 17 | B29: Zamestnanci študentských jedální | E29: 15.4 | F29: =C29+E29 -> 15.4 | G29: 0 | H29: 0 | I29: 101752 | J29: =G29+I29 -> 101752 | K29: =IF(F29=0,0,J29/F29/12) -> 550.60606 | L29: =IF('T6-Zamestnanci_a_mzdy'!F29-'T6a-Zamestnanci_a_mzdy (ženy)'!F29=0,0,('T6-Zamestnanci_a_mzdy'!J29-'T6a-Zamestnanci_a_mzdy (ženy)'!J29)/('T6-Zamestnanci_a_mzdy'!F29-'T6a-Zamestnanci_a_mzdy (ženy)'!F29)/12) -> 753.56061 | M29: 504 | N29: 541 | O29: 587
A30: 18 | B30: Spolu [R1+R7+R9+R13+R14+R16+R17] | C30: =C7+C13+C16+C20+C21+C28+C29 -> 557.2 | D30: =D7+D13+D16+D20+D21+D28+D29 -> 557.2 | E30: =E7+E13+E16+E20+E21+E28+E29 -> 17.1 | F30: =F7+F13+F16+F20+F21+F28+F29 -> 574.3 | G30: =G7+G13+G16+G20+G21+G28+G29 -> 7577250 | H30: =H7+H13+H16+H20+H21+H28+H29 -> 7574999 | I30: =I7+I13+I16+I20+I21+I28+I29 -> 369384 | J30: =J7+J13+J16+J20+J21+J28+J29 -> 7946634 | K30: =IF(F30=0,0,J30/F30/12) -> 1153.0898 | L30: =IF('T6-Zamestnanci_a_mzdy'!F30-'T6a-Zamestnanci_a_mzdy (ženy)'!F30=0,0,('T6-Zamestnanci_a_mzdy'!J30-'T6a-Zamestnanci_a_mzdy (ženy)'!J30)/('T6-Zamestnanci_a_mzdy'!F30-'T6a-Zamestnanci_a_mzdy (ženy)'!F30)/12) -> 1413.834 | M30: 651 | N30: 1089 | O30: 1390
A32: pozn.1): rozdiel medzi údajom, vykazovaným v stĺpci T6_R18_SH a údajom v T5_R56_(SC+SD) uviesť v komentári
A33: *) medzi profesorov sa započítava aj funkčné zaradenie "hosťujúci profesor" | M33: medián *) = stredná hodnota
B34: Pre účely výpočtu počtu zamestnancov bola použitá metóda - Priemerný evidenčný počet zamestnancov - prepočítaný počet - je aritmetickým priemerom denných evidenčných počtov zamestnancov za sledované obdobie prepočítaných na plnú zamestnanosť podľa dĺžky pracovných úväzkov zamestnancov, resp. podľa skutočne odpracovaných hodín. U zamestnancov, ktorí vykonávajú v organizácii činnosť v ďalšom pracovnom pomere, sa výpočet priemerného evidenčného počtu zamestnancov prepočítaného na plne zamestnaných skladá z dvoch častí : | M34: OK-vie
B35: - prvýkrát sa započítavajú do evidenčného počtu zamestnancov vo fyzických osobách s plným týždenným pracovným časom, ktorý sa rovná ich prepočítanému počtu, a to pracovným úväzkom v hlavnom zamestnaní;
B36: - druhýkrát sa započítavajú do evidenčného počtu zamestnancov prepočítaného, a to svojím pracovným úväzkom v ďalšom pracovnom pomere.
B37: Do evidenčného počtu zamestnancov prepočítaného sa títo zamestnanci započítavajú dvakrát na rozdiel od evidenčného počtu zamestnancov vo fyzických osobách, v ktorom sú započítaní iba raz.

Sheet T7_Doktorandi 
A1: Tabuľka č. 7: Náklady verejnej vysokej školy na štipendiá interných doktorandov v roku 2018
A2: Názov verejnej vysokej školy: Univerzita Konštantína Filozofa v Nitre Názov fakulty:
A3: Číslo riadku | B3: Položka | C3: z dotácií (ostatné kódy okrem kódu 13) | D3: z iných zdrojov kód 13 | E3: Náklady spolu
C4: A | D4: B | E4: C = A+B | G4: CRŠ
A5: 1 | B5: Náklady na štipendiá interných doktorandov spolu | C5: 1184151.3 | D5: 14446.2 | E5: =C5+D5 -> 1198597.5 | F5: ='T5 - Analýza nákladov'!E82 -> 1198597.5 | G5: 1198597.5
A6: 2 | B6: Počet osobomesiacov interných doktorandov spolu za 2018 | C6: 1769 | D6: 40 | E6: =C6+D6 -> 1809
A7: 3 | B7: Priemerný mesačný náklad na doktoranda | C7: =IF(C6=0,0,+C5/C6) -> 669.39023 | D7: =IF(D6=0,0,+D5/D6) -> 361.155 | E7: =IF(E6=0,0,+E5/E6) -> 662.57463 | F7: ok, Šut
A9: V prípade, že ešte niektorá VVŠ vypláca doktorandské štipendiá pozadu (ako "mzdy zamestancom"), výška nákladov vykazovaná k 31.12.2018 zohľadňuje aj úhradu štipendií doktorandov, vyplatených v januári 2019 za december 2018
A11: Pod pojmom "interný doktorand" sa rozumie doktorand , ktorému vysoká škola vypláca štipendium
A12: v zmysle § 54 zák. č. 131/2002 Z.z.o vysokých školách a o zmene a doplnení niektorých zákonov

Sheet T8-Soc_štipendiá
A1: Tabuľka č. 8: Údaje o systéme sociálnej podpory - časť sociálne štipendiá (§ 96 zákona) za roky 2017 a 2018
A2: Názov verejnej vysokej školy: Univerzita Konštantína Filozofa v Nitre Názov fakulty: | C2: uvádzajú sa štipendiá vyplatené zo štátneho rozpočtu, kód v CRŠ: 1
A3: Číslo riadku | B3: Položka | C3: 2017 | E3: 2018
C4: Finančné prostriedky (v Eur) | D4: Počet študentov poberajúcich sociálne štipendium | E4: Finančné prostriedky (v Eur) | F4: Počet študentov poberajúcich sociálne štipendium
C5: A | D5: B | E5: C | F5: D
A6: 1 | B6: Výdavky na sociálne štipendiá (§ 96 zákona) za kalendárny rok | C6: 939040 | D6: X | E6: 763870 | F6: X | G6: ok
A7: =A6+1 -> 2 | B7: Počet študentov poberajúcich sociálne štipendiá v osobomesiacoch 1) | C7: X | D7: 5379 | E7: X | F7: 4264
A8: =A7+1 -> 3 | B8: Počet študentov poberajúcich sociálne štipendiá 2) | C8: X | D8: 760 | E8: X | F8: 614
A9: =A8+1 -> 4 | B9: Nevyčerpaná dotácia (+) / nedoplatok dotácie (-) k 31. 12. predchádzajúceho roka [R4_SC = R6_SA] | C9: 441906.66 | D9: X | E9: =+C11 -> 272791.66 | F9: X | G9: ok
A10: =A9+1 -> 5 | B10: Príjem z dotácie poskytnutej na sociálne štipendiá v rámci dotačnej zmluvy z kapitoly MŠVVaŠ k 31.12. | C10: 769925 | D10: X | E10: 753082 | F10: X | G10: ok
A11: 6 | B11: Nevyčerpaná dotácia (+) / nedoplatok dotácie (-) k 31. 12. bežného roka [R4+R5-R1] | C11: =+C9+C10-C6 -> 272791.66 | D11: X | E11: =+E9+E10-E6 -> 262003.66 | F11: X
A12: 7 | B12: Priemerné štipendium na 1 študenta na mesiac [R1_SA/R2_SB resp. R1_SC/R2_SD] | C12: =IF(C6=0,0,C6/D7) -> 174.5752 | D12: X | E12: =IF(E6=0,0,E6/F7) -> 179.144 | F12: X
A14: 1) V stĺpcoch B a D sa uvádza prepočítaný počet študentov určený ako počet osobomesiacov, počas ktorých bolo poskytované sociálne štipendium
A15: 2) V stĺpcoch B a D sa uvádza celkový (fyzický) počet študentov, ktorým bolo v príslušnom kalendárnom roku poskytnuté sociálne štipendium bez ohľadu na počet mesiacov.
F17: ok, sev.

Sheet T9_ŠD 
A1: Tabuľka č. 9: Údaje o systéme sociálnej podpory - časť výnosy a náklady1) študentských domovov (bez zmluvných zariadení) za roky 2017 a 2018
A2: Názov verejnej vysokej školy: Univerzita Konštantína Filozofa v Nitre
A3: Číslo riadku | B3: Položka | C3: Náklady / Výnosy | E3: Počty ubytovaných
C4: 2017 | D4: 2018 | E4: 2017 | F4: 2018
C5: A | D5: B | E5: C | F5: D
A6: 1 | B6: Projektovaná lôžková kapacita študentského domova k 31. 12. kalendárneho roka (v počte miest) | C6: X | D6: X | E6: 1363 | F6: 1505 | G6: v štatistike cvti uvádzate 1 505, prosím opraviť
A7: =A6+1 -> 2 | B7: Počet ubytovaných študentov (vrátane interných doktorandov)2) v osobomesiacoch | C7: X | D7: X | E7: 16326 | F7: 15926
A8: 3 | B8: Priemerný prepočítaný počet ubytovaných študentov [(R2/12] | C8: X | D8: X | E8: =E7/12 -> 1360.5 | F8: =F7/12 -> 1327.1667
A9: =A8+1 -> 4 | B9: Výnosy z poplatkov za ubytovanie od študentov počas výučbového obdobia (10 mesiacov) | C9: 799250 | D9: 792148 | E9: X | F9: X
A10: =A9+1 -> 5 | B10: Výnosy z poplatkov za ubytovanie od študentov počas hlavných prázdnin (od interných doktorandov) a počty ubytovaných študentov | C10: =1560+500 -> 2060 | D10: 2260 | E10: 18 | F10: 20
A11: =A10+1 -> 6 | B11: Výnos z dotácie zo štátneho rozpočtu na študentské domovy (vrátane zmluvných zariadení a valorizácie miezd ŠJ) | C11: 752807 | D11: 1029381 | E11: X | F11: X | G11: ok
A12: =A11+1 -> 7 | B12: Ostatné výnosy zo študentských domovov | C12: 99534.08 | D12: 99647.41 | E12: X | F12: X
A13: =A12+1 -> 8 | B13: Výnosy zo študentských domovov v kalendárnom roku spolu [SUM(R4:R7)] | C13: =SUM(C9:C12) -> 1653651.1 | D13: =SUM(D9:D12) -> 1923436.4 | E13: X | F13: X
A14: =A13+1 -> 9 | B14: Náklady študentských domovov spolu [R10+R11] | C14: =C15+C16 -> 1173429.5 | D14: =D15+D16 -> 1351836.6 | E14: X | F14: X
A15: =A14+1 -> 10 | B15: - náklady študentských domovov (bez zmluvných zariadení)- mzdy a odvody | C15: 534783.9 | D15: 550102.91 | E15: X | F15: X
A16: =A15+1 -> 11 | B16: - náklady študentských domovov (bez zmluvných zariadení) - ostatné | C16: 638645.64 | D16: 801733.74 | E16: X | F16: X
A17: =A16+1 -> 12 | B17: Rozdiel výnosov a nákladov na študentské domovy v kalendárnom roku [R8-R9] | C17: =+C13-C14 -> 480221.54 | D17: =+D13-D14 -> 571599.76 | E17: X | F17: X
A18: =A17+1 -> 13 | B18: Priemerné ročné náklady na jedného ubytovaného študenta [R9/R3] | C18: =IF(E8=0,0,C14/E8) -> 862.49874 | D18: =IF(F8=0,0,D14/F8) -> 1018.5885 | E18: X | F18: X
A20: 1) výnosy a náklady z podnikateľskej činnosti sa neuvádzajú
A21: 2) uvádzajte počet denných študentov I. a II. stupňa štúdia počas výučbového obdobia, najviac však 10 mesiacov a denných študentov III. stupňa štúdia (doktorandov) vrátane hlavných prázdnin maximálne 12 mesiacov
A22: Poznámka: výška nákladov / výnosov v r. 6,8,9,10,11 je za rok 2017 a 2018 vyčíslená vrátane zmluvných zariadení
A23: Poznámka: z výnosov z dotácie vo výške 1 029 381 bolo 240 000 poskytnutých účelovo na zlepšenie vybavenosti ŠD

Sheet T10-ŠJ 
A1: Tabuľka č. 10: Údaje o systéme sociálnej podpory - časť výnosy a náklady1) študentských jedální za roky 2017 a 2018
A2: Názov verejnej vysokej školy: Univerzita Konštantína Filozofa v Nitre
A3: Číslo riadku | B3: Položka | C3: 2017 | D3: 2018
C4: A | D4: B
A5: 1 | B5: Výnosy2) študentských jedální súvisiace so stravovaním študentov spolu [R2+R5] | C5: =+C6+C9 -> 195339.94 | D5: =D6+D9 -> 185581.23
A6: =A5+1 -> 2 | B6: Tržby jedální súvisiace so stravovaním študentov v kalendárnom roku spolu [R3+R4] | C6: =+C7+C8 -> 120572.94 | D6: =+D7+D8 -> 117048.23
A7: =A6+1 -> 3 | B7: - tržby za stravné lístky študentov | C7: 120572.94 | D7: 117048.23
A8: =A7+1 -> 4 | B8: - ostatné tržby súvisiace so stravovaním študentov | C8: 0 | D8: 0
A9: =A8+1 -> 5 | B9: Výnos z dotácie zo štátneho rozpočtu na študentské jedálne spolu [R6+R7-R8] | C9: =+C10+C11-C12 -> 74767 | D9: =+D10+D11-D12 -> 68533
A10: =A9+1 -> 6 | B10: - zostatok nevyčerpanej dotácie (+)/ nedoplatok dotácie (-) z predchádzajúcich rokov [R6_SB=R8_SA] | C10: 21573.24 | D10: =+C12 -> 11210.24
A11: =A10+1 -> 7 | B11: - účelová dotácia v danom kalendárnom roku | C11: 64404 | D11: 67533 | E11: ok
A12: =A11+1 -> 8 | B12: - prenos zostatku dotácie do nasledujúceho kalendárneho roku [R6+R7-R15] | C12: =C10+C11-C20 -> 11210.24 | D12: =D10+D11-D20 -> 10210.24
A13: =A12+1 -> 9 | B13: Náklady na činnosť študentských jedální súvisiace so stravovaním študentov za kalendárny rok | C13: 225083.66 | D13: 213393.31
B14: z toho:
A15: =A13+1 -> 10 | B15: - náklady na jedlá študentov3) | C15: 225083.66 | D15: 213393.31
A16: =+A15+1 -> 11 | B16: Rozdiel výnosov a nákladov študentských jedální súvisiacich so stravovaním študentov [R1-R9] | C16: =C5-C13 -> -29743.72 | D16: =D5-D13 -> -27812.08
A17: =+A16+1 -> 12 | B17: Počet vydaných jedál študentom v kalendárnom roku | C17: =C18+C19 -> 74767 | D17: =D18+D19 -> 68533 | E17: ok
A18: =+A17+1 -> 13 | B18: - počet vydaných jedál študentom vo vlastných stravovacích zariadeniach3) | C18: 74767 | D18: 68533
A19: =+A18+1 -> 14 | B19: - počet vydaných jedál študentom v zmluvných zariadeniach 4) | C19: 0 | D19: 0
A20: =+A19+1 -> 15 | B20: Nárok na príspevok zo štátneho rozpočtu na jedlá podľa metodiky | C20: =(C18*1+C19*1) -> 74767 | D20: =(D18*1+D19*1) -> 68533
A21: =+A20+1 -> 16 | B21: Priemerné náklady na jedlo študenta v Eur [R10/R13] | C21: =IF(C18=0,0,C15/C18) -> 3.010468 | D21: =IF(D18=0,0,D15/D18) -> 3.1137308
A23: 1) výnosy a náklady z podnikateľskej činnosti sa neuvádzajú, neuvádzajú sa ani výnosy a náklady súvisiace so stravovaním zamestnancov
A24: 2) všetky údaje o výnosoch a nákladoch sa uvádzajú v Eur
A25: 3) uvádzajú sa jedlá vydané študentom len vo vlastnej jedálni, na ktoré sa poskytuje dotácia
A26: 4) uvádzajú sa všetky jedlá vydané študentom v zmluvných zariadeniach, na ktoré sa poskytuje dotácia
D28: ok, sev.

Sheet T11-Zdroje KV
A1: Tabuľka č. 11: Zdroje verejnej vysokej školy na obstaranie a technické zhodnotenie dlhodobého majetku v rokoch 2017 a 2018
A2: Názov verejnej vysokej školy: Univerzita Konštantína Filozofa v Nitre
A3: Číslo riadku | B3: Položka | C3: Objem zdrojov
C4: 2017 | D4: 2018
C5: A | D5: B
A6: 1 | B6: Stav fondu reprodukcie k 1.1. | C6: 549258.94 | D6: 793852.11
A7: =A6+1 -> 2 | B7: Tvorba fondu reprodukcie v kalendárnom roku spolu [SUM(R3:R8)] | C7: =SUM(C8:C13) -> 901209.13 | D7: =SUM(D8:D13) -> 741527.97
A8: =A7+1 -> 3 | B8: - tvorba fondu z hospodárskeho výsledku (účet 413 111) 1) | C8: 0 | D8: 0
A9: =A8+1 -> 4 | B9: - tvorba fondu z odpisov (účet 413 116) | C9: 888172.13 | D9: 735677.97
A10: =A9+1 -> 5 | B10: - tvorba fondu z výnosov z predaja (a likvidácie) majetku (účet 413 117) | C10: 0 | D10: 5850
A11: =A10+1 -> 6 | B11: - tvorba fondu prevodom z rezervného fondu (účet 413 114) | C11: 0 | D11: 0
A12: =A11+1 -> 7 | B12: - tvorba fondu z darov a z dedičstva (účet 413 112) | C12: 13037 | D12: 0
A13: =A12+1 -> 8 | B13: - ostatná tvorba (účet 413 113) 2) | C13: 0 | D13: 0
A14: =A13+1 -> 9 | B14: Zdroje na obstaranie a technické zhodnotenie majetku z fondu reprodukcie [R1+R2] | C14: =C6+C7 -> 1450468.1 | D14: =D6+D7 -> 1535380.1
A15: =A14+1 -> 10 | B15: Dotácia na kapitálové výdavky zo štátneho rozpočtu | C15: 372318 | D15: 1173500
A16: 10a | B16: Dotácia na kapitálové výdavky z prostriedkov EÚ (štrukturálnych fondov vrátane spolufinancovania) | C16: 0 | D16: 0
A17: =A15+1 -> 11 | B17: Zostatok kapitálovej dotácie z predchádzajúceho roku (z dotácií na R10 a R10a) | C17: 509668.24 | D17: 29529.45
A18: =A17+1 -> 12 | B18: Zdroje na obstaranie a technické zhodnotenie dlhodobého majetku z úverov
A19: =A18+1 -> 13 | B19: Iné zdroje na obstaranie a technické zhodnotenie dlhodobého majetku (v danom roku vrátane zostatkov na týchto zdrojoch)
A20: =A19+1 -> 14 | B20: Zdroje na obstaranie a technické zhodnotenie dlhodobého majetku spolu [SUM(R9:R13)] | C20: =SUM(C14:C19) -> 2332454.3 | D20: =SUM(D14:D19) -> 2738409.5 | E20: ok Kub
A22: 1) vrátane tvorby z nerozdeleného zisku z minulých rokov
A23: 2) ostatná tvorba fondu reprodukcie v zmysle § 16a ods. 8 zákona č. 131/2002 Z. z.o vysokých školách v znení neskorších predpisov (kreditné úroky a kurzové zisky)

Sheet T12-KV
A1: Tabuľka č. 12: Výdavky verejnej vysokej školy na obstaranie a technické zhodnotenie dlhodobého majetku v roku 2018
A2: Názov verejnej vysokej školy: Univerzita Konštantína Filozofa v Nitre
A3: Číslo riadku | B3: Položka | C3: Čerpanie kapitálovej dotácie v roku 2018 zo štátneho rozpočtu | D3: Čerpanie kapitálovej dotácie v roku 2018 z prostriedkov EÚ (štrukturálnych fondov) | E3: Čerpanie bežnej dotácie v roku 2018 prostredníctvom fondu reprodukcie | F3: Čerpanie ostatných zdrojov prostredníctvom fondu reprodukcie | G3: Čerpanie z úveru | H3: Čerpanie z iných zdrojov | I3: Celkové výdavky na obstaranie a technické zhodnotenie dlhodobého majetku
C5: A | D5: B | E5: C | F5: D | G5: E | H5: F | I5: G=A+B+C+D+E+F
A6: 1 | B6: Nákup pozemkov a nehmotných aktív | E6: =E7 -> 9120 | F6: 31273.6 | I6: =SUM(C6:H6) -> 40393.6
B7: z toho: | E7: 9120
A8: 2 | B8: - nákup softvéru | I8: =SUM(C8:H8) -> 0
A9: 3 | B9: Nákup budov a stavieb | I9: =SUM(C9:H9) -> 0
A10: 4 | B10: Nákup strojov, prístrojov, zariadení, techniky a náradia [SUM(R5:R9)] | C10: =SUM(C11:C16) -> 0 | D10: =SUM(D11:D16) -> 0 | E10: =SUM(E11:E16) -> 118806.13 | F10: =SUM(F11:F16) -> 24764.33 | G10: =SUM(G11:G16) -> 0 | H10: =SUM(H11:H16) -> 0 | I10: =SUM(I11:I16) -> 143570.46 | J10: upravený vzorec
A11: 5 | B11: - interiérové vybavenie (713 001) | E11: 35604 | F11: 3411.83 | I11: =SUM(C11:H11) -> 39015.83
A12: 6 | B12: - telekomunikačná technika (713 003), komunikačná infraštruktúra (713 006) | I12: =SUM(C12:H12) -> 0
A13: 7 | B13: - výpočtová technika (713 002) | E13: 8106.45 | F13: 7930 | I13: =SUM(C13:H13) -> 16036.45
A14: 8 | B14: - prevádzkové stroje, prístroje, zariadenia, technika a náradie (713 004) | E14: 75095.68 | F14: 13422.5 | I14: =SUM(C14:H14) -> 88518.18
A15: 9 | B15: - špeciálne stroje, prístroje, zariadenia, technika, náradie a materiál (713 005) | I15: =SUM(C15:H15) -> 0
A16: 10 | B16: -komunikačná infraštruktúra (713 006) | J16: vložený riadok
A17: 11 | B17: Nákup dopravných prostriedkov všetkých druhov | F17: 66164 | I17: =SUM(C17:H17) -> 66164
A18: 12 | B18: Prípravná a projektová dokumentácia | C18: 11712.75 | E18: 5645 | F18: 78126.8 | I18: =SUM(C18:H18) -> 95484.55
A19: 13 | B19: Realizácia stavieb a ich technického zhodnotenia | C19: 986245.36 | E19: 51896.17 | F19: 355701.74 | I19: =SUM(C19:H19) -> 1393843.3
A20: 14 | B20: Rekonštrukcia a modernizácia strojov a zariadení | I20: =SUM(C20:H20) -> 0
A21: 15 | B21: Nákup ostatného dlhodobého majetku | I21: =SUM(C21:H21) -> 0
A22: 16 | B22: Iné nezaradené | I22: =SUM(C22:H22) -> 0
A23: 17 | B23: Výdavky na obstaranie a technické zhodnotenie dlhobého majetku spolu [R1+SUM(R3:R4)+SUM(R11:R16)] | C23: =+C6+C9+C10+C17+C18+C19+C20+C21+C22 -> 997958.11 | D23: =+D6+D9+D10+D17+D18+D19+D20+D21+D22 -> 0 | E23: =+E6+E9+E10+E17+E18+E19+E20+E21+E22 -> 185467.3 | F23: =+F6+F9+F10+F17+F18+F19+F20+F21+F22 -> 556030.47 | G23: =+G6+G9+G10+G17+G18+G19+G20+G21+G22 -> 0 | H23: =+H6+H9+H10+H17+H18+H19+H20+H21+H22 -> 0 | I23: =SUM(C23:H23) -> 1739455.9 | J23: ok Kub
B24: upravený textový vzorec

Sheet T13-Fondy
A1: Tabuľka č. 13: Stav a vývoj finančných fondov verejnej vysokej školy v rokoch 2017 a 2018
A2: Názov verejnej vysokej školy: Univerzita Konštantína Filozofa v Nitre
A3: Číslo riadku | B3: Fondy VVŠ | C3: Rezervný fond | E3: Fond reprodukcie | G3: Štipendijný fond | I3: Fond na podporu štúdia študentov so špecifickými potrebami | K3: Ostatné fondy | M3: Fondy spolu
C4: 2017 | D4: 2018 | E4: 2017 | F4: 2018 | G4: 2017 | H4: 2018 | I4: 2017 | J4: 2018 | K4: 2017 | L4: 2018 | M4: 2017 | N4: 2018
C5: A | D5: B | E5: C | F5: D | G5: E | H5: F | I5: G | J5: H | K5: I | L5: J | M5: K=A+C+E+G+I | N5: L=B+D+F+H+J
A6: 1 | B6: Stav fondu k 1.1. kalendárneho roku [R1_SB = R12_SA ...] | C6: 3555006.2 | D6: =C17 -> 4413339.2 | E6: 549258.94 | F6: =E17 -> 793852.11 | G6: 449822.12 | H6: =G17 -> 289610.14 | I6: 2000 | J6: =SUM(I17) -> 3000 | K6: 205376.48 | L6: =SUM(K17) -> 182576.96 | M6: =C6+E6+G6+I6+K6 -> 4761463.7 | N6: =D6+F6+H6+J6+L6 -> 5682378.5
A7: 2 | B7: Tvorba fondu v kalendárnom roku spolu SUM(R3:R10) | C7: =SUM(C8:C15) -> 858333.09 | D7: =SUM(D8:D15) -> 925666.32 | E7: =SUM(E8:E15) -> 901209.13 | F7: =SUM(F8:F15) -> 741527.97 | G7: =SUM(G8:G15) -> 1208995 | H7: =SUM(H8:H15) -> 1285459.5 | I7: =SUM(I8:I15) -> 1000 | J7: =SUM(J8:J15) -> 1000 | ... L7: =SUM(L8:L15) -> 4213 | M7: =C7+E7+G7+I7+K7 -> 2989134.2 | N7: =D7+F7+H7+J7+L7 -> 2957866.8
A8: 3 | B8: - tvorba fondu z výsledku hospodárenia 1) | C8: 858333.09 | D8: 925666.32 | E8: 0 | F8: 0 | G8: 0 | H8: 0 | I8: 1000 | J8: 1000 | K8: 0 | L8: 0 | M8: =C8+E8+G8+I8+K8 -> 859333.09 | N8: =D8+F8+H8+J8+L8 -> 926666.32
A9: 4 | B9: - tvorba fondu z odpisov | C9: X | D9: X | E9: 888172.13 | F9: 735677.97 | G9: X | H9: X | I9: X | J9: X | K9: X | L9: X | M9: =E9 -> 888172.13 | N9: =F9 -> 735677.97
A10: 5 | B10: - tvorba fondu z predaja alebo likvidácie majetku | C10: X | D10: X | E10: 0 | F10: 5850 | G10: X | H10: X | I10: X | J10: X | K10: X | L10: X | M10: =E10 -> 0 | N10: =F10 -> 5850
A11: 6 | B11: - tvorba fondu prevodom z rezervného fondu | C11: X | D11: X | E11: 0 | F11: 0 | G11: 0 | H11: 0 | I11: 0 | J11: 0 | K11: 0 | L11: 0 | M11: =E11+G11+I11+K11 -> 0 | N11: =F11+H11+J11+L11 -> 0
A12: 7 | B12: - tvorba fondu z darov a z dedičstva | C12: 0 | E12: 13037 | F12: 0 | G12: 0 | H12: 0 | I12: 0 | J12: 0 | K12: 19597 | L12: 4213 | M12: =C12+E12+G12+I12+K12 -> 32634 | N12: =D12+F12+H12+J12+L12 -> 4213
A13: 8 | B13: - tvorba fondu z dotácie 2) | C13: X | D13: X | E13: X | F13: X | G13: 1140890 | H13: 1218011 | I13: X | J13: X | K13: X | L13: X | M13: =G13 -> 1140890 | N13: =H13 -> 1218011
A14: 9 | B14: - tvorba fondu z výnosov zo školného | C14: X | D14: X | E14: X | F14: X | G14: 68105.02 | H14: 67448.52 | I14: X | J14: X | K14: X | L14: X | M14: =G14 -> 68105.02 | N14: =H14 -> 67448.52
A15: 10 | B15: - ostatná tvorba 2) | C15: 0 | D15: 0 | E15: 0 | F15: 0 | G15: 0 | H15: 0 | I15: 0 | J15: 0 | K15: 0 | L15: 0 | M15: =C15+E15+G15+I15+K15 -> 0 | N15: =D15+F15+H15+J15+L15 -> 0
A16: 11 | B16: Čerpanie fondu k 31. 12. kalendárneho roku | C16: 0 | D16: 0 | E16: 656615.96 | F16: 760886.53 | G16: 1369207 | H16: 1301356 | I16: 0 | J16: 0 | K16: 42396.52 | L16: 1432.12 | M16: =C16+E16+G16+I16+K16 -> 2068219.5 | N16: =D16+F16+H16+J16+L16 -> 2063674.7
A17: 12 | B17: Stav fondu k 31.12. kalendárneho roku [R1+R2-R11] | C17: =C6+C7-C16 -> 4413339.2 | D17: =D6+D7-D16 -> 5339005.6 | E17: =E6+E7-E16 -> 793852.11 | F17: =F6+F7-F16 -> 774493.55 | G17: =G6+G7-G16 -> 289610.14 | H17: =H6+H7-H16 -> 273713.66 | I17: =I6+I7-I16 -> 3000 | J17: =J6+J7-J16 -> 4000 | ... L17: =L6+L7-L16 -> 185357.84 | M17: =C17+E17+G17+I17+K17 -> 5682378.5 | N17: =D17+F17+H17+J17+L17 -> 6576570.6
A18: 13 | B18: Krytie fondu finančnými prostriedkami na osobitnom bankovom účte 3) k 31.12. | C18: 0 | D18: 0 | E18: 0 | F18: 0 | G18: 0 | H18: 0 | I18: 0 | J18: 0 | K18: 0 | L18: 0 | M18: =C18+E18+G18+I18+K18 -> 0 | N18: =D18+F18+H18+J18+L18 -> 0
F19: ='T5 - Analýza nákladov'!E92+'T5 - Analýza nákladov'!F92 -> 740392.97 | H19: ='T1-Dotácie podľa DZ'!C16+'T1-Dotácie podľa DZ'!C17 -> 1218011
A20: 1) vrátane tvorby z nerozdeleného zisku z minulých rokov | E20: rozdiel: | F20: =F19-F9 -> 4715 | H20: ='T4-Výnosy zo školného'!D19 -> 67448.52
A21: 2) len ak umožňuje zákon | F21: ok s vysvet.Gon | H21: ='T8-Soc_štipendiá'!E6+'T19-Štip_ z vlastných '!E6+'T20_motivačné štipendiá_nová'!E8+'T20_motivačné štipendiá_nová'!F8 -> 1301356
A22: 3) uvádza sa v prípade, ak si vysoká škola vytvorila osobitný bankový účet na krytie fondu - napríklad fondu reprodukcie | H22: ok, sev.
A24: Komentár: | B24: k T13_R4_SD: v T5_R86,SC+SD-zahrnutá tiež suma 4 715,00 (účet 551400 vo výške 933,00 EUR, 551500 vo výške 3 645,00 EUR a 551521 v sume 137,00 EUR) odpisy darovaného majetku a majetku zo zahr. zdrojov), ktorá sa neviaže na Fond reprodukcie, ale na účet 384.
B25: 740 392,37 - 4 715,00 = 735 677,97 (T13_R4_SD)

Sheet T16 - Štruktúra hotovosti
A1: Tabuľka č. 16: Štruktúra a stav finančných prostriedkov na bankových účtoch verejnej vysokej školy k 31. decembru 2018
A2: Názov verejnej vysokej školy: Univerzita Konštantína Filozofa v Nitre
A3: Číslo riadku | B3: Bankový účet | C3: Stav účtu k 31.12.2018 | D3: Číslo účtu/Poznámka
B4: A | C4: B | D4: C
A5: 1 | B5: Účty v Štátnej pokladnici spolu [SUM(R2:R15)] | C5: =SUM(C6:C19) -> 17676535
A6: 2 | B6: - dotačný účet | C6: 0 | D6: 7000240831/8180
A7: 3 | B7: - zostatkový účet | C7: 4290569.8 | D7: 7000133198/8180
A8: 4 | B8: - distribučný účet
A9: 5 | B9: - bežný účet okrem účtov uvedených v R6:R8
A10: 6 | B10: - bežný účet pre študentské domovy | C10: 5380583.4 | D10: 7000276471/8180, 7000276498/8180
A11: 7 | B11: - bežný účet pre študentské jedálne | C11: 61808.42 | D11: 7000116355/8180
A12: 8 | B12: - bežný účet na riešenie úloh vedy a výskumu zo SR, resp.zahraničia
A13: 9 | B13: - devízové účty
A14: 10 | B14: - účet štipendijného fondu
A15: 11 | B15: - účet podnikateľskej činnosti | C15: 83718.62 | D15: 7000073105/8180, 7000073113/8180, 7000073121/8180, 7000073148/8180, 7000073156/8180, 7000073164/8180
A16: 12 | B16: - účet sociálneho fondu | C16: 11976.03 | D16: 7000072989/8180
A17: 13 | B17: - účet fondu reprodukcie
A18: 14 | B18: - bežný účet - zábezpeka | C18: 20000 | D18: 7000249553/8180
A19: 15 | B19: - ostatné bankové účty v Štátnej pokladnici mimo účtov uvedených v R2:R14 | C19: 7827878.8 | D19: 7000073017/8180, 7000073025/8180, 7000073033/8180, 7000073041/8180, 7000073068/8180, 7000073076/8180, 7000073180/8180, 7000249668/8180, 7000268674/8180, 7000335945/8180, 7000486348/8180, 7000489311/8180, 7000563016/8180, 7000567033/8180, 7000570507/8180, 7000573273/8180, 7000579253/8180, 7000582858/8180
A20: 16 | B20: Účty mimo Štátnej pokladnice spolu
A21: 17 | B21: Peniaze na ceste (účet 261)
A22: 18 | B22: Stav bankových účtov spolu [R1+R16+R17] | C22: =+C5+C20+C21 -> 17676535
E23: OK, Šim.

Sheet T17-Dotácie zo ŠF EU
A1: Tabuľka č. 17: Príjmy verejnej vysokej školy z prostriedkov EÚ a z prostriedkov na ich spolufinancovanie zo štátneho rozpočtu z kapitoly MŠVVaŠ SR a z iných kapitol štátneho rozpočtu v roku 2018
A2: Názov verejnej vysokej školy: Univerzita Konštantína Filozofa v Nitre Názov fakulty:
A3: Číslo riadku | B3: Položka | C3: Bežné dotácie | E3: Kapitálové dotácie | G3: Dotácie spolu
C4: z EÚ | D4: spolufinanco- vanie zo ŠR | E4: z EÚ | F4: spolufinanco- vanie zo ŠR | G4: z EÚ | H4: spolufinanco- vanie zo ŠR | I4: 43199
C5: A | D5: B | E5: C | F5: D | G5: E=A+C | H5: F=B+D | I5: úpravy zo dňa
A6: 1 | B6: zdroj 11S + 13S spolu | C6: =C7 -> 0 | D6: =D8 -> 0 | E6: =E7 -> 0 | F6: =F8 -> 0 | G6: =C6+E6 -> 0 | H6: =D6+F6 -> 0
A7: 2 | B7: zdroj 11S1; 13S1 | D7: x | F7: x | G7: =C7+E7 -> 0 | H7: x
A8: =A7+1 -> 3 | B8: zdroj 11S2; 13S2 | C8: x | E8: x | G8: x | H8: =D8+F8 -> 0
A9: =A8+1 -> 4 | B9: zdroj 11T + 13T spolu | C9: =SUM(C10:C11) -> 0 | D9: =SUM(D10:D11) -> 0 | E9: =SUM(E10:E11) -> 0 | F9: =SUM(F10:F11) -> 0 | G9: =C9+E9 -> 0 | H9: =D9+F9 -> 0
A10: =A9+1 -> 5 | B10: zdroj 11T1; 13T1 | D10: x | F10: x | G10: =C10+E10 -> 0 | H10: x
A11: =A10+1 -> 6 | B11: zdroj 11T2; 13T2 | C11: x | E11: x | G11: x | H11: =D11+F11 -> 0
A12: 7 | B12: zdroj 1AA + 3AA spolu | C12: =SUM(C13:C14) -> 0 | D12: =SUM(D13:D14) -> 0 | E12: =SUM(E13:E14) -> 0 | F12: =SUM(F13:F14) -> 0 | G12: =C12+E12 -> 0 | H12: =D12+F12 -> 0 | I12: doplnené zdroje
A13: 8 | B13: zdroj 1AA1; 3AA1 | D13: x | F13: x | G13: =C13+E13 -> 0 | H13: x | I13: doplnené zdroje
A14: 9 | B14: zdroj 1AA2; 3AA2 | C14: x | E14: x | G14: x | H14: =D14+F14 -> 0 | I14: doplnené zdroje
A15: 10 | B15: Dotácie z kapitoly MŠVVaŠ SR spolu [R1+R4+R7] | C15: =C6+C9+C12 -> 0 | D15: =D6+D9+D12 -> 0 | E15: =E6+E9+E12 -> 0 | F15: =F6+F9+F12 -> 0 | G15: =G6+G9 -> 0 | H15: =H6+H9 -> 0 | I15: doplnený R7
A16: 11 | B16: Dotácie z iných kapitol spolu [R12+SUM(R15:R15a...)] | C16: =C17+SUM(C20:C25) -> 237409.3 | D16: =D17+SUM(D20:D25) -> 27930.49 | E16: =E17+SUM(E20:E25) -> 0 | F16: =F17+SUM(F20:F25) -> 0 | G16: =C16+E16 -> 237409.3 | H16: =D16+F16 -> 27930.49 | I16: upravený vzorec
A17: =A16+1 -> 12 | B17: zdroj 1AC + 3AC spolu | C17: =SUM(C18:C19) -> 237409.3 | D17: =SUM(D18:D19) -> 27930.49 | E17: =SUM(E18:E19) -> 0 | F17: =SUM(F18:F19) -> 0 | G17: =C17+E17 -> 237409.3 | H17: =D17+F17 -> 27930.49 | I17: doplnené zdroje
A18: 13 | B18: zdroj 1AC1+3AC1 | C18: 237409.3 | D18: x | F18: x | G18: =C18+E18 -> 237409.3 | H18: x | I18: doplnené zdroje
A19: 14 | B19: zdroj 1AC2+3AC2 | C19: x | D19: 27930.49 | E19: x | G19: x | H19: =D19+F19 -> 27930.49 | I19: doplnené zdroje
A20: 15 | G20: =C20+E20 -> 0 | H20: =D20+F20 -> 0
A21: 15a | G21: =C21+E21 -> 0 | H21: =D21+F21 -> 0
G22: =C22+E22 -> 0 | H22: =D22+F22 -> 0
G23: =C23+E23 -> 0 | H23: =D23+F23 -> 0
G24: =C24+E24 -> 0 | H24: =D24+F24 -> 0
G25: =C25+E25 -> 0 | H25: =D25+F25 -> 0
A26: 16 | B26: Dotácie z prostriedkov EÚ spolu [R10+R11] | C26: =C15+C16 -> 237409.3 | D26: =D15+D16 -> 27930.49 | E26: =E15+E16 -> 0 | F26: =F15+F16 -> 0 | G26: =C26+E26 -> 237409.3 | H26: =D26+F26 -> 27930.49 | I26: upravený vzorec
I28: OK, Šim.

Sheet T18-Ostatné dotacie z kap MŠ SR
A1: Tabuľka č. 18: Príjmy z dotácií verejnej vysokej škole zo štátneho rozpočtu z kapitoly MŠVVaŠ SR poskytnuté mimo programu 077 a mimo príjmov z prostriedkov EÚ (zo štrukturálnych fondov) v roku 2018
A2: Názov verejnej vysokej školy: Univerzita Konštantína Filozofa v Nitre Názov fakulty:
A3: Číslo riadku | B3: Položka | C3: Bežné dotácie | D3: Kapitálové dotácie | E3: Dotácia spolu
C4: A | D4: B | E4: C=A+B
B5: nadrezortná veda a technika
A6: 1 | B6: Program 06K [SUM(R2+R3+R4+R5)] | C6: =SUM(C7:C10) -> 344048.62 | D6: =SUM(D7:D10) -> 0 | E6: =C6+D6 -> 344048.62
A7: =A6+1 -> 2 | B7: - Podprogram 06K 11 | C7: 344048.62 | D7: 0 | E7: =C7+D7 -> 344048.62
A8: =A7+1 -> 3 | B8: - Podprogram 06K 12 | E8: =C8+D8 -> 0
A9: =A8+1 -> 4
A10: =A9+1 -> 5 | E10: =C10+D10 -> 0
B11: zabezpečenie mobilít v súlade s medzinárodnými zmluvami
A12: 6 | B12: - Prvok 021 02 03 | C12: 21550 | D12: 0 | E12: =C12+D12 -> 21550
A13: 7 | B13: - Podprogram 05T 08 | C13: 165305 | D13: 0 | E13: =C13+D13 -> 165305
A15: 8 | B15: Ostatné dotácie [SUM(R8a..R8x)] | C15: =SUM(C16:C17) -> 0 | D15: =SUM(D16:D17) -> 0 | E15: =C15+D15 -> 0
A16: 8a | B16: (uviesť zoznam všetkých dotácií, každú na zvláštny riadok, napr. podprogram 026 05) | E16: =C16+D16 -> 0
A18: 9 | B18: Spolu [R1+R6+R7+R8] | C18: =C6+C12+C13+C15 -> 530903.62 | D18: =D6+D12+D13+D15 -> 0 | E18: =E6+E12+E13+E15 -> 530903.62 | F18: ok, Šut

Sheet T19-Štip_ z vlastných 
A1: Tabuľka č. 19: Štipendiá z vlastných zdrojov podľa § 97 zákona v rokoch 2017 a 2018
A2: Názov verejnej vysokej školy: Univerzita Konštantína Filozofa v Nitre Názov fakulty: | C2: uvádzajú sa len štipendiá vyplatené z vlastných zdrojov, v CRŠ kód 9
A3: Číslo riadku | B3: Položka | C3: 2017 | E3: 2018
C4: Náklady na štipendiá | D4: Počet študentov poberajúcich štipendium | E4: Náklady na štipendiá | F4: Počet študentov poberajúcich štipendium
C5: A | D5: B | E5: C | F5: D
A6: 1 | B6: Štipendiá z vlastných zdrojov vysokej školy (§ 97 zákona) spolu [R2+R5+R8+R11+R14+R17] | C6: =C7+C10+C16+C19+C13+C22 -> 59248 | D6: =D7+D10+D16+D19+D13+D22 -> 316 | E6: =E7+E10+E16+E19+E13+E22 -> 72513 | F6: =F7+F10+F16+F19+F13+F22 -> 637 | G6: ok | H6: =72663-E6 -> 150
A7: 2 | B7: - prospechové [R3+R4] | C7: =SUM(C8:C9) -> 0 | D7: =SUM(D8:D9) -> 0 | E7: =SUM(E8:E9) -> 1113 | F7: =SUM(F8:F9) -> 12
A8: 3 | B8: - poskytnuté jednorázovo | C8: 0 | E8: 1113 | F8: 12
A9: 4 | B9: - poskytované mesačne 1) | C9: 0
A10: 5 | B10: -za dosiahnutie vynikajúceho výsledku v oblasti štúdia [R6+R7] | C10: =SUM(C11:C12) -> 17615 | D10: =SUM(D11:D12) -> 102 | E10: =SUM(E11:E12) -> 23774 | F10: =SUM(F11:F12) -> 235
A11: 6 | B11: - poskytnuté jednorázovo | C11: 17615 | D11: 102 | E11: 23774 | F11: 235
A12: 7 | B12: - poskytované mesačne 1)
A13: 8 | B13: -za dosiahnutie vynikajúceho výsledku vo výskume a vývoji [R9+R10] | C13: =C14+C15 -> 0 | D13: =D14+D15 -> 0 | E13: =E14+E15 -> 0 | F13: =F14+F15 -> 0
A14: 9 | B14: - poskytnuté jednorázovo
A15: 10 | B15: - poskytované mesačne 1)
A16: 11 | B16: - za umeleckú alebo športovú činnosť [R11+R12] | C16: =SUM(C17:C18) -> 41633 | D16: =SUM(D17:D18) -> 214 | E16: =SUM(E17:E18) -> 47626 | F16: =SUM(F17:F18) -> 390
A17: 12 | B17: - poskytnuté jednorázovo | C17: 41633 | D17: 214 | E17: 47626 | F17: 390
A18: 13 | B18: - poskytované mesačne 1)
A19: 14 | B19: - na sociálnu podporu [R15+R16] | C19: =SUM(C20:C21) -> 0 | D19: =SUM(D20:D21) -> 0 | E19: =SUM(E20:E21) -> 0 | F19: =SUM(F20:F21) -> 0
A20: 15 | B20: - poskytnuté jednorázovo
A21: 16 | B21: - poskytované mesačne 1)
A22: 17 | B22: - iné nezaradené | C22: =C23+C24 -> 0 | D22: =D23+D24 -> 0 | E22: =E23+E24 -> 0 | F22: =F23+F24 -> 0
A23: 18 | B23: - poskytnuté jednorázovo
A24: 19 | B24: - poskytované mesačne 1)
A25: 20 | B25: Počet študentov poberajúcich štipendiá z vlastných zdrojov 2) | C25: X | D25: 316 | E25: X | F25: 637
A27: 1) V stĺpcoch B a D sa uvádza prepočítaný počet študentov určený ako počet osobomesiacov, počas ktorých bolo poskytované štipendium
A28: 2) V stĺpcoch B a D sa uvádza celkový (fyzický) počet študentov, ktorým bolo v príslušnom roku poskytované štipendium .
A29: Do tabuľky sa uvádzajú aj motivačné štipendiá doktorandov, nie však "normálne" štipendiá doktorandov podľa platovej tabuľky!!
A31: Vysvetlenie: Rozdiel vo výške 150€ medzi nákladmi a vyplatením v CRŠ nastal vo vrátení štipendia v 12/2017, následne bolo vyplatené v 1/2018
B32: (štipendium bolo zahrnuté v tabuľke v nákladoch za rok 2017) | F32: ok, sev.

Sheet T20_motivačné štipendiá_nová
A1: Tabuľka č. 20: Motivačné štipendiá v rokoch 2017 a 2018 (v zmysle § 96a zákona )
A2: Názov verejnej vysokej školy: Univerzita Konštantína Filozofa v Nitre Názov fakulty:
A3: Číslo riadku | B3: Položka | C3: 2017 | E3: 2018
C4: mot. štipendiá podľa § 96a, ods.1, písm. a) (kód v CRŠ: 19)2) | D4: mot. štipendiá podľa § 96a, ods.1, písm. b) (kódy v CRŠ: 4, 5, 6, 7, 8)3) | E4: mot. štipendiá podľa § 96a, ods.1, písm. a) (kód v CRŠ: 19)2) | F4: mot. štipendiá podľa § 96a, ods.1, písm. b) (kódy v CRŠ: 4, 5, 6, 7, 8)3)
C5: A | D5: B | E5: C | F5: D
A6: 1 | B6: Nevyčerpaná dotácia (+) / nedoplatok dotácie (-) na motivačné štipendiá k 31. 12. predchádzajúceho kalendárneho roka | C6: 0 | D6: 0 | E6: =C9 -> 46 | F6: =D9 -> 0
A7: 2 | B7: Príjem z dotácie na motivačné štipendiá z kapitoly MŠVVaŠ SR v kalendárnom roku | C7: 82425 | D7: 288540 | E7: 148679 | F7: 316250 | G7: ok
A8: 3 | B8: Výdavky na motivačné štipendiá v kalendárnom roku | C8: 82379 | D8: 288540 | E8: 148725 | F8: 316248
A9: 4 | B9: Nevyčerpaná dotácia (+) / nedoplatok dotácie (-) k 31. 12. kalendárneho roka [R1+R2-R3] | C9: =C6+C7-C8 -> 46 | D9: =D6+D7-D8 -> 0 | E9: =E6+E7-E8 -> 0 | F9: =F6+F7-F8 -> 2 | G9: ok
A10: 5 | B10: Počet študentov, ktorým bolo priznané motivačné štipendium 1) | C10: 513 | D10: 1134 | E10: 945 | F10: 1468
A12: 1) v riadku 5 sa uvedie celkový fyzický počet študentov (pričom 1 študent sa počíta za 1 fyzickú osobu), ktorým bolo vyplatené motivačné štipendium v kalendárnom roku
A13: 2) uvádzajú sa len motivačné štipendiá vyplatené podľa § 96a, ods.1, písm. a) (kód CRŠ 19)
A14: 3) uvádzajú sa len motivačné štipendiá vyplatené podľa § 96a, ods.1, písm. b) (kódy v CRŠ: 4, 5, 6, 7, 8)
F15: ok, sev.

Sheet T21-štruktúra_384
A1: Tabuľka č. 21: Štruktúra účtu 384 - výnosy budúcich období v rokoch 2017 a 2018
A2: Názov verejnej vysokej školy: Univerzita Konštantína Filozofa v Nitre
A3: Číslo riadku | B3: Stav k 31. 12. 2017 | H3: Stav k 31. 12. 2018
B4: Zvyšok prijatej kapitálovej dotácie zo štátneho rozpočtu používanej na kompenzáciu odpisov majetku z nej obstaraného | C4: Zvyšok prijatej kapitálovej dotácie z prostriedkov EÚ (štrukturálnych fondov) používanej na kompenzáciu odpisov majetku z nej obstaraného | D4: Bežná dotácia na úlohy budúcich období | E4: Prostriedky zo zahraničných projektov na budúce aktivity | F4: Ostatné | G4: Spolu | H4: Zvyšok prijatej kapitálovej dotácie zo štátneho rozpočtu používanej na kompenzáciu odpisov majetku z nej obstaraného | I4: Zvyšok prijatej kapitálovej dotácie z prostriedkov EÚ (štrukturálnych fondov) používanej na kompenzáciu odpisov majetku z nej obstaraného | J4: Bežná dotácia na úlohy budúcich období | K4: Prostriedky zo zahraničných projektov na budúce aktivity | L4: Ostatné | M4: Spolu
B5: A | C5: B | D5: C | E5: D | F5: E | G5: F = A+B+C+D+E | H5: G | I5: H | J5: I | K5: J | L5: K | M5: L= G+H+I+J+K
A6: 1 | B6: 17622182 | C6: 6704693.4 | D6: 4127667.3 | E6: 466451.68 | F6: 3544644 | G6: =SUM(B6:F6) -> 32465638 | H6: =B6+'T11-Zdroje KV'!D15-'T5 - Analýza nákladov'!E91 -> 18167624 | I6: =C6+'T11-Zdroje KV'!D16-'T5 - Analýza nákladov'!E93 -> 5883047.9 | J6: 4192791.7 | K6: 712746.9 | L6: 3413374.2 | M6: =SUM(H6:L6) -> 32369585
G7: ok Gon | H7: =B6+'T11-Zdroje KV'!D15-'T5 - Analýza nákladov'!E91 -> 18167624 | I7: =C6+'T11-Zdroje KV'!D16-'T5 - Analýza nákladov'!E93 -> 5883047.9 | M7: ok Gon
H8: =H7-H6 -> 0 | I8: =I7-I6 -> 0
B9: T21_R1_SA + T11_R10_SB -T5_R85_SC = T21_R1_SG | H9: ok Gon | I9: ok Gon
B11: T21_R1_SB + T11_R10a_SB - T5_R86a_SC = T21_R1_SH

Sheet T22_Výnosy_soc_oblasť
A1: Tabuľka č. 22: Výnosy verejnej vysokej školy v roku 2018 v oblasti sociálnej podpory študentov
A2: Názov verejnej vysokej školy: Univerzita Konštantína Filozofa v Nitre Názov fakulty:
A3: Číslo účtu | B3: Účet | C3: Číslo riadku | D3: Výnosy v hlavnej činnosti 2017 | E3: Výnosy hlavnej činnosti 2018 | F3: Rozdiel 2018-2017
D4: A | E4: B | F4: C
A5: 601 | B5: Tržby za vlastné výrobky | C5: 39 | D5: 0 | E5: 0 | F5: =E5-D5 -> 0
A6: 602 | B6: Tržby z predaja služieb | C6: 40 | D6: 921882.94 | E6: 911456.23 | F6: =E6-D6 -> -10426.71
A7: 604 | B7: Tržby za predaný tovar | C7: 41 | D7: 0 | E7: 0 | F7: =E7-D7 -> 0
A8: 611 | B8: Zmenaq stavu zásob ned. výroby | C8: 42 | D8: 0 | E8: 0 | F8: =E8-D8 -> 0
A9: 612 | B9: Zmena stavu zásob polotovarov | C9: 43 | D9: 0 | E9: 0 | F9: =E9-D9 -> 0
A10: 613 | B10: Zmena stavu zásob výrobkov | C10: 44 | D10: 0 | E10: 0 | F10: =E10-D10 -> 0
A11: 614 | B11: Zmena stavu zásob zvierat | C11: 45 | D11: 0 | E11: 0 | F11: =E11-D11 -> 0
A12: 621 | B12: Aktivácia materiálu a tovaru | C12: 46 | D12: 0 | E12: 0 | F12: =E12-D12 -> 0
A13: 622 | B13: Aktivácia vnútroorganizačných služieb | C13: 47 | D13: 0 | E13: 0 | F13: =E13-D13 -> 0
A14: 623 | B14: Aktivácia dlhodobého nehmot. majetku | C14: 48 | D14: 0 | E14: 0 | F14: =E14-D14 -> 0
A15: 624 | B15: Aktivácia dlhodobého hmotného majet. | C15: 49 | D15: 0 | E15: 0 | F15: =E15-D15 -> 0
A16: 641 | B16: Zmluvné pokuty a penále | C16: 50 | D16: 0 | E16: 0 | F16: =E16-D16 -> 0
... A39: 691 | B39: Dotácie | C39: 73 | D39: 957671 | E39: 1231351 | F39: =E39-D39 -> 273680
A40: Účtová trieda 6 spolu r.39 až r. 73 | C40: 74 | D40: =SUM(D5:D39) -> 2006907 | E40: =SUM(E5:E39) -> 2284048.2 | F40: =SUM(F5:F39) -> 277141.2
A41: Výsledok hospodárenia pred zdanením r.74-r.38 | C41: 75 | D41: =D40-T23_Náklady_soc_oblasť!D42 -> 449228.74 | E41: =E40-T23_Náklady_soc_oblasť!E42 -> 543787.68 | F41: =F40-T23_Náklady_soc_oblasť!F42 -> 94558.94
A42: 591 | B42: Daň z príjmov | C42: 76 | F42: =E42-D42 -> 0
A43: 595 | B43: Dodatočné odvody dane z príjmov | C43: 77 | F43: =E43-D43 -> 0
A44: Výsledok hospod. po zdanení r. 75-(r.76 + r.77) | C44: 78 | D44: =D41-D42-D43 -> 449228.74 | E44: =E41-E42-E43 -> 543787.68 | F44: =E44-D44 -> 94558.94
G45: OK, Šim.

Sheet T23_Náklady_soc_oblasť
A1: Tabuľka č .23: Náklady verejnej vysokej školy v roku 2018 v oblasti sociálnej podpory študentov
A2: Názov verejnej vysokej školy: Univerzita Konštantína Filozofa v Nitre Názov fakulty:
A3: Číslo účtu | B3: Účet | C3: Číslo riadku | D3: Náklady hlavnej činnosti 2017 | E3: Náklady hlavnej činnosti 2018 | F3: Rozdiel 2018-2017
D4: A | E4: B | F4: C
A5: 501 | B5: Spotreba materiálu | C5: 01 | D5: 147999.3 | E5: 307152.49 | F5: =E5-D5 -> 159153.19
A6: 502 | B6: Spotreba energie | C6: 02 | D6: 177914.6 | E6: 170914.05 | F6: =E6-D6 -> -7000.55
A7: 504 | B7: Predaný tovar | C7: 03 | D7: 0 | E7: 0 | F7: =E7-D7 -> 0
A8: 511 | B8: Opravy a udržiavanie | C8: 04 | D8: 42579.09 | E8: 69625.38 | F8: =E8-D8 -> 27046.29
A9: 512 | B9: Cestovné | C9: 05 | D9: 89.4 | E9: 228.52 | F9: =E9-D9 -> 139.12
A10: 513 | B10: Náklady na reprezentáciu | C10: 06 | D10: 0 | E10: 0 | F10: =E10-D10 -> 0
A11: 518 | B11: Ostatné služby | C11: 07 | D11: 94306.01 | E11: 88749.57 | F11: =E11-D11 -> -5556.44
A12: 521 | B12: Mzdové náklady | C12: 08 | D12: 464404.82 | E12: 472398.93 | F12: =E12-D12 -> 7994.11
A13: 524 | B13: Zákonné soc. poistenie a zdr.pois. | C13: 09 | D13: 161443.79 | E13: 164420.73 | F13: =E13-D13 -> 2976.94
A14: 525 | B14: Ostatné sociálne poistenie | C14: 10 | D14: 8364.13 | E14: 8704.27 | F14: =E14-D14 -> 340.14
A15: 527 | B15: Zákonné sociálne náklady | C15: 11 | D15: 7956.81 | E15: 7029.19 | F15: =E15-D15 -> -927.62
A16: 528 | B16: Ostatné sociálne náklady | C16: 12 | D16: 0 | E16: 0 | F16: =E16-D16 -> 0
... A41: 567 | B41: Poskyt. príspevky z verejnej zbierky | C41: 37 | D41: 0 | E41: 0 | F41: =E41-D41 -> 0
A42: Účtová trieda 5 spolu r.01 až r.37 | C42: 38 | D42: =SUM(D5:D41) -> 1557678.2 | E42: =SUM(E5:E41) -> 1740260.5 | F42: =SUM(F5:F41) -> 182582.26
G43: OK, Šim.

Sheet T24__Aktíva
A1: Tabuľka č. 24: Súvaha - Strana aktív
A2: Názov verejnej vysokej školy:
A3: Polož. výkaz. NUJ | B3: Čislo riadku | C3: Brutto (v Eur) | D3: Korekcia | E3: Netto | F3: Predch. účt. obdobie
A4: A. NEOBEŽNÝ MAJETOK SPOLU r.002+r.009+r.021 | B4: 001
A5: 1. Dlhodobý nehmotný majetok r.003 až r.008 | B5: 002
A6: Nehmotné výsledky z vývojovej a obdob.činnosti 012-(072+091A | B6: 003
A7: Softvér 013-(073+091AÚ) | B7: 004
A8: Oceniteľné práva 014-(074+091AÚ) | B8: 005
A9: Ostatný.dlhodob.nehmot.majetok(018+019)-(078+079+091AÚ) | B9: 006
A10: Obstaranie dlhodobého nehmotného majetku (041-093) | B10: 007
A11: Poskytnut.preddavky na dlhodob.nehmot.majetok (051-095AÚ) | B11: 008
A12: 2. Dlhodobý hmotný majetok (r. 010 až r. 020) | B12: 009
A13: Pozemky (031) | B13: 010
A14: Umelecké diela a zbierky (032) | B14: 011
A15: Stavby 021-(081-092AÚ) | B15: 012
... A63: MAJETOK SPOLU r.001 + r.029 + r.057 | B63: 060
A64: Celkový výsledok
