Workbook
Name _kmp1: #REF!
Name _kmp1: #REF!
Name _kmp1: #REF!
Name _kmp1: #REF!
Name _kmp2: #REF!
Name _kmp2: #REF!
Name _kmp2: #REF!
Name _kmt1: #REF!
Name _kmt1: #REF!
Name _kmt1: #REF!
Name _kmt1: #REF!
Name _T1: #REF!
Name _T1: #REF!
Name _T1: #REF!
Name _wd1: [1]vahy!$B$1
Name _wd1: [1]vahy!$B$1
Name _wd3: [1]vahy!$B$3
Name _wd3: [1]vahy!$B$3
Name _we1: [1]vahy!$B$2
Name _we1: [1]vahy!$B$2
Name _we3: [1]vahy!$B$4
Name _we3: [1]vahy!$B$4
Name denní: #REF!
Name denní: #REF!
Name denní: #REF!
Name denní: #REF!
Name dokpo: #REF!
Name dokpo: #REF!
Name dokpo: #REF!
Name dokpo: #REF!
Name dokpred: #REF!
Name dokpred: #REF!
Name dokpred: #REF!
Name dokpred: #REF!
Name druhý: #REF!
Name druhý: #REF!
Name druhý: #REF!
Name druhý: #REF!
Name exterdruhý: #REF!
Name exterdruhý: #REF!
Name exterdruhý: #REF!
Name exterdruhý: #REF!
Name externeplat: #REF!
Name externeplat: #REF!
Name externeplat: #REF!
Name externeplat: #REF!
Name exterplat: #REF!
Name exterplat: #REF!
Name exterplat: #REF!
Name exterplat: #REF!
Name KKS_doc: #REF!
Name KKS_doc: #REF!
Name KKS_doc: #REF!
Name KKS_doc: #REF!
Name KKS_ost: #REF!
Name KKS_ost: #REF!
Name KKS_ost: #REF!
Name KKS_ost: #REF!
Name KKS_phd: #REF!
Name KKS_phd: #REF!

Sheet Obsah
B1: Obsah tabuľkovej prílohy výročnej správy o hospodárení verejnej vysokej školy za rok 2018
A2: Vysvetlivky | B2: Vysvetlivky k tabuľkám výročnej správy o hospodárení verejných vysokých škôl za rok 2018
A3: Súvzťažnosti | B3: Súvzťažnosti tabuliek výročnej správy o hospodárení verejných vysokých škôl za rok 2018
A4: Kódy z CRŠ | B4: Kódy z Centrálneho registra študentov
A5: Tabuľka 1 | B5: Príjmy z dotácií verejnej vysokej škole zo štátneho rozpočtu z kapitoly MŠVVaŠ SR poskytnuté na základe Zmluvy o poskytnutí dotácie zo štátneho rozpočtu prostredníctvom rozpočtu Ministerstva školstva, vedy, výskumu a športu Slovenskej republiky na rok 2018 na programe 077
A6: Tabuľka 2 | B6: Príjmy verejnej vysokej školy v roku 2018 majúce charakter dotácie okrem príjmov z dotácií z kapitoly MŠVVaŠ SR a okrem štrukturálnych fondov EÚ
A7: Tabuľka 3 | B7: Výnosy verejnej vysokej školy v rokoch 2017 a 2018
A8: Tabuľka 4 | B8: Výnosy verejnej vysokej školy zo školného a z poplatkov spojených so štúdiom v rokoch 2017 a 2018
A9: Tabuľka 5 | B9: Náklady verejnej vysokej školy v rokoch 2017 a 2018
A10: Tabuľka 6 | B10: Zamestnanci a náklady na mzdy verejnej vysokej školy v roku 2018
A11: Tabuľka 6a | B11: Zamestnanci a náklady na mzdy verejnej vysokej školy v roku 2018 - len ženy
A12: Tabuľka 7 | B12: Náklady verejnej vysokej školy na štipendiá interných doktorandov v roku 2018
A13: Tabuľka 8 | B13: Údaje o systéme sociálnej podpory - časť sociálne štipendiá (§ 96 zákona) za roky 2017 a 2018
... A26: Tabuľka 23 | B26: Náklady verejnej vysokej školy v roku 2018 v oblasti sociálnej podpory študentov

Sheet zmeny
A1: Zmeny tabuliek výročnej správy o hospodárení za rok 2018 v porovnaní s rokom 2017
A2: Všeobecná poznámka č. 1 | C2: v hlavičkách, vo vysvetlivkách a v súvsťažnostiach boli zmenené (aktualizované) roky a upravené vzťahy v T3_V1, T4_V1
A3: Tabuľka 1 | B3: príjmy z dotácie na základe dotačnej zmluvy , len 077 | C3: bez zmien
A4: Tabuľka 2 | B4: príjmy verejnej vysokej školy v roku 2018 majúce charakter dotácie | C4: bez zmien
A5: Tabuľka 3 | B5: výnosy VVŠ | C5: vložený riadok 23 v riadku 24 vložený účet 648 011 v riadku 20, 26, 50, 65 upravený vzorec
A6: Tabuľka 4 | B6: výnosy VVŠ zo školného a poplatkov | C6: v riadku 4 vložený účet 648 010 v riadku 5 vložený účet 648 011
A7: Tabuľka 5 | B7: náklady VVŠ | C7: v riadku 42 vložený účet 518 054
A8: Tabuľka 6 | B8: náklady na mzdy | C8: bez zmien
A9: Tabuľka 6a | B9: náklady na mzdy žien | C9: bez zmien
A10: Tabuľka 7 | B10: doktorandi a doktorandské štipendiá | C10: bez zmien
A11: Tabuľka 8 | B11: sociálne štipendiá | C11: bez zmien
A12: Tabuľka 9 | B12: študentské domovy | C12: bez zmien
A13: Tabuľka 10 | B13: študentské jedálne | C13: bez zmien
A14: Tabuľka 11 | B14: zdroje obstarania a technického zhodnotenia majetku | C14: bez zmien
... A24: Tabuľka 23 | B24: náklady verejnej vysokej školy v roku 2018 v oblasti sociálnej podpory študentov | C24: bez zmien

Sheet Vysvetlivky
A1: Vysvetlivky k tabuľkám výročnej správy o hospodárení verejnej vysokej školy za rok 2018
A2: Kód vysvetlivky | B2: Vysvetlivka
A3: SPOL_1 | B3: Vysvetlivky k tabuľkám sú organizované v dvoch stĺpcoch. Prvý stĺpec označený ako "Kód vysvetlivky" obsahuje označenie vysvetlivky, ktoré určuje, ku ktorej tabuľke a ku ktorej časti tabuľky sa vysvetlivka vzťahuje. Význam použitých kódov je illustrovaný na nasledovných príkladoch: Príklad č. 1: T1_R10 - vysvetlivka sa vzťahuje k tabuľke č.1, k riadku 10 Príklad č. 2: T1_R4:R8 - vysvetlivka sa vzťahuje k tabuľke č. 1, k riadkom 4 až 8 Príklad č. 3: T1_V1 - ide o všeobecnú vysvetlivku č. 1 k tabuľke č. 1 Príklad č. 4: T14_SA - vysvetlivka sa vzťahuje k tabuľke č. 14, k stĺpcu A Príklad č. 5: SPOL_1 - ide o vysvetlivku č. 1 platnú pre všetky tabuľky
A4: SPOL_2 | B4: Niektoré polia tabuliek sa počítajú alebo inak odvodzujú z iných polí. Tieto polia sú označené žltou farbou a vysoká škola ich nevyplňuje. Polia, ktoré je potrebné vyplniť, sú označené zelenou farbou. Polia, v ktorých nemôže byť žiadny údaj, sú označené X.
A5: SPOL_3 | B5: Ak nie je uvedené inak, všetky údaje o výške finančných prostriedkov z roku 2017 a 2018 sa uvádzajú v eurách s presnosťou na dve desatinné miesta. Dôvodom tohto pravidla je, aby pri sumarizácii nedochádzalo k väčším chybám zo zaokrúhľovania.
A6: SPOL_4 | B6: Vo všetkých predpísaných tabuľkách výročnej správy sa dodržiavajú nasledujúce konvencie: a) Všetky riadky tabuliek, ktoré obsahujú údaje, sú číslované. Ak sa údaj v riadku vypočíta z údajov v iných riadkoch, je v riadku s vypočítaným údajom uvedený príslušný vzorec. b) Riadky tabuľky s hlavnými údajmi za sledovanú oblasť sú vyznačené tučným písmom. Ak v riadkoch nasledujúcich za takýmto riadkom je uvedený podrobnejší rozpis údaja, ktorý riadok obsahuje, je v riadku s hlavným údajom informácia, z ktorých riadkov sa daný hlavný údaj vypočíta. Riadky s rozpisom hlavného údaja začínajú znakom „-“ a sú vytlačené normálnym písmom (pozri napríklad riadky R2 až R5 v tabuľke č. 3). c) Ak je potrebné za riadkom s údajom uviesť, že tento údaj obsahuje v sebe nejaký čiastkový údaj (napríklad koľko z uvedeného objemu išlo na výskum a vývoj), uvedie sa v riadku za údajom „z toho“ a na ďalší riadok sa uvedie uvedený čiastkový údaj. Riadok s čiastkovým údajom začína znakom „-“ (pozri napríklad riadok R51 z tabuľky č. 3 alebo riadok R60 z tabuľky č. 5) d) Výraz „SUM(R1:R5)“ znamená „súčet riadkov R1 až R5“. e) Ak tabuľka obsahuje časť, o ktorej nie je dopredu známe, koľko bude mať riadkov, vkladané riadky sa označia číslom predchádzajúceho riadku a postupne písmenami a, b, c, ... (pozri napríklad riadky R15 a R15a v tabuľke č. 6). Pri vkladaní nového riadku je potrebné postupovať nasledovne: nastaviť kurzor na voľný riadok za riadok končiaci sa písmenom, napr. 2a, cez hlavné menu vložiť riadok, resp. viac riadkov. Údaje doplnené do takto vloženého riadku sa automaticky prenesú do sumárneho riadku (riadok 2). Vložené riadky označte nasledujúcimi písmenami abecedy napr. 2b, 2c. f) V poliach tabuliek, ktoré sa nevypĺňajú, je uvedený znak „X“
A7: SPOL_5 | B7: Ak položke požadovanej v tabuľke zodpovedá podľa predpísanej analytickej evidencie na príslušnom syntetickom účte nejaký špecifikcký kód (napríklad kód ekonomickej klasifikácie), uvedie sa tento kód za názvom položky.
A8: T1_V1 | B8: Tabuľka č. 1 poskytuje informácie o celkovom objeme a programovej štruktúre príjmov na základe Zmluvy o poskytnutí dotácií zo štátneho rozpočtu prostredníctvom kapitoly MŠVVaŠ na programe 077. Dotácie programov 021, 05T, 06K, resp. programov zo štrukturálnych fondov EÚ nie sú súčasťou tejto zmluvy.
A9: T1_R1:R15 | B9: V riadku 1 až 15 sa uvádzajú príjmy na programe 077 podľa programovej štruktúry na rok 2017.
A10: T1_R12 a T1_R13 | B10: Uvádza sa skutočne poskytnutá dotácia na sociálne a motivačné štipendiá a nie nárok vyplývajúci z potreby štipendií podľa zákona.
A11: T2_V1 | B11: Tabuľka č. 2 poskytuje informácie o celkovom objeme a štruktúre príjmov z dotácií alebo príjmov majúcich charakter dotácií, ktoré neboli poskytnuté z kapitoly MŠVVaŠ SR. Uvedú sa tu aj dotácie z rozpočtovej kapitoly Úrad vlády SR, určené na riešenie projektov v rámci Finančného mechanizmu EHP a Nórskeho finančného mechanizmu.
A12: T2_R1, R1a,... | B12: V riadku 1 uvedie vysoká škola celkový objem príjmov z dotácií zo štátneho rozpočtu poskytnutých z iných kapitol ako je kapitola MŠVVaŠ SR. V riadkoch 1a ... rozpíše podrobnejšie jednotlivé druhy týchto dotácií. Príklady: 1. dotácie z iných kapitol, 2. dotácie z APVV pre VVŠ ako spoluriešiteľa, resp.dotácie, ak hlavným riešiteľom je iná právnická osoba ako VVŠ.
A13: T2_R2, R2a... | B13: V riadku 2 uvedie vysoká škola celkový objem príjmov z dotácií z rozpočtu obcí a VÚC. V riadkoch R2a ... rozpíše podrobnejšie jednotlivé druhy týchto dotácií, každú na osobitný riadok.
... A92: T23_V1 | B92: Tabuľka č. 23 poskytuje informácie o výkaze ziskov a strát sumár za VVŠ za oblasť sociálnej podpory študentov časť "Náklady". Údaje sa uvádzajú s presnosťou na dve desatinné miesta.

Sheet Súvzťažnosti
A1: Súvzťažnostimedzi tabuľkami výročnej správy o hospodárení verejnej vysokej školy za rok 2018
A2: Kód vysvetlivky | B2: Kontrola | C2: Poznámky
A3: T1_V1 | B3: T1 = dotačná zmluva na 2018 | C3: Bežná a kapitálová dotácia je kontrolovaná na Zmluvu o poskytnutí dotácií zo štátneho rozpočtu prostredníctvom kapitoly MŠVVaŠ (ďalej len "dotačná zmluva") a jej dodatkov na rok 2018 na programe 077.
A4: T2_V1 | B4: T2 | C4: Údaje v T2 nie je možné odkontrolovať na údaje z výkazníctva ani na údaje v iných tabuľkách, nakoľko ide o údaje účtované na rôznych účtoch. (691,649). Príjmy zo zahraničia majúce charakter dotácie majú obsahovať aj údaje z výskumných, resp. vzdelávacích projektov, ktoré sú podkladom k rozpisu metodiky bežnej dotácie pre VVŠ na kalendárny rok. V R4a... je potrebné uviesť príjmy zo zahraničia (zo zahraničných účtov) a k nim príslušné hodnoty. Neuvádzajú sa tu dotácie, ktoré VVŠ obdržala zo štrukturálnych fondov prostredníctvom iných kapitol štátneho rozpočtu, napr. MPSVaR SR (tieto údaje patria do T17) a dotácie z APVV pre VVŠ ako hlavného riešiteľa (údaje patria do T18). Do tejto tabuľky sa uvádzajú dotácie z APVV pre VVŠ ako spoluriešiteľa, resp.dotácie, ak hlavným riešiteľom je iná právnická osoba ako VVŠ. Nepatria sem prostriedky na zahraničné mobility na 05T 08 a 021 02 03.
A5: T2_R1 | B5: T2_R3 | C5: Uvedie sa dotácia z Úradu vlády SR (na R3) , poskytnutá na riešenie projektov v rámci Finančného mechanizmu EHP a Nórskeho finančného mechanizmu. Údaje budú kontrolované na hodnoty z výkazníctva - bežné a kapitálové výdavky evidované na zdrojoch 11E1, 11E2, 11E3, 11E4 a 121.
A6: T3_V1 | B6: T3_R20_SA (SC) = T4_R1_SA (SB), T3_R26_SA (SC) = T4_R7_SA (SB) | C6: Výnosy sú kontrolované na údaje z výkazníctva - výkaz ziskov a strát, časť výnosy. Údaje v T3 z roku 2018 a údaje z roku 2018 sa uvádzajú v eurách s presnosťou na dve desatinné miestá ( pričom zobrazenie tabuliek je nastavené na Eur). Výnosy zo školného, resp. z poplatkov spojených so štúdiom za hlavnú činnosť v T3_R20, R26 sa taktiež kontrolujú na T4_R1_SB a T4_R7_SB. | D6: zmena
A7: T4_V1 | B7: T4_R1_SA(SB) = T3_R20_SA(SC), T4_R7_SA(SB) = T3_R26_SA(SC) T4_R15_SA(SB) = T13_R9_SE(SF) T4_R15_SA = T22_R58_SA T4_R15_SB = T22_R57_SB | C7: Údaje v T4 sú kontrolované na údaje z T3, a to na výnosy z hlavnej činnosti - školné (T3_R20), poplatky spojené so štúdiom (T3_R26). Údaj v R15 - návrh na prídel do štipendijného fondu musí byť minimálne vo výške vykazovanom na riadku R14 - základ pre prídel do štipendijného fondu. | D7: zmena
A8: T5_V1 | B8: T5_R56_SC+SD >=< T6_R18_SH T5_R77_(SC+SD) = T7_R1_SE T5_R81_SC = T19_R1_SC | C8: Náklady sú kontrolované na údaje z výkazníctva - výkaz ziskov a strát, časť náklady. Obdobne ako pri T3 sa údaje z roku 2017 a údaje z roku 2018 sa uvádzajú v eurách s presnosťou na dve desatinné miestá (pričom zobrazenie tabuliek je nastavené na Eur). Za oblasť miezd sú údaje za rok 2018 - účet 521 (R55) v T5 kontrolované na výkazníctvo, časť náklady a údaje v T5_R56_(SC + SD) na T6_R18_SH. Rozdiel medzi údajom v T6_R18_SH a údajmi v T5_R56_SC+SD (Mzdy) môže o.i. tvoriť výška nákladov za nevyčerpané dovolenky. Štipendiá doktorandov z T5_R77_SC+SD sa kontrolujú na údaje z T7_R1_SC. Štipendiá z vlastných zdrojov z T5_R81_SC sa kontrolujú na údaje v T19_R1_SC.
A9: T5_V2 | B9: T5_R88-R91 | C9: Údaje v T5 sú rozšírené o tvorbu fondov
A10: T5_V3 | B10: T5_R90_(SA+SB)=T13_R5_SC T5_R90_(SC+SD)=T13_R5_SD | C10: Náklady sú kontrolované na údaje z výkazníctva - tvorba fondu z likvidovaného / predaného majetku
A11: T6_V1 | B11: T6_R1..R6, R7, R9, R13, R14, R16, R17 = Škol 2-04 za 2018, T6_R15a.. = dotačná zmluva na 2018, špecifiká | C11: Údaje v riadkoch R1:R6, R7, R9, R13, R14, R16, R17 sú kontrolované s údajmi v štatistickom výkaze Škol (MŠ SR) 2-04 za rok 2018. Údaje v riadkoch 15a ... (špecifiká) sú kontrolované na rozpis dotácie v roku 2018. Rozdiel medzi údajom v T6_R18_SH a údajmi v T5_R56_SC+SD (Mzdy) je potrebné vyčísliť a s komentárom uviesť v poznámke pod tabuľkou T6.
A12: T7_V1 | B12: T7_R1_SC = T5_R77_(SC +SD), | C12: Údaje v R1_SC za rok 2018 sú kontrolované na T5_R77_SC + SD
A13: T8_R5 | B13: T8_R5_SA (SC) = dotačná zmluva na rok 2017 (2018), prvok 077 15 01 - účelové prostriedky na sociálne štipendiá | C13: Údaje sú kontrolované na dotačné zmluvy a na účelovú dotáciu na rok 2017, 2018. Za rok 2018 na T1_R12_SA. Údaje v T8_R1_SC by sa mali rovnať údajom z CRŠ kód 1.
A14: T8_V1 | B14: T8_R5_SC= T1_R12_SA T8_R4_SC = zostatok k 31.12.2017 T8_R6_SA = T8_R4_SC T8_R1_SA (SC) ≤ T13_R11_SE (SF) | C14: Údaj v T8_R4_SA predstavuje zostatok nevyčerpanej dotácie z predchádzajúceho roka, t. j. k 31. 12. 2017. Údaj v T8_R6_SA (SC) predstavuje zostatok nevyčerpanej dotácie k 31. 12. príslušného roka (2017, resp. 2018) a ich hodnoty sa vypočítajú z ostatných uvedených údajov. Zostatok nevyčerpanej dotácie k 31. 12. 2017 je totožný s údajmi vykazovanými v tabuľke T8 výročnej správy za rok 2017.
A15: T9_V1 | B15: T9_R1 = štatistické výkazy MŠVVaŠ SR 2017 (2018) | C15: Údaje o projektovanej lôžkovej kapacite v T9_R1 sa kontrolujú na štatistické výkazy MŠVVaŠ SR (posielané na CVTI SR) 2017, 2018.
A16: T9_V2 | B16: T9_R6_SA (SB) = dotačná zmluva 2017 (2018) - účelové prostriedky na študentské domovy (vrátane dotácie na valorizáciu miezd ŠJ) | C16: Údaje sa kontrolujú na poskytnutú dotáciu na študentské domovy (vrátane zmluvných zariadení a dotácie na valorizáciu platov zamestnancov ŠJ)
A17: T10_V1 | B17: T10_R7_SA (SB) = dotačná zmluva 2017 (2018)_účelová dotácia na študentské jedálne | C17: Údaje v R7_SA (SB) sú kontrolované na dotačné zmluvy a na účelovú dotáciu na rok 2017, 2018.
A18: T10_V2 | B18: T10_R5_SA (SB) | C18: Výnos z dotácie zo štátneho rozpočtu na študentské jedálne v kalendárneho roku sa odvíja od zostatku dotácie predchádzajúceho kalendárneho roka a účelovej dotácie daného kalendárneho roka zníženej o prenos zostatku do nasledujúceho kalendárneho roka, resp. zvýšenej o nárok na poskytnutie nedoplatku.
A19: T10_V3 | B19: T10_R13 = štatistické výkazy MŠVVaŠ SR 2017 (2018) | C19: Údaje sa kontrolujú na štatistické údaje MŠVVaŠ SR zasielané CVTI SR. | E19: dňa 27.3.2018
A20: T11_V1 | B20: T11_R2_SA (SB) = T13_R2_SC (SD) | C20: Údaje v T11_R2 - tvorba fondu reprodukcie za roky 2017 a 2018 sa musia rovnať údajom v T13_R2_SC (SD).
A21: T11_V2 | B21: T11_SB_R10 ≥ T1_SB_R15 | C21: V T11_SB_R10 sa uvádzajú kapitálové dotácie prijaté (cash) zo zdroja 111. Ide o dotácie z programu 077 (T1_SB_R15), z iných kapitol štátneho rozpočtu (T2_SB_R1), z kapitoly MŠVVaŠ (T18_SB_R9). Objem kapitálovej dotácie z iných kapitol žiadame osobitne uviesť do poznámky.
A22: T11_V3 | B22: T11_SB_R10a = T17_SC+SD_R10 | C22: V T11_R10a sa uvádzajú kapitálové výdavky prijaté (cash) z prostriedkov EÚ (štrukturálnych fondov) vrátane spolufinancovania.
A23: T11_V4 | B23: T11_SB_R11 | C23: V T11_R11 sa uvádza zostatok z kapitálovej dotácie z predchádzajúceho roku (z dotácií podľa R10 a R10a).
A24: T11_V5 | B24: T11_SB_R13 | C24: V T11_R13 sa uvádza objem na obstaranie a technické zhodnotenie dlhodobého majetku z iných zdrojov v danom roku vrátane zostatkov na týchto zdrojoch. Patria sem aj dotácie z T2_R2+R3+R4.
A25: T12_V1 | B25: T12_R17_SG = výkazníctvo 2018, kategória 700, všetky zdroje | C25: Údaje v R17, SG - celkové výdavky na obstaranie a technické zhodnotenie majetku sa musia rovnať hodnotám, vykazovaným vo výkaze "Príjmy a výdavky" v kategórii 700 za všetky zdroje (štátny rozpočet, vlastné zdroje, prostriedky EÚ, PČ, finančný mechanizmus EHP a Nórsky finančný mechanizmus...) spolu. Ak tieto udaje nie sú v súlade, je potrebné v poznámke vysvetliť dôvod. | D25: zmena
A26: T13_V1 | B26: T13_R2_SC (SD) = T11_R2_SA (SB) T13_R8_SF ≥ T8_R5_SC + T20_R2_(SC + SD) T13_R13_SD = T16_R13_SB T13_R13_SF = T16_R10_SB | C26: Údaje v T13_ R2_SC (SD) - tvorba fondu reprodukcie sa musia rovnať údajom v T11_R2_SA (SB). Údaje v T13_R8_SE (SF) majú súvzťažnosť s údajmi v T8_R5 (sociálne štipendiá), T20_R2 (motivačné štipendiá). Tvorba fondu z dotácie v T13_R8 má byť minimálne vo výške súčtu dotácie na sociálne štipendiá (T8_R5) a motivačné štipendiá (T20_R2). Údaje v T13_R13_SD(SF) majú byť totožné s údajmi v T16, účet štipendijného fondu (R10), účet fondu reprodukcie (R13).
A27: T13_V2 | B27: T13_R12_SF ≥T8_R6_SC + T20_R4_(SC +SD) | C27: Stav štipendijného fondu k 31. 12. uvedený v R12_SF nemá byť nižší ako súčet zostatku nevyčerpanej dotácie na sociálne štipendiá v T8_R6_SC a na motivačné štipendiá v T20_R4_(SC +SD).
A28: T13_V3 | B28: T13_R9_SF = T4_R15_SB | C28: Súvzťažnosť tvorby štipendijného fondu z výnosov zo školného v T13_R9_SF na T4_R15_SB.
A29: T13_V4 | B29: T13_R1_SK(SL) = výkazníctvo súvaha, časť Pasíva, riadky 064 + 065 + 069 + 070 + 071 (k 1. 1.) T13_R12_SK(SL) = výkazníctvo súvaha, časť Pasíva, riadky 064 + 065 + 069 + 070 + 071 (k 31. 12.) T13_R1_SL = T13_R12_SK | C29: Stavy fondov k 1.1. a k 31.12.2018 za všetky fondy spolu sa kontrolujú na výkazníctvo, súvaha - časť Pasíva, riadky 064 + 065 + 069 + 070 + 071 "netto" Stavy fondov k 1.1.sa rovnajú stavom fondov k 31.12. predchádzajúceho roka.
A30: T13_V5 | B30: T13_R4_SD = T5_R86_SC+SD | C30: Tvorba fondu reprodukcie z odpisov v roku 2018 sa rovná odpisom ostatného DN a HM za rok 2016 (T5_R86_SC+SD)
A31: T13_V6 | B31: T13_R5_SC=T5_R90_(SA+SB) T13_R5_SD=T5_R90_(SC+SD) | C31: Náklady sú kontrolované na údaje z výkazníctva - tvorba fondu z predaja a likvidácie majetku
A32: T13_V7 | B32: T13_R11_SF=T8_R1_SC+T19_R1_SC+T20_R3_(SC+SD) | C32: Čerpanie štipendijného fondu je vo výške čerpania soc. štipendií , čerpania motivač. štipendií a čerpania štipendií z vlastných zdrojov.
A33: T16_V1 | B33: T16_R18_SB = výkazníctvo, súvaha, časť Aktíva, riadok 053, | C33: Globálna hodnota na bankových účtoch z R18 sa kontroluje na Súvahu, časť Aktíva, r. 053. Ak nie je údaj v R2 (dotačný účet) k 31. 12. 2018 vynulovaný, je potrebné doplniť vysvetlenie v stĺpci C.
A34: T17_V1 | C34: Údaje v T17 sú kontrolované na hodnoty z výkazníctva, finančné prostriedky z EÚ (vrátane spolufinancovania zo štátneho rozpočtu), zabezpečované prostredníctvom MŠVVaŠ SR v roku 2018.
A35: T18_V1 | C35: Údaje v T18_R1 sú kontrolované na rozpis bežnej a kapitálovej dotácie na programe 06K v roku 2018 poskytnuté vysokým školám mimo "dotačnej zmluvy" prostredníctvom APVV resp. sekcie vedy a techniky. Údaje v T18_R7 a R8 sú kontrolované na rozpis bežnej dotácie na podrograme 05T 08 a prvku 021 02 03 v roku 2018, poskytnuté vysokým školám mimo "dotačnej zmluvy" prostredníctvom sekcie medzinárodnej spolupráce.
A36: T19_V1 | B36: T19_R1_SC + T20_R3(SC+SD) + T8_R1_SC = T13_R11_SF | C36: Údaje v T19 majú súvzťažnosť s T13, štipendiá z vlastných zdrojov sú taktiež súčasťou štipendijného fondu. Údaj v T13_R11 - čerpanie štipendijného fondu by malo byť vo výške čerpania sociálnych štipendií z T8, motivačných štipendií z T20 a štipendií z vlastných zdrojov z T19.
A37: T20_V1 | B37: T20_R2 = dotačná zmluva 2017 (2018)_účelová dotácia na motivačné štipendiá | C37: Údaje v R2 sú kontrolované na dotačnú zmluvu a na rozpis účelových dotácií na podprograme 077 15 02. Údaje v R3 sú kontrolované na údaje v CRŠ.
A38: T21_V1 | B38: T21_R1_SF = výkazníctvo 2017 súvaha, časť pasíva, riadok 103, predchádzajúce účtovné obdobie T21_R1_SL = výkazníctvo 2018, súvaha, časť pasíva, riadok 103, bežné účtovné obdobie | C38: Celková hodnota účtu 384 za rok 2017 a 2018, uvedená v T21_SF a SL je kontrolovaná na výkaz Súvaha, časť Pasíva, r.103. Štruktúru účtu žiadame uviesť v členení na zvyšok prijatej kapitálovej dotácie zo štátneho rozpočtu a z prostriedkov EÚ (analytický účet 384.11), nevyčerpanú bežnú dotáciu na aktivity budúcich odbobí (384.12) a prostriedky zo zahraničných projektov na budúce aktivity (384.13). Ak sú na tomto účte zaúčtované aj iné výnosy, žiadame ich osobitne uviesť v SD (2017), resp. SI (2018). Údaje za rok 2017 musia byť totožné s údajmi, ktoré VVŠ predložili k výsledkom hospodárenia VVŠ za rok 2017.
A39: T21_V1 | B39: T21_R1_SA + T11_R10_SB -T5_R85_SC = T21_R1_SG | C39: V stĺpci SG sa zvyšok prijatej kapitálovej dotácie, používanej na kompenzáciu odpisov za rok 2017 rovná súčtu zvyšku prijatej kapitálovej dotácie na kompenzáciu odpisov z roku 2017 (stĺpec SA) a výšky kapitálovej dotácie (2018) z T11_R10_SB, zníženému o odpisy, vykazované v T5_R85_SC.
A40: T21_V1 | B40: T21_R1_SB + T11_R10a_SB - T5_R86a_SC = T21_R1_SH | C40: V stĺpci SH sa zvyšok prijatej kapitálovej dotácie, používanej na kompenzáciu odpisov za rok 2018 rovná súčtu zvyšku prijatej kapitálovej dotácie na kompenzáciu odpisov z roku 2017 (stĺpec SB) a výšky kapitálovej dotácie (2018) z T11_R10a_SB, zníženému o odpisy, vykazované v T5_R86a_SC.
...

Sheet Kódy z CRŠ
A1: Kódy z Centrálneho registra študentov
A2: Kód | B2: Názov | C2: Platné od
A3: 1 | B3: sociálne štipendium | C3: 38623
A4: 4 | B4: motivačné štipendium - vynikajúce plnenie študijných povinností | C4: 39326
A5: 5 | B5: motivačné štipendium - mimoriadny študijný výsledok | C5: 39326
A6: 6 | B6: motivačné štipendium - mimoriadny výsledok vo výskume/vývoji | C6: 39326
A7: 7 | B7: motivačné štipendium - mimoriadny výsledok v umeleckej činnosti | C7: 39326
A8: 8 | B8: motivačné štipendium - mimoriadny výsledok v športovej činnosti | C8: 39326
A9: 9 | B9: štipendium z vlastných zdrojov vysokej školy | C9: 39326
A10: 10 | B10: základné z UD MSSR, pred dizer.sk. | C10: 40245 | D10: DrŠ
A11: 11 | B11: základné z UD MSSR, po dizer. sk. | C11: 40245 | D11: DrŠ
A12: 12 | B12: základné z NeúčelD MSSR | C12: 40245 | D12: DrŠ
A13: 13 | B13: z mimo dotačných zdrojov | C13: 40245 | D13: DrŠ
A14: 14 | B14: bezpečnostný príplatok z UD MSSR | C14: 40245 | D14: DrŠ
A15: 15 | B15: zvýšenie PhD. štipendia z UD MSSR | C15: 40245 | D15: DrŠ
A16: 16 | B16: zvýšenie PhD. štipendia z Neúčel D MSSR | C16: 40245 | D16: DrŠ
A17: 17 | B17: štipendium poskytuje EVI | C17: 40245 | D17: DrŠ
A18: 18 | B18: vládny štipendista | C18: 40245
A19: 19 | B19: motivačné štipendium - vybrané odbory (§ 96a ods.1 písm. a)) | C19: 41275

Sheet T1-Dotácie podľa DZ
A1: Tabuľka č. 1: Príjmy z dotácií verejnej vysokej škole zo štátneho rozpočtu z kapitoly MŠVVaŠ SR poskytnuté na základe Zmluvy o poskytnutí dotácie zo štátneho rozpočtu prostredníctvom rozpočtu Ministerstva školstva, vedy, výskumu a športu Slovenskej republiky na rok 2018 na programe 077
A2: Názov verejnej vysokej školy: Univerzita Konštantína Filozofa v Nitre Názov fakulty:
A3: Číslo riadku | B3: Dotácia / program | C3: Bežné dotácie | D3: Kapitálové dotácie | E3: Dotácie spolu
C4: A | D4: B | E4: C=A+B
A5: 1 | B5: Dotácia na uskutočňovanie akreditovaných študijných programov [R2] | C5: =C6 -> 14295205 | D5: =D6 -> 1130000 | E5: =SUM(C5:D5) -> 15425205
A6: =A5+1 -> 2 | B6: - Podprogram 077 11 | C6: 14295205 | D6: 1130000 | E6: =SUM(C6:D6) -> 15425205
A7: =A6+1 -> 3 | B7: Dotácia na výskumnú, vývojovú alebo umeleckú činnosť [R4+R5+R6+R7+R8] | C7: =SUM(C8:C12) -> 6595249 | D7: =SUM(D8:D12) -> 0 | E7: =SUM(C7:D7) -> 6595249
A8: =A7+1 -> 4 | B8: - Prvok 077 12 01 | C8: 6102106 | E8: =SUM(C8:D8) -> 6102106
A9: =A8+1 -> 5 | B9: - Prvok 077 12 02 | C9: 340173 | E9: =SUM(C9:D9) -> 340173
A10: =A9+1 -> 6 | B10: - Prvok 077 12 03 | E10: =SUM(C10:D10) -> 0
A11: =A10+1 -> 7 | B11: - Prvok 077 12 04 | E11: =SUM(C11:D11) -> 0
A12: =A11+1 -> 8 | B12: - Prvok 077 12 05 | C12: 152970 | E12: =SUM(C12:D12) -> 152970
A13: =A12+1 -> 9 | B13: Dotácia na rozvoj vysokej školy [R10] | C13: =C14 -> 290838 | D13: =D14 -> 43500 | E13: =SUM(C13:D13) -> 334338
A14: =A13+1 -> 10 | B14: - Podprogram 077 13 | C14: 290838 | D14: 43500 | E14: =SUM(C14:D14) -> 334338
A15: =A14+1 -> 11 | B15: Dotácia na sociálnu podporu študentov [R12+R13+R14] | C15: =SUM(C16:C18) -> 2349994 | D15: =SUM(D16:D18) -> 0 | E15: =SUM(C15:D15) -> 2349994
A16: =A15+1 -> 12 | B16: - Prvok 077 15 01 | C16: 753082 | E16: =SUM(C16:D16) -> 753082
A17: =A16+1 -> 13 | B17: - Prvok 077 15 02 | C17: 464929 | E17: =SUM(C17:D17) -> 464929
A18: =A17+1 -> 14 | B18: - Prvok 077 15 03 | C18: 1131983 | E18: =SUM(C18:D18) -> 1131983
A19: =A18+1 -> 15 | B19: Spolu [R1+R3+R9+R11] | C19: =C5+C7+C13+C15 -> 23531286 | D19: =D5+D7+D13+D15 -> 1173500 | E19: =SUM(C19:D19) -> 24704786 | F19: ok, Šut

Sheet T2-Ostatné dot mimo MŠ SR
A1: Tabuľka č. 2: Príjmy verejnej vysokej školy v roku 2018 majúce charakter dotácie okrem príjmov z dotácií z kapitoly MŠVVaŠ SR a okrem prostriedkov EÚ (štrukturálnych fondov)
A2: Názov verejnej vysokej školy: Univerzita Konštantína Filozofa v Nitre Názov fakulty:
A3: Číslo riadku | B3: Položka | C3: Bežné dotácie | D3: Kapitálové dotácie | E3: Dotácie spolu
C4: A | D4: B | E4: C=A+B
A5: 1 | B5: Dotácie z kapitol štátneho rozpočtu okrem kapitoly MŠVVaŠ SR (na zdroji 111) [SUM(R1a:R1...)] | C5: =SUM(C6:C8) -> 33050 | D5: =SUM(D6:D7) -> 0 | E5: =C5+D5 -> 33050
A6: 1a | B6: Ministerstvo zahraničných vecí a európ. záložitostí SR | C6: 5050 | D6: 0 | E6: =C6+D6 -> 5050
A7: 1b | B7: Fond na podporu kultúry národnostných menšín | C7: 25000 | E7: =C7+D7 -> 25000
A8: 1c | B8: Fond na podporu umenia | C8: 3000 | E8: =C8+D8 -> 3000
E9: =C9+D9 -> 0
A10: 2 | B10: Dotácie z rozpočtov obcí a z rozpočtov vyšších územných celkov [SUM(R2a:R2...)] | C10: =SUM(C11:C12) -> 4200 | D10: =SUM(D11:D12) -> 0 | E10: =C10+D10 -> 4200
A11: 2a | B11: Nitr.samosprávny kraj | C11: 1700 | E11: =C11+D11 -> 1700
A12: 2b | B12: Mesto Nitra | C12: 2500 | E12: =C12+D12 -> 2500
E13: =C13+D13 -> 0
A14: 3 | B14: Ostatné domáce príjmy s charakterom dotácie [SUM(R3a:R3...)] | C14: =SUM(C15:C17) -> 206809 | D14: =SUM(D15:D16) -> 0 | E14: =C14+D14 -> 206809
A15: 3a | B15: APVV - spoluriešiteľ | C15: 71573 | E15: =C15+D15 -> 71573
A16: 3b | B16: Ministerstvo zdravotníctva SR | C16: 27664 | E16: =C16+D16 -> 27664
A17: 3c | B17: Slov.akademická asociácia pre medzinár.spoluprácu | C17: 107572 | E17: =C17+D17 -> 107572
E18: =C18+D18 -> 0
A19: 4 | B19: Príjmy zo zahraničia majúce charakter dotácie [SUM(R4a:R4...)] | C19: =SUM(C20:C21) -> 996174.22 | D19: =SUM(D20:D21) -> 0 | E19: =C19+D19 -> 996174.22
A20: 4a | B20: zahraničné | C20: 996174.22 | E20: =C20+D20 -> 996174.22
A21: 4b | E21: =C21+D21 -> 0
E22: =C22+D22 -> 0
A23: 5 | B23: Spolu [R1+R2+R3+R4] | C23: =C5+C10+C14+C19 -> 1240233.2 | D23: =D5+D10+D14+D19 -> 0 | E23: =C23+D23 -> 1240233.2 | F23: ok

Sheet T3-Výnosy
A1: Tabuľka č. 3: Výnosy verejnej vysokej školy v rokoch 2017 a 2018 | I1: POZOR ZMENA!!!
A2: Názov verejnej vysokej školy: Univerzita Konštantína Filozofa v Nitre Názov fakulty:
A3: Číslo riadku | B3: Položka | C3: 2017 | E3: 2018 | G3: Rozdiel 2018-2017
C4: Hlavná činnosť | D4: Podnikateľská činnosť | E4: Hlavná činnosť | F4: Podnikateľská činnosť | G4: Hlavná činnosť | H4: Podnikateľská činnosť
C5: A | D5: B | E5: C | F5: D | G5: E=C-A | H5: F=D-B
A6: 1 | B6: Tržby za vlastné výrobky (účet 601) [SUM(R2:R5)] | C6: =SUM(C7:C10) -> 0 | D6: =SUM(D7:D10) -> 0 | E6: =SUM(E7:E10) -> 0 | F6: =SUM(F7:F10) -> 0 | G6: =E6-C6 -> 0 | H6: =F6-D6 -> 0
A7: =A6+1 -> 2 | B7: - vysokoškolské podniky | G7: =E7-C7 -> 0 | H7: =F7-D7 -> 0
A8: =A7+1 -> 3 | B8: - študentské domovy | G8: =E8-C8 -> 0 | H8: =F8-D8 -> 0
A9: =A8+1 -> 4 | B9: - študentské jedálne | G9: =E9-C9 -> 0 | H9: =F9-D9 -> 0
A10: =A9+1 -> 5 | B10: - ostatné tržby za vlastné výrobky | G10: =E10-C10 -> 0 | H10: =F10-D10 -> 0
A11: =A10+1 -> 6 | B11: Tržby z predaja služieb (účet 602) [SUM(R7:R10)] | C11: =SUM(C12:C15) -> 1058706.2 | D11: =SUM(D12:D15) -> 150049.57 | E11: =SUM(E12:E15) -> 1030781.4 | F11: =SUM(F12:F15) -> 120634.43 | G11: =E11-C11 -> -27924.81 | H11: =F11-D11 -> -29415.14
A12: =A11+1 -> 7 | B12: - z ubytovania študentov (účet 602 001) | C12: 801310 | E12: 794408 | G12: =E12-C12 -> -6902 | H12: =F12-D12 -> 0
A13: =A12+1 -> 8 | B13: - zo stravných lístkov študentov a doktorandov (účet 602 009) | C13: 120572.94 | E13: 117048.23 | G13: =E13-C13 -> -3524.71 | H13: =F13-D13 -> 0
A14: =A13+1 -> 9 | B14: - z ubytovania a stravovania iných fyzických osôb (účet 602 008 a 602 010) | C14: 27377.26 | D14: 90317.92 | E14: 29649.49 | F14: 79027.95 | G14: =E14-C14 -> 2272.23 | H14: =F14-D14 -> -11289.97
A15: =A14+1 -> 10 | B15: - iné analyticky sledované výnosy (účty 602 002-007, 602 011-019, 602 099, 602 199) | C15: 109446.03 | D15: 59731.65 | E15: 89675.7 | F15: 41606.48 | G15: =E15-C15 -> -19770.33 | H15: =F15-D15 -> -18125.17
A16: =A15+1 -> 11 | B16: Tržby za predaný tovar (účet 604) | C16: 16040.48 | D16: 68490.74 | E16: 10590.09 | F16: 73505.14 | G16: =E16-C16 -> -5450.39 | H16: =F16-D16 -> 5014.4
A17: =A16+1 -> 12 | B17: Zmeny stavu zásob vlastnej výroby (účtová skupina 611-614) | G17: =E17-C17 -> 0 | H17: =F17-D17 -> 0
A18: =A17+1 -> 13 | B18: Aktivácia (účet 621-624) | C18: 93533.53 | D18: 35648.2 | E18: 88085.1 | F18: 35161.82 | G18: =E18-C18 -> -5448.43 | H18: =F18-D18 -> -486.38
A19: =A18+1 -> 14 | B19: Pokuty a penále (účet 641+642) | C19: 14843.02 | E19: 6990.51 | G19: =E19-C19 -> -7852.51 | H19: =F19-D19 -> 0
A20: =A19+1 -> 15 | B20: Platby za odpísané pohľadávky (účet 643) | G20: =E20-C20 -> 0 | H20: =F20-D20 -> 0
A21: =A20+1 -> 16 | B21: Úroky (účet 644) [R17+R18] | C21: =SUM(C22:C23) -> 1339.66 | D21: =SUM(D22:D23) -> 15.25 | E21: =SUM(E22:E23) -> 1436.24 | F21: =SUM(F22:F23) -> 10.74 | G21: =E21-C21 -> 96.58 | H21: =F21-D21 -> -4.51
A22: =A21+1 -> 17 | B22: - z dotačného účtu (účet 644 001) | G22: =E22-C22 -> 0 | H22: =F22-D22 -> 0
A23: =A22+1 -> 18 | B23: - z ostatných účtov (účet 644 002) | C23: 1339.66 | D23: 15.25 | E23: 1436.24 | F23: 10.74 | G23: =E23-C23 -> 96.58 | H23: =F23-D23 -> -4.51
A24: =A23+1 -> 19 | B24: Kurzové zisky (účet 645) | C24: 6.89 | E24: 46.98 | G24: =E24-C24 -> 40.09 | H24: =F24-D24 -> 0
A25: =A24+1 -> 20 | B25: Výnosy zo školného (účet 648) [SUM(R21:R25)] | C25: =SUM(C26:C30) -> 1447838.2 | D25: =SUM(D26:D30) -> 0 | E25: =SUM(E26:E30) -> 1261891.3 | F25: =SUM(F26:F30) -> 0 | G25: =E25-C25 -> -185946.84 | H25: =F25-D25 -> 0 | I25: zmena aj vo vzorci
A26: =A25+1 -> 21 | B26: - školné za prekročenie štandardnej dĺžky štúdia účet 648 001 | C26: 340193.1 | E26: 336910.6 | G26: =E26-C26 -> -3282.5 | H26: =F26-D26 -> 0
A27: =A26+1 -> 22 | B27: - školné od cudzincov (§ 92 ods. 9 zákona) účty 648 002, 648 023 | C27: 2887.5 | G27: =E27-C27 -> -2887.5 | H27: =F27-D27 -> 0
A28: =A27+1 -> 23 | B28: - za cudzojazyčné štúdium dennou formou, 648 010 | G28: =E28-C28 -> 0 | H28: =F28-D28 -> 0 | I28: vložený riadok, školné za cudzojazyčné štúdium v dennej forme ??? TUAD, v roku 2018 neúčtované
A29: =A28+1 -> 24 | B29: - školné od externých študentov (§ 92 ods. 4 zákona) účet 648 020,648011 | C29: 1104425.6 | E29: 924648.72 | G29: =E29-C29 -> -179776.84 | H29: =F29-D29 -> 0 | I29: vložený účet 648 011, v roku 2018 neúčtované
A30: =A29+1 -> 25 | B30: - poplatky za súbežné štúdium (§ 92, ods. 5) účet 648 026 | C30: 332 | E30: 332 | G30: =E30-C30 -> 0 | H30: =F30-D30 -> 0
A31: =A30+1 -> 26 | B31: Výnosy z poplatkov spojených so štúdiom (účet 648) [SUM(R27:R32)] | C31: =SUM(C32:C37) -> 183079.21 | D31: =SUM(D32:D37) -> 0 | E31: =SUM(E32:E37) -> 173431.13 | F31: =SUM(F32:F37) -> 0 | G31: =E31-C31 -> -9648.08 | H31: =F31-D31 -> 0 | I31: zmena
A32: =A31+1 -> 27 | B32: - poplatky za prijímacie konanie (§ 92, ods. 10) účet 648 003 | C32: 152787.3 | E32: 149524.05 | G32: =E32-C32 -> -3263.25 | H32: =F32-D32 -> 0
A33: =A32+1 -> 28 | B33: - poplatky za rigorózne konanie (§ 92, ods. 11) účet 648 004 | C33: 23356.41 | E33: 16788.75 | G33: =E33-C33 -> -6567.66 | H33: =F33-D33 -> 0
A34: =A33+1 -> 29 | B34: - poplatky za rigorózne konanie - vydanie diplómu účet 648 005 | C34: 2737.5 | E34: 2507 | G34: =E34-C34 -> -230.5 | H34: =F34-D34 -> 0
A35: =A34+1 -> 30 | B35: - poplatky za vydanie dokladov o štúdiu, účet 648 006, | C35: 1791.3 | E35: 2532.33 | G35: =E35-C35 -> 741.03 | H35: =F35-D35 -> 0
A36: =A35+1 -> 31 | B36: - poplatky za vydanie dokladov o absolvovaní štúdia (§92, ods. 15, účet 648 024) | C36: 2267.2 | E36: 2079 | G36: =E36-C36 -> -188.2 | H36: =F36-D36 -> 0
A37: =A36+1 -> 32 | B37: - poplatky za uznávanie rovnocennosti dokladov o štúdiu (§92, ods. 15, účet 648 025) | C37: 139.5 | E37: 0 | G37: =E37-C37 -> -139.5 | H37: =F37-D37 -> 0
A38: =A37+1 -> 33 | B38: - výnosy účtu 648 (648 007-8, 648 016, 648 019, 648 022, 648 099) | C38: 123581.12 | E38: 111765.06 | G38: =E38-C38 -> -11816.06 | H38: =F38-D38 -> 0
A39: =A38+1 -> 34 | B39: Iné ostatné výnosy (účet 646, 649) [SUM(R35:R44)] | C39: =SUM(C40:C49) -> 560752.24 | D39: =SUM(D40:D49) -> 15533.81 | E39: =SUM(E40:E49) -> 648789.44 | F39: =SUM(F40:F49) -> 9443.39 | G39: =E39-C39 -> 88037.2 | H39: =F39-D39 -> -6090.42
A40: =A39+1 -> 35 | B40: - dary (účet 649 009) (646 001) (646 002) | C40: 3606.44 | E40: 10654.02 | G40: =E40-C40 -> 7047.58 | H40: =F40-D40 -> 0
...

Sheet T4-Výnosy zo školného
A1: Tabuľka č. 4: Výnosy verejnej vysokej školy zo školného a z poplatkov spojených so štúdiom v rokoch 2017 a 2018 | E1: POZOR ZMENA!!!
A2: Názov verejnej vysokej školy: Univerzita Konštantína Filozofa v Nitre Názov fakulty:
A3: Číslo riadku | B3: Položka | C3: 2017 | D3: 2018
C4: A | D4: B
A5: 1 | B5: Výnosy zo školného [SUM (R2:R5)] | C5: =+SUM(C6:C9) -> 1447838.2 | D5: =+SUM(D6:D9) -> 1261891.3
A6: 2 | B6: - za súbežné štúdium v dennej forme (§ 92 ods. 5, 648 026) | C6: 332 | D6: 332
A7: 3 | B7: - za prekročenie štandardnej dĺžky štúdia v dennej forme (§ 92 ods. 6) (648 001) | C7: 340193.1 | D7: 336910.6
A8: 4 | B8: - za cudzojazyčné štúdium dennou formou (§ 92 ods. 8 a 9) (648 002, 648 010, 648 023) | C8: 2887.5 | D8: 0 | E8: vložený účet 641 10, v roku 2018 neúčtované
A9: 5 | B9: - za externú formu štúdia (§ 92 ods. 4) (648 020, 648 011) | C9: 1104425.6 | D9: 924648.72 | E9: vložený účet 641 011, v roku 2018 neúčtované
A10: 6 | B10: - cudzinci podľa prechodných ustanovení 1) | C10: 0 | D10: 0
A11: 7 | B11: Výnosy z poplatkov spojených so štúdiom [SUM (R8:R13)] | C11: =SUM(C12:C17) -> 183079.21 | D11: =SUM(D12:D17) -> 173431.13
A12: 8 | B12: - za prijímacie konanie (§ 92 ods. 12 zákona) (účet 648 003) | C12: 152787.3 | D12: 149524.05
A13: 9 | B13: - za rigorózne konanie (§ 92 ods. 13 zákona) (účet 648 004) | C13: 23356.41 | D13: 16788.75
A14: 10 | B14: - za vydanie diplomu za rigorózne konanie (§ 92 ods. 14 zákona) (účet 648 005) | C14: 2737.5 | D14: 2507
A15: 11 | B15: - za vydanie dokladov o štúdiu a ich kópií (§ 92 ods. 15 zákona) (účet 648 006) | C15: 1791.3 | D15: 2532.33
A16: 12 | B16: - za vydanie dokladov o absolvovaní štúdia v štátnom jazyku a v jazyku požadovanom študentom a ich kópií (§ 92 ods. 15 zákona) (účet 648 024) | C16: 2267.2 | D16: 2079
A17: 13 | B17: - za uznávanie rovnocennosti dokladov o štúdiu (§ 92 ods. 15 zákona) (účet 648 025) | C17: 139.5 | D17: 0
A18: 14 | B18: Základ pre prídel do štipendijného fondu | C18: =(C6+C7)*0.2 -> 68105.02 | D18: =(D6+D7)*0.2 -> 67448.52
A19: 15 | B19: Návrh na prídel do štipendijného fondu | C19: 68105.02 | D19: 67448.52
E20: OK, Šim.
B21: 1) v riadku 6 sa uvádzajú len cudzinci, ktorým nevznikla povinnosť uhradiť školné z dôvodov uvedených v riadkoch 2 až 5

Sheet T5 - Analýza nákladov
A1: Tabuľka č. 5: Náklady verejnej vysokej školy v rokoch 2017 a 2018 | I1: POZOR ZMENA!!!
A2: Názov verejnej vysokej školy: Univerzita Konštantína Filozofa v Nitre Názov fakulty:
A3: Číslo riadku | B3: Položka | C3: 2017 | E3: 2018 | G3: Rozdiel 2018-2017
C4: Hlavná činnosť | D4: Podnikateľská činnosť | E4: Hlavná činnosť | F4: Podnikateľská činnosť | G4: Hlavná činnosť | H4: Podnikateľská činnosť
C5: A | D5: B | E5: C | F5: D | G5: E=C-A | H5: F=D-B
A6: 1 | B6: Spotreba materiálu (účet 501) [SUM(R2:R13)] | C6: =SUM(C7:C18) -> 1162892.8 | D6: =SUM(D7:D18) -> 46234.83 | E6: =SUM(E7:E18) -> 1587233.6 | F6: =SUM(F7:F18) -> 32315.07 | G6: =E6-C6 -> 424340.84 | H6: =F6-D6 -> -13919.76
A7: =A6+1 -> 2 | B7: - knihy, časopisy a noviny (účet 501 001,501 051) | C7: 148614.76 | E7: 147383.15 | F7: 129.97 | G7: =E7-C7 -> -1231.61 | H7: =F7-D7 -> 129.97
A8: =A7+1 -> 3 | B8: - chemikálie a ostatný materiál pre zabezpečenie experimentálnej výučby (účet 501 002, 501 052) | C8: 99392.27 | E8: 199806.9 | G8: =E8-C8 -> 100414.63 | H8: =F8-D8 -> 0
A9: =A8+1 -> 4 | B9: - kancelárske potreby a materiál (účet 501 003, 501 053) | C9: 155181.07 | D9: 1376.4 | E9: 176733.27 | F9: 404.89 | G9: =E9-C9 -> 21552.2 | H9: =F9-D9 -> -971.51
A10: =A9+1 -> 5 | B10: - papier (účet 501 004, 501 054) | C10: 21135.96 | D10: 22.75 | E10: 18709.46 | G10: =E10-C10 -> -2426.5 | H10: =F10-D10 -> -22.75
A11: =A10+1 -> 6 | B11: - pohonné hmoty a ostatný materiál na dopravu (účet 501 007, 501 057) | C11: 38208.54 | D11: 352.03 | E11: 35874.18 | F11: 526.9 | G11: =E11-C11 -> -2334.36 | H11: =F11-D11 -> 174.87
A12: =A11+1 -> 7 | B12: - čistiace, hygienické a dezinfekčné potreby (účet 501 008, 501 020) | C12: 50877.99 | D12: 5698.32 | E12: 40945.15 | F12: 2629.68 | G12: =E12-C12 -> -9932.84 | H12: =F12-D12 -> -3068.64
A13: =A12+1 -> 8 | B13: - stavebný, vodoinštalačný a elektroinštalačný materiál (účet 501 009) | C13: 34294.04 | D13: 1280.64 | E13: 30973.66 | F13: 1552.16 | G13: =E13-C13 -> -3320.38 | H13: =F13-D13 -> 271.52
A14: =A13+1 -> 9 | B14: - potraviny (účet 501 010) | C14: 152348.78 | D14: 28800.18 | E14: 143565.41 | F14: 23286.38 | G14: =E14-C14 -> -8783.37 | H14: =F14-D14 -> -5513.8
A15: =A14+1 -> 10 | B15: - DHM - prístroje a zariadenia laboratórií, výpočtová technika (účet 501 011) | C15: 183932.03 | D15: 430.22 | E15: 210661.26 | G15: =E15-C15 -> 26729.23 | H15: =F15-D15 -> -430.22
A16: =A15+1 -> 11 | B16: - DHM - nábytok (účet 501 012) | C16: 30325.1 | E16: 344034.92 | G16: =E16-C16 -> 313709.82 | H16: =F16-D16 -> 0
A17: =A16+1 -> 12 | B17: - iné analyticky sledované náklady (účty 501 005-006, 501 013-018, 501 019, 501 077, 501 515) | C17: 104966.5 | D17: 4220.8 | E17: 102558.72 | F17: 1116.06 | G17: =E17-C17 -> -2407.78 | H17: =F17-D17 -> -3104.74
A18: =A17+1 -> 13 | B18: - ostatný materiál (účet 501 099, 501 030, 501 100, 501 599) | C18: 143615.75 | D18: 4053.49 | E18: 135987.55 | F18: 2669.03 | G18: =E18-C18 -> -7628.2 | H18: =F18-D18 -> -1384.46
A19: =A18+1 -> 14 | B19: Spotreba energie (účet 502) [SUM(R15:R20)] | C19: =SUM(C20:C25) -> 691395.13 | D19: =SUM(D20:D25) -> 25471.16 | E19: =SUM(E20:E25) -> 662733.74 | F19: =SUM(F20:F25) -> 22512.61 | G19: =E19-C19 -> -28661.39 | H19: =F19-D19 -> -2958.55
A20: =A19+1 -> 15 | B20: - elektrická energia (účet 502 001, 502 051) | C20: 261690.19 | D20: 10691.4 | E20: 283174.89 | F20: 11116.57 | G20: =E20-C20 -> 21484.7 | H20: =F20-D20 -> 425.17
A21: =A20+1 -> 16 | B21: - tepelná energia (účet 502 002, 502 052) | C21: 53012.7 | E21: 49197.37 | G21: =E21-C21 -> -3815.33 | H21: =F21-D21 -> 0
A22: =A21+1 -> 17 | B22: - vodné a stočné (účet 502 003, 502 053) | C22: 54263.4 | D22: 4270.58 | E22: 50987.84 | F22: 2830.89 | G22: =E22-C22 -> -3275.56 | H22: =F22-D22 -> -1439.69
A23: =A22+1 -> 18 | B23: - plyn (účet 502 004, 502 054) | C23: 320960.25 | D23: 10509.18 | E23: 277883.93 | F23: 8565.15 | G23: =E23-C23 -> -43076.32 | H23: =F23-D23 -> -1944.03
A24: =A23+1 -> 19 | B24: - palivá (účet 502 005, 502 055) | C24: 1468.59 | E24: 1489.71 | G24: =E24-C24 -> 21.12 | H24: =F24-D24 -> 0
A25: =A24+1 -> 20 | B25: - ostatné energie (502 099) | E25: 0 | G25: =E25-C25 -> 0 | H25: =F25-D25 -> 0
A26: =A25+1 -> 21 | B26: Spotreba ostatných neskladovateľných dodávok (účet 503) | C26: X | D26: X | E26: X | F26: X
A27: =A26+1 -> 22 | B27: Predaný tovar (účet 504) [SUM(R23:R26)] | C27: =SUM(C28:C31) -> 15262.78 | D27: =SUM(D28:D31) -> 43993.55 | E27: =SUM(E28:E31) -> 10073.13 | F27: =SUM(F28:F31) -> 48481.86 | G27: =E27-C27 -> -5189.65 | H27: =F27-D27 -> 4488.31
A28: =A27+1 -> 23 | B28: - vysokoškolské podniky | E28: 0 | G28: =E28-C28 -> 0 | H28: =F28-D28 -> 0
A29: =A28+1 -> 24 | B29: - študentské domovy | E29: 0 | G29: =E29-C29 -> 0 | H29: =F29-D29 -> 0
A30: =A29+1 -> 25 | B30: - študentské jedálne | D30: 43993.55 | E30: 0 | F30: 48481.86 | G30: =E30-C30 -> 0 | H30: =F30-D30 -> 4488.31
A31: =A30+1 -> 26 | B31: - ostatný predaný tovar | C31: 15262.78 | E31: 10073.13 | G31: =E31-C31 -> -5189.65 | H31: =F31-D31 -> 0
A32: =A31+1 -> 27 | B32: Opravy a udržiavanie (účet 511) [SUM(R28:R34)] | C32: =SUM(C33:C39) -> 184104.27 | D32: =SUM(D33:D39) -> 14503.48 | E32: =SUM(E33:E39) -> 283167.32 | F32: =SUM(F33:F39) -> 3962.74 | G32: =E32-C32 -> 99063.05 | H32: =F32-D32 -> -10540.74
A33: =A32+1 -> 28 | B33: - opravy a udržiavanie stavieb (účet 511 001) | C33: 122661.16 | D33: 11180.63 | E33: 218204.79 | F33: 2369.8 | G33: =E33-C33 -> 95543.63 | H33: =F33-D33 -> -8810.83
A34: =A33+1 -> 29 | B34: - opravy a udržiavanie strojov, prístrojov, zariadení a inventára (účet 511 002) | C34: 19824.61 | D34: 1376.36 | E34: 26823.11 | F34: 801.03 | G34: =E34-C34 -> 6998.5 | H34: =F34-D34 -> -575.33
A35: =A34+1 -> 30 | B35: - opravy a udržiavanie dopravných prostriedkov (účet 511 003) | C35: 11376.42 | D35: 252.52 | E35: 17110.24 | F35: 277.93 | G35: =E35-C35 -> 5733.82 | H35: =F35-D35 -> 25.41
A36: =A35+1 -> 31 | B36: - opravy a udržiavanie prostriedkov IT (účet 511 004) | C36: 7490.77 | E36: 4144.62 | G36: =E36-C36 -> -3346.15 | H36: =F36-D36 -> 0
A37: =A36+1 -> 32 | B37: - údržba a opravy meracej techniky, telovýchovných zariadení ...(účet 511 005) | C37: 4117.2 | E37: 4100.12 | G37: =E37-C37 -> -17.08 | H37: =F37-D37 -> 0
A38: =A37+1 -> 33 | B38: - iné analyticky sledované náklady (účet 511 006-008, 511 056) | C38: 18566.37 | D38: 1692.15 | E38: 12782.64 | F38: 513.98 | G38: =E38-C38 -> -5783.73 | H38: =F38-D38 -> -1178.17
A39: =A38+1 -> 34 | B39: - ostatná údržba a opravy (účet 511 099) | C39: 67.74 | D39: 1.82 | E39: 1.8 | G39: =E39-C39 -> -65.94 | H39: =F39-D39 -> -1.82
A40: =A39+1 -> 35 | B40: Cestovné (účet 512) [SUM(R36:R37)] | C40: =C41+C42 -> 452901.13 | D40: =D41+D42 -> 625.3 | E40: =E41+E42 -> 517086.12 | F40: =F41+F42 -> 378.87 | G40: =E40-C40 -> 64184.99 | H40: =F40-D40 -> -246.43
...

Sheet T6-Zamestnanci_a_mzdy
A1: Tabuľka č. 6: Zamestnanci a náklady na mzdy verejnej vysokej školy v roku 2018
A2: Názov verejnej vysokej školy: Univerzita Konštantína Filozofa v Nitre
A3: Číslo riadku | B3: Kategória zamestnancov | C3: Priemerný evidenčný prepočítaný počet zamestnancov za rok 2018 | G3: Náklady na mzdy poskytované z prostriedkov štátneho rozpočtu (v Eur) | H3: z toho: | I3: Náklady na mzdy poskytované z iných zdrojov (v Eur) | J3: Náklady na mzdy spolu (v Eur) | K3: Priemerné platy | L3: kvartil q1 25% | M3: kvartil q2 50% medián *) | N3: kvartil q3 75%
C4: Počet zamestnancov platených z prostriedkov štátneho rozpočtu | D4: z toho: | E4: Počet zamestnancov platených z iných zdrojov | F4: Počet zamestnancov spolu
D5: Zamestnanci platení z dotácie MŠVVaŠ SR | H5: Náklady na mzdy poskytované z dotácie MŠVVaŠ SR (v Eur)
C6: A | D6: B | E6: C | F6: D=A+C | G6: E | H6: F | I6: G | J6: H=E+G | K6: I=H/D/12
A7: 1 | B7: Vysokoškolskí učitelia spolu [SUM(R2:R6)] | C7: =SUM(C8:C12) -> 514.6 | D7: =SUM(D8:D12) -> 512.9 | E7: =SUM(E8:E12) -> 1 | F7: =C7+E7 -> 515.6 | G7: =SUM(G8:G12) -> 8768197 | H7: =SUM(H8:H12) -> 8689030 | I7: =SUM(I8:I12) -> 326081 | J7: =G7+I7 -> 9094278 | K7: =IF(F7=0,0,J7/F7/12) -> 1469.8536 | L7: 1138 | M7: 1318 | N7: 1628
A8: 2 | B8: - vysokoškolskí učitelia s funkčným zaradením "profesor" *) | C8: 67.2 | D8: 67.2 | F8: =C8+E8 -> 67.2 | G8: 1565341 | H8: 1552508 | I8: 43045 | J8: =G8+I8 -> 1608386 | K8: =IF(F8=0,0,J8/F8/12) -> 1994.5263 | L8: 1584 | M8: 1832 | N8: 2196
A9: 3 | B9: - vysokoškolskí učitelia s funkčným zaradením "docent" | C9: 152.2 | D9: 152.2 | F9: =C9+E9 -> 152.2 | G9: 2867176 | H9: 2843094 | I9: 102884 | J9: =G9+I9 -> 2970060 | K9: =IF(F9=0,0,J9/F9/12) -> 1626.1827 | L9: 1354 | M9: 1511 | N9: 1752
A10: 4 | B10: - vysokoškolskí učitelia s funkčným zaradením "odborný asistent" | C10: 284.9 | D10: 283.2 | E10: 1 | F10: =C10+E10 -> 285.9 | G10: 4206290 | H10: 4164488 | I10: 178094 | J10: =G10+I10 -> 4384384 | K10: =IF(F10=0,0,J10/F10/12) -> 1277.948 | L10: 1070 | M10: 1187 | N10: 1339
A11: 5 | B11: - vysokoškolskí učitelia s funkčným zaradením "asistent" | F11: =C11+E11 -> 0 | J11: =G11+I11 -> 0 | K11: =IF(F11=0,0,J11/F11/12) -> 0
A12: 6 | B12: - vysokoškolskí učitelia s funkčným zaradením "lektor" | C12: 10.3 | D12: 10.3 | F12: =C12+E12 -> 10.3 | G12: 129390 | H12: 128940 | I12: 2058 | J12: =G12+I12 -> 131448 | K12: =IF(F12=0,0,J12/F12/12) -> 1063.4951 | L12: 892 | M12: 1015 | N12: 1109
A13: 7 | B13: Odborní zamestnanci | C13: 75.7 | D13: 75.7 | F13: =C13+E13 -> 75.7 | G13: 904617 | H13: 903144 | I13: 19575 | J13: =G13+I13 -> 924192 | K13: =IF(F13=0,0,J13/F13/12) -> 1017.3844 | L13: 786 | M13: 990 | N13: 1171
B14: z toho:
A15: 8 | B15: - na oblasť IT | C15: 28.8 | D15: 28.8 | F15: =C15+E15 -> 28.8 | G15: 390714 | H15: 390714 | I15: 16723 | J15: =G15+I15 -> 407437 | K15: =IF(F15=0,0,J15/F15/12) -> 1178.9265 | L15: 980 | M15: 1104 | N15: 1273
A16: 9 | B16: Administratívni zamestnanci spolu [SUM(R10:R12)] | C16: =SUM(C17:C19) -> 148.1 | D16: =SUM(D17:D19) -> 148.1 | E16: =SUM(E17:E19) -> 1.7 | F16: =C16+E16 -> 149.8 | G16: =SUM(G17:G19) -> 2081147 | H16: =SUM(H17:H19) -> 2069727 | I16: =SUM(I17:I19) -> 97168 | J16: =G16+I16 -> 2178315 | K16: =IF(F16=0,0,J16/F16/12) -> 1211.7907 | L16: 784 | M16: 965 | N16: 1251
A17: 10 | B17: - zamestnanci zaradení na rektorátoch | C17: 57.8 | D17: 57.8 | E17: 1.7 | F17: =C17+E17 -> 59.5 | G17: 980515 | H17: 980515 | I17: 22252 | J17: =G17+I17 -> 1002767 | K17: =IF(F17=0,0,J17/F17/12) -> 1404.4356 | L17: 952 | M17: 1058 | N17: 1832
A18: 11 | B18: - zamestnanci zaradení na dekanátoch | C18: 56.3 | D18: 56.3 | F18: =C18+E18 -> 56.3 | G18: 828064 | H18: 816644 | I18: 59827 | J18: =G18+I18 -> 887891 | K18: =IF(F18=0,0,J18/F18/12) -> 1314.2259 | L18: 871 | M18: 974 | N18: 1438
A19: 12 | B19: - zamestnanci zaradení na ostatných pracoviskách | C19: 34 | D19: 34 | F19: =C19+E19 -> 34 | G19: 272568 | H19: 272568 | I19: 15089 | J19: =G19+I19 -> 287657 | K19: =IF(F19=0,0,J19/F19/12) -> 705.04167 | L19: 623 | M19: 708 | N19: 778
A20: 13 | B20: Výskumní pracovníci alebo umeleckí pracovníci | C20: 3.8 | D20: 3.7 | F20: =C20+E20 -> 3.8 | G20: 64586 | H20: 61684 | I20: 481 | J20: =G20+I20 -> 65067 | K20: =IF(F20=0,0,J20/F20/12) -> 1426.9079 | L20: 1010 | M20: 1123 | N20: 1653
A21: 14 | B21: Prevádzkoví zamestnanci okrem zamestnancov študentských domovov a jedální | C21: 74.5 | D21: 74.5 | F21: =C21+E21 -> 74.5 | G21: 583891 | H21: 583891 | I21: 18329 | J21: =G21+I21 -> 602220 | K21: =IF(F21=0,0,J21/F21/12) -> 673.62416 | L21: 533 | M21: 586 | N21: 729
A22: 15 | B22: Zamestnanci osobitne financovaných súčastí verejnej vysokej školy (špecifiká) z R1, R7, R9, R13, R14 spolu [SUM(R15a:R15...)] | C22: =SUM(C23:C26) -> 5.8 | D22: =SUM(D23:D26) -> 5.8 | E22: =SUM(E23:E26) -> 0 | F22: =SUM(F27:F27) -> 0 | G22: =SUM(G23:G26) -> 69022 | H22: =SUM(H23:H26) -> 69022 | I22: =SUM(I23:I26) -> 0 | J22: =SUM(J23:J26) -> 69022 | K22: =IF(F22=0,0,J22/F22/12) -> 0 | L22: X | M22: X | N22: X
A23: 15a | B23: Zahraniční lektori | C23: 5.8 | D23: 5.8 | F23: =C23+E23 -> 5.8 | G23: 69022 | H23: 69022 | I23: 0 | J23: =G23+I23 -> 69022 | K23: =IF(F23=0,0,J23/F23/12) -> 991.6954 | L23: X | M23: X | N23: X
A24: 15b | F24: =C24+E24 -> 0 | J24: =G24+I24 -> 0 | K24: =IF(F24=0,0,J24/F24/12) -> 0 | L24: X | M24: X | N24: X
A25: 15c | F25: =C25+E25 -> 0 | J25: =G25+I25 -> 0 | K25: =IF(F25=0,0,J25/F25/12) -> 0 | L25: X | M25: X | N25: X
A26: 15d | F26: =C26+E26 -> 0 | J26: =G26+I26 -> 0 | K26: =IF(F26=0,0,J26/F26/12) -> 0 | L26: X | M26: X | N26: X
F27: =C27+E27 -> 0
A28: 16 | B28: Zamestnanci študentských domovov | C28: 56.5 | D28: 56.5 | F28: =C28+E28 -> 56.5 | G28: 408218 | H28: 408218 | I28: 3110 | J28: =G28+I28 -> 411328 | K28: =IF(F28=0,0,J28/F28/12) -> 606.67847 | L28: 501 | M28: 587 | N28: 682
A29: 17 | B29: Zamestnanci študentských jedální | E29: 22 | F29: =C29+E29 -> 22 | I29: 161434 | J29: =G29+I29 -> 161434 | K29: =IF(F29=0,0,J29/F29/12) -> 611.49242 | L29: 504 | M29: 554 | N29: 673
A30: 18 | B30: Spolu [R1+R7+R9+R13+R14+R16+R17] | C30: =C7+C13+C16+C20+C21+C28+C29 -> 873.2 | D30: =D7+D13+D16+D20+D21+D28+D29 -> 871.4 | E30: =E7+E13+E16+E20+E21+E28+E29 -> 24.7 | F30: =F7+F13+F16+F20+F21+F28+F29 -> 897.9 | G30: =G7+G13+G16+G20+G21+G28+G29 -> 12810656 | H30: =H7+H13+H16+H20+H21+H28+H29 -> 12715694 | I30: =I7+I13+I16+I20+I21+I28+I29 -> 626178 | J30: =J7+J13+J16+J20+J21+J28+J29 -> 13436834 | K30: =IF(F30=0,0,J30/F30/12) -> 1247.0611 | L30: 777 | M30: 1149 | N30: 1447
A32: pozn.1): rozdiel medzi údajom, vykazovaným v stĺpci T6_R18_SH a údajom v T5_R56_(SC+SD) uviesť v komentári | L32: medián *) = stredná hodnota
A33: *) medzi profesorov sa započítava aj funkčné zaradenie "hosťujúci profesor"
B34: Pre účely výpočtu počtu zamestnancov bola použitá metóda - Priemerný evidenčný počet zamestnancov - prepočítaný počet - je aritmetickým priemerom denných evidenčných počtov zamestnancov za sledované obdobie prepočítaných na plnú zamestnanosť podľa dĺžky pracovných úväzkov zamestnancov, resp. podľa skutočne odpracovaných hodín. U zamestnancov, ktorí vykonávajú v organizácii činnosť v ďalšom pracovnom pomere, sa výpočet priemerného evidenčného počtu zamestnancov prepočítaného na plne zamestnaných skladá z dvoch častí : | M34: OK-vie
B35: - prvýkrát sa započítavajú do evidenčného počtu zamestnancov vo fyzických osobách s plným týždenným pracovným časom, ktorý sa rovná ich prepočítanému počtu, a to pracovným úväzkom v hlavnom zamestnaní;
B36: - druhýkrát sa započítavajú do evidenčného počtu zamestnancov prepočítaného, a to svojím pracovným úväzkom v ďalšom pracovnom pomere.
B37: Do evidenčného počtu zamestnancov prepočítaného sa títo zamestnanci započítavajú dvakrát na rozdiel od evidenčného počtu zamestnancov vo fyzických osobách, v ktorom sú započítaní iba raz.
B39: Komentár: rozdiel vo výške 9 959 EUR medzi údajom vykazovaným v stĺpci T6_R18_SH vo výške 13 436 834 EUR a údajom v T5_R56_(SC+SD) vo výške 13 446 793 EUR je spôsobený zaúčtovaním rezervy na mzdy.

Sheet T6a-Zamestnanci_a_mzdy (ženy)
A1: Tabuľka č. 6a: Zamestnanci a náklady na mzdy verejnej vysokej školy v roku 2018 - len ženy a výpočet priemerného platu mužov
A2: Názov verejnej vysokej školy: Univerzita Konštantína Filozofa v Nitre | L2: Výpočet
A3: Číslo riadku | B3: Kategória zamestnancov - žien | C3: Priemerný evidenčný prepočítaný počet žien za rok 2018 | G3: Náklady na mzdy poskytované z prostriedkov štátneho rozpočtu (v Eur) | H3: z toho: | I3: Náklady na mzdy poskytované z iných zdrojov (v Eur) | J3: Náklady na mzdy spolu (v Eur) | K3: Priemerné platy žien | L3: Priemerné platy mužov | M3: kvartil q1 25% | N3: kvartil q2 50% medián *) | O3: kvartil q3 75%
C4: Počet žien platených z prostriedkov štátneho rozpočtu | D4: z toho: | E4: Počet žien platených z iných zdrojov | F4: Počet žien spolu
D5: Ženy platené z dotácie MŠVVaŠ SR | H5: Náklady na mzdy poskytované z dotácie MŠVVaŠ SR (v Eur)
C6: A | D6: B | E6: C | F6: D=A+C | G6: E | H6: F | I6: G | J6: H=E+G | K6: I=H/D/12 | L6: J
A7: 1 | B7: Vysokoškolskí učitelia spolu [SUM(R2:R6)] | C7: =SUM(C8:C12) -> 290.2 | D7: =SUM(D8:D12) -> 290.2 | E7: =SUM(E8:E12) -> 0 | F7: =C7+E7 -> 290.2 | G7: =SUM(G8:G12) -> 4794558 | H7: =SUM(H8:H12) -> 4792858 | I7: =SUM(I8:I12) -> 166854 | J7: =G7+I7 -> 4961412 | K7: =IF(F7=0,0,J7/F7/12) -> 1424.7105 | L7: =IF('T6-Zamestnanci_a_mzdy'!F7-'T6a-Zamestnanci_a_mzdy (ženy)'!F7=0,0,('T6-Zamestnanci_a_mzdy'!J7-'T6a-Zamestnanci_a_mzdy (ženy)'!J7)/('T6-Zamestnanci_a_mzdy'!F7-'T6a-Zamestnanci_a_mzdy (ženy)'!F7)/12) -> 1527.9747 | M7: 1128 | N7: 1277 | O7: 1584
A8: 2 | B8: - vysokoškolskí učitelia s funkčným zaradením "profesor" *) | C8: 28.2 | D8: 28.2 | F8: =C8+E8 -> 28.2 | G8: 652006 | H8: 652006 | I8: 25023 | J8: =G8+I8 -> 677029 | K8: =IF(F8=0,0,J8/F8/12) -> 2000.6767 | L8: =IF('T6-Zamestnanci_a_mzdy'!F8-'T6a-Zamestnanci_a_mzdy (ženy)'!F8=0,0,('T6-Zamestnanci_a_mzdy'!J8-'T6a-Zamestnanci_a_mzdy (ženy)'!J8)/('T6-Zamestnanci_a_mzdy'!F8-'T6a-Zamestnanci_a_mzdy (ženy)'!F8)/12) -> 1990.0791 | M8: 1729 | N8: 1926 | O8: 2160
A9: 3 | B9: - vysokoškolskí učitelia s funkčným zaradením "docent" | C9: 79.1 | D9: 79.1 | F9: =C9+E9 -> 79.1 | G9: 1511472 | H9: 1509772 | I9: 60035 | J9: =G9+I9 -> 1571507 | K9: =IF(F9=0,0,J9/F9/12) -> 1655.6121 | L9: =IF('T6-Zamestnanci_a_mzdy'!F9-'T6a-Zamestnanci_a_mzdy (ženy)'!F9=0,0,('T6-Zamestnanci_a_mzdy'!J9-'T6a-Zamestnanci_a_mzdy (ženy)'!J9)/('T6-Zamestnanci_a_mzdy'!F9-'T6a-Zamestnanci_a_mzdy (ženy)'!F9)/12) -> 1594.3377 | M9: 1398 | N9: 1523 | O9: 1770
A10: 4 | B10: - vysokoškolskí učitelia s funkčným zaradením "odborný asistent" | C10: 177.3 | D10: 177.3 | F10: =C10+E10 -> 177.3 | G10: 2561023 | H10: 2561023 | I10: 81592 | J10: =G10+I10 -> 2642615 | K10: =IF(F10=0,0,J10/F10/12) -> 1242.0638 | L10: =IF('T6-Zamestnanci_a_mzdy'!F10-'T6a-Zamestnanci_a_mzdy (ženy)'!F10=0,0,('T6-Zamestnanci_a_mzdy'!J10-'T6a-Zamestnanci_a_mzdy (ženy)'!J10)/('T6-Zamestnanci_a_mzdy'!F10-'T6a-Zamestnanci_a_mzdy (ženy)'!F10)/12) -> 1336.5324 | M10: 1070 | N10: 1186 | O10: 1317
A11: 5 | B11: - vysokoškolskí učitelia s funkčným zaradením "asistent" | F11: =C11+E11 -> 0 | J11: =G11+I11 -> 0 | K11: =IF(F11=0,0,J11/F11/12) -> 0 | L11: =IF('T6-Zamestnanci_a_mzdy'!F11-'T6a-Zamestnanci_a_mzdy (ženy)'!F11=0,0,('T6-Zamestnanci_a_mzdy'!J11-'T6a-Zamestnanci_a_mzdy (ženy)'!J11)/('T6-Zamestnanci_a_mzdy'!F11-'T6a-Zamestnanci_a_mzdy (ženy)'!F11)/12) -> 0
A12: 6 | B12: - vysokoškolskí učitelia s funkčným zaradením "lektor" | C12: 5.6 | D12: 5.6 | F12: =C12+E12 -> 5.6 | G12: 70057 | H12: 70057 | I12: 204 | J12: =G12+I12 -> 70261 | K12: =IF(F12=0,0,J12/F12/12) -> 1045.5506 | L12: =IF('T6-Zamestnanci_a_mzdy'!F12-'T6a-Zamestnanci_a_mzdy (ženy)'!F12=0,0,('T6-Zamestnanci_a_mzdy'!J12-'T6a-Zamestnanci_a_mzdy (ženy)'!J12)/('T6-Zamestnanci_a_mzdy'!F12-'T6a-Zamestnanci_a_mzdy (ženy)'!F12)/12) -> 1084.8759 | M12: 892 | N12: 961 | O12: 1129
A13: 7 | B13: Odborní zamestnanci | C13: 37.3 | D13: 37.3 | F13: =C13+E13 -> 37.3 | G13: 401111 | H13: 401111 | I13: 2936 | J13: =G13+I13 -> 404047 | K13: =IF(F13=0,0,J13/F13/12) -> 902.6966 | L13: =IF('T6-Zamestnanci_a_mzdy'!F13-'T6a-Zamestnanci_a_mzdy (ženy)'!F13=0,0,('T6-Zamestnanci_a_mzdy'!J13-'T6a-Zamestnanci_a_mzdy (ženy)'!J13)/('T6-Zamestnanci_a_mzdy'!F13-'T6a-Zamestnanci_a_mzdy (ženy)'!F13)/12) -> 1128.7869 | M13: 761 | N13: 873 | O13: 1006
B14: z toho:
A15: 8 | B15: - na oblasť IT | C15: 5 | D15: 5 | F15: =C15+E15 -> 5 | G15: 64679 | H15: 64679 | I15: 1430 | J15: =G15+I15 -> 66109 | K15: =IF(F15=0,0,J15/F15/12) -> 1101.8167 | L15: =IF('T6-Zamestnanci_a_mzdy'!F15-'T6a-Zamestnanci_a_mzdy (ženy)'!F15=0,0,('T6-Zamestnanci_a_mzdy'!J15-'T6a-Zamestnanci_a_mzdy (ženy)'!J15)/('T6-Zamestnanci_a_mzdy'!F15-'T6a-Zamestnanci_a_mzdy (ženy)'!F15)/12) -> 1195.1261 | M15: 902 | N15: 1085 | O15: 1244
A16: 9 | B16: Administratívni zamestnanci spolu [SUM(R10:R12)] | C16: =SUM(C17:C19) -> 137.7 | D16: =SUM(D17:D19) -> 137.7 | E16: =SUM(E17:E19) -> 1.7 | F16: =C16+E16 -> 139.4 | G16: =SUM(G17:G19) -> 1745716 | H16: =SUM(H17:H19) -> 1745165 | I16: =SUM(I17:I19) -> 84252 | J16: =G16+I16 -> 1829968 | K16: =IF(F16=0,0,J16/F16/12) -> 1093.955 | L16: =IF('T6-Zamestnanci_a_mzdy'!F16-'T6a-Zamestnanci_a_mzdy (ženy)'!F16=0,0,('T6-Zamestnanci_a_mzdy'!J16-'T6a-Zamestnanci_a_mzdy (ženy)'!J16)/('T6-Zamestnanci_a_mzdy'!F16-'T6a-Zamestnanci_a_mzdy (ženy)'!F16)/12) -> 2791.242 | M16: 764 | N16: 947 | O16: 1169
A17: 10 | B17: - zamestnanci zaradení na rektorátoch | C17: 50.7 | D17: 50.7 | E17: 1.7 | F17: =C17+E17 -> 52.4 | G17: 785907 | H17: 785907 | I17: 27281 | J17: =G17+I17 -> 813188 | K17: =IF(F17=0,0,J17/F17/12) -> 1293.2379 | L17: =IF('T6-Zamestnanci_a_mzdy'!F17-'T6a-Zamestnanci_a_mzdy (ženy)'!F17=0,0,('T6-Zamestnanci_a_mzdy'!J17-'T6a-Zamestnanci_a_mzdy (ženy)'!J17)/('T6-Zamestnanci_a_mzdy'!F17-'T6a-Zamestnanci_a_mzdy (ženy)'!F17)/12) -> 2225.1056 | M17: 948 | N17: 1045 | O17: 1404
A18: 11 | B18: - zamestnanci zaradení na dekanátoch | C18: 53 | D18: 53 | F18: =C18+E18 -> 53 | G18: 687241 | H18: 686690 | I18: 41882 | J18: =G18+I18 -> 729123 | K18: =IF(F18=0,0,J18/F18/12) -> 1146.4198 | L18: =IF('T6-Zamestnanci_a_mzdy'!F18-'T6a-Zamestnanci_a_mzdy (ženy)'!F18=0,0,('T6-Zamestnanci_a_mzdy'!J18-'T6a-Zamestnanci_a_mzdy (ženy)'!J18)/('T6-Zamestnanci_a_mzdy'!F18-'T6a-Zamestnanci_a_mzdy (ženy)'!F18)/12) -> 4009.2929 | M18: 856 | N18: 956 | O18: 1123
A19: 12 | B19: - zamestnanci zaradení na ostatných pracoviskách | C19: 34 | D19: 34 | F19: =C19+E19 -> 34 | G19: 272568 | H19: 272568 | I19: 15089 | J19: =G19+I19 -> 287657 | K19: =IF(F19=0,0,J19/F19/12) -> 705.04167 | L19: =IF('T6-Zamestnanci_a_mzdy'!F19-'T6a-Zamestnanci_a_mzdy (ženy)'!F19=0,0,('T6-Zamestnanci_a_mzdy'!J19-'T6a-Zamestnanci_a_mzdy (ženy)'!J19)/('T6-Zamestnanci_a_mzdy'!F19-'T6a-Zamestnanci_a_mzdy (ženy)'!F19)/12) -> 0 | M19: 623 | N19: 708 | O19: 778
A20: 13 | B20: Výskumní pracovníci alebo umeleckí pracovníci | C20: 2.7 | D20: 2.7 | F20: =C20+E20 -> 2.7 | G20: 42441 | H20: 42441 | I20: 400 | J20: =G20+I20 -> 42841 | K20: =IF(F20=0,0,J20/F20/12) -> 1322.2531 | L20: =IF('T6-Zamestnanci_a_mzdy'!F20-'T6a-Zamestnanci_a_mzdy (ženy)'!F20=0,0,('T6-Zamestnanci_a_mzdy'!J20-'T6a-Zamestnanci_a_mzdy (ženy)'!J20)/('T6-Zamestnanci_a_mzdy'!F20-'T6a-Zamestnanci_a_mzdy (ženy)'!F20)/12) -> 1683.7879 | M20: 867 | N20: 1010 | O20: 1450
A21: 14 | B21: Prevádzkoví zamestnanci okrem zamestnancov študentských domovov a jedální | C21: 52.1 | D21: 52.1 | F21: =C21+E21 -> 52.1 | G21: 353071 | H21: 353071 | I21: 13190 | J21: =G21+I21 -> 366261 | K21: =IF(F21=0,0,J21/F21/12) -> 585.83013 | L21: =IF('T6-Zamestnanci_a_mzdy'!F21-'T6a-Zamestnanci_a_mzdy (ženy)'!F21=0,0,('T6-Zamestnanci_a_mzdy'!J21-'T6a-Zamestnanci_a_mzdy (ženy)'!J21)/('T6-Zamestnanci_a_mzdy'!F21-'T6a-Zamestnanci_a_mzdy (ženy)'!F21)/12) -> 877.82366 | M21: 507 | N21: 558 | O21: 655
A22: 15 | B22: Zamestnanci osobitne financovaných súčastí verejnej vysokej školy (špecifiká) z R1, R7, R9, R13, R14 spolu [SUM(R15a:R15...)] | C22: =SUM(C23:C26) -> 3.6 | D22: =SUM(D23:D26) -> 3.6 | E22: =SUM(E23:E26) -> 0 | F22: =SUM(F27:F27) -> 0 | G22: =SUM(G23:G26) -> 45398 | H22: =SUM(H23:H26) -> 45398 | I22: =SUM(I23:I26) -> 0 | J22: =SUM(J23:J26) -> 45398 | K22: =IF(F22=0,0,J22/F22/12) -> 0 | L22: =IF('T6-Zamestnanci_a_mzdy'!F22-'T6a-Zamestnanci_a_mzdy (ženy)'!F22=0,0,('T6-Zamestnanci_a_mzdy'!J22-'T6a-Zamestnanci_a_mzdy (ženy)'!J22)/('T6-Zamestnanci_a_mzdy'!F22-'T6a-Zamestnanci_a_mzdy (ženy)'!F22)/12) -> 0 | M22: X | N22: X | O22: X
A23: 15a | B23: Zahraniční lektori | C23: 3.6 | D23: 3.6 | F23: =C23+E23 -> 3.6 | G23: 45398 | H23: 45398 | J23: =G23+I23 -> 45398 | K23: =IF(F23=0,0,J23/F23/12) -> 1050.8796 | L23: =IF('T6-Zamestnanci_a_mzdy'!F23-'T6a-Zamestnanci_a_mzdy (ženy)'!F23=0,0,('T6-Zamestnanci_a_mzdy'!J23-'T6a-Zamestnanci_a_mzdy (ženy)'!J23)/('T6-Zamestnanci_a_mzdy'!F23-'T6a-Zamestnanci_a_mzdy (ženy)'!F23)/12) -> 894.84848 | M23: X | N23: X | O23: X
