Workbook
Name _kmp1: #REF!
Name _kmp1: #REF!
Name _kmp2: #REF!
Name _kmt1: #REF!
Name _kmt1: #REF!
Name _T1: #REF!
Name _wd1: [1]vahy!$B$1
Name _wd1: [1]vahy!$B$1
Name _wd3: [1]vahy!$B$3
Name _wd3: [1]vahy!$B$3
Name _we1: [1]vahy!$B$2
Name _we1: [1]vahy!$B$2
Name _we3: [1]vahy!$B$4
Name _we3: [1]vahy!$B$4
Name denní: #REF!
Name denní: #REF!
Name dokpo: #REF!
Name dokpo: #REF!
Name dokpred: #REF!
Name dokpred: #REF!
Name druhý: #REF!
Name druhý: #REF!
Name exterdruhý: #REF!
Name exterdruhý: #REF!
Name externeplat: #REF!
Name externeplat: #REF!
Name exterplat: #REF!
Name exterplat: #REF!
Name KKS_doc: #REF!
Name KKS_doc: #REF!
Name KKS_ost: #REF!
Name KKS_ost: #REF!
Name KKS_phd: #REF!
Name KKS_phd: #REF!
Name KKS_prof: #REF!
Name KKS_prof: #REF!
Name koef_gm_mzdy: #REF!
Name koef_gm_mzdy: #REF!
Name koef_kpn: #REF!
Name koef_kpn: #REF!
Name koef_prer_nad_gm_mzdy: #REF!
Name koef_prer_nad_gm_mzdy: #REF!
Name koef_PV: #REF!
Name koef_PV: #REF!
Name koef_udr_kat1: #REF!
Name koef_udr_kat1: #REF!
Name koef_udr_kat1: #REF!
Name koef_udr_kat1: #REF!
Name koef_udr_kat2: #REF!
Name koef_udr_kat2: #REF!
Name koef_udr_kat2: #REF!
Name koef_udr_kat2: #REF!
Name koef_udr_kat3: #REF!
Name koef_udr_kat3: #REF!
Name koef_udr_kat3: #REF!
Name koef_udr_kat3: #REF!
Name koef_VV: #REF!
Name koef_VV: #REF!
Name kpn_ca_do: #REF!
Name kpn_ca_do: #REF!

Sheet Obsah
B1: Obsah tabuľkovej prílohy výročnej správy o hospodárení verejnej vysokej školy za rok 2016
A2: Vysvetlivky | B2: Vysvetlivky k tabuľkám výročnej správy o hospodárení verejných vysokých škôl za rok 2016
A3: Súvzťažnosti | B3: Súvzťažnosti tabuliek výročnej správy o hospodárení verejných vysokých škôl za rok 2016
A4: Kódy z CRŠ | B4: Kódy z Centrálneho registra študentov
A5: Tabuľka 1 | B5: Príjmy z dotácií verejnej vysokej škole zo štátneho rozpočtu z kapitoly MŠVVaŠ SR poskytnuté na základe Zmluvy o poskytnutí dotácie zo štátneho rozpočtu prostredníctvom rozpočtu Ministerstva školstva, vedy, výskumu a športu Slovenskej republiky na rok 2016 na programe 077
A6: Tabuľka 2 | B6: Príjmy verejnej vysokej školy v roku 2016 majúce charakter dotácie okrem príjmov z dotácií z kapitoly MŠVVaŠ SR a okrem štrukturálnych fondov EÚ
A7: Tabuľka 3 | B7: Výnosy verejnej vysokej školy v rokoch 2015 a 2016
A8: Tabuľka 4 | B8: Výnosy verejnej vysokej školy zo školného a z poplatkov spojených so štúdiom v rokoch 2015 a 2016
A9: Tabuľka 5 | B9: Náklady verejnej vysokej školy v rokoch 2015 a 2016
A10: Tabuľka 6 | B10: Zamestnanci a náklady na mzdy verejnej vysokej školy v roku 2016
A11: Tabuľka 6a | B11: Zamestnanci a náklady na mzdy verejnej vysokej školy v roku 2016 - len ženy
A12: Tabuľka 7 | B12: Náklady verejnej vysokej školy na štipendiá interných doktorandov v roku 2016
A13: Tabuľka 8 | B13: Údaje o systéme sociálnej podpory - časť sociálne štipendiá (§ 96 zákona) za roky 2015 a 2016
... A26: Tabuľka 23 | B26: Náklady verejnej vysokej školy v roku 2016 v oblasti sociálnej podpory študentov

Sheet zmeny
A1: Zmeny tabuliek výročnej správy o hospodárení za rok 2016 v porovnaní s rokom 2015
A2: Všeobecná poznámka č. 1 | C2: v hlavičkách, vo vysvetlivkách a v súvsťažnostiach boli zmenené (aktualizované) roky
A3: Tabuľka 1 | B3: príjmy z dotácie na základe dotačnej zmluvy , len 077 | C3: bez zmien
A4: Tabuľka 2 | B4: príjmy verejnej vysokej školy v roku 2016 majúce charakter dotácie | C4: bez zmien
A5: Tabuľka 3 | B5: výnosy VVŠ | C5: doplnené a zoskupené syntetické účty tak aby bolo možné kontrolovať sledované položky
A6: Tabuľka 4 | B6: výnosy VVŠ zo školného a poplatkov | C6: bez zmien
A7: Tabuľka 5 | B7: náklady VVŠ | C7: doplnené analytické účty a ich príp. zoskupenie
A8: Tabuľka 6 | B8: náklady na mzdy | C8: bez zmien
A9: Tabuľka 6a | B9: náklady na mzdy žien | C9: bez zmien
A10: Tabuľka 7 | B10: doktorandi a doktorandské štipendiá | C10: bez zmien
A11: Tabuľka 8 | B11: sociálne štipendiá | C11: bez zmien
A12: Tabuľka 9 | B12: študentské domovy | C12: zmeny v riadku 6
A13: Tabuľka 10 | B13: študentské jedálne | C13: bez zmien
A14: Tabuľka 11 | B14: zdroje obstarania a technického zhodnotenia majetku | C14: bez zmien
... A17: Tabuľka 16 | B17: stav bankových účtov | C17: bez zmien
A18: Tabuľka 17 | B18: štrukturálne fondy EÚ
A19: Tabuľka 18 | B19: dotácie mimo dotačnej zmluvy a mimo dotácií zo štrukturálnych fondov EÚ | C19: bez zmien
A20: Tabuľka 19 | B20: štipendiá z vlastných zdrojov | C20: doplnené riadky 8, 9, 10, v R1 upravené vzťahy
A21: Tabuľka 20 | B21: motivačné štipendiá | C21: doplnený stĺpec, upravené vzorce aj v súvsťažnostiach
A22: Tabuľka 21 | B22: štruktúra účtu 384 - výnosy budúcich období | C22: bez zmien
A23: Tabuľka 22 | B23: výnosy verejnej vysokej školy v roku 2016 v oblasti sociálnej podpory študentov | C23: doplnené pomenovanie stĺpcov a súvsťažnosti na tabuľky T1, T4 a T18
A24: Tabuľka 23 | B24: náklady verejnej vysokej školy v roku 2016 v oblasti sociálnej podpory študentov | C24: doplnené pomenovanie stĺpcov a súvsťažnosti na tabuľky T4 a T19

Sheet Vysvetlivky
A1: Vysvetlivky k tabuľkám výročnej správy o hospodárení verejnej vysokej školy za rok 2016
A2: Kód vysvetlivky | B2: Vysvetlivka
A3: SPOL_1 | B3: Vysvetlivky k tabuľkám sú organizované v dvoch stĺpcoch. Prvý stĺpec označený ako "Kód vysvetlivky" obsahuje označenie vysvetlivky, ktoré určuje, ku ktorej tabuľke a ku ktorej časti tabuľky sa vysvetlivka vzťahuje. Význam použitých kódov je illustrovaný na nasledovných príkladoch: Príklad č. 1: T1_R10 - vysvetlivka sa vzťahuje k tabuľke č.1, k riadku 10 Príklad č. 2: T1_R4:R8 - vysvetlivka sa vzťahuje k tabuľke č. 1, k riadkom 4 až 8 Príklad č. 3: T1_V1 - ide o všeobecnú vysvetlivku č. 1 k tabuľke č. 1 Príklad č. 4: T14_SA - vysvetlivka sa vzťahuje k tabuľke č. 14, k stĺpcu A Príklad č. 5: SPOL_1 - ide o vysvetlivku č. 1 platnú pre všetky tabuľky
A4: SPOL_2 | B4: Niektoré polia tabuliek sa počítajú alebo inak odvodzujú z iných polí. Tieto polia sú označené žltou farbou a vysoká škola ich nevyplňuje. Polia, ktoré je potrebné vyplniť, sú označené zelenou farbou. Polia, v ktorých nemôže byť žiadny údaj, sú označené X.
A5: SPOL_3 | B5: Ak nie je uvedené inak, všetky údaje o výške finančných prostriedkov z roku 2015 a 2016 sa uvádzajú v eurách s presnosťou na dve desatinné miesta. Dôvodom tohto pravidla je, aby pri sumarizácii nedochádzalo k väčším chybám zo zaokrúhľovania.
A6: SPOL_4 | B6: Vo všetkých predpísaných tabuľkách výročnej správy sa dodržiavajú nasledujúce konvencie: a) Všetky riadky tabuliek, ktoré obsahujú údaje, sú číslované. Ak sa údaj v riadku vypočíta z údajov v iných riadkoch, je v riadku s vypočítaným údajom uvedený príslušný vzorec. b) Riadky tabuľky s hlavnými údajmi za sledovanú oblasť sú vyznačené tučným písmom. Ak v riadkoch nasledujúcich za takýmto riadkom je uvedený podrobnejší rozpis údaja, ktorý riadok obsahuje, je v riadku s hlavným údajom informácia, z ktorých riadkov sa daný hlavný údaj vypočíta. Riadky s rozpisom hlavného údaja začínajú znakom „-“ a sú vytlačené normálnym písmom (pozri napríklad riadky R2 až R5 v tabuľke č. 3). c) Ak je potrebné za riadkom s údajom uviesť, že tento údaj obsahuje v sebe nejaký čiastkový údaj (napríklad koľko z uvedeného objemu išlo na výskum a vývoj), uvedie sa v riadku za údajom „z toho“ a na ďalší riadok sa uvedie uvedený čiastkový údaj. Riadok s čiastkovým údajom začína znakom „-“ (pozri napríklad riadok R51 z tabuľky č. 3 alebo riadok R60 z tabuľky č. 5) d) Výraz „SUM(R1:R5)“ znamená „súčet riadkov R1 až R5“. e) Ak tabuľka obsahuje časť, o ktorej nie je dopredu známe, koľko bude mať riadkov, vkladané riadky sa označia číslom predchádzajúceho riadku a postupne písmenami a, b, c, ... (pozri napríklad riadky R15 a R15a v tabuľke č. 6). Pri vkladaní nového riadku je potrebné postupovať nasledovne: nastaviť kurzor na voľný riadok za riadok končiaci sa písmenom, napr. 2a, cez hlavné menu vložiť riadok, resp. viac riadkov. Údaje doplnené do takto vloženého riadku sa automaticky prenesú do sumárneho riadku (riadok 2). Vložené riadky označte nasledujúcimi písmenami abecedy napr. 2b, 2c. f) V poliach tabuliek, ktoré sa nevypĺňajú, je uvedený znak „X“
A7: SPOL_5 | B7: Ak položke požadovanej v tabuľke zodpovedá podľa predpísanej analytickej evidencie na príslušnom syntetickom účte nejaký špecifikcký kód (napríklad kód ekonomickej klasifikácie), uvedie sa tento kód za názvom položky.
A8: T1_V1 | B8: Tabuľka č. 1 poskytuje informácie o celkovom objeme a programovej štruktúre príjmov na základe Zmluvy o poskytnutí dotácií zo štátneho rozpočtu prostredníctvom kapitoly MŠVVaŠ na programe 077. Dotácie programov 021, 05T, 06K, resp. programov zo štrukturálnych fondov EÚ nie sú súčasťou tejto zmluvy.
A9: T1_R1:R15 | B9: V riadku 1 až 15 sa uvádzajú príjmy na programe 077 podľa programovej štruktúry na rok 2016.
A10: T1_R12 a T1_R13 | B10: Uvádza sa skutočne poskytnutá dotácia na sociálne a motivačné štipendiá a nie nárok vyplývajúci z potreby štipendií podľa zákona.
A11: T2_V1 | B11: Tabuľka č. 2 poskytuje informácie o celkovom objeme a štruktúre príjmov z dotácií alebo príjmov majúcich charakter dotácií, ktoré neboli poskytnuté z kapitoly MŠVVaŠ SR. Uvedú sa tu aj dotácie z rozpočtovej kapitoly Úrad vlády SR, určené na riešenie projektov v rámci Finančného mechanizmu EHP a Nórskeho finančného mechanizmu.
A12: T2_R1, R1a,... | B12: V riadku 1 uvedie vysoká škola celkový objem príjmov z dotácií zo štátneho rozpočtu poskytnutých z iných kapitol ako je kapitola MŠVVaŠ SR. V riadkoch 1a ... rozpíše podrobnejšie jednotlivé druhy týchto dotácií. Príklady: 1. dotácie z iných kapitol, 2. dotácie z APVV pre VVŠ ako spoluriešiteľa, resp.dotácie, ak hlavným riešiteľom je iná právnická osoba ako VVŠ.
A13: T2_R2, R2a... | B13: V riadku 2 uvedie vysoká škola celkový objem príjmov z dotácií z rozpočtu obcí a VÚC. V riadkoch R2a ... rozpíše podrobnejšie jednotlivé druhy týchto dotácií, každú na osobitný riadok.
... A91: T23_V1 | B91: Tabuľka č. 23 poskytuje informácie o výkaze ziskov a strát sumár za VVŠ za oblasť sociálnej podpory študentov časť "Náklady". Údaje sa uvádzajú s presnosťou na dve desatinné miesta.

Sheet Súvzťažnosti
A1: Súvzťažnosti tabuliek výročnej správy o hospodárení verejnej vysokej školy za rok 2016
A2: Kód vysvetlivky | B2: Kontrola | C2: Poznámky
A3: T1_V1 | B3: T1 = dotačná zmluva na 2016 | C3: Bežná a kapitálová dotácia je kontrolovaná na Zmluvu o poskytnutí dotácií zo štátneho rozpočtu prostredníctvom kapitoly MŠVVaŠ (ďalej len "dotačná zmluva") a jej dodatkov na rok 2016 na programe 077.
A4: T2_V1 | B4: T2 | C4: Údaje v T2 nie je možné odkontrolovať na údaje z výkazníctva ani na údaje v iných tabuľkách, nakoľko ide o údaje účtované na rôznych účtoch. (691,649). Príjmy zo zahraničia majúce charakter dotácie majú obsahovať aj údaje z výskumných, resp. vzdelávacích projektov, ktoré sú podkladom k rozpisu metodiky bežnej dotácie pre VVŠ na kalendárny rok. V R4a... je potrebné uviesť príjmy zo zahraničia (zo zahraničných účtov) a k nim príslušné hodnoty. Neuvádzajú sa tu dotácie, ktoré VVŠ obdržala zo štrukturálnych fondov prostredníctvom iných kapitol štátneho rozpočtu, napr. MPSVaR SR (tieto údaje patria do T17) a dotácie z APVV pre VVŠ ako hlavného riešiteľa (údaje patria do T18). Do tejto tabuľky sa uvádzajú dotácie z APVV pre VVŠ ako spoluriešiteľa, resp.dotácie, ak hlavným riešiteľom je iná právnická osoba ako VVŠ. Nepatria sem prostriedky na zahraničné mobility na 05T 08 a 021 02 03.
A5: T2_R1 | B5: T2_R3 | C5: Uvedie sa dotácia z Úradu vlády SR (na R3) , poskytnutá na riešenie projektov v rámci Finančného mechanizmu EHP a Nórskeho finančného mechanizmu. Údaje budú kontrolované na hodnoty z výkazníctva - bežné a kapitálové výdavky evidované na zdrojoch 11E1, 11E2, 11E3, 11E4 a 121.
A6: T3_V1 | B6: T3_R21_SA (SC) = T4_R1_SA (SB), T3_R22_SA (SC) = T4_R7_SA (SB) | C6: Výnosy sú kontrolované na údaje z výkazníctva - výkaz ziskov a strát, časť výnosy. Údaje v T3 z roku 2015 a údaje z roku 2016 sa uvádzajú v eurách s presnosťou na dve desatinné miestá ( pričom zobrazenie tabuliek je nastavené na Eur). Výnosy zo školného, resp. z poplatkov spojených so štúdiom za hlavnú činnosť v T3_R21, R22 sa taktiež kontrolujú na T4_R1_SB a T4_R7_SB.
A7: T4_V1 | B7: T4_R1_SA(SB) = T3_R20_SA(SC), T4_R7_SA(SB) = T3_R25_SA(SC) T4_R15_SA(SB) = T13_R9_SE(SF) T4_R15_SA(SB) = T22_R58 | C7: Údaje v T4 sú kontrolované na údaje z T3, a to na výnosy z hlavnej činnosti - školné (T3_R20), poplatky spojené so štúdiom (T3_R25). Údaj v R15 - návrh na prídel do štipendijného fondu musí byť minimálne vo výške vykazovanom na riadku R14 - základ pre prídel do štipendijného fondu.
A8: T5_V1 | B8: T5_R56_SC+SD >=< T6_R18_SH T5_R77_SC = T7_R1_SE T5_R81_SC = T19_R1_SC | C8: Náklady sú kontrolované na údaje z výkazníctva - výkaz ziskov a strát, časť náklady. Obdobne ako pri T3 sa údaje z roku 2015 a údaje z roku 2016 sa uvádzajú v eurách s presnosťou na dve desatinné miestá (pričom zobrazenie tabuliek je nastavené na Eur). Za oblasť miezd sú údaje za rok 2016 - účet 521 (R55) v T5 kontrolované na výkazníctvo, časť náklady a údaje v T5_R56_(SC + SD) na T6_R18_SH. Rozdiel medzi údajom v T6_R18_SH a údajmi v T5_R56_SC+SD (Mzdy) môže o.i. tvoriť výška nákladov za nevyčerpané dovolenky. Štipendiá doktorandov z T5_R77_SC sa kontrolujú na údaje z T7_R1_SE. Prospechové štipendiá z vlastných zdrojov z T5_R81_SC sa kontrolujú na údaje v T19_R1_SC. | D8: oprava súvzťažnosti na R1 namiesto na R2 (v T19)
A9: T5_V2 | B9: T5_R88-R91 | C9: Údaje v T5 sú rozšírené o tvorbu fondov
A10: T5_3 | B10: T5_R90_(SA+SB)=T13_R5_SC T5_R90_(SC+SD)=T13_R5_SD | C10: Náklady sú kontrolované na údaje z výkazníctva - tvorba fondu z likvidovaného / predaného majetku
A11: T6_V1 | B11: T6_R1..R6, R7, R9, R13, R14, R16, R17 = Škol 2-04 za 2016, T6_R15a.. = dotačná zmluva na 2016, špecifiká | C11: Údaje v riadkoch R1:R6, R7, R9, R13, R14, R16, R17 sú kontrolované s údajmi v štatistickom výkaze Škol (MŠ SR) 2-04 za rok 2016. Údaje v riadkoch 15a ... (špecifiká) sú kontrolované na rozpis dotácie v roku 2016. Rozdiel medzi údajom v T6_R18_SH a údajmi v T5_R56_SC+SD (Mzdy) je potrebné vyčísliť a s komentárom uviesť v poznámke pod tabuľkou T6.
A12: T7_V1 | B12: T7_R1_SE = T5_R77_SC, T7_R9_SA = dotačná zmluva na 2016_účelové prostriedky na štipendiá doktorandov | C12: Údaje v R1_SE za rok 2016 sú kontrolované na T5_R77_SC a údaje v R9_SA na poskytnutú účelovú dotáciu na štipendiá doktorandov podľa dotačnej zmluvy.
A13: T8_R5 | B13: T8_R5_SA (SC) = dotačná zmluva na rok 2015 (2016), prvok 077 15 01 - účelové prostriedky na sociálne štipendiá | C13: Údaje sú kontrolované na dotačné zmluvy a na účelovú dotáciu na rok 2015, 2016. Za rok 2016 na T1_R12_SA. Údaje v T8_R1_SC by sa mali rovnať údajom z CRŠ kód 1.
A14: T8_V1 | B14: T8_R5_SC= T1_R12_SA T8_R4_SA = zostatok k 31.12.2015 T8_R6_SA = T8_R4_SC T8_R1_SA (SC) ≤ T13_R11_SE (SF) | C14: Údaj v T8_R4_SA predstavuje zostatok nevyčerpanej dotácie z predchádzajúceho roka, t. j. k 31. 12. 2015 . Údaj v T8_R6_SA (SC) predstavuje zostatok nevyčerpanej dotácie k 31. 12. príslušného roka (2015, resp. 2016) a ich hodnoty sa vypočítajú z ostatných uvedených údajov. Zostatok nevyčerpanej dotácie k 31. 12. 2015 je totožný s údajmi vykazovanými v tabuľke T8 výročnej správy za rok 2015.
A15: T9_V1 | B15: T9_R1 = štatistické výkazy MŠVVaŠ SR 2015 (2016) | C15: Údaje o projektovanej lôžkovej kapacite v T9_R1 sa kontrolujú na štatistické výkazy MŠVVaŠ SR (posielané na CVTI SR) 2015, 2016.
A16: T9_V2 | B16: T9_R6_SA (SB) = dotačná zmluva 2015 (2016) - účelové prostriedky na študentské domovy (vrátane dotácie na valorizáciu miezd ŠJ) | C16: Údaje sa kontrolujú na poskytnutú dotáciu na študentské domovy (vrátane zmluvných zariadení a dotácie na valorizáciu platov zamestnancov ŠJ)
A17: T10_V1 | B17: T10_R7_SA (SB) = dotačná zmluva 2015 (2016)_účelová dotácia na študentské jedálne | C17: Údaje v R7_SA (SB) sú kontrolované na dotačné zmluvy a na účelovú dotáciu na rok 2015, 2016.
A18: T10_V2 | B18: T10_R5_SA (SB) | C18: Výnos z dotácie zo štátneho rozpočtu na študentské jedálne v kalendárneho roku sa odvíja od zostatku dotácie predchádzajúceho kalendárneho roka a účelovej dotácie daného kalendárneho roka zníženej o prenos zostatku do nasledujúceho kalendárneho roka, resp. zvýšenej o nárok na poskytnutie nedoplatku.
A19: T10_V3 | B19: T10_R12 = štatistické výkazy MŠVVaŠ SR 2015 (2016) | C19: Údaje sa kontrolujú na štatistické údaje MŠVVaŠ SR zasielané CVTI SR.
A20: T11_V1 | B20: T11_R2_SA (SB) = T13_R2_SC (SD) | C20: Údaje v T11_R2 - tvorba fondu reprodukcie za roky 2015 a 2016 sa musia rovnať údajom v T13_R2_SC (SD).
... A33: T16_V1 | B33: T16_R18_SB = výkazníctvo, súvaha, časť Aktíva, riadok 053, | C33: Globálna hodnota na bankových účtoch z R18 sa kontroluje na Súvahu, časť Aktíva, r. 053. Ak nie je údaj v R2 (dotačný účet) k 31. 12. 2016 vynulovaný, je potrebné doplniť vysvetlenie v stĺpci C.
A34: T17_V1 | C34: Údaje v T17 sú kontrolované na hodnoty z výkazníctva, finančné prostriedky z EÚ (vrátane spolufinancovania zo štátneho rozpočtu), zabezpečované prostredníctvom MŠVVaŠ SR v roku 2016.
A35: T18_V1 | C35: Údaje v T18_R1 sú kontrolované na rozpis bežnej a kapitálovej dotácie na programe 06K v roku 2016 poskytnuté vysokým školám mimo "dotačnej zmluvy" prostredníctvom APVV resp. sekcie vedy a techniky. Údaje v T18_R7 a R8 sú kontrolované na rozpis bežnej dotácie na podrograme 05T 08 a prvku 021 02 03 v roku 2016, poskytnuté vysokým školám mimo "dotačnej zmluvy" prostredníctvom sekcie medzinárodnej spolupráce.
A36: T19_V1 | B36: T19_R1_SC + T20_R3(SC+SD) + T8_R1_SC = T13_R11_SF | C36: Údaje v T19 majú súvzťažnosť s T13, štipendiá z vlastných zdrojov sú taktiež súčasťou štipendijného fondu. Údaj v T13_R11 - čerpanie štipendijného fondu by malo byť vo výške čerpania sociálnych štipendií z T8, motivačných štipendií z T20 a štipendií z vlastných zdrojov z T19.
A37: T20_V1 | B37: T20_R2 = dotačná zmluva 2015 (2016)_účelová dotácia na motivačné štipendiá | C37: Údaje v R2 sú kontrolované na dotačnú zmluvu a na rozpis účelových dotácií na podprograme 077 15 02. Údaje v R3 sú kontrolované na údaje v CRŠ.
A38: T21_V1 | B38: T21_R1_SF = výkazníctvo 2015 súvaha, časť pasíva, riadok 103, predchádzajúce účtovné obdobie T21_R1_SL = výkazníctvo 2016, súvaha, časť pasíva, riadok 103, bežné účtovné obdobie | C38: Celková hodnota účtu 384 za rok 2015 a 2016, uvedená v T21_SF a SL je kontrolovaná na výkaz Súvaha, časť Pasíva, r.103. Štruktúru účtu žiadame uviesť v členení na zvyšok prijatej kapitálovej dotácie zo štátneho rozpočtu a z prostriedkov EÚ (analytický účet 384.11), nevyčerpanú bežnú dotáciu na aktivity budúcich odbobí (384.12) a prostriedky zo zahraničných projektov na budúce aktivity (384.13). Ak sú na tomto účte zaúčtované aj iné výnosy, žiadame ich osobitne uviesť v SD (2015), resp. SI (2016). Údaje za rok 2015 musia byť totožné s údajmi, ktoré VVŠ predložili k výsledkom hospodárenia VVŠ za rok 2015.
A39: T21_V1 | B39: T21_R1_SA + T11_R10_SB -T5_R85_SC = T21_R1_SG | C39: V stĺpci SG sa zvyšok prijatej kapitálovej dotácie, používanej na kompenzáciu odpisov za rok 2016 rovná súčtu zvyšku prijatej kapitálovej dotácie na kompenzáciu odpisov z roku 2015 (stĺpec SA) a výšky kapitálovej dotácie (2016) z T11_R10_SB, zníženému o odpisy, vykazované v T5_R85_SC.
A40: T21_V1 | B40: T21_R1_SB + T11_R10a_SB - T5_R86a_SC = T21_R1_SH | C40: V stĺpci SH sa zvyšok prijatej kapitálovej dotácie, používanej na kompenzáciu odpisov za rok 2016 rovná súčtu zvyšku prijatej kapitálovej dotácie na kompenzáciu odpisov z roku 2015 (stĺpec SB) a výšky kapitálovej dotácie (2016) z T11_R10a_SB, zníženému o odpisy, vykazované v T5_R86a_SC.
A41: T22_V1 | B41: T22_R58_SA_(SB)=T4_R15_SA_(SB) T22R_R64_SA_(SB)= T19_R1_SA_(SB) | C41: Pri vypĺňaní tabuľky je potrebné dodržiavať "Metodické usmernenie k vedeniu účtovníctva od 1. januára 2008 pre verejné vysoké školy používajúce finančný informačný systém SOFIA "
A42: T23_V1 | B42: T23_R24_SA_(SB)≤T19_R1_SA_(SC) T23_R30_SA_(SB)=T4_R15_SA_(SB) | C42: Pri vypĺňaní tabuľky je potrebné dodržiavať "Metodické usmernenie k vedeniu účtovníctva od 1. januára 2008 pre verejné vysoké školy používajúce finančný informačný systém SOFIA "

Sheet Kódy z CRŠ
A1: Kódy z Centrálneho registra študentov
A2: Kód | B2: Názov | C2: Platné od
A3: 1 | B3: sociálne štipendium | C3: 38623
A4: 4 | B4: motivačné štipendium - vynikajúce plnenie študijných povinností | C4: 39326
A5: 5 | B5: motivačné štipendium - mimoriadny študijný výsledok | C5: 39326
A6: 6 | B6: motivačné štipendium - mimoriadny výsledok vo výskume/vývoji | C6: 39326
A7: 7 | B7: motivačné štipendium - mimoriadny výsledok v umeleckej činnosti | C7: 39326
A8: 8 | B8: motivačné štipendium - mimoriadny výsledok v športovej činnosti | C8: 39326
A9: 9 | B9: štipendium z vlastných zdrojov vysokej školy | C9: 39326
A10: 10 | B10: základné z UD MSSR, pred dizer.sk. | C10: 40245 | D10: DrŠ
A11: 11 | B11: základné z UD MSSR, po dizer. sk. | C11: 40245 | D11: DrŠ
A12: 12 | B12: základné z NeúčelD MSSR | C12: 40245 | D12: DrŠ
A13: 13 | B13: z mimo dotačných zdrojov | C13: 40245 | D13: DrŠ
A14: 14 | B14: bezpečnostný príplatok z UD MSSR | C14: 40245 | D14: DrŠ
A15: 15 | B15: zvýšenie PhD. štipendia z UD MSSR | C15: 40245 | D15: DrŠ
A16: 16 | B16: zvýšenie PhD. štipendia z Neúčel D MSSR | C16: 40245 | D16: DrŠ
A17: 17 | B17: štipendium poskytuje EVI | C17: 40245 | D17: DrŠ
A18: 18 | B18: vládny štipendista | C18: 40245
A19: 19 | B19: motivačné štipendium - vybrané odbory (§ 96a ods.1 písm. a)) | C19: 41275

Sheet T1-Dotácie podľa DZ
A1: Tabuľka č. 1: Príjmy z dotácií verejnej vysokej škole zo štátneho rozpočtu z kapitoly MŠVVaŠ SR poskytnuté na základe Zmluvy o poskytnutí dotácie zo štátneho rozpočtu prostredníctvom rozpočtu Ministerstva školstva, vedy, výskumu a športu Slovenskej republiky na rok 2016 na programe 077
A2: Názov verejnej vysokej školy: Univerzita Konštantína Filozofa v Nitre
A3: Číslo riadku | B3: Dotácia / program | C3: Bežné dotácie | D3: Kapitálové dotácie | E3: Dotácie spolu
C4: A | D4: B | E4: C=A+B
A5: 1 | B5: Dotácia na uskutočňovanie akreditovaných študijných programov [R2] | C5: =C6 -> 14086657 | D5: =D6 -> 100000 | E5: =SUM(C5:D5) -> 14186657
A6: =A5+1 -> 2 | B6: - Podprogram 077 11 | C6: 14086657 | D6: 100000 | E6: =SUM(C6:D6) -> 14186657
A7: =A6+1 -> 3 | B7: Dotácia na výskumnú, vývojovú alebo umeleckú činnosť [R4+R5+R6+R7+R8] | C7: =SUM(C8:C12) -> 6294007 | D7: =SUM(D8:D12) -> 0 | E7: =SUM(C7:D7) -> 6294007
A8: =A7+1 -> 4 | B8: - Prvok 077 12 01 | C8: 5924385 | D8: 0 | E8: =SUM(C8:D8) -> 5924385
A9: =A8+1 -> 5 | B9: - Prvok 077 12 02 | C9: 237875 | D9: 0 | E9: =SUM(C9:D9) -> 237875
A10: =A9+1 -> 6 | B10: - Prvok 077 12 03 | E10: =SUM(C10:D10) -> 0
A11: =A10+1 -> 7 | B11: - Prvok 077 12 04 | E11: =SUM(C11:D11) -> 0
A12: =A11+1 -> 8 | B12: - Prvok 077 12 05 | C12: 131747 | D12: 0 | E12: =SUM(C12:D12) -> 131747
A13: =A12+1 -> 9 | B13: Dotácia na rozvoj vysokej školy [R10] | C13: =C14 -> 11374 | D13: =D14 -> 0 | E13: =SUM(C13:D13) -> 11374
A14: =A13+1 -> 10 | B14: - Podprogram 077 13 | C14: 11374 | D14: 0 | E14: =SUM(C14:D14) -> 11374
A15: =A14+1 -> 11 | B15: Dotácia na sociálnu podporu študentov [R12+R13+R14] | C15: =SUM(C16:C18) -> 2530081 | D15: =SUM(D16:D18) -> 0 | E15: =SUM(C15:D15) -> 2530081
A16: =A15+1 -> 12 | B16: - Prvok 077 15 01 | C16: 1321731 | D16: 0 | E16: =SUM(C16:D16) -> 1321731
A17: =A16+1 -> 13 | B17: - Prvok 077 15 02 | C17: 303120 | D17: 0 | E17: =SUM(C17:D17) -> 303120
A18: =A17+1 -> 14 | B18: - Prvok 077 15 03 | C18: 905230 | D18: 0 | E18: =SUM(C18:D18) -> 905230
A19: =A18+1 -> 15 | B19: Spolu [R1+R3+R9+R11] | C19: =C5+C7+C13+C15 -> 22922119 | D19: =D5+D7+D13+D15 -> 100000 | E19: =SUM(C19:D19) -> 23022119

Sheet T2-Ostatné dot mimo MŠ SR
A1: Tabuľka č. 2: Príjmy verejnej vysokej školy v roku 2016 majúce charakter dotácie okrem príjmov z dotácií z kapitoly MŠVVaŠ SR a okrem prostriedkov EÚ (štrukturálnych fondov)
A2: Názov verejnej vysokej školy: Univerzita Konštantína Filozofa v Nitre
A3: Číslo riadku | B3: Položka | C3: Bežné dotácie | D3: Kapitálové dotácie | E3: Dotácie spolu
C4: A | D4: B | E4: C=A+B
A5: 1 | B5: Dotácie z kapitol štátneho rozpočtu okrem kapitoly MŠVVaŠ SR (na zdroji 111) [SUM(R1a:R1...)] | C5: =SUM(C6:C7) -> 11500 | D5: =SUM(D6:D7) -> 0 | E5: =C5+D5 -> 11500
A6: 1a | B6: Úrad vlády SR | C6: 11500 | D6: 0 | E6: =C6+D6 -> 11500
A7: 1b | E7: =C7+D7 -> 0
E8: =C8+D8 -> 0
A9: 2 | B9: Dotácie z rozpočtov obcí a z rozpočtov vyšších územných celkov [SUM(R2a:R2...)] | C9: =SUM(C10:C11) -> 6800 | D9: =SUM(D10:D11) -> 0 | E9: =C9+D9 -> 6800
A10: 2a | B10: Nitr.samosprávny kraj | C10: 300 | E10: =C10+D10 -> 300
A11: 2b | B11: Mesto Nitra | C11: 6500 | E11: =C11+D11 -> 6500
E12: =C12+D12 -> 0
A13: 3 | B13: Ostatné domáce príjmy s charakterom dotácie [SUM(R3a:R3...)] | C13: =SUM(C14:C15) -> 19700 | D13: =SUM(D14:D15) -> 0 | E13: =C13+D13 -> 19700
A14: 3a | B14: Fond na podporu umenia | C14: 19700 | E14: =C14+D14 -> 19700
A15: 3b | E15: =C15+D15 -> 0
E16: =C16+D16 -> 0
A17: 4 | B17: Príjmy zo zahraničia majúce charakter dotácie [SUM(R4a:R4...)] | C17: =SUM(C18:C19) -> 865507.21 | D17: =SUM(D18:D19) -> 0 | E17: =C17+D17 -> 865507.21
A18: 4a | B18: zahraničné | C18: 865507.21 | E18: =C18+D18 -> 865507.21
A19: 4b | E19: =C19+D19 -> 0
E20: =C20+D20 -> 0
A21: 5 | B21: Spolu [R1+R2+R3+R4] | C21: =C5+C9+C13+C17 -> 903507.21 | D21: =D5+D9+D13+D17 -> 0 | E21: =C21+D21 -> 903507.21
B23: Nórsky a finančný mechanizmus patrí do R3 (ide o prostriedky poskytnuté Úradom vlády SR, na inom zdroji ako 111)

Sheet T3-Výnosy
A1: Tabuľka č. 3: Výnosy verejnej vysokej školy v rokoch 2015 a 2016
A2: Názov verejnej vysokej školy: Univerzita Konštantína Filozofa v Nitre
A3: Číslo riadku | B3: Položka | C3: 2015 | E3: 2016 | G3: Rozdiel 2016-2015
C4: Hlavná činnosť | D4: Podnikateľská činnosť | E4: Hlavná činnosť | F4: Podnikateľská činnosť | G4: Hlavná činnosť | H4: Podnikateľská činnosť
C5: A | D5: B | E5: C | F5: D | G5: E=C-A | H5: F=D-B
A6: 1 | B6: Tržby za vlastné výrobky (účet 601) [SUM(R2:R5)] | C6: =SUM(C7:C10) -> 0 | D6: =SUM(D7:D10) -> 0 | E6: =SUM(E7:E10) -> 0 | F6: =SUM(F7:F10) -> 0 | G6: =E6-C6 -> 0 | H6: =F6-D6 -> 0
A7: =A6+1 -> 2 | B7: - vysokoškolské podniky | G7: =E7-C7 -> 0 | H7: =F7-D7 -> 0
A8: =A7+1 -> 3 | B8: - študentské domovy | G8: =E8-C8 -> 0 | H8: =F8-D8 -> 0
A9: =A8+1 -> 4 | B9: - študentské jedálne | G9: =E9-C9 -> 0 | H9: =F9-D9 -> 0
A10: =A9+1 -> 5 | B10: - ostatné tržby za vlastné výrobky | G10: =E10-C10 -> 0 | H10: =F10-D10 -> 0
A11: =A10+1 -> 6 | B11: Tržby z predaja služieb (účet 602) [SUM(R7:R10)] | C11: =SUM(C12:C15) -> 1104363.6 | D11: =SUM(D12:D15) -> 103145.95 | E11: =SUM(E12:E15) -> 1082174.7 | F11: =SUM(F12:F15) -> 109736.91 | G11: =E11-C11 -> -22188.89 | H11: =F11-D11 -> 6590.96
A12: =A11+1 -> 7 | B12: - z ubytovania študentov (účet 602 001) | C12: 799946.5 | E12: 817364.5 | G12: =E12-C12 -> 17418 | H12: =F12-D12 -> 0
A13: =A12+1 -> 8 | B13: - zo stravných lístkov študentov a doktorandov (účet 602 009) | C13: 145856.79 | E13: 130515.11 | G13: =E13-C13 -> -15341.68 | H13: =F13-D13 -> 0
A14: =A13+1 -> 9 | B14: - z ubytovania a stravovania iných fyzických osôb (účet 602 008 a 602 010) | C14: 31448.16 | D14: 64691.16 | E14: 23647.41 | F14: 66999.29 | G14: =E14-C14 -> -7800.75 | H14: =F14-D14 -> 2308.13
A15: =A14+1 -> 10 | B15: - iné analyticky sledované výnosy (účty 602 002-007, 602 011-019, 602 099, 602 199) | C15: 127112.18 | D15: 38454.79 | E15: 110647.72 | F15: 42737.62 | G15: =E15-C15 -> -16464.46 | H15: =F15-D15 -> 4282.83
A16: =A15+1 -> 11 | B16: Tržby za predaný tovar (účet 604) | C16: 20482.15 | D16: 101513.61 | E16: 19113.65 | F16: 83633.04 | G16: =E16-C16 -> -1368.5 | H16: =F16-D16 -> -17880.57
A17: =A16+1 -> 12 | B17: Zmeny stavu zásob vlastnej výroby (účtová skupina 611-614) | G17: =E17-C17 -> 0 | H17: =F17-D17 -> 0
A18: =A17+1 -> 13 | B18: Aktivácia (účet 621-624) | C18: 103219.42 | D18: 33900.45 | E18: 103019.57 | F18: 57330.52 | G18: =E18-C18 -> -199.85 | H18: =F18-D18 -> 23430.07
A19: =A18+1 -> 14 | B19: Pokuty a penále (účet 641+642) | C19: 2874.66 | E19: 6185.43 | F19: 1675.7 | G19: =E19-C19 -> 3310.77 | H19: =F19-D19 -> 1675.7
A20: =A19+1 -> 15 | B20: Platby za odpísané pohľadávky (účet 643) | G20: =E20-C20 -> 0 | H20: =F20-D20 -> 0
A21: =A20+1 -> 16 | B21: Úroky (účet 644) [R17+R18] | C21: =SUM(C22:C23) -> 1159.6 | D21: =SUM(D22:D23) -> 21.74 | E21: =SUM(E22:E23) -> 1156.22 | F21: =SUM(F22:F23) -> 18.31 | G21: =E21-C21 -> -3.38 | H21: =F21-D21 -> -3.43
A22: =A21+1 -> 17 | B22: - z dotačného účtu (účet 644 001) | G22: =E22-C22 -> 0 | H22: =F22-D22 -> 0
A23: =A22+1 -> 18 | B23: - z ostatných účtov (účet 644 002) | C23: 1159.6 | D23: 21.74 | E23: 1156.22 | F23: 18.31 | G23: =E23-C23 -> -3.38 | H23: =F23-D23 -> -3.43
A24: =A23+1 -> 19 | B24: Kurzové zisky (účet 645) | C24: 49.29 | E24: 132.25 | G24: =E24-C24 -> 82.96 | H24: =F24-D24 -> 0
A25: =A24+1 -> 20 | B25: Výnosy zo školného (účet 649) [SUM(R21:R24)] | C25: =C26+C27+C28+C29 -> 2309167.3 | D25: =D26+D27+D28+D29 -> 0 | E25: =E26+E27+E28+E29 -> 1915454 | F25: =F26+F27+F28+F29 -> 0 | G25: =E25-C25 -> -393713.29 | H25: =F25-D25 -> 0
A26: =A25+1 -> 21 | B26: - školné za prekročenie štandardnej dĺžky štúdia 649 001 | C26: 347555.03 | E26: 345441.5 | G26: =E26-C26 -> -2113.53 | H26: =F26-D26 -> 0
A27: =A26+1 -> 22 | B27: - školné od cudzincov (§ 92 ods. 9 zákona) 649 002, 649 023 | C27: 499.5 | E27: 3850 | G27: =E27-C27 -> 3350.5 | H27: =F27-D27 -> 0
A28: =A27+1 -> 23 | B28: - školné od externých študentov (§ 92 ods. 4 zákona) 649 020 | C28: 1961112.7 | E28: 1565830.5 | G28: =E28-C28 -> -395282.26 | H28: =F28-D28 -> 0
A29: =A28+1 -> 24 | B29: - poplatky za súbežné štúdium (§ 92, ods. 5) 649 026 | E29: 332 | G29: =E29-C29 -> 332 | H29: =F29-D29 -> 0
A30: =A29+1 -> 25 | B30: Výnosy z poplatkov spojených so štúdiom (účet 649) [SUM(R26:R31)] | C30: =SUM(C31:C36) -> 334290.99 | D30: =SUM(D31:D36) -> 0 | E30: =SUM(E31:E36) -> 213160.16 | F30: =SUM(F31:F36) -> 0 | G30: =E30-C30 -> -121130.83 | H30: =F30-D30 -> 0
A31: =A30+1 -> 26 | B31: - poplatky za prijímacie konanie (§ 92, ods. 10) 649 003 | C31: 264041.26 | E31: 179813.07 | G31: =E31-C31 -> -84228.19 | H31: =F31-D31 -> 0
A32: =A31+1 -> 27 | B32: - poplatky za rigorózne konanie (§ 92, ods. 11) 649 004 | C32: 58370.45 | E32: 25701.44 | G32: =E32-C32 -> -32669.01 | H32: =F32-D32 -> 0
A33: =A32+1 -> 28 | B33: - poplatky za rigorózne konanie - vydanie diplómu 649 005 | C33: 6137.58 | E33: 3710 | G33: =E33-C33 -> -2427.58 | H33: =F33-D33 -> 0
A34: =A33+1 -> 29 | B34: - poplatky za vydanie dokladov o štúdiu 649 006, | C34: 3199.7 | E34: 2253.25 | G34: =E34-C34 -> -946.45 | H34: =F34-D34 -> 0
A35: =A34+1 -> 30 | B35: - poplatky za vydanie dokladov o absolvovaní štúdia (§92, ods. 15, 649 024) | C35: 2143.5 | E35: 1682.4 | G35: =G36+G37+G38+G39 -> -437743.22 | H35: =H36+H37+H38+H39 -> 19442.5
A36: =A35+1 -> 31 | B36: - poplatky za uznávanie rovnocennosti dokladov o štúdiu (§92, ods. 15, 649 025) | C36: 398.5 | G36: =G37+G38+G39+G40 -> -218871.61 | H36: =H37+H38+H39+H40 -> 9721.25
A37: =A36+1 -> 32 | B37: Iné ostatné výnosy (účet 649) [SUM(R33:R43)] | C37: =SUM(C38:C48) -> 800180.88 | D37: =SUM(D38:D48) -> 30766.61 | E37: =SUM(E38:E48) -> 608316.24 | F37: =SUM(F38:F48) -> 40487.86 | G37: =SUM(G38:G48) -> -198110.38 | H37: =SUM(H38:H48) -> 9721.25
A38: =A37+1 -> 33 | B38: - kvalifikačné skúšky (účet 649 008) | E38: 132.8 | G38: =E38-C38 -> 132.8 | H38: =F38-D38 -> 0
A39: =A38+1 -> 34 | B39: - dary (účet 649 009) (646 001) | C39: 37987.62 | E39: 17093.59 | G39: =E39-C39 -> -20894.03 | H39: =F39-D39 -> 0
A40: =A39+1 -> 35 | B40: - výnosy z dedičstva (účet 649 010) | G40: =E40-C40 -> 0 | H40: =F40-D40 -> 0
...

Sheet T4-Výnosy zo školného
A1: Tabuľka č. 4: Výnosy verejnej vysokej školy zo školného a z poplatkov spojených so štúdiom v rokoch 2015 a 2016
A2: Názov verejnej vysokej školy: Univerzita Konštantína Filozofa v Nitre
A3: Číslo riadku | B3: Položka | C3: 2015 | D3: 2016
C4: A | D4: B
A5: 1 | B5: Výnosy zo školného [SUM (R2:R6)] | C5: =+SUM(C6:C10) -> 2309167.3 | D5: =+SUM(D6:D10) -> 1915454
A6: 2 | B6: - za súbežné štúdium v dennej forme (§ 92 ods. 5, 649 026) | C6: 0 | D6: 332
A7: 3 | B7: - za prekročenie štandardnej dĺžky štúdia v dennej forme (§ 92 ods. 6) (649 001) | C7: 347555.03 | D7: 345441.5
A8: 4 | B8: - za cudzojazyčné štúdium dennou formou (§ 92 ods. 8 a 9) (649 002, 649 023) | C8: 499.5 | D8: 3850
A9: 5 | B9: - za externú formu štúdia (§ 92 ods. 4) (649 020) | C9: 1961112.7 | D9: 1565830.5
A10: 6 | B10: - cudzinci podľa prechodných ustanovení 1) | C10: 0 | D10: 0
A11: 7 | B11: Výnosy z poplatkov spojených so štúdiom [SUM (R8:R13)] | C11: =SUM(C12:C17) -> 334290.99 | D11: =SUM(D12:D17) -> 213160.16
A12: 8 | B12: - za prijímacie konanie (§ 92 ods. 12 zákona) (účet 649 003) | C12: 264041.26 | D12: 179813.07
A13: 9 | B13: - za rigorózne konanie (§ 92 ods. 13 zákona) (účet 649 004) | C13: 58370.45 | D13: 25701.44
A14: 10 | B14: - za vydanie diplomu za rigorózne konanie (§ 92 ods. 14 zákona) (účet 649 005) | C14: 6137.58 | D14: 3710
A15: 11 | B15: - za vydanie dokladov o štúdiu a ich kópií (§ 92 ods. 15 zákona) (účet 649 006) | C15: 3199.7 | D15: 2253.25
A16: 12 | B16: - za vydanie dokladov o absolvovaní štúdia v štátnom jazyku a v jazyku požadovanom študentom a ich kópií (§ 92 ods. 15 zákona) (účet 649 024) | C16: 2143.5 | D16: 1682.4
A17: 13 | B17: - za uznávanie rovnocennosti dokladov o štúdiu (§ 92 ods. 15 zákona) (účet 649 025) | C17: 398.5 | D17: 0
A18: 14 | B18: Základ pre prídel do štipendijného fondu | C18: =(C6+C7)*0.2 -> 69511.006 | D18: =(D6+D7)*0.2 -> 69154.7
A19: 15 | B19: Návrh na prídel do štipendijného fondu | C19: 69511.01 | D19: 69154.7
B21: 1) v riadku 6 sa uvádzajú len cudzinci, ktorým nevznikla povinnosť uhradiť školné z dôvodov uvedených v riadkoch 2 až 5

Sheet T5 - Analýza nákladov
A1: Tabuľka č. 5: Náklady verejnej vysokej školy v rokoch 2015 a 2016
A2: Názov verejnej vysokej školy: Univerzita Konštantína Filozofa v Nitre
A3: Číslo riadku | B3: Položka | C3: 2015 | E3: 2016 | G3: Rozdiel 2016-2015
C4: Hlavná činnosť | D4: Podnikateľská činnosť | E4: Hlavná činnosť | F4: Podnikateľská činnosť | G4: Hlavná činnosť | H4: Podnikateľská činnosť
C5: A | D5: B | E5: C | F5: D | G5: E=C-A | H5: F=D-B
A6: 1 | B6: Spotreba materiálu (účet 501) [SUM(R2:R13)] | C6: =SUM(C7:C18) -> 1801003.1 | D6: =SUM(D7:D18) -> 34664.74 | E6: =SUM(E7:E18) -> 1177558.2 | F6: =SUM(F7:F18) -> 37109.76 | G6: =E6-C6 -> -623444.9 | H6: =F6-D6 -> 2445.02
A7: =A6+1 -> 2 | B7: - knihy, časopisy a noviny (účet 501 001,501 051) | C7: 234630.26 | E7: 172667.71 | G7: =E7-C7 -> -61962.55 | H7: =F7-D7 -> 0
A8: =A7+1 -> 3 | B8: - chemikálie a ostatný materiál pre zabezpečenie experimentálnej výučby (účet 501 002, 501 052) | C8: 45476.81 | D8: 286.62 | E8: 70668.58 | G8: =E8-C8 -> 25191.77 | H8: =F8-D8 -> -286.62
A9: =A8+1 -> 4 | B9: - kancelárske potreby a materiál (účet 501 003, 501 053) | C9: 148069.93 | D9: 389.22 | E9: 136778.87 | F9: 485.9 | G9: =E9-C9 -> -11291.06 | H9: =F9-D9 -> 96.68
A10: =A9+1 -> 5 | B10: - papier (účet 501 004, 501 054) | C10: 27904.07 | D10: 77.25 | E10: 18825.13 | F10: 316.5 | G10: =E10-C10 -> -9078.94 | H10: =F10-D10 -> 239.25
A11: =A10+1 -> 6 | B11: - pohonné hmoty a ostatný materiál na dopravu (účet 501 007, 501 057) | C11: 38228.03 | D11: 144.45 | E11: 29596.39 | F11: 1673.16 | G11: =E11-C11 -> -8631.64 | H11: =F11-D11 -> 1528.71
A12: =A11+1 -> 7 | B12: - čistiace, hygienické a dezinfekčné potreby (účet 501 008, 501 020) | C12: 42396.7 | D12: 958.38 | E12: 43608.1 | F12: 641.67 | G12: =E12-C12 -> 1211.4 | H12: =F12-D12 -> -316.71
A13: =A12+1 -> 8 | B13: - stavebný, vodoinštalačný a elektroinštalačný materiál (účet 501 009) | C13: 24877.35 | D13: 1080.56 | E13: 26081.77 | F13: 30577.81 | G13: =E13-C13 -> 1204.42 | H13: =F13-D13 -> 29497.25
A14: =A13+1 -> 9 | B14: - potraviny (účet 501 010) | C14: 170800.41 | D14: 22990.73 | E14: 162352.02 | F14: 60.74 | G14: =E14-C14 -> -8448.39 | H14: =F14-D14 -> -22929.99
A15: =A14+1 -> 10 | B15: - DHM - prístroje a zariadenia laboratórií, výpočtová technika (účet 501 011) | C15: 519401.1 | D15: 18.06 | E15: 202660.31 | G15: =E15-C15 -> -316740.79 | H15: =F15-D15 -> -18.06
A16: =A15+1 -> 11 | B16: - DHM - nábytok (účet 501 012) | C16: 254414.55 | D16: 361.13 | E16: 101971.35 | G16: =E16-C16 -> -152443.2 | H16: =F16-D16 -> -361.13
A17: =A16+1 -> 12 | B17: - iné analyticky sledované náklady (účty 501 005-006, 501 013-018, 501 077) | C17: 147110.14 | D17: 6365.52 | E17: 63315.02 | F17: 687.82 | G17: =E17-C17 -> -83795.12 | H17: =F17-D17 -> -5677.7
A18: =A17+1 -> 13 | B18: - ostatný materiál (účet 501 099, 501 030, 501 100, 501 599) | C18: 147693.77 | D18: 1992.82 | E18: 149032.97 | F18: 2666.16 | G18: =E18-C18 -> 1339.2 | H18: =F18-D18 -> 673.34
A19: =A18+1 -> 14 | B19: Spotreba energie (účet 502) [SUM(R15:R20)] | C19: =SUM(C20:C25) -> 902342.88 | D19: =SUM(D20:D25) -> 22320.08 | E19: =SUM(E20:E25) -> 693087.3 | F19: =SUM(F20:F25) -> 17275.14 | G19: =E19-C19 -> -209255.58 | H19: =F19-D19 -> -5044.94
A20: =A19+1 -> 15 | B20: - elektrická energia (účet 502 001, 502 051) | C20: 279240.47 | D20: 8187.11 | E20: 261917.9 | F20: 6729.86 | G20: =E20-C20 -> -17322.57 | H20: =F20-D20 -> -1457.25
A21: =A20+1 -> 16 | B21: - tepelná energia (účet 502 002, 502 052) | C21: 74436.51 | E21: 68768.22 | G21: =E21-C21 -> -5668.29 | H21: =F21-D21 -> 0
A22: =A21+1 -> 17 | B22: - vodné a stočné (účet 502 003, 502 053) | C22: 117089.3 | D22: 5114.23 | E22: 56636.52 | F22: 2935.85 | G22: =E22-C22 -> -60452.78 | H22: =F22-D22 -> -2178.38
A23: =A22+1 -> 18 | B23: - plyn (účet 502 004, 502 054) | C23: 430161.13 | D23: 9018.74 | E23: 304336.77 | F23: 7609.43 | G23: =E23-C23 -> -125824.36 | H23: =F23-D23 -> -1409.31
A24: =A23+1 -> 19 | B24: - palivá (účet 502 005, 502 055) | C24: 1415.47 | E24: 1427.89 | G24: =E24-C24 -> 12.42 | H24: =F24-D24 -> 0
A25: =A24+1 -> 20 | B25: - ostatné energie (502 099) | C25: 0 | G25: =E25-C25 -> 0 | H25: =F25-D25 -> 0
A26: =A25+1 -> 21 | B26: Spotreba ostatných neskladovateľných dodávok (účet 503) | C26: X | D26: X | E26: X | F26: X
A27: =A26+1 -> 22 | B27: Predaný tovar (účet 504) [SUM(R23:R26)] | C27: =SUM(C28:C31) -> 19469.9 | D27: =SUM(D28:D31) -> 63669.79 | E27: =SUM(E28:E31) -> 18179.56 | F27: =SUM(F28:F31) -> 52873.12 | G27: =E27-C27 -> -1290.34 | H27: =F27-D27 -> -10796.67
A28: =A27+1 -> 23 | B28: - vysokoškolské podniky | G28: =E28-C28 -> 0 | H28: =F28-D28 -> 0
A29: =A28+1 -> 24 | B29: - študentské domovy | G29: =E29-C29 -> 0 | H29: =F29-D29 -> 0
A30: =A29+1 -> 25 | B30: - študentské jedálne | D30: 63669.79 | F30: 52873.12 | G30: =E30-C30 -> 0 | H30: =F30-D30 -> -10796.67
A31: =A30+1 -> 26 | B31: - ostatný predaný tovar | C31: 19469.9 | E31: 18179.56 | G31: =E31-C31 -> -1290.34 | H31: =F31-D31 -> 0
A32: =A31+1 -> 27 | B32: Opravy a udržiavanie (účet 511) [SUM(R28:R34)] | C32: =SUM(C33:C39) -> 133161.51 | D32: =SUM(D33:D39) -> 7946.04 | E32: =SUM(E33:E39) -> 107535.43 | F32: =SUM(F33:F39) -> 2126.98 | G32: =E32-C32 -> -25626.08 | H32: =F32-D32 -> -5819.06
A33: =A32+1 -> 28 | B33: - opravy a udržiavanie stavieb (účet 511 001) | C33: 96096.26 | D33: 7188.09 | E33: 54263.3 | F33: 886.18 | G33: =E33-C33 -> -41832.96 | H33: =F33-D33 -> -6301.91
A34: =A33+1 -> 29 | B34: - opravy a udržiavanie strojov, prístrojov, zariadení a inventára (účet 511 002) | C34: 16975.72 | D34: 655.56 | E34: 21052 | F34: 667.99 | G34: =E34-C34 -> 4076.28 | H34: =F34-D34 -> 12.43
A35: =A34+1 -> 30 | B35: - opravy a udržiavanie dopravných prostriedkov (účet 511 003) | C35: 7271.75 | D35: 97.91 | E35: 7923.8 | F35: 162.51 | G35: =E35-C35 -> 652.05 | H35: =F35-D35 -> 64.6
A36: =A35+1 -> 31 | B36: - opravy a udržiavanie prostriedkov IT (účet 511 004) | C36: 6132.56 | E36: 6414.87 | G36: =E36-C36 -> 282.31 | H36: =F36-D36 -> 0
A37: =A36+1 -> 32 | B37: - údržba a opravy meracej techniky, telovýchovných zariadení ...(účet 511 005) | C37: 2782.8 | E37: 3103.2 | G37: =E37-C37 -> 320.4 | H37: =F37-D37 -> 0
A38: =A37+1 -> 33 | B38: - iné analyticky sledované náklady (účet 511 006-008, 511 056) | C38: 2677.58 | D38: 1.88 | E38: 14118.06 | F38: 421.66 | G38: =E38-C38 -> 11440.48 | H38: =F38-D38 -> 419.78
A39: =A38+1 -> 34 | B39: - ostatná údržba a opravy (účet 511 099) | C39: 1224.84 | D39: 2.6 | E39: 660.2 | F39: -11.36 | G39: =E39-C39 -> -564.64 | H39: =F39-D39 -> -13.96
A40: =A39+1 -> 35 | B40: Cestovné (účet 512) [SUM(R36:R37)] | C40: =C41+C42 -> 364291.05 | D40: =D41+D42 -> 417.06 | E40: =E41+E42 -> 407700.45 | F40: =F41+F42 -> 1575.88 | G40: =E40-C40 -> 43409.4 | H40: =F40-D40 -> 1158.82
...

Sheet T6-Zamestnanci_a_mzdy
A1: Tabuľka č. 6: Zamestnanci a náklady na mzdy verejnej vysokej školy v roku 2016
A2: Názov verejnej vysokej školy: Univerzita Konštantína Filozofa v Nitre
A3: Číslo riadku | B3: Kategória zamestnancov | C3: Priemerný evidenčný prepočítaný počet zamestnancov za rok 2016 | G3: Náklady na mzdy poskytované z prostriedkov štátneho rozpočtu (v Eur) | H3: z toho: | I3: Náklady na mzdy poskytované z iných zdrojov (v Eur) | J3: Náklady na mzdy spolu (v Eur) | K3: Priemerné platy
C4: Počet zamestnancov platených z prostriedkov štátneho rozpočtu | D4: z toho: | E4: Počet zamestnancov platených z iných zdrojov | F4: Počet zamestnancov spolu
D5: Zamestnanci platení z dotácie MŠVVaŠ SR | H5: Náklady na mzdy poskytované z dotácie MŠVVaŠ SR (v Eur)
C6: A | D6: B | E6: C | F6: D=A+C | G6: E | H6: F | I6: G | J6: H=E+G | K6: I=H/D/12
A7: 1 | B7: Vysokoškolskí učitelia spolu [SUM(R2:R6)] | C7: =SUM(C8:C12) -> 527.2 | D7: =SUM(D8:D12) -> 527.2 | E7: =SUM(E8:E12) -> 1.3 | F7: =C7+E7 -> 528.5 | G7: =SUM(G8:G12) -> 7891120 | H7: =SUM(H8:H12) -> 7738150 | I7: =SUM(I8:I12) -> 437840 | J7: =G7+I7 -> 8328960 | K7: =IF(F7=0,0,J7/F7/12) -> 1313.3018
A8: 2 | B8: - vysokoškolskí učitelia s funkčným zaradením "profesor" *) | C8: 75.2 | D8: 75.2 | F8: =C8+E8 -> 75.2 | G8: 1551986 | H8: 1517435 | I8: 53874 | J8: =G8+I8 -> 1605860 | K8: =IF(F8=0,0,J8/F8/12) -> 1779.5434
A9: 3 | B9: - vysokoškolskí učitelia s funkčným zaradením "docent" | C9: 148 | D9: 148 | F9: =C9+E9 -> 148 | G9: 2485224 | H9: 2434614 | I9: 131538 | J9: =G9+I9 -> 2616762 | K9: =IF(F9=0,0,J9/F9/12) -> 1473.402
A10: 4 | B10: - vysokoškolskí učitelia s funkčným zaradením "odborný asistent" | C10: 293 | D10: 293 | E10: 1 | F10: =C10+E10 -> 294 | G10: 3734964 | H10: 3667155 | I10: 244477 | J10: =G10+I10 -> 3979441 | K10: =IF(F10=0,0,J10/F10/12) -> 1127.9595
A11: 5 | B11: - vysokoškolskí učitelia s funkčným zaradením "asistent" | F11: =C11+E11 -> 0 | J11: =G11+I11 -> 0 | K11: =IF(F11=0,0,J11/F11/12) -> 0
A12: 6 | B12: - vysokoškolskí učitelia s funkčným zaradením "lektor" | C12: 11 | D12: 11 | E12: 0.3 | F12: =C12+E12 -> 11.3 | G12: 118946 | H12: 118946 | I12: 7951 | J12: =G12+I12 -> 126897 | K12: =IF(F12=0,0,J12/F12/12) -> 935.81858
A13: 7 | B13: Odborní zamestnanci | C13: 78 | D13: 78 | F13: =C13+E13 -> 78 | G13: 787274 | H13: 787024 | I13: 20251 | J13: =G13+I13 -> 807525 | K13: =IF(F13=0,0,J13/F13/12) -> 862.74038
B14: z toho:
A15: 8 | B15: - na oblasť IT | C15: 30 | D15: 30 | F15: =C15+E15 -> 30 | G15: 353965 | H15: 353965 | I15: 15208 | J15: =G15+I15 -> 369173 | K15: =IF(F15=0,0,J15/F15/12) -> 1025.4806
A16: 9 | B16: Administratívni zamestnanci spolu [SUM(R10:R12)] | C16: =SUM(C17:C19) -> 152.9 | D16: =SUM(D17:D19) -> 152.9 | E16: =SUM(E17:E19) -> 2 | F16: =C16+E16 -> 154.9 | G16: =SUM(G17:G19) -> 1979553 | H16: =SUM(H17:H19) -> 1959846 | I16: =SUM(I17:I19) -> 128514 | J16: =G16+I16 -> 2108067 | K16: =IF(F16=0,0,J16/F16/12) -> 1134.101
A17: 10 | B17: - zamestnanci zaradení na rektorátoch | C17: 58.9 | D17: 58.9 | E17: 2 | F17: =C17+E17 -> 60.9 | G17: 914931 | H17: 895224 | I17: 46900 | J17: =G17+I17 -> 961831 | K17: =IF(F17=0,0,J17/F17/12) -> 1316.1344
A18: 11 | B18: - zamestnanci zaradení na dekanátoch | C18: 54 | D18: 54 | F18: =C18+E18 -> 54 | G18: 781914 | H18: 781914 | I18: 63553 | J18: =G18+I18 -> 845467 | K18: =IF(F18=0,0,J18/F18/12) -> 1304.733
A19: 12 | B19: - zamestnanci zaradení na ostatných pracoviskách | C19: 40 | D19: 40 | F19: =C19+E19 -> 40 | G19: 282708 | H19: 282708 | I19: 18061 | J19: =G19+I19 -> 300769 | K19: =IF(F19=0,0,J19/F19/12) -> 626.60208
A20: 13 | B20: Výskumní pracovníci alebo umeleckí pracovníci | C20: 12.8 | D20: 10.8 | F20: =C20+E20 -> 12.8 | G20: 149025 | H20: 129616 | I20: 4663 | J20: =G20+I20 -> 153688 | K20: =IF(F20=0,0,J20/F20/12) -> 1000.5729
A21: 14 | B21: Prevádzkoví zamestnanci okrem zamestnancov študentských domovov a jedální | C21: 77.9 | D21: 77.9 | E21: 0.3 | F21: =C21+E21 -> 78.2 | G21: 486944 | H21: 486944 | I21: 5485 | J21: =G21+I21 -> 492429 | K21: =IF(F21=0,0,J21/F21/12) -> 524.75384
A22: 15 | B22: Zamestnanci osobitne financovaných súčastí verejnej vysokej školy (špecifiká) z R1, R7, R9, R13, R14 spolu [SUM(R15a:R15...)] | C22: =SUM(C23:C26) -> 5 | D22: =SUM(D23:D26) -> 5 | E22: =SUM(E23:E26) -> 0 | F22: =SUM(F27:F27) -> 0 | G22: =SUM(G23:G26) -> 60516 | H22: =SUM(H23:H26) -> 60516 | I22: =SUM(I23:I26) -> 922 | J22: =SUM(J23:J26) -> 61438 | K22: =IF(F22=0,0,J22/F22/12) -> 0
A23: 15a | B23: Zahraniční lektori | C23: 5 | D23: 5 | F23: =C23+E23 -> 5 | G23: 60516 | H23: 60516 | I23: 922 | J23: =G23+I23 -> 61438 | K23: =IF(F23=0,0,J23/F23/12) -> 1023.9667
A24: 15b | F24: =C24+E24 -> 0 | J24: =G24+I24 -> 0 | K24: =IF(F24=0,0,J24/F24/12) -> 0
A25: 15c | F25: =C25+E25 -> 0 | J25: =G25+I25 -> 0 | K25: =IF(F25=0,0,J25/F25/12) -> 0
A26: 15d | F26: =C26+E26 -> 0 | J26: =G26+I26 -> 0 | K26: =IF(F26=0,0,J26/F26/12) -> 0
F27: =C27+E27 -> 0
A28: 16 | B28: Zamestnanci študentských domovov | C28: 52.8 | D28: 52.8 | E28: 1.1 | F28: =C28+E28 -> 53.9 | G28: 360799 | H28: 360799 | I28: 10582 | J28: =G28+I28 -> 371381 | K28: =IF(F28=0,0,J28/F28/12) -> 574.18213
A29: 17 | B29: Zamestnanci študentských jedální | E29: 23.4 | F29: =C29+E29 -> 23.4 | I29: 173785 | J29: =G29+I29 -> 173785 | K29: =IF(F29=0,0,J29/F29/12) -> 618.89245
A30: 18 | B30: Spolu [R1+R7+R9+R13+R14+R16+R17] | C30: =C7+C13+C16+C20+C21+C28+C29 -> 901.6 | D30: =D7+D13+D16+D20+D21+D28+D29 -> 899.6 | E30: =E7+E13+E16+E20+E21+E28+E29 -> 28.1 | F30: =F7+F13+F16+F20+F21+F28+F29 -> 929.7 | G30: =G7+G13+G16+G20+G21+G28+G29 -> 11654715 | H30: =H7+H13+H16+H20+H21+H28+H29 -> 11462379 | I30: =I7+I13+I16+I20+I21+I28+I29 -> 781120 | J30: =J7+J13+J16+J20+J21+J28+J29 -> 12435835 | K30: =IF(F30=0,0,J30/F30/12) -> 1114.6817
A32: pozn.1): rozdiel medzi údajom, vykazovaným v stĺpci T6_R18_SH a údajom v T5_R56_(SC+SD) uviesť v komentári
B33: Rozdiel medzi údajmi vykazovanými v tab.T6 a T5 vznikol zaúčtovaním rezervy na dovolenky
A34: *) medzi profesorov sa započítava aj funkčné zaradenie "hosťujúci profesor"
B35: Pre účely výpočtu počtu zamestnancov bola použitá metóda - Priemerný evidenčný počet zamestnancov - prepočítaný počet - je aritmetickým priemerom denných evidenčných počtov zamestnancov za sledované obdobie prepočítaných na plnú zamestnanosť podľa dĺžky pracovných úväzkov zamestnancov, resp. podľa skutočne odpracovaných hodín. U zamestnancov, ktorí vykonávajú v organizácii činnosť v ďalšom pracovnom pomere, sa výpočet priemerného evidenčného počtu zamestnancov prepočítaného na plne zamestnaných skladá z dvoch častí :
B36: - prvýkrát sa započítavajú do evidenčného počtu zamestnancov vo fyzických osobách s plným týždenným pracovným časom, ktorý sa rovná ich prepočítanému počtu, a to pracovným úväzkom v hlavnom zamestnaní;
B37: - druhýkrát sa započítavajú do evidenčného počtu zamestnancov prepočítaného, a to svojím pracovným úväzkom v ďalšom pracovnom pomere.
B38: Do evidenčného počtu zamestnancov prepočítaného sa títo zamestnanci započítavajú dvakrát na rozdiel od evidenčného počtu zamestnancov vo fyzických osobách, v ktorom sú započítaní iba raz.

Sheet T6a-Zamestnanci_a_mzdy (ženy)
A1: Tabuľka č. 6a: Zamestnanci a náklady na mzdy verejnej vysokej školy v roku 2016 - len ženy a výpočet priemerného platu mužov
A2: Názov verejnej vysokej školy: Univerzita Konštantína Filozofa v Nitre | L2: Výpočet
A3: Číslo riadku | B3: Kategória zamestnancov - žien | C3: Priemerný evidenčný prepočítaný počet žien za rok 2016 | G3: Náklady na mzdy poskytované z prostriedkov štátneho rozpočtu (v Eur) | H3: z toho: | I3: Náklady na mzdy poskytované z iných zdrojov (v Eur) | J3: Náklady na mzdy spolu (v Eur) | K3: Priemerné platy žien | L3: Priemerné platy mužov
C4: Počet žien platených z prostriedkov štátneho rozpočtu | D4: z toho: | E4: Počet žien platených z iných zdrojov | F4: Počet žien spolu
D5: Ženy platené z dotácie MŠVVaŠ SR | H5: Náklady na mzdy poskytované z dotácie MŠVVaŠ SR (v Eur)
C6: A | D6: B | E6: C | F6: D=A+C | G6: E | H6: F | I6: G | J6: H=E+G | K6: I=H/D/12 | L6: J
A7: 1 | B7: Vysokoškolskí učitelia spolu [SUM(R2:R6)] | C7: =SUM(C8:C12) -> 286 | D7: =SUM(D8:D12) -> 286 | E7: =SUM(E8:E12) -> 0 | F7: =C7+E7 -> 286 | G7: =SUM(G8:G12) -> 4202596 | H7: =SUM(H8:H12) -> 4201125 | I7: =SUM(I8:I12) -> 213601 | J7: =G7+I7 -> 4416197 | K7: =IF(F7=0,0,J7/F7/12) -> 1286.7707 | L7: =IF('T6-Zamestnanci_a_mzdy'!F7-'T6a-Zamestnanci_a_mzdy (ženy)'!F7=0,0,('T6-Zamestnanci_a_mzdy'!J7-'T6a-Zamestnanci_a_mzdy (ženy)'!J7)/('T6-Zamestnanci_a_mzdy'!F7-'T6a-Zamestnanci_a_mzdy (ženy)'!F7)/12) -> 1344.5921
A8: 2 | B8: - vysokoškolskí učitelia s funkčným zaradením "profesor" *) | C8: 28 | D8: 28 | F8: =C8+E8 -> 28 | G8: 612538 | H8: 611067 | I8: 20623 | J8: =G8+I8 -> 633161 | K8: =IF(F8=0,0,J8/F8/12) -> 1884.4077 | L8: =IF('T6-Zamestnanci_a_mzdy'!F8-'T6a-Zamestnanci_a_mzdy (ženy)'!F8=0,0,('T6-Zamestnanci_a_mzdy'!J8-'T6a-Zamestnanci_a_mzdy (ženy)'!J8)/('T6-Zamestnanci_a_mzdy'!F8-'T6a-Zamestnanci_a_mzdy (ženy)'!F8)/12) -> 1717.3358
A9: 3 | B9: - vysokoškolskí učitelia s funkčným zaradením "docent" | C9: 80 | D9: 80 | F9: =C9+E9 -> 80 | G9: 1352950 | H9: 1352950 | I9: 64536 | J9: =G9+I9 -> 1417486 | K9: =IF(F9=0,0,J9/F9/12) -> 1476.5479 | L9: =IF('T6-Zamestnanci_a_mzdy'!F9-'T6a-Zamestnanci_a_mzdy (ženy)'!F9=0,0,('T6-Zamestnanci_a_mzdy'!J9-'T6a-Zamestnanci_a_mzdy (ženy)'!J9)/('T6-Zamestnanci_a_mzdy'!F9-'T6a-Zamestnanci_a_mzdy (ženy)'!F9)/12) -> 1469.701
A10: 4 | B10: - vysokoškolskí učitelia s funkčným zaradením "odborný asistent" | C10: 175 | D10: 175 | F10: =C10+E10 -> 175 | G10: 2206896 | H10: 2206896 | I10: 126932 | J10: =G10+I10 -> 2333828 | K10: =IF(F10=0,0,J10/F10/12) -> 1111.3467 | L10: =IF('T6-Zamestnanci_a_mzdy'!F10-'T6a-Zamestnanci_a_mzdy (ženy)'!F10=0,0,('T6-Zamestnanci_a_mzdy'!J10-'T6a-Zamestnanci_a_mzdy (ženy)'!J10)/('T6-Zamestnanci_a_mzdy'!F10-'T6a-Zamestnanci_a_mzdy (ženy)'!F10)/12) -> 1152.3901
A11: 5 | B11: - vysokoškolskí učitelia s funkčným zaradením "asistent" | F11: =C11+E11 -> 0 | J11: =G11+I11 -> 0 | K11: =IF(F11=0,0,J11/F11/12) -> 0 | L11: =IF('T6-Zamestnanci_a_mzdy'!F11-'T6a-Zamestnanci_a_mzdy (ženy)'!F11=0,0,('T6-Zamestnanci_a_mzdy'!J11-'T6a-Zamestnanci_a_mzdy (ženy)'!J11)/('T6-Zamestnanci_a_mzdy'!F11-'T6a-Zamestnanci_a_mzdy (ženy)'!F11)/12) -> 0
A12: 6 | B12: - vysokoškolskí učitelia s funkčným zaradením "lektor" | C12: 3 | D12: 3 | F12: =C12+E12 -> 3 | G12: 30212 | H12: 30212 | I12: 1510 | J12: =G12+I12 -> 31722 | K12: =IF(F12=0,0,J12/F12/12) -> 881.16667 | L12: =IF('T6-Zamestnanci_a_mzdy'!F12-'T6a-Zamestnanci_a_mzdy (ženy)'!F12=0,0,('T6-Zamestnanci_a_mzdy'!J12-'T6a-Zamestnanci_a_mzdy (ženy)'!J12)/('T6-Zamestnanci_a_mzdy'!F12-'T6a-Zamestnanci_a_mzdy (ženy)'!F12)/12) -> 955.57229
A13: 7 | B13: Odborní zamestnanci | C13: 37 | D13: 37 | F13: =C13+E13 -> 37 | G13: 315076 | H13: 315076 | I13: 3961 | J13: =G13+I13 -> 319037 | K13: =IF(F13=0,0,J13/F13/12) -> 718.5518 | L13: =IF('T6-Zamestnanci_a_mzdy'!F13-'T6a-Zamestnanci_a_mzdy (ženy)'!F13=0,0,('T6-Zamestnanci_a_mzdy'!J13-'T6a-Zamestnanci_a_mzdy (ženy)'!J13)/('T6-Zamestnanci_a_mzdy'!F13-'T6a-Zamestnanci_a_mzdy (ženy)'!F13)/12) -> 992.86179
B14: z toho:
A15: 8 | B15: - na oblasť IT | C15: 5 | D15: 5 | F15: =C15+E15 -> 5 | G15: 56589 | H15: 56589 | I15: 2430 | J15: =G15+I15 -> 59019 | K15: =IF(F15=0,0,J15/F15/12) -> 983.65 | L15: =IF('T6-Zamestnanci_a_mzdy'!F15-'T6a-Zamestnanci_a_mzdy (ženy)'!F15=0,0,('T6-Zamestnanci_a_mzdy'!J15-'T6a-Zamestnanci_a_mzdy (ženy)'!J15)/('T6-Zamestnanci_a_mzdy'!F15-'T6a-Zamestnanci_a_mzdy (ženy)'!F15)/12) -> 1033.8467
A16: 9 | B16: Administratívni zamestnanci spolu [SUM(R10:R12)] | C16: =SUM(C17:C19) -> 142 | D16: =SUM(D17:D19) -> 142 | E16: =SUM(E17:E19) -> 2 | F16: =C16+E16 -> 144 | G16: =SUM(G17:G19) -> 1682765 | H16: =SUM(H17:H19) -> 1682765 | I16: =SUM(I17:I19) -> 95609 | J16: =G16+I16 -> 1778374 | K16: =IF(F16=0,0,J16/F16/12) -> 1029.1516 | L16: =IF('T6-Zamestnanci_a_mzdy'!F16-'T6a-Zamestnanci_a_mzdy (ženy)'!F16=0,0,('T6-Zamestnanci_a_mzdy'!J16-'T6a-Zamestnanci_a_mzdy (ženy)'!J16)/('T6-Zamestnanci_a_mzdy'!F16-'T6a-Zamestnanci_a_mzdy (ženy)'!F16)/12) -> 2520.5887
A17: 10 | B17: - zamestnanci zaradení na rektorátoch | C17: 52 | D17: 52 | E17: 2 | F17: =C17+E17 -> 54 | G17: 759573 | H17: 759573 | I17: 32495 | J17: =G17+I17 -> 792068 | K17: =IF(F17=0,0,J17/F17/12) -> 1222.3272 | L17: =IF('T6-Zamestnanci_a_mzdy'!F17-'T6a-Zamestnanci_a_mzdy (ženy)'!F17=0,0,('T6-Zamestnanci_a_mzdy'!J17-'T6a-Zamestnanci_a_mzdy (ženy)'!J17)/('T6-Zamestnanci_a_mzdy'!F17-'T6a-Zamestnanci_a_mzdy (ženy)'!F17)/12) -> 2050.2778
A18: 11 | B18: - zamestnanci zaradení na dekanátoch | C18: 51 | D18: 51 | F18: =C18+E18 -> 51 | G18: 640484 | H18: 640484 | I18: 45053 | J18: =G18+I18 -> 685537 | K18: =IF(F18=0,0,J18/F18/12) -> 1120.1585 | L18: =IF('T6-Zamestnanci_a_mzdy'!F18-'T6a-Zamestnanci_a_mzdy (ženy)'!F18=0,0,('T6-Zamestnanci_a_mzdy'!J18-'T6a-Zamestnanci_a_mzdy (ženy)'!J18)/('T6-Zamestnanci_a_mzdy'!F18-'T6a-Zamestnanci_a_mzdy (ženy)'!F18)/12) -> 4442.5
A19: 12 | B19: - zamestnanci zaradení na ostatných pracoviskách | C19: 39 | D19: 39 | F19: =C19+E19 -> 39 | G19: 282708 | H19: 282708 | I19: 18061 | J19: =G19+I19 -> 300769 | K19: =IF(F19=0,0,J19/F19/12) -> 642.6688 | L19: =IF('T6-Zamestnanci_a_mzdy'!F19-'T6a-Zamestnanci_a_mzdy (ženy)'!F19=0,0,('T6-Zamestnanci_a_mzdy'!J19-'T6a-Zamestnanci_a_mzdy (ženy)'!J19)/('T6-Zamestnanci_a_mzdy'!F19-'T6a-Zamestnanci_a_mzdy (ženy)'!F19)/12) -> 0
A20: 13 | B20: Výskumní pracovníci alebo umeleckí pracovníci | C20: 9 | D20: 9 | F20: =C20+E20 -> 9 | G20: 111829 | H20: 111829 | I20: 2067 | J20: =G20+I20 -> 113896 | K20: =IF(F20=0,0,J20/F20/12) -> 1054.5926 | L20: =IF('T6-Zamestnanci_a_mzdy'!F20-'T6a-Zamestnanci_a_mzdy (ženy)'!F20=0,0,('T6-Zamestnanci_a_mzdy'!J20-'T6a-Zamestnanci_a_mzdy (ženy)'!J20)/('T6-Zamestnanci_a_mzdy'!F20-'T6a-Zamestnanci_a_mzdy (ženy)'!F20)/12) -> 872.63158
A21: 14 | B21: Prevádzkoví zamestnanci okrem zamestnancov študentských domovov a jedální | C21: 54 | D21: 54 | F21: =C21+E21 -> 54 | G21: 283754 | H21: 283754 | I21: 950 | J21: =G21+I21 -> 284704 | K21: =IF(F21=0,0,J21/F21/12) -> 439.35802 | L21: =IF('T6-Zamestnanci_a_mzdy'!F21-'T6a-Zamestnanci_a_mzdy (ženy)'!F21=0,0,('T6-Zamestnanci_a_mzdy'!J21-'T6a-Zamestnanci_a_mzdy (ženy)'!J21)/('T6-Zamestnanci_a_mzdy'!F21-'T6a-Zamestnanci_a_mzdy (ženy)'!F21)/12) -> 715.30647
A22: 15 | B22: Zamestnanci osobitne financovaných súčastí verejnej vysokej školy (špecifiká) z R1, R7, R9, R13, R14 spolu [SUM(R15a:R15...)] | C22: =SUM(C23:C26) -> 2 | D22: =SUM(D23:D26) -> 2 | E22: =SUM(E23:E26) -> 0 | F22: =SUM(F27:F27) -> 0 | G22: =SUM(G23:G26) -> 17330 | H22: =SUM(H23:H26) -> 17330 | I22: =SUM(I23:I26) -> 622 | J22: =SUM(J23:J26) -> 17952 | K22: 748 | L22: =IF('[2]T6-Zamestnanci_a_mzdy'!F22-'[2]T6a-Zamestnanci_a_mzdy (ženy)'!F22=0,0,('[2]T6-Zamestnanci_a_mzdy'!J22-'[2]T6a-Zamestnanci_a_mzdy (ženy)'!J22)/('[2]T6-Zamestnanci_a_mzdy'!F22-'[2]T6a-Zamestnanci_a_mzdy (ženy)'!F22)/12) -> 1207.9444
A23: 15a | B23: Zahranicní lektori | C23: 2 | D23: 2 | F23: =C23+E23 -> 2 | G23: 17330 | H23: 17330 | I23: 622 | J23: =G23+I23 -> 17952 | K23: =IF(F23=0,0,J23/F23/12) -> 748 | L23: =IF('T6-Zamestnanci_a_mzdy'!F23-'T6a-Zamestnanci_a_mzdy (ženy)'!F23=0,0,('T6-Zamestnanci_a_mzdy'!J23-'T6a-Zamestnanci_a_mzdy (ženy)'!J23)/('T6-Zamestnanci_a_mzdy'!F23-'T6a-Zamestnanci_a_mzdy (ženy)'!F23)/12) -> 1207.9444
A24: 15b | F24: =C24+E24 -> 0 | J24: =G24+I24 -> 0 | K24: =IF(F24=0,0,J24/F24/12) -> 0 | L24: =IF('T6-Zamestnanci_a_mzdy'!F24-'T6a-Zamestnanci_a_mzdy (ženy)'!F24=0,0,('T6-Zamestnanci_a_mzdy'!J24-'T6a-Zamestnanci_a_mzdy (ženy)'!J24)/('T6-Zamestnanci_a_mzdy'!F24-'T6a-Zamestnanci_a_mzdy (ženy)'!F24)/12) -> 0
A25: 15c | F25: =C25+E25 -> 0 | J25: =G25+I25 -> 0 | K25: =IF(F25=0,0,J25/F25/12) -> 0 | L25: =IF('T6-Zamestnanci_a_mzdy'!F25-'T6a-Zamestnanci_a_mzdy (ženy)'!F25=0,0,('T6-Zamestnanci_a_mzdy'!J25-'T6a-Zamestnanci_a_mzdy (ženy)'!J25)/('T6-Zamestnanci_a_mzdy'!F25-'T6a-Zamestnanci_a_mzdy (ženy)'!F25)/12) -> 0
A26: 15d | F26: =C26+E26 -> 0 | J26: =G26+I26 -> 0 | K26: =IF(F26=0,0,J26/F26/12) -> 0 | L26: =IF('T6-Zamestnanci_a_mzdy'!F26-'T6a-Zamestnanci_a_mzdy (ženy)'!F26=0,0,('T6-Zamestnanci_a_mzdy'!J26-'T6a-Zamestnanci_a_mzdy (ženy)'!J26)/('T6-Zamestnanci_a_mzdy'!F26-'T6a-Zamestnanci_a_mzdy (ženy)'!F26)/12) -> 0
F27: =C27+E27 -> 0
A28: 16 | B28: Zamestnanci študentských domovov | C28: 35 | D28: 35 | E28: 1 | F28: =C28+E28 -> 36 | G28: 219948 | H28: 219948 | I28: 4057 | J28: =G28+I28 -> 224005 | K28: =IF(F28=0,0,J28/F28/12) -> 518.53009 | L28: =IF('T6-Zamestnanci_a_mzdy'!F28-'T6a-Zamestnanci_a_mzdy (ženy)'!F28=0,0,('T6-Zamestnanci_a_mzdy'!J28-'T6a-Zamestnanci_a_mzdy (ženy)'!J28)/('T6-Zamestnanci_a_mzdy'!F28-'T6a-Zamestnanci_a_mzdy (ženy)'!F28)/12) -> 686.10801
A29: 17 | B29: Zamestnanci študentských jedální | E29: 16 | F29: =C29+E29 -> 16 | I29: 111638 | J29: =G29+I29 -> 111638 | K29: =IF(F29=0,0,J29/F29/12) -> 581.44792 | L29: =IF('T6-Zamestnanci_a_mzdy'!F29-'T6a-Zamestnanci_a_mzdy (ženy)'!F29=0,0,('T6-Zamestnanci_a_mzdy'!J29-'T6a-Zamestnanci_a_mzdy (ženy)'!J29)/('T6-Zamestnanci_a_mzdy'!F29-'T6a-Zamestnanci_a_mzdy (ženy)'!F29)/12) -> 699.8536
A30: 18 | B30: Spolu [R1+R7+R9+R13+R14+R16+R17] | C30: =C7+C13+C16+C20+C21+C28+C29 -> 563 | D30: =D7+D13+D16+D20+D21+D28+D29 -> 563 | E30: =E7+E13+E16+E20+E21+E28+E29 -> 19 | F30: =F7+F13+F16+F20+F21+F28+F29 -> 582 | G30: =G7+G13+G16+G20+G21+G28+G29 -> 6815968 | H30: =H7+H13+H16+H20+H21+H28+H29 -> 6814497 | I30: =I7+I13+I16+I20+I21+I28+I29 -> 431883 | J30: =J7+J13+J16+J20+J21+J28+J29 -> 7247851 | K30: =IF(F30=0,0,J30/F30/12) -> 1037.7794 | L30: =IF('T6-Zamestnanci_a_mzdy'!F30-'T6a-Zamestnanci_a_mzdy (ženy)'!F30=0,0,('T6-Zamestnanci_a_mzdy'!J30-'T6a-Zamestnanci_a_mzdy (ženy)'!J30)/('T6-Zamestnanci_a_mzdy'!F30-'T6a-Zamestnanci_a_mzdy (ženy)'!F30)/12) -> 1243.4052
A32: pozn.1): rozdiel medzi údajom, vykazovaným v stĺpci T6_R18_SH a údajom v T5_R56_(SC+SD) uviesť v komentári
A33: *) medzi profesorov sa započítava aj funkčné zaradenie "hosťujúci profesor"
B34: Pre účely výpočtu počtu zamestnancov bola použitá metóda - Priemerný evidenčný počet zamestnancov - prepočítaný počet - je aritmetickým priemerom denných evidenčných počtov zamestnancov za sledované obdobie prepočítaných na plnú zamestnanosť podľa dĺžky pracovných úväzkov zamestnancov, resp. podľa skutočne odpracovaných hodín. U zamestnancov, ktorí vykonávajú v organizácii činnosť v ďalšom pracovnom pomere, sa výpočet priemerného evidenčného počtu zamestnancov prepočítaného na plne zamestnaných skladá z dvoch častí :
B35: - prvýkrát sa započítavajú do evidenčného počtu zamestnancov vo fyzických osobách s plným týždenným pracovným časom, ktorý sa rovná ich prepočítanému počtu, a to pracovným úväzkom v hlavnom zamestnaní;
B36: - druhýkrát sa započítavajú do evidenčného počtu zamestnancov prepočítaného, a to svojím pracovným úväzkom v ďalšom pracovnom pomere.
B37: Do evidenčného počtu zamestnancov prepočítaného sa títo zamestnanci započítavajú dvakrát na rozdiel od evidenčného počtu zamestnancov vo fyzických osobách, v ktorom sú započítaní iba raz.

Sheet T7_Doktorandi 
A1: Tabuľka č. 7: Náklady verejnej vysokej školy na štipendiá interných doktorandov v roku 2016
A2: Názov verejnej vysokej školy: Univerzita Konštantína Filozofa v Nitre
