Workbook
Name _kmp1: #REF!
Name _kmp1: #REF!
Name _kmp2: #REF!
Name _kmt1: #REF!
Name _kmt1: #REF!
Name _T1: #REF!
Name _wd1: [1]vahy!$B$1
Name _wd1: [1]vahy!$B$1
Name _wd3: [1]vahy!$B$3
Name _wd3: [1]vahy!$B$3
Name _we1: [1]vahy!$B$2
Name _we1: [1]vahy!$B$2
Name _we3: [1]vahy!$B$4
Name _we3: [1]vahy!$B$4
Name denní: #REF!
Name denní: #REF!
Name dokpo: #REF!
Name dokpo: #REF!
Name dokpred: #REF!
Name dokpred: #REF!
Name druhý: #REF!
Name druhý: #REF!
Name exterdruhý: #REF!
Name exterdruhý: #REF!
Name externeplat: #REF!
Name externeplat: #REF!
Name exterplat: #REF!
Name exterplat: #REF!
Name KKS_doc: #REF!
Name KKS_doc: #REF!
Name KKS_ost: #REF!
Name KKS_ost: #REF!
Name KKS_phd: #REF!
Name KKS_phd: #REF!
Name KKS_prof: #REF!
Name KKS_prof: #REF!
Name koef_gm_mzdy: #REF!
Name koef_gm_mzdy: #REF!
Name koef_kpn: #REF!
Name koef_kpn: #REF!
Name koef_prer_nad_gm_mzdy: #REF!
Name koef_prer_nad_gm_mzdy: #REF!
Name koef_PV: #REF!
Name koef_PV: #REF!
Name koef_udr_kat1: #REF!
Name koef_udr_kat1: #REF!
Name koef_udr_kat1: #REF!
Name koef_udr_kat1: #REF!
Name koef_udr_kat2: #REF!
Name koef_udr_kat2: #REF!
Name koef_udr_kat2: #REF!
Name koef_udr_kat2: #REF!
Name koef_udr_kat3: #REF!
Name koef_udr_kat3: #REF!
Name koef_udr_kat3: #REF!
Name koef_udr_kat3: #REF!
Name koef_VV: #REF!
Name koef_VV: #REF!
Name kpn_ca_do: #REF!
Name kpn_ca_do: #REF!

Sheet Obsah
B1: Obsah tabuľkovej prílohy výročnej správy o hospodárení verejnej vysokej školy za rok 2016
A2: Vysvetlivky | B2: Vysvetlivky k tabuľkám výročnej správy o hospodárení verejných vysokých škôl za rok 2016
A3: Súvzťažnosti | B3: Súvzťažnosti tabuliek výročnej správy o hospodárení verejných vysokých škôl za rok 2016
A4: Kódy z CRŠ | B4: Kódy z Centrálneho registra študentov
A5: Tabuľka 1 | B5: Príjmy z dotácií verejnej vysokej škole zo štátneho rozpočtu z kapitoly MŠVVaŠ SR poskytnuté na základe Zmluvy o poskytnutí dotácie zo štátneho rozpočtu prostredníctvom rozpočtu Ministerstva školstva, vedy, výskumu a športu Slovenskej republiky na rok 2016 na programe 077
A6: Tabuľka 2 | B6: Príjmy verejnej vysokej školy v roku 2016 majúce charakter dotácie okrem príjmov z dotácií z kapitoly MŠVVaŠ SR a okrem štrukturálnych fondov EÚ
A7: Tabuľka 3 | B7: Výnosy verejnej vysokej školy v rokoch 2015 a 2016
A8: Tabuľka 4 | B8: Výnosy verejnej vysokej školy zo školného a z poplatkov spojených so štúdiom v rokoch 2015 a 2016
A9: Tabuľka 5 | B9: Náklady verejnej vysokej školy v rokoch 2015 a 2016
A10: Tabuľka 6 | B10: Zamestnanci a náklady na mzdy verejnej vysokej školy v roku 2016
A11: Tabuľka 6a | B11: Zamestnanci a náklady na mzdy verejnej vysokej školy v roku 2016 - len ženy
A12: Tabuľka 7 | B12: Náklady verejnej vysokej školy na štipendiá interných doktorandov v roku 2016
A13: Tabuľka 8 | B13: Údaje o systéme sociálnej podpory - časť sociálne štipendiá (§ 96 zákona) za roky 2015 a 2016
... A26: Tabuľka 23 | B26: Náklady verejnej vysokej školy v roku 2016 v oblasti sociálnej podpory študentov

Sheet zmeny
A1: Zmeny tabuliek výročnej správy o hospodárení za rok 2016 v porovnaní s rokom 2015
A2: Všeobecná poznámka č. 1 | C2: v hlavičkách, vo vysvetlivkách a v súvsťažnostiach boli zmenené (aktualizované) roky
A3: Tabuľka 1 | B3: príjmy z dotácie na základe dotačnej zmluvy , len 077 | C3: bez zmien
A4: Tabuľka 2 | B4: príjmy verejnej vysokej školy v roku 2016 majúce charakter dotácie | C4: bez zmien
A5: Tabuľka 3 | B5: výnosy VVŠ | C5: doplnené a zoskupené syntetické účty tak aby bolo možné kontrolovať sledované položky
A6: Tabuľka 4 | B6: výnosy VVŠ zo školného a poplatkov | C6: bez zmien
A7: Tabuľka 5 | B7: náklady VVŠ | C7: doplnené analytické účty a ich príp. zoskupenie
A8: Tabuľka 6 | B8: náklady na mzdy | C8: bez zmien
A9: Tabuľka 6a | B9: náklady na mzdy žien | C9: bez zmien
A10: Tabuľka 7 | B10: doktorandi a doktorandské štipendiá | C10: bez zmien
A11: Tabuľka 8 | B11: sociálne štipendiá | C11: bez zmien
A12: Tabuľka 9 | B12: študentské domovy | C12: zmeny v riadku 6
A13: Tabuľka 10 | B13: študentské jedálne | C13: bez zmien
A14: Tabuľka 11 | B14: zdroje obstarania a technického zhodnotenia majetku | C14: bez zmien
... A17: Tabuľka 16 | B17: stav bankových účtov | C17: bez zmien
A18: Tabuľka 17 | B18: štrukturálne fondy EÚ
A19: Tabuľka 18 | B19: dotácie mimo dotačnej zmluvy a mimo dotácií zo štrukturálnych fondov EÚ | C19: bez zmien
A20: Tabuľka 19 | B20: štipendiá z vlastných zdrojov | C20: doplnené riadky 8, 9, 10, v R1 upravené vzťahy
A21: Tabuľka 20 | B21: motivačné štipendiá | C21: doplnený stĺpec, upravené vzorce aj v súvsťažnostiach
A22: Tabuľka 21 | B22: štruktúra účtu 384 - výnosy budúcich období | C22: bez zmien
A23: Tabuľka 22 | B23: výnosy verejnej vysokej školy v roku 2016 v oblasti sociálnej podpory študentov | C23: doplnené pomenovanie stĺpcov a súvsťažnosti na tabuľky T1, T4 a T18
A24: Tabuľka 23 | B24: náklady verejnej vysokej školy v roku 2016 v oblasti sociálnej podpory študentov | C24: doplnené pomenovanie stĺpcov a súvsťažnosti na tabuľky T4 a T19

Sheet Vysvetlivky
A1: Vysvetlivky k tabuľkám výročnej správy o hospodárení verejnej vysokej školy za rok 2016
A2: Kód vysvetlivky | B2: Vysvetlivka
A3: SPOL_1 | B3: Vysvetlivky k tabuľkám sú organizované v dvoch stĺpcoch. Prvý stĺpec označený ako "Kód vysvetlivky" obsahuje označenie vysvetlivky, ktoré určuje, ku ktorej tabuľke a ku ktorej časti tabuľky sa vysvetlivka vzťahuje. Význam použitých kódov je illustrovaný na nasledovných príkladoch: Príklad č. 1: T1_R10 - vysvetlivka sa vzťahuje k tabuľke č.1, k riadku 10 Príklad č. 2: T1_R4:R8 - vysvetlivka sa vzťahuje k tabuľke č. 1, k riadkom 4 až 8 Príklad č. 3: T1_V1 - ide o všeobecnú vysvetlivku č. 1 k tabuľke č. 1 Príklad č. 4: T14_SA - vysvetlivka sa vzťahuje k tabuľke č. 14, k stĺpcu A Príklad č. 5: SPOL_1 - ide o vysvetlivku č. 1 platnú pre všetky tabuľky
A4: SPOL_2 | B4: Niektoré polia tabuliek sa počítajú alebo inak odvodzujú z iných polí. Tieto polia sú označené žltou farbou a vysoká škola ich nevyplňuje. Polia, ktoré je potrebné vyplniť, sú označené zelenou farbou. Polia, v ktorých nemôže byť žiadny údaj, sú označené X.
A5: SPOL_3 | B5: Ak nie je uvedené inak, všetky údaje o výške finančných prostriedkov z roku 2015 a 2016 sa uvádzajú v eurách s presnosťou na dve desatinné miesta. Dôvodom tohto pravidla je, aby pri sumarizácii nedochádzalo k väčším chybám zo zaokrúhľovania.
A6: SPOL_4 | B6: Vo všetkých predpísaných tabuľkách výročnej správy sa dodržiavajú nasledujúce konvencie: a) Všetky riadky tabuliek, ktoré obsahujú údaje, sú číslované. Ak sa údaj v riadku vypočíta z údajov v iných riadkoch, je v riadku s vypočítaným údajom uvedený príslušný vzorec. b) Riadky tabuľky s hlavnými údajmi za sledovanú oblasť sú vyznačené tučným písmom. Ak v riadkoch nasledujúcich za takýmto riadkom je uvedený podrobnejší rozpis údaja, ktorý riadok obsahuje, je v riadku s hlavným údajom informácia, z ktorých riadkov sa daný hlavný údaj vypočíta. Riadky s rozpisom hlavného údaja začínajú znakom „-“ a sú vytlačené normálnym písmom (pozri napríklad riadky R2 až R5 v tabuľke č. 3). c) Ak je potrebné za riadkom s údajom uviesť, že tento údaj obsahuje v sebe nejaký čiastkový údaj (napríklad koľko z uvedeného objemu išlo na výskum a vývoj), uvedie sa v riadku za údajom „z toho“ a na ďalší riadok sa uvedie uvedený čiastkový údaj. Riadok s čiastkovým údajom začína znakom „-“ (pozri napríklad riadok R51 z tabuľky č. 3 alebo riadok R60 z tabuľky č. 5) d) Výraz „SUM(R1:R5)“ znamená „súčet riadkov R1 až R5“. e) Ak tabuľka obsahuje časť, o ktorej nie je dopredu známe, koľko bude mať riadkov, vkladané riadky sa označia číslom predchádzajúceho riadku a postupne písmenami a, b, c, ... (pozri napríklad riadky R15 a R15a v tabuľke č. 6). Pri vkladaní nového riadku je potrebné postupovať nasledovne: nastaviť kurzor na voľný riadok za riadok končiaci sa písmenom, napr. 2a, cez hlavné menu vložiť riadok, resp. viac riadkov. Údaje doplnené do takto vloženého riadku sa automaticky prenesú do sumárneho riadku (riadok 2). Vložené riadky označte nasledujúcimi písmenami abecedy napr. 2b, 2c. f) V poliach tabuliek, ktoré sa nevypĺňajú, je uvedený znak „X“
A7: SPOL_5 | B7: Ak položke požadovanej v tabuľke zodpovedá podľa predpísanej analytickej evidencie na príslušnom syntetickom účte nejaký špecifikcký kód (napríklad kód ekonomickej klasifikácie), uvedie sa tento kód za názvom položky.
A8: T1_V1 | B8: Tabuľka č. 1 poskytuje informácie o celkovom objeme a programovej štruktúre príjmov na základe Zmluvy o poskytnutí dotácií zo štátneho rozpočtu prostredníctvom kapitoly MŠVVaŠ na programe 077. Dotácie programov 021, 05T, 06K, resp. programov zo štrukturálnych fondov EÚ nie sú súčasťou tejto zmluvy.
A9: T1_R1:R15 | B9: V riadku 1 až 15 sa uvádzajú príjmy na programe 077 podľa programovej štruktúry na rok 2016.
A10: T1_R12 a T1_R13 | B10: Uvádza sa skutočne poskytnutá dotácia na sociálne a motivačné štipendiá a nie nárok vyplývajúci z potreby štipendií podľa zákona.
A11: T2_V1 | B11: Tabuľka č. 2 poskytuje informácie o celkovom objeme a štruktúre príjmov z dotácií alebo príjmov majúcich charakter dotácií, ktoré neboli poskytnuté z kapitoly MŠVVaŠ SR. Uvedú sa tu aj dotácie z rozpočtovej kapitoly Úrad vlády SR, určené na riešenie projektov v rámci Finančného mechanizmu EHP a Nórskeho finančného mechanizmu.
A12: T2_R1, R1a,... | B12: V riadku 1 uvedie vysoká škola celkový objem príjmov z dotácií zo štátneho rozpočtu poskytnutých z iných kapitol ako je kapitola MŠVVaŠ SR. V riadkoch 1a ... rozpíše podrobnejšie jednotlivé druhy týchto dotácií. Príklady: 1. dotácie z iných kapitol, 2. dotácie z APVV pre VVŠ ako spoluriešiteľa, resp.dotácie, ak hlavným riešiteľom je iná právnická osoba ako VVŠ.
A13: T2_R2, R2a... | B13: V riadku 2 uvedie vysoká škola celkový objem príjmov z dotácií z rozpočtu obcí a VÚC. V riadkoch R2a ... rozpíše podrobnejšie jednotlivé druhy týchto dotácií, každú na osobitný riadok.
... A91: T23_V1 | B91: Tabuľka č. 23 poskytuje informácie o výkaze ziskov a strát sumár za VVŠ za oblasť sociálnej podpory študentov časť "Náklady". Údaje sa uvádzajú s presnosťou na dve desatinné miesta.

Sheet Súvzťažnosti
A1: Súvzťažnosti tabuliek výročnej správy o hospodárení verejnej vysokej školy za rok 2016
A2: Kód vysvetlivky | B2: Kontrola | C2: Poznámky
A3: T1_V1 | B3: T1 = dotačná zmluva na 2016 | C3: Bežná a kapitálová dotácia je kontrolovaná na Zmluvu o poskytnutí dotácií zo štátneho rozpočtu prostredníctvom kapitoly MŠVVaŠ (ďalej len "dotačná zmluva") a jej dodatkov na rok 2016 na programe 077.
A4: T2_V1 | B4: T2 | C4: Údaje v T2 nie je možné odkontrolovať na údaje z výkazníctva ani na údaje v iných tabuľkách, nakoľko ide o údaje účtované na rôznych účtoch. (691,649). Príjmy zo zahraničia majúce charakter dotácie majú obsahovať aj údaje z výskumných, resp. vzdelávacích projektov, ktoré sú podkladom k rozpisu metodiky bežnej dotácie pre VVŠ na kalendárny rok. V R4a... je potrebné uviesť príjmy zo zahraničia (zo zahraničných účtov) a k nim príslušné hodnoty. Neuvádzajú sa tu dotácie, ktoré VVŠ obdržala zo štrukturálnych fondov prostredníctvom iných kapitol štátneho rozpočtu, napr. MPSVaR SR (tieto údaje patria do T17) a dotácie z APVV pre VVŠ ako hlavného riešiteľa (údaje patria do T18). Do tejto tabuľky sa uvádzajú dotácie z APVV pre VVŠ ako spoluriešiteľa, resp.dotácie, ak hlavným riešiteľom je iná právnická osoba ako VVŠ. Nepatria sem prostriedky na zahraničné mobility na 05T 08 a 021 02 03.
A5: T2_R1 | B5: T2_R3 | C5: Uvedie sa dotácia z Úradu vlády SR (na R3) , poskytnutá na riešenie projektov v rámci Finančného mechanizmu EHP a Nórskeho finančného mechanizmu. Údaje budú kontrolované na hodnoty z výkazníctva - bežné a kapitálové výdavky evidované na zdrojoch 11E1, 11E2, 11E3, 11E4 a 121.
A6: T3_V1 | B6: T3_R21_SA (SC) = T4_R1_SA (SB), T3_R22_SA (SC) = T4_R7_SA (SB) | C6: Výnosy sú kontrolované na údaje z výkazníctva - výkaz ziskov a strát, časť výnosy. Údaje v T3 z roku 2015 a údaje z roku 2016 sa uvádzajú v eurách s presnosťou na dve desatinné miestá ( pričom zobrazenie tabuliek je nastavené na Eur). Výnosy zo školného, resp. z poplatkov spojených so štúdiom za hlavnú činnosť v T3_R21, R22 sa taktiež kontrolujú na T4_R1_SB a T4_R7_SB.
A7: T4_V1 | B7: T4_R1_SA(SB) = T3_R20_SA(SC), T4_R7_SA(SB) = T3_R25_SA(SC) T4_R15_SA(SB) = T13_R9_SE(SF) T4_R15_SA(SB) = T22_R58 | C7: Údaje v T4 sú kontrolované na údaje z T3, a to na výnosy z hlavnej činnosti - školné (T3_R20), poplatky spojené so štúdiom (T3_R25). Údaj v R15 - návrh na prídel do štipendijného fondu musí byť minimálne vo výške vykazovanom na riadku R14 - základ pre prídel do štipendijného fondu.
A8: T5_V1 | B8: T5_R56_SC+SD >=< T6_R18_SH T5_R77_SC = T7_R1_SE T5_R81_SC = T19_R1_SC | C8: Náklady sú kontrolované na údaje z výkazníctva - výkaz ziskov a strát, časť náklady. Obdobne ako pri T3 sa údaje z roku 2015 a údaje z roku 2016 sa uvádzajú v eurách s presnosťou na dve desatinné miestá (pričom zobrazenie tabuliek je nastavené na Eur). Za oblasť miezd sú údaje za rok 2016 - účet 521 (R55) v T5 kontrolované na výkazníctvo, časť náklady a údaje v T5_R56_(SC + SD) na T6_R18_SH. Rozdiel medzi údajom v T6_R18_SH a údajmi v T5_R56_SC+SD (Mzdy) môže o.i. tvoriť výška nákladov za nevyčerpané dovolenky. Štipendiá doktorandov z T5_R77_SC sa kontrolujú na údaje z T7_R1_SE. Prospechové štipendiá z vlastných zdrojov z T5_R81_SC sa kontrolujú na údaje v T19_R1_SC. | D8: oprava súvzťažnosti na R1 namiesto na R2 (v T19)
A9: T5_V2 | B9: T5_R88-R91 | C9: Údaje v T5 sú rozšírené o tvorbu fondov
A10: T5_3 | B10: T5_R90_(SA+SB)=T13_R5_SC T5_R90_(SC+SD)=T13_R5_SD | C10: Náklady sú kontrolované na údaje z výkazníctva - tvorba fondu z likvidovaného / predaného majetku
A11: T6_V1 | B11: T6_R1..R6, R7, R9, R13, R14, R16, R17 = Škol 2-04 za 2016, T6_R15a.. = dotačná zmluva na 2016, špecifiká | C11: Údaje v riadkoch R1:R6, R7, R9, R13, R14, R16, R17 sú kontrolované s údajmi v štatistickom výkaze Škol (MŠ SR) 2-04 za rok 2016. Údaje v riadkoch 15a ... (špecifiká) sú kontrolované na rozpis dotácie v roku 2016. Rozdiel medzi údajom v T6_R18_SH a údajmi v T5_R56_SC+SD (Mzdy) je potrebné vyčísliť a s komentárom uviesť v poznámke pod tabuľkou T6.
A12: T7_V1 | B12: T7_R1_SE = T5_R77_SC, T7_R9_SA = dotačná zmluva na 2016_účelové prostriedky na štipendiá doktorandov | C12: Údaje v R1_SE za rok 2016 sú kontrolované na T5_R77_SC a údaje v R9_SA na poskytnutú účelovú dotáciu na štipendiá doktorandov podľa dotačnej zmluvy.
A13: T8_R5 | B13: T8_R5_SA (SC) = dotačná zmluva na rok 2015 (2016), prvok 077 15 01 - účelové prostriedky na sociálne štipendiá | C13: Údaje sú kontrolované na dotačné zmluvy a na účelovú dotáciu na rok 2015, 2016. Za rok 2016 na T1_R12_SA. Údaje v T8_R1_SC by sa mali rovnať údajom z CRŠ kód 1.
A14: T8_V1 | B14: T8_R5_SC= T1_R12_SA T8_R4_SA = zostatok k 31.12.2015 T8_R6_SA = T8_R4_SC T8_R1_SA (SC) ≤ T13_R11_SE (SF) | C14: Údaj v T8_R4_SA predstavuje zostatok nevyčerpanej dotácie z predchádzajúceho roka, t. j. k 31. 12. 2015 . Údaj v T8_R6_SA (SC) predstavuje zostatok nevyčerpanej dotácie k 31. 12. príslušného roka (2015, resp. 2016) a ich hodnoty sa vypočítajú z ostatných uvedených údajov. Zostatok nevyčerpanej dotácie k 31. 12. 2015 je totožný s údajmi vykazovanými v tabuľke T8 výročnej správy za rok 2015.
A15: T9_V1 | B15: T9_R1 = štatistické výkazy MŠVVaŠ SR 2015 (2016) | C15: Údaje o projektovanej lôžkovej kapacite v T9_R1 sa kontrolujú na štatistické výkazy MŠVVaŠ SR (posielané na CVTI SR) 2015, 2016.
A16: T9_V2 | B16: T9_R6_SA (SB) = dotačná zmluva 2015 (2016) - účelové prostriedky na študentské domovy (vrátane dotácie na valorizáciu miezd ŠJ) | C16: Údaje sa kontrolujú na poskytnutú dotáciu na študentské domovy (vrátane zmluvných zariadení a dotácie na valorizáciu platov zamestnancov ŠJ)
A17: T10_V1 | B17: T10_R7_SA (SB) = dotačná zmluva 2015 (2016)_účelová dotácia na študentské jedálne | C17: Údaje v R7_SA (SB) sú kontrolované na dotačné zmluvy a na účelovú dotáciu na rok 2015, 2016.
A18: T10_V2 | B18: T10_R5_SA (SB) | C18: Výnos z dotácie zo štátneho rozpočtu na študentské jedálne v kalendárneho roku sa odvíja od zostatku dotácie predchádzajúceho kalendárneho roka a účelovej dotácie daného kalendárneho roka zníženej o prenos zostatku do nasledujúceho kalendárneho roka, resp. zvýšenej o nárok na poskytnutie nedoplatku.
A19: T10_V3 | B19: T10_R12 = štatistické výkazy MŠVVaŠ SR 2015 (2016) | C19: Údaje sa kontrolujú na štatistické údaje MŠVVaŠ SR zasielané CVTI SR.
A20: T11_V1 | B20: T11_R2_SA (SB) = T13_R2_SC (SD) | C20: Údaje v T11_R2 - tvorba fondu reprodukcie za roky 2015 a 2016 sa musia rovnať údajom v T13_R2_SC (SD).
... A33: T16_V1 | B33: T16_R18_SB = výkazníctvo, súvaha, časť Aktíva, riadok 053, | C33: Globálna hodnota na bankových účtoch z R18 sa kontroluje na Súvahu, časť Aktíva, r. 053. Ak nie je údaj v R2 (dotačný účet) k 31. 12. 2016 vynulovaný, je potrebné doplniť vysvetlenie v stĺpci C.
A34: T17_V1 | C34: Údaje v T17 sú kontrolované na hodnoty z výkazníctva, finančné prostriedky z EÚ (vrátane spolufinancovania zo štátneho rozpočtu), zabezpečované prostredníctvom MŠVVaŠ SR v roku 2016.
A35: T18_V1 | C35: Údaje v T18_R1 sú kontrolované na rozpis bežnej a kapitálovej dotácie na programe 06K v roku 2016 poskytnuté vysokým školám mimo "dotačnej zmluvy" prostredníctvom APVV resp. sekcie vedy a techniky. Údaje v T18_R7 a R8 sú kontrolované na rozpis bežnej dotácie na podrograme 05T 08 a prvku 021 02 03 v roku 2016, poskytnuté vysokým školám mimo "dotačnej zmluvy" prostredníctvom sekcie medzinárodnej spolupráce.
A36: T19_V1 | B36: T19_R1_SC + T20_R3(SC+SD) + T8_R1_SC = T13_R11_SF | C36: Údaje v T19 majú súvzťažnosť s T13, štipendiá z vlastných zdrojov sú taktiež súčasťou štipendijného fondu. Údaj v T13_R11 - čerpanie štipendijného fondu by malo byť vo výške čerpania sociálnych štipendií z T8, motivačných štipendií z T20 a štipendií z vlastných zdrojov z T19.
A37: T20_V1 | B37: T20_R2 = dotačná zmluva 2015 (2016)_účelová dotácia na motivačné štipendiá | C37: Údaje v R2 sú kontrolované na dotačnú zmluvu a na rozpis účelových dotácií na podprograme 077 15 02. Údaje v R3 sú kontrolované na údaje v CRŠ.
A38: T21_V1 | B38: T21_R1_SF = výkazníctvo 2015 súvaha, časť pasíva, riadok 103, predchádzajúce účtovné obdobie T21_R1_SL = výkazníctvo 2016, súvaha, časť pasíva, riadok 103, bežné účtovné obdobie | C38: Celková hodnota účtu 384 za rok 2015 a 2016, uvedená v T21_SF a SL je kontrolovaná na výkaz Súvaha, časť Pasíva, r.103. Štruktúru účtu žiadame uviesť v členení na zvyšok prijatej kapitálovej dotácie zo štátneho rozpočtu a z prostriedkov EÚ (analytický účet 384.11), nevyčerpanú bežnú dotáciu na aktivity budúcich odbobí (384.12) a prostriedky zo zahraničných projektov na budúce aktivity (384.13). Ak sú na tomto účte zaúčtované aj iné výnosy, žiadame ich osobitne uviesť v SD (2015), resp. SI (2016). Údaje za rok 2015 musia byť totožné s údajmi, ktoré VVŠ predložili k výsledkom hospodárenia VVŠ za rok 2015.
A39: T21_V1 | B39: T21_R1_SA + T11_R10_SB -T5_R85_SC = T21_R1_SG | C39: V stĺpci SG sa zvyšok prijatej kapitálovej dotácie, používanej na kompenzáciu odpisov za rok 2016 rovná súčtu zvyšku prijatej kapitálovej dotácie na kompenzáciu odpisov z roku 2015 (stĺpec SA) a výšky kapitálovej dotácie (2016) z T11_R10_SB, zníženému o odpisy, vykazované v T5_R85_SC.
A40: T21_V1 | B40: T21_R1_SB + T11_R10a_SB - T5_R86a_SC = T21_R1_SH | C40: V stĺpci SH sa zvyšok prijatej kapitálovej dotácie, používanej na kompenzáciu odpisov za rok 2016 rovná súčtu zvyšku prijatej kapitálovej dotácie na kompenzáciu odpisov z roku 2015 (stĺpec SB) a výšky kapitálovej dotácie (2016) z T11_R10a_SB, zníženému o odpisy, vykazované v T5_R86a_SC.
A41: T22_V1 | B41: T22_R58_SA_(SB)=T4_R15_SA_(SB) T22R_R64_SA_(SB)= T19_R1_SA_(SB) | C41: Pri vypĺňaní tabuľky je potrebné dodržiavať "Metodické usmernenie k vedeniu účtovníctva od 1. januára 2008 pre verejné vysoké školy používajúce finančný informačný systém SOFIA "
A42: T23_V1 | B42: T23_R24_SA_(SB)≤T19_R1_SA_(SC) T23_R30_SA_(SB)=T4_R15_SA_(SB) | C42: Pri vypĺňaní tabuľky je potrebné dodržiavať "Metodické usmernenie k vedeniu účtovníctva od 1. januára 2008 pre verejné vysoké školy používajúce finančný informačný systém SOFIA "

Sheet Kódy z CRŠ
A1: Kódy z Centrálneho registra študentov
A2: Kód | B2: Názov | C2: Platné od
A3: 1 | B3: sociálne štipendium | C3: 38623
A4: 4 | B4: motivačné štipendium - vynikajúce plnenie študijných povinností | C4: 39326
A5: 5 | B5: motivačné štipendium - mimoriadny študijný výsledok | C5: 39326
A6: 6 | B6: motivačné štipendium - mimoriadny výsledok vo výskume/vývoji | C6: 39326
A7: 7 | B7: motivačné štipendium - mimoriadny výsledok v umeleckej činnosti | C7: 39326
A8: 8 | B8: motivačné štipendium - mimoriadny výsledok v športovej činnosti | C8: 39326
A9: 9 | B9: štipendium z vlastných zdrojov vysokej školy | C9: 39326
A10: 10 | B10: základné z UD MSSR, pred dizer.sk. | C10: 40245 | D10: DrŠ
A11: 11 | B11: základné z UD MSSR, po dizer. sk. | C11: 40245 | D11: DrŠ
A12: 12 | B12: základné z NeúčelD MSSR | C12: 40245 | D12: DrŠ
A13: 13 | B13: z mimo dotačných zdrojov | C13: 40245 | D13: DrŠ
A14: 14 | B14: bezpečnostný príplatok z UD MSSR | C14: 40245 | D14: DrŠ
A15: 15 | B15: zvýšenie PhD. štipendia z UD MSSR | C15: 40245 | D15: DrŠ
A16: 16 | B16: zvýšenie PhD. štipendia z Neúčel D MSSR | C16: 40245 | D16: DrŠ
A17: 17 | B17: štipendium poskytuje EVI | C17: 40245 | D17: DrŠ
A18: 18 | B18: vládny štipendista | C18: 40245
A19: 19 | B19: motivačné štipendium - vybrané odbory (§ 96a ods.1 písm. a)) | C19: 41275

Sheet T1-Dotácie podľa DZ
A1: Tabuľka č. 1: Príjmy z dotácií verejnej vysokej škole zo štátneho rozpočtu z kapitoly MŠVVaŠ SR poskytnuté na základe Zmluvy o poskytnutí dotácie zo štátneho rozpočtu prostredníctvom rozpočtu Ministerstva školstva, vedy, výskumu a športu Slovenskej republiky na rok 2016 na programe 077
A2: Názov verejnej vysokej školy: Univerzita Konštantína Filozofa v Nitre
A3: Číslo riadku | B3: Dotácia / program | C3: Bežné dotácie | D3: Kapitálové dotácie | E3: Dotácie spolu
C4: A | D4: B | E4: C=A+B
A5: 1 | B5: Dotácia na uskutočňovanie akreditovaných študijných programov [R2] | C5: =C6 -> 14086657 | D5: =D6 -> 100000 | E5: =SUM(C5:D5) -> 14186657
A6: =A5+1 -> 2 | B6: - Podprogram 077 11 | C6: 14086657 | D6: 100000 | E6: =SUM(C6:D6) -> 14186657
A7: =A6+1 -> 3 | B7: Dotácia na výskumnú, vývojovú alebo umeleckú činnosť [R4+R5+R6+R7+R8] | C7: =SUM(C8:C12) -> 6294007 | D7: =SUM(D8:D12) -> 0 | E7: =SUM(C7:D7) -> 6294007
A8: =A7+1 -> 4 | B8: - Prvok 077 12 01 | C8: 5924385 | D8: 0 | E8: =SUM(C8:D8) -> 5924385
A9: =A8+1 -> 5 | B9: - Prvok 077 12 02 | C9: 237875 | D9: 0 | E9: =SUM(C9:D9) -> 237875
A10: =A9+1 -> 6 | B10: - Prvok 077 12 03 | E10: =SUM(C10:D10) -> 0
A11: =A10+1 -> 7 | B11: - Prvok 077 12 04 | E11: =SUM(C11:D11) -> 0
A12: =A11+1 -> 8 | B12: - Prvok 077 12 05 | C12: 131747 | D12: 0 | E12: =SUM(C12:D12) -> 131747
A13: =A12+1 -> 9 | B13: Dotácia na rozvoj vysokej školy [R10] | C13: =C14 -> 11374 | D13: =D14 -> 0 | E13: =SUM(C13:D13) -> 11374
A14: =A13+1 -> 10 | B14: - Podprogram 077 13 | C14: 11374 | D14: 0 | E14: =SUM(C14:D14) -> 11374
A15: =A14+1 -> 11 | B15: Dotácia na sociálnu podporu študentov [R12+R13+R14] | C15: =SUM(C16:C18) -> 2530081 | D15: =SUM(D16:D18) -> 0 | E15: =SUM(C15:D15) -> 2530081
A16: =A15+1 -> 12 | B16: - Prvok 077 15 01 | C16: 1321731 | D16: 0 | E16: =SUM(C16:D16) -> 1321731
A17: =A16+1 -> 13 | B17: - Prvok 077 15 02 | C17: 303120 | D17: 0 | E17: =SUM(C17:D17) -> 303120
A18: =A17+1 -> 14 | B18: - Prvok 077 15 03 | C18: 905230 | D18: 0 | E18: =SUM(C18:D18) -> 905230
A19: =A18+1 -> 15 | B19: Spolu [R1+R3+R9+R11] | C19: =C5+C7+C13+C15 -> 22922119 | D19: =D5+D7+D13+D15 -> 100000 | E19: =SUM(C19:D19) -> 23022119

Sheet T2-Ostatné dot mimo MŠ SR
A1: Tabuľka č. 2: Príjmy verejnej vysokej školy v roku 2016 majúce charakter dotácie okrem príjmov z dotácií z kapitoly MŠVVaŠ SR a okrem prostriedkov EÚ (štrukturálnych fondov)
A2: Názov verejnej vysokej školy: Univerzita Konštantína Filozofa v Nitre
A3: Číslo riadku | B3: Položka | C3: Bežné dotácie | D3: Kapitálové dotácie | E3: Dotácie spolu
C4: A | D4: B | E4: C=A+B
A5: 1 | B5: Dotácie z kapitol štátneho rozpočtu okrem kapitoly MŠVVaŠ SR (na zdroji 111) [SUM(R1a:R1...)] | C5: =SUM(C6:C7) -> 11500 | D5: =SUM(D6:D7) -> 0 | E5: =C5+D5 -> 11500
A6: 1a | B6: Úrad vlády SR | C6: 11500 | D6: 0 | E6: =C6+D6 -> 11500
A7: 1b | E7: =C7+D7 -> 0
E8: =C8+D8 -> 0
A9: 2 | B9: Dotácie z rozpočtov obcí a z rozpočtov vyšších územných celkov [SUM(R2a:R2...)] | C9: =SUM(C10:C11) -> 6800 | D9: =SUM(D10:D11) -> 0 | E9: =C9+D9 -> 6800
A10: 2a | B10: Nitr.samosprávny kraj | C10: 300 | E10: =C10+D10 -> 300
A11: 2b | B11: Mesto Nitra | C11: 6500 | E11: =C11+D11 -> 6500
E12: =C12+D12 -> 0
A13: 3 | B13: Ostatné domáce príjmy s charakterom dotácie [SUM(R3a:R3...)] | C13: =SUM(C14:C15) -> 19700 | D13: =SUM(D14:D15) -> 0 | E13: =C13+D13 -> 19700
A14: 3a | B14: Fond na podporu umenia | C14: 19700 | E14: =C14+D14 -> 19700
A15: 3b | E15: =C15+D15 -> 0
E16: =C16+D16 -> 0
A17: 4 | B17: Príjmy zo zahraničia majúce charakter dotácie [SUM(R4a:R4...)] | C17: =SUM(C18:C19) -> 865507.21 | D17: =SUM(D18:D19) -> 0 | E17: =C17+D17 -> 865507.21
A18: 4a | B18: zahraničné | C18: 865507.21 | E18: =C18+D18 -> 865507.21
A19: 4b | E19: =C19+D19 -> 0
E20: =C20+D20 -> 0
A21: 5 | B21: Spolu [R1+R2+R3+R4] | C21: =C5+C9+C13+C17 -> 903507.21 | D21: =D5+D9+D13+D17 -> 0 | E21: =C21+D21 -> 903507.21
B23: Nórsky a finančný mechanizmus patrí do R3 (ide o prostriedky poskytnuté Úradom vlády SR, na inom zdroji ako 111)

Sheet T3-Výnosy
A1: Tabuľka č. 3: Výnosy verejnej vysokej školy v rokoch 2015 a 2016
A2: Názov verejnej vysokej školy: Univerzita Konštantína Filozofa v Nitre
A3: Číslo riadku | B3: Položka | C3: 2015 | E3: 2016 | G3: Rozdiel 2016-2015
C4: Hlavná činnosť | D4: Podnikateľská činnosť | E4: Hlavná činnosť | F4: Podnikateľská činnosť | G4: Hlavná činnosť | H4: Podnikateľská činnosť
C5: A | D5: B | E5: C | F5: D | G5: E=C-A | H5: F=D-B
A6: 1 | B6: Tržby za vlastné výrobky (účet 601) [SUM(R2:R5)] | C6: =SUM(C7:C10) -> 0 | D6: =SUM(D7:D10) -> 0 | E6: =SUM(E7:E10) -> 0 | F6: =SUM(F7:F10) -> 0 | G6: =E6-C6 -> 0 | H6: =F6-D6 -> 0
A7: =A6+1 -> 2 | B7: - vysokoškolské podniky | G7: =E7-C7 -> 0 | H7: =F7-D7 -> 0
A8: =A7+1 -> 3 | B8: - študentské domovy | G8: =E8-C8 -> 0 | H8: =F8-D8 -> 0
A9: =A8+1 -> 4 | B9: - študentské jedálne | G9: =E9-C9 -> 0 | H9: =F9-D9 -> 0
A10: =A9+1 -> 5 | B10: - ostatné tržby za vlastné výrobky | G10: =E10-C10 -> 0 | H10: =F10-D10 -> 0
A11: =A10+1 -> 6 | B11: Tržby z predaja služieb (účet 602) [SUM(R7:R10)] | C11: =SUM(C12:C15) -> 1104363.6 | D11: =SUM(D12:D15) -> 103145.95 | E11: =SUM(E12:E15) -> 1082174.7 | F11: =SUM(F12:F15) -> 109736.91 | G11: =E11-C11 -> -22188.89 | H11: =F11-D11 -> 6590.96
A12: =A11+1 -> 7 | B12: - z ubytovania študentov (účet 602 001) | C12: 799946.5 | E12: 817364.5 | G12: =E12-C12 -> 17418 | H12: =F12-D12 -> 0
A13: =A12+1 -> 8 | B13: - zo stravných lístkov študentov a doktorandov (účet 602 009) | C13: 145856.79 | E13: 130515.11 | G13: =E13-C13 -> -15341.68 | H13: =F13-D13 -> 0
A14: =A13+1 -> 9 | B14: - z ubytovania a stravovania iných fyzických osôb (účet 602 008 a 602 010) | C14: 31448.16 | D14: 64691.16 | E14: 23647.41 | F14: 66999.29 | G14: =E14-C14 -> -7800.75 | H14: =F14-D14 -> 2308.13
A15: =A14+1 -> 10 | B15: - iné analyticky sledované výnosy (účty 602 002-007, 602 011-019, 602 099, 602 199) | C15: 127112.18 | D15: 38454.79 | E15: 110647.72 | F15: 42737.62 | G15: =E15-C15 -> -16464.46 | H15: =F15-D15 -> 4282.83
A16: =A15+1 -> 11 | B16: Tržby za predaný tovar (účet 604) | C16: 20482.15 | D16: 101513.61 | E16: 19113.65 | F16: 83633.04 | G16: =E16-C16 -> -1368.5 | H16: =F16-D16 -> -17880.57
A17: =A16+1 -> 12 | B17: Zmeny stavu zásob vlastnej výroby (účtová skupina 611-614) | G17: =E17-C17 -> 0 | H17: =F17-D17 -> 0
A18: =A17+1 -> 13 | B18: Aktivácia (účet 621-624) | C18: 103219.42 | D18: 33900.45 | E18: 103019.57 | F18: 57330.52 | G18: =E18-C18 -> -199.85 | H18: =F18-D18 -> 23430.07
A19: =A18+1 -> 14 | B19: Pokuty a penále (účet 641+642) | C19: 2874.66 | E19: 6185.43 | F19: 1675.7 | G19: =E19-C19 -> 3310.77 | H19: =F19-D19 -> 1675.7
A20: =A19+1 -> 15 | B20: Platby za odpísané pohľadávky (účet 643) | G20: =E20-C20 -> 0 | H20: =F20-D20 -> 0
A21: =A20+1 -> 16 | B21: Úroky (účet 644) [R17+R18] | C21: =SUM(C22:C23) -> 1159.6 | D21: =SUM(D22:D23) -> 21.74 | E21: =SUM(E22:E23) -> 1156.22 | F21: =SUM(F22:F23) -> 18.31 | G21: =E21-C21 -> -3.38 | H21: =F21-D21 -> -3.43
A22: =A21+1 -> 17 | B22: - z dotačného účtu (účet 644 001) | G22: =E22-C22 -> 0 | H22: =F22-D22 -> 0
A23: =A22+1 -> 18 | B23: - z ostatných účtov (účet 644 002) | C23: 1159.6 | D23: 21.74 | E23: 1156.22 | F23: 18.31 | G23: =E23-C23 -> -3.38 | H23: =F23-D23 -> -3.43
A24: =A23+1 -> 19 | B24: Kurzové zisky (účet 645) | C24: 49.29 | E24: 132.25 | G24: =E24-C24 -> 82.96 | H24: =F24-D24 -> 0
A25: =A24+1 -> 20 | B25: Výnosy zo školného (účet 649) [SUM(R21:R24)] | C25: =C26+C27+C28+C29 -> 2309167.3 | D25: =D26+D27+D28+D29 -> 0 | E25: =E26+E27+E28+E29 -> 1915454 | F25: =F26+F27+F28+F29 -> 0 | G25: =E25-C25 -> -393713.29 | H25: =F25-D25 -> 0
A26: =A25+1 -> 21 | B26: - školné za prekročenie štandardnej dĺžky štúdia 649 001 | C26: 347555.03 | E26: 345441.5 | G26: =E26-C26 -> -2113.53 | H26: =F26-D26 -> 0
A27: =A26+1 -> 22 | B27: - školné od cudzincov (§ 92 ods. 9 zákona) 649 002, 649 023 | C27: 499.5 | E27: 3850 | G27: =E27-C27 -> 3350.5 | H27: =F27-D27 -> 0
A28: =A27+1 -> 23 | B28: - školné od externých študentov (§ 92 ods. 4 zákona) 649 020 | C28: 1961112.7 | E28: 1565830.5 | G28: =E28-C28 -> -395282.26 | H28: =F28-D28 -> 0
A29: =A28+1 -> 24 | B29: - poplatky za súbežné štúdium (§ 92, ods. 5) 649 026 | E29: 332 | G29: =E29-C29 -> 332 | H29: =F29-D29 -> 0
A30: =A29+1 -> 25 | B30: Výnosy z poplatkov spojených so štúdiom (účet 649) [SUM(R26:R31)] | C30: =SUM(C31:C36) -> 334290.99 | D30: =SUM(D31:D36) -> 0 | E30: =SUM(E31:E36) -> 213160.16 | F30: =SUM(F31:F36) -> 0 | G30: =E30-C30 -> -121130.83 | H30: =F30-D30 -> 0
A31: =A30+1 -> 26 | B31: - poplatky za prijímacie konanie (§ 92, ods. 10) 649 003 | C31: 264041.26 | E31: 179813.07 | G31: =E31-C31 -> -84228.19 | H31: =F31-D31 -> 0
A32: =A31+1 -> 27 | B32: - poplatky za rigorózne konanie (§ 92, ods. 11) 649 004 | C32: 58370.45 | E32: 25701.44 | G32: =E32-C32 -> -32669.01 | H32: =F32-D32 -> 0
A33: =A32+1 -> 28 | B33: - poplatky za rigorózne konanie - vydanie diplómu 649 005 | C33: 6137.58 | E33: 3710 | G33: =E33-C33 -> -2427.58 | H33: =F33-D33 -> 0
A34: =A33+1 -> 29 | B34: - poplatky za vydanie dokladov o štúdiu 649 006, | C34: 3199.7 | E34: 2253.25 | G34: =E34-C34 -> -946.45 | H34: =F34-D34 -> 0
A35: =A34+1 -> 30 | B35: - poplatky za vydanie dokladov o absolvovaní štúdia (§92, ods. 15, 649 024) | C35: 2143.5 | E35: 1682.4 | G35: =G36+G37+G38+G39 -> -437743.22 | H35: =H36+H37+H38+H39 -> 19442.5
A36: =A35+1 -> 31 | B36: - poplatky za uznávanie rovnocennosti dokladov o štúdiu (§92, ods. 15, 649 025) | C36: 398.5 | G36: =G37+G38+G39+G40 -> -218871.61 | H36: =H37+H38+H39+H40 -> 9721.25
A37: =A36+1 -> 32 | B37: Iné ostatné výnosy (účet 649) [SUM(R33:R43)] | C37: =SUM(C38:C48) -> 800180.88 | D37: =SUM(D38:D48) -> 30766.61 | E37: =SUM(E38:E48) -> 608316.24 | F37: =SUM(F38:F48) -> 40487.86 | G37: =SUM(G38:G48) -> -198110.38 | H37: =SUM(H38:H48) -> 9721.25
A38: =A37+1 -> 33 | B38: - kvalifikačné skúšky (účet 649 008) | E38: 132.8 | G38: =E38-C38 -> 132.8 | H38: =F38-D38 -> 0
A39: =A38+1 -> 34 | B39: - dary (účet 649 009) (646 001) | C39: 37987.62 | E39: 17093.59 | G39: =E39-C39 -> -20894.03 | H39: =F39-D39 -> 0
A40: =A39+1 -> 35 | B40: - výnosy z dedičstva (účet 649 010) | G40: =E40-C40 -> 0 | H40: =F40-D40 -> 0
A41: =A40+1 -> 36 | B41: - výnosy z duševného vlastníctva (účet 649 011) | G41: =E41-C41 -> 0 | H41: =F41-D41 -> 0
A42: =A41+1 -> 37 | B42: - oprava výnosov minulých účtovných období (účet 649 013) | G42: =E42-C42 -> 0 | H42: =F42-D42 -> 0
A43: =A42+1 -> 38 | B43: - použitie prostriedkov fondov (účet 649 014) | G43: =E43-C43 -> 0 | H43: =F43-D43 -> 0
A44: =A43+1 -> 39 | B44: - použitie prostriedkov výnosov budúcich období - projekty (účet 649 015) | C44: 255136.35 | E44: 282527.47 | G44: =E44-C44 -> 27391.12 | H44: =F44-D44 -> 0
A45: =A44+1 -> 40 | B45: - príspevok na úhradu výdavkov zahraničných študentov/lektorov (649 016) | G45: =E45-C45 -> 0 | H45: =F45-D45 -> 0
A46: =A45+1 -> 41 | B46: - dobropisy minulých období (účet 649 017) | G46: =E46-C46 -> 0 | H46: =F46-D46 -> 0
A47: =A46+1 -> 42 | B47: - vložné na konferencie (649 018) | C47: 6314.75 | E47: 12560.49
A48: =A47+1 -> 43 | B48: - ostatné výnosy (účty 649 007, 649 012, 649 019, 649 021-022, 649 098-099) | C48: 500742.16 | D48: 30766.61 | E48: 296001.89 | F48: 40487.86 | G48: =E48-C48 -> -204740.27 | H48: =F48-D48 -> 9721.25
A49: =A48+1 -> 44 | B49: Tržby z predaja dlhodobého NM a HM (účet 651) | C49: 4750 | G49: =E49-C49 -> -4750 | H49: =F49-D49 -> 0
A50: =A49+1 -> 45 | B50: Výnosy z dlhodobého finančného majetku (účet 652) | G50: =E50-C50 -> 0 | H50: =F50-D50 -> 0
A51: =A50+1 -> 46 | B51: Tržby z predaja cenných papierov a podielov (účet 653) | G51: =E51-C51 -> 0 | H51: =F51-D51 -> 0
A52: =A51+1 -> 47 | B52: Tržby z predaja materiálu (účet 654) | G52: =E52-C52 -> 0 | H52: =F52-D52 -> 0
A53: =A52+1 -> 48 | B53: Výnosy z krátkodobého finančného majetku (účet 655) | G53: =E53-C53 -> 0 | H53: =F53-D53 -> 0
A54: =A53+1 -> 49 | B54: Výnosy z použitia fondov (účet 656) [SUM(R50:R54)] 1) | C54: =SUM(C55:C59) -> 82797.55 | D54: =SUM(D55:D59) -> 0 | E54: =SUM(E55:E59) -> 77458.11 | F54: =SUM(F55:F59) -> 0 | G54: =E54-C54 -> -5339.44 | H54: =F54-D54 -> 0
A55: =A54+1 -> 50 | B55: - rezervného fondu (účet 656 100) | D55: X | F55: X | G55: =E55-C55 -> 0 | H55: X
A56: =A55+1 -> 51 | B56: - štipendijného fondu (účet 656 200) | C56: 74237 | D56: X | E56: 67468 | F56: X | G56: =E56-C56 -> -6769 | H56: X
A57: =A56+1 -> 52 | B57: - fondu na podporu štúdia študentov so špecifickými potrebami (účet 656 300) | D57: X | F57: X | G57: =E57-C57 -> 0 | H57: X
A58: =A57+1 -> 53 | B58: - fondu reprodukcie (účet 656 400) 2) | D58: X | F58: X | G58: =E58-C58 -> 0 | H58: X
A59: =A58+1 -> 54 | B59: - ostatných fondov (účet 656 510, 656 520) | C59: 8560.55 | D59: X | E59: 9990.11 | F59: X | G59: =E59-C59 -> 1429.56 | H59: X
A60: =A59+1 -> 55 | B60: Výnosy z precenenia cenných papierov (účet 657) | G60: =E60-C60 -> 0 | H60: =F60-D60 -> 0
A61: =A60+1 -> 56 | B61: Výnosy z nájmu majetku (účet 658) | C61: 79651.07 | E61: 69899.31 | G61: =E61-C61 -> -9751.76 | H61: =F61-D61 -> 0
A62: =A61+1 -> 57 | B62: Prijaté príspevky od iných organizácií (účet 662) | G62: =E62-C62 -> 0 | H62: =F62-D62 -> 0
A63: =A62+1 -> 58 | B63: Prijaté príspevky od fyzických osôb 663 | G63: =E63-C63 -> 0 | H63: =F63-D63 -> 0
A64: =A63+1 -> 59 | B64: Príspevky z podielu zaplatenej dane (účet 665) | C64: 8111.24 | E64: 4031.82 | G64: =E64-C64 -> -4079.42 | H64: =F64-D64 -> 0
A65: =A64+1 -> 60 | B65: Prijaté príspevky z verejných zbierok (667) | G65: =E65-C65 -> 0 | H65: =F65-D65 -> 0
A66: =A65+1 -> 61 | B66: Prevádzkové dotácie (účet 691) | C66: 23210828 | E66: 23904453 | G66: =E66-C66 -> 693625.48 | H66: =F66-D66 -> 0
A67: =A66+1 -> 62 | B67: z toho: | G67: =E67-C67 -> 0 | H67: =F67-D67 -> 0
A68: =A67+1 -> 63 | B68: - zúčtovanie dotácie zo ŠR na DN a HM vo výške odpisov | C68: 652262.85 | E68: 653959.83 | G68: =E68-C68 -> 1696.98 | H68: =F68-D68 -> 0
A69: =A68+1 -> 64 | B69: Spolu [R1+R6+SUM(R11:R16)+R19+R20+R25+R32+SUM(R44:R49)+SUM(R55:R61)] | C69: =C6+C11+C16+C17+C18+C19+C20+C21+C24+C25+C30+C37+C49+C50+C51+C52+C53+C54+C60+C61+C62+C63+C64+C65+C66 -> 28061926 | D69: =D6+D11+D16+D17+D18+D19+D20+D21+D24+D25+D30+D37+D49+D50+D51+D52+D53+D54+D60+D61+D62+D63+D64+D65+D66 -> 269348.36 | E69: =E6+E11+E16+E17+E18+E19+E20+E21+E24+E25+E30+E37+E49+E50+E51+E52+E53+E54+E60+E61+E62+E63+E64+E65+E66 -> 28004555 | F69: =F6+F11+F16+F17+F18+F19+F20+F21+F24+F25+F30+F37+F49+F50+F51+F52+F53+F54+F60+F61+F62+F63+F64+F65+F66 -> 292882.34 | G69: =E69-C69 -> -57370.79 | H69: =F69-D69 -> 23533.98
D70: =C69+D69 -> 28331274 | F70: =E69+F69 -> 28297437
A71: 1) V R50-54 sa uvedú výnosy účtované v súvislosti s použitím príslušného fondu.
A72: 2) Výnosy z Fondu reprodukcie možno účtovať len v súvislosti s krytím nákladov na vedenie príslušného bankového účtu a nákladov vyplývajúcich z kurzových strát v zmysle 16a ods. 8 zákona.

Sheet T4-Výnosy zo školného
A1: Tabuľka č. 4: Výnosy verejnej vysokej školy zo školného a z poplatkov spojených so štúdiom v rokoch 2015 a 2016
A2: Názov verejnej vysokej školy: Univerzita Konštantína Filozofa v Nitre
A3: Číslo riadku | B3: Položka | C3: 2015 | D3: 2016
C4: A | D4: B
A5: 1 | B5: Výnosy zo školného [SUM (R2:R6)] | C5: =+SUM(C6:C10) -> 2309167.3 | D5: =+SUM(D6:D10) -> 1915454
A6: 2 | B6: - za súbežné štúdium v dennej forme (§ 92 ods. 5, 649 026) | C6: 0 | D6: 332
A7: 3 | B7: - za prekročenie štandardnej dĺžky štúdia v dennej forme (§ 92 ods. 6) (649 001) | C7: 347555.03 | D7: 345441.5
A8: 4 | B8: - za cudzojazyčné štúdium dennou formou (§ 92 ods. 8 a 9) (649 002, 649 023) | C8: 499.5 | D8: 3850
A9: 5 | B9: - za externú formu štúdia (§ 92 ods. 4) (649 020) | C9: 1961112.7 | D9: 1565830.5
A10: 6 | B10: - cudzinci podľa prechodných ustanovení 1) | C10: 0 | D10: 0
A11: 7 | B11: Výnosy z poplatkov spojených so štúdiom [SUM (R8:R13)] | C11: =SUM(C12:C17) -> 334290.99 | D11: =SUM(D12:D17) -> 213160.16
A12: 8 | B12: - za prijímacie konanie (§ 92 ods. 12 zákona) (účet 649 003) | C12: 264041.26 | D12: 179813.07
A13: 9 | B13: - za rigorózne konanie (§ 92 ods. 13 zákona) (účet 649 004) | C13: 58370.45 | D13: 25701.44
A14: 10 | B14: - za vydanie diplomu za rigorózne konanie (§ 92 ods. 14 zákona) (účet 649 005) | C14: 6137.58 | D14: 3710
A15: 11 | B15: - za vydanie dokladov o štúdiu a ich kópií (§ 92 ods. 15 zákona) (účet 649 006) | C15: 3199.7 | D15: 2253.25
A16: 12 | B16: - za vydanie dokladov o absolvovaní štúdia v štátnom jazyku a v jazyku požadovanom študentom a ich kópií (§ 92 ods. 15 zákona) (účet 649 024) | C16: 2143.5 | D16: 1682.4
A17: 13 | B17: - za uznávanie rovnocennosti dokladov o štúdiu (§ 92 ods. 15 zákona) (účet 649 025) | C17: 398.5 | D17: 0
A18: 14 | B18: Základ pre prídel do štipendijného fondu | C18: =(C6+C7)*0.2 -> 69511.006 | D18: =(D6+D7)*0.2 -> 69154.7
A19: 15 | B19: Návrh na prídel do štipendijného fondu | C19: 69511.01 | D19: 69154.7
B21: 1) v riadku 6 sa uvádzajú len cudzinci, ktorým nevznikla povinnosť uhradiť školné z dôvodov uvedených v riadkoch 2 až 5

Sheet T5 - Analýza nákladov
A1: Tabuľka č. 5: Náklady verejnej vysokej školy v rokoch 2015 a 2016
A2: Názov verejnej vysokej školy: Univerzita Konštantína Filozofa v Nitre
A3: Číslo riadku | B3: Položka | C3: 2015 | E3: 2016 | G3: Rozdiel 2016-2015
C4: Hlavná činnosť | D4: Podnikateľská činnosť | E4: Hlavná činnosť | F4: Podnikateľská činnosť | G4: Hlavná činnosť | H4: Podnikateľská činnosť
C5: A | D5: B | E5: C | F5: D | G5: E=C-A | H5: F=D-B
A6: 1 | B6: Spotreba materiálu (účet 501) [SUM(R2:R13)] | C6: =SUM(C7:C18) -> 1801003.1 | D6: =SUM(D7:D18) -> 34664.74 | E6: =SUM(E7:E18) -> 1177558.2 | F6: =SUM(F7:F18) -> 37109.76 | G6: =E6-C6 -> -623444.9 | H6: =F6-D6 -> 2445.02
A7: =A6+1 -> 2 | B7: - knihy, časopisy a noviny (účet 501 001,501 051) | C7: 234630.26 | E7: 172667.71 | G7: =E7-C7 -> -61962.55 | H7: =F7-D7 -> 0
A8: =A7+1 -> 3 | B8: - chemikálie a ostatný materiál pre zabezpečenie experimentálnej výučby (účet 501 002, 501 052) | C8: 45476.81 | D8: 286.62 | E8: 70668.58 | G8: =E8-C8 -> 25191.77 | H8: =F8-D8 -> -286.62
A9: =A8+1 -> 4 | B9: - kancelárske potreby a materiál (účet 501 003, 501 053) | C9: 148069.93 | D9: 389.22 | E9: 136778.87 | F9: 485.9 | G9: =E9-C9 -> -11291.06 | H9: =F9-D9 -> 96.68
A10: =A9+1 -> 5 | B10: - papier (účet 501 004, 501 054) | C10: 27904.07 | D10: 77.25 | E10: 18825.13 | F10: 316.5 | G10: =E10-C10 -> -9078.94 | H10: =F10-D10 -> 239.25
A11: =A10+1 -> 6 | B11: - pohonné hmoty a ostatný materiál na dopravu (účet 501 007, 501 057) | C11: 38228.03 | D11: 144.45 | E11: 29596.39 | F11: 1673.16 | G11: =E11-C11 -> -8631.64 | H11: =F11-D11 -> 1528.71
A12: =A11+1 -> 7 | B12: - čistiace, hygienické a dezinfekčné potreby (účet 501 008, 501 020) | C12: 42396.7 | D12: 958.38 | E12: 43608.1 | F12: 641.67 | G12: =E12-C12 -> 1211.4 | H12: =F12-D12 -> -316.71
A13: =A12+1 -> 8 | B13: - stavebný, vodoinštalačný a elektroinštalačný materiál (účet 501 009) | C13: 24877.35 | D13: 1080.56 | E13: 26081.77 | F13: 30577.81 | G13: =E13-C13 -> 1204.42 | H13: =F13-D13 -> 29497.25
A14: =A13+1 -> 9 | B14: - potraviny (účet 501 010) | C14: 170800.41 | D14: 22990.73 | E14: 162352.02 | F14: 60.74 | G14: =E14-C14 -> -8448.39 | H14: =F14-D14 -> -22929.99
A15: =A14+1 -> 10 | B15: - DHM - prístroje a zariadenia laboratórií, výpočtová technika (účet 501 011) | C15: 519401.1 | D15: 18.06 | E15: 202660.31 | G15: =E15-C15 -> -316740.79 | H15: =F15-D15 -> -18.06
A16: =A15+1 -> 11 | B16: - DHM - nábytok (účet 501 012) | C16: 254414.55 | D16: 361.13 | E16: 101971.35 | G16: =E16-C16 -> -152443.2 | H16: =F16-D16 -> -361.13
A17: =A16+1 -> 12 | B17: - iné analyticky sledované náklady (účty 501 005-006, 501 013-018, 501 077) | C17: 147110.14 | D17: 6365.52 | E17: 63315.02 | F17: 687.82 | G17: =E17-C17 -> -83795.12 | H17: =F17-D17 -> -5677.7
A18: =A17+1 -> 13 | B18: - ostatný materiál (účet 501 099, 501 030, 501 100, 501 599) | C18: 147693.77 | D18: 1992.82 | E18: 149032.97 | F18: 2666.16 | G18: =E18-C18 -> 1339.2 | H18: =F18-D18 -> 673.34
A19: =A18+1 -> 14 | B19: Spotreba energie (účet 502) [SUM(R15:R20)] | C19: =SUM(C20:C25) -> 902342.88 | D19: =SUM(D20:D25) -> 22320.08 | E19: =SUM(E20:E25) -> 693087.3 | F19: =SUM(F20:F25) -> 17275.14 | G19: =E19-C19 -> -209255.58 | H19: =F19-D19 -> -5044.94
A20: =A19+1 -> 15 | B20: - elektrická energia (účet 502 001, 502 051) | C20: 279240.47 | D20: 8187.11 | E20: 261917.9 | F20: 6729.86 | G20: =E20-C20 -> -17322.57 | H20: =F20-D20 -> -1457.25
A21: =A20+1 -> 16 | B21: - tepelná energia (účet 502 002, 502 052) | C21: 74436.51 | E21: 68768.22 | G21: =E21-C21 -> -5668.29 | H21: =F21-D21 -> 0
A22: =A21+1 -> 17 | B22: - vodné a stočné (účet 502 003, 502 053) | C22: 117089.3 | D22: 5114.23 | E22: 56636.52 | F22: 2935.85 | G22: =E22-C22 -> -60452.78 | H22: =F22-D22 -> -2178.38
A23: =A22+1 -> 18 | B23: - plyn (účet 502 004, 502 054) | C23: 430161.13 | D23: 9018.74 | E23: 304336.77 | F23: 7609.43 | G23: =E23-C23 -> -125824.36 | H23: =F23-D23 -> -1409.31
A24: =A23+1 -> 19 | B24: - palivá (účet 502 005, 502 055) | C24: 1415.47 | E24: 1427.89 | G24: =E24-C24 -> 12.42 | H24: =F24-D24 -> 0
A25: =A24+1 -> 20 | B25: - ostatné energie (502 099) | C25: 0 | G25: =E25-C25 -> 0 | H25: =F25-D25 -> 0
A26: =A25+1 -> 21 | B26: Spotreba ostatných neskladovateľných dodávok (účet 503) | C26: X | D26: X | E26: X | F26: X
A27: =A26+1 -> 22 | B27: Predaný tovar (účet 504) [SUM(R23:R26)] | C27: =SUM(C28:C31) -> 19469.9 | D27: =SUM(D28:D31) -> 63669.79 | E27: =SUM(E28:E31) -> 18179.56 | F27: =SUM(F28:F31) -> 52873.12 | G27: =E27-C27 -> -1290.34 | H27: =F27-D27 -> -10796.67
A28: =A27+1 -> 23 | B28: - vysokoškolské podniky | G28: =E28-C28 -> 0 | H28: =F28-D28 -> 0
A29: =A28+1 -> 24 | B29: - študentské domovy | G29: =E29-C29 -> 0 | H29: =F29-D29 -> 0
A30: =A29+1 -> 25 | B30: - študentské jedálne | D30: 63669.79 | F30: 52873.12 | G30: =E30-C30 -> 0 | H30: =F30-D30 -> -10796.67
A31: =A30+1 -> 26 | B31: - ostatný predaný tovar | C31: 19469.9 | E31: 18179.56 | G31: =E31-C31 -> -1290.34 | H31: =F31-D31 -> 0
A32: =A31+1 -> 27 | B32: Opravy a udržiavanie (účet 511) [SUM(R28:R34)] | C32: =SUM(C33:C39) -> 133161.51 | D32: =SUM(D33:D39) -> 7946.04 | E32: =SUM(E33:E39) -> 107535.43 | F32: =SUM(F33:F39) -> 2126.98 | G32: =E32-C32 -> -25626.08 | H32: =F32-D32 -> -5819.06
A33: =A32+1 -> 28 | B33: - opravy a udržiavanie stavieb (účet 511 001) | C33: 96096.26 | D33: 7188.09 | E33: 54263.3 | F33: 886.18 | G33: =E33-C33 -> -41832.96 | H33: =F33-D33 -> -6301.91
A34: =A33+1 -> 29 | B34: - opravy a udržiavanie strojov, prístrojov, zariadení a inventára (účet 511 002) | C34: 16975.72 | D34: 655.56 | E34: 21052 | F34: 667.99 | G34: =E34-C34 -> 4076.28 | H34: =F34-D34 -> 12.43
A35: =A34+1 -> 30 | B35: - opravy a udržiavanie dopravných prostriedkov (účet 511 003) | C35: 7271.75 | D35: 97.91 | E35: 7923.8 | F35: 162.51 | G35: =E35-C35 -> 652.05 | H35: =F35-D35 -> 64.6
A36: =A35+1 -> 31 | B36: - opravy a udržiavanie prostriedkov IT (účet 511 004) | C36: 6132.56 | E36: 6414.87 | G36: =E36-C36 -> 282.31 | H36: =F36-D36 -> 0
A37: =A36+1 -> 32 | B37: - údržba a opravy meracej techniky, telovýchovných zariadení ...(účet 511 005) | C37: 2782.8 | E37: 3103.2 | G37: =E37-C37 -> 320.4 | H37: =F37-D37 -> 0
A38: =A37+1 -> 33 | B38: - iné analyticky sledované náklady (účet 511 006-008, 511 056) | C38: 2677.58 | D38: 1.88 | E38: 14118.06 | F38: 421.66 | G38: =E38-C38 -> 11440.48 | H38: =F38-D38 -> 419.78
A39: =A38+1 -> 34 | B39: - ostatná údržba a opravy (účet 511 099) | C39: 1224.84 | D39: 2.6 | E39: 660.2 | F39: -11.36 | G39: =E39-C39 -> -564.64 | H39: =F39-D39 -> -13.96
A40: =A39+1 -> 35 | B40: Cestovné (účet 512) [SUM(R36:R37)] | C40: =C41+C42 -> 364291.05 | D40: =D41+D42 -> 417.06 | E40: =E41+E42 -> 407700.45 | F40: =F41+F42 -> 1575.88 | G40: =E40-C40 -> 43409.4 | H40: =F40-D40 -> 1158.82
A41: =A40+1 -> 36 | B41: - domáce cestovné (účet 512 001, 512 051) | C41: 48554.01 | D41: 417.06 | E41: 42607.03 | F41: 1575.88 | G41: =E41-C41 -> -5946.98 | H41: =F41-D41 -> 1158.82
A42: =A41+1 -> 37 | B42: - zahraničné cestovné (účet 512 002, 512 003, 512 052) | C42: 315737.04 | E42: 365093.42 | G42: =E42-C42 -> 49356.38 | H42: =F42-D42 -> 0
A43: =A42+1 -> 38 | B43: Náklady na reprezentáciu (účet 513) | C43: 24241.67 | E43: 22495.4 | G43: =E43-C43 -> -1746.27 | H43: =F43-D43 -> 0
A44: =A43+1 -> 39 | B44: Ostatné služby (účet 518) [SUM(R40:R54)] | C44: =SUM(C45:C59) -> 718798.74 | D44: =SUM(D45:D59) -> 8263.05 | E44: =SUM(E45:E59) -> 777506.07 | F44: =SUM(F45:F59) -> 3758.44 | G44: =E44-C44 -> 58707.33 | H44: =F44-D44 -> -4504.61
A45: =A44+1 -> 40 | B45: - prenájom priestorov (účet 518 001) | C45: 53934.88 | E45: 54322.83 | G45: =E45-C45 -> 387.95 | H45: =F45-D45 -> 0
A46: =A45+1 -> 41 | B46: - prenájom zariadení (účet 518 002) | C46: 2699.16 | D46: 248.13 | E46: 5431.69 | F46: 322.06 | G46: =E46-C46 -> 2732.53 | H46: =F46-D46 -> 73.93
A47: =A46+1 -> 42 | B47: - vložné na konferencie (účet 518 004) | C47: 70747.32 | D47: 6.12 | E47: 69485.37 | F47: 4.87 | G47: =E47-C47 -> -1261.95 | H47: =F47-D47 -> -1.25
A48: =A47+1 -> 43 | B48: - ďalšie vzdelávanie zamestnancov (účet 518 005) | C48: 14101.88 | D48: 180 | E48: 20704.53 | F48: 55 | G48: =E48-C48 -> 6602.65 | H48: =F48-D48 -> -125
A49: =A48+1 -> 44 | B49: - telefón, fax (účet 518 006, 518 056) | C49: 26828.98 | D49: 211.56 | E49: 21990.26 | F49: 136.31 | G49: =E49-C49 -> -4838.72 | H49: =F49-D49 -> -75.25
A50: =A49+1 -> 45 | B50: - počítačové siete a prenosy údajov (účet 518 007) | C50: 15729.73 | E50: 20703.75 | G50: =E50-C50 -> 4974.02 | H50: =F50-D50 -> 0
A51: =A50+1 -> 46 | B51: - poštovné (účet 518 008, 518 058) | C51: 49025.86 | D51: 13.2 | E51: 44415.13 | F51: 2.85 | G51: =E51-C51 -> -4610.73 | H51: =F51-D51 -> -10.35
A52: =A51+1 -> 47 | B52: - odvoz odpadu (účet 518 009, 518 059) | C52: 8712.97 | D52: 1041.65 | E52: 10831.28 | F52: 463.59 | G52: =E52-C52 -> 2118.31 | H52: =F52-D52 -> -578.06
A53: =A52+1 -> 48 | B53: - revízie zariadení (účet 518 010) | C53: 52012.97 | D53: 1798.98 | E53: 49072.04 | F53: 1213.3 | G53: =E53-C53 -> -2940.93 | H53: =F53-D53 -> -585.68
A54: =A53+1 -> 49 | B54: - čistenie verejných priestranstiev (účet 518 011) | C54: 0 | G54: =E54-C54 -> 0 | H54: =F54-D54 -> 0
A55: =A54+1 -> 50 | B55: - dopravné služby (účet 518 012, 518 512) | C55: 31299.24 | E55: 22518.6 | G55: =E55-C55 -> -8780.64 | H55: =F55-D55 -> 0
A56: =A55+1 -> 51 | B56: - drobný nehmotný majetok (účet 518 014) | C56: 87551.17 | E56: 18432.91 | G56: =E56-C56 -> -69118.26 | H56: =F56-D56 -> 0
A57: =A56+1 -> 52 | B57: - používanie plavárne (účet 518 019) | C57: 650 | G57: =E57-C57 -> -650 | H57: =F57-D57 -> 0
A58: =A57+1 -> 53 | B58: - iné analyticky sledované náklady (účty 518 003, 518 013, 518 015-018, 518 020-030, 518 031-034, 518 040, 518 041, 518 529, 518 530, 518 599) | C58: 129860.76 | D58: 3980.49 | E58: 231235.86 | F58: 1220.74 | G58: =E58-C58 -> 101375.1 | H58: =F58-D58 -> -2759.75
A59: =A58+1 -> 54 | B59: - ostatné služby (účet 518 099) | C59: 175643.82 | D59: 782.92 | E59: 208361.82 | F59: 339.72 | G59: =E59-C59 -> 32718 | H59: =F59-D59 -> -443.2
A60: =A59+1 -> 55 | B60: Mzdové náklady (účet 521) [SUM(R56:R57)] | C60: =C61+C62 -> 12242532 | D60: =D61+D62 -> 75227.51 | E60: =E61+E62 -> 12756381 | F60: =F61+F62 -> 96430.01 | G60: =E60-C60 -> 513849.38 | H60: =F60-D60 -> 21202.5
A61: =A60+1 -> 56 | B61: - MZDY (účty 521 001-008, 521 012, 521 013, 581 003) | C61: 11792744 | D61: 72169 | E61: 12365468 | F61: 92046.41 | G61: =E61-C61 -> 572723.99 | H61: =F61-D61 -> 19877.41
A62: =A61+1 -> 57 | B62: - OON [SUM(R58:R60)] | C62: =SUM(C63:C65) -> 449788.34 | D62: =SUM(D63:D65) -> 3058.51 | E62: =SUM(E63:E65) -> 390913.73 | F62: =SUM(F63:F65) -> 4383.6 | G62: =E62-C62 -> -58874.61 | H62: =F62-D62 -> 1325.09
A63: =A62+1 -> 58 | B63: - dohody o vykonaní práce - externí účitelia (účet 521 009) | C63: 0 | G63: =E63-C63 -> 0 | H63: =F63-D63 -> 0
A64: =A63+1 -> 59 | B64: - dohody o vykonaní práce, dohody o pracovnej činnosti (účet 521 010) | C64: 448877.65 | D64: 3037.5 | E64: 387766.22 | F64: 4332.76 | G64: =E64-C64 -> -61111.43 | H64: =F64-D64 -> 1295.26
A65: =A64+1 -> 60 | B65: - dohody o brigádnickej práci študentov (účet 521 011) | C65: 910.69 | D65: 21.01 | E65: 3147.51 | F65: 50.84 | G65: =E65-C65 -> 2236.82 | H65: =F65-D65 -> 29.83
A66: =A65+1 -> 61 | B66: Zákonné sociálne poistenie (účet 524) | C66: 4205095 | D66: 24549.29 | E66: 4369475.4 | F66: 33480.74 | G66: =E66-C66 -> 164380.38 | H66: =F66-D66 -> 8931.45
A67: =A66+1 -> 62 | B67: Ostatné sociálne poistenia (účet 525) | C67: 99094.35 | D67: 1779.65 | E67: 105742.56 | F67: 1675.44 | G67: =E67-C67 -> 6648.21 | H67: =F67-D67 -> -104.21
A68: =A67+1 -> 63 | B68: Zákonné sociálne náklady (účet 527) [SUM(R64:R69)] | C68: =SUM(C69:C74) -> 340525.54 | D68: =SUM(D69:D74) -> 1372.6 | E68: =SUM(E69:E74) -> 349744.41 | F68: =SUM(F69:F74) -> 920.31 | G68: =E68-C68 -> 9218.87 | H68: =F68-D68 -> -452.29
A69: =A68+1 -> 64 | B69: - tvorba sociálneho fondu (účet 527 001) | C69: 128555 | E69: 134365 | G69: =E69-C69 -> 5810 | H69: =F69-D69 -> 0
A70: =A69+1 -> 65 | B70: - príspevok zamestnancom na stravovanie (účet 527 002, 527 052) | C70: 115982.49 | E70: 117547.56 | G70: =E70-C70 -> 1565.07 | H70: =F70-D70 -> 0
A71: =A70+1 -> 66 | B71: - zákonné odstupné, odchodné (účet 527 003) | C71: 33909.15 | D71: 185.57 | E71: 34612.52 | G71: =E71-C71 -> 703.37 | H71: =F71-D71 -> -185.57
A72: =A71+1 -> 67 | B72: - náhrada príjmu pri PN (účet 527 004) | C72: 62078.9 | D72: 1187.03 | E72: 57496.67 | F72: 920.31 | G72: =E72-C72 -> -4582.23 | H72: =F72-D72 -> -266.72
A73: =A72+1 -> 68 | B73: - ochranné pracovné pomôcky podľa Zákonníka práce (účet 527 005) | C73: 0 | E73: 5722.66 | G73: =E73-C73 -> 5722.66 | H73: =F73-D73 -> 0
A74: =A73+1 -> 69 | B74: - ostatné zákonné sociálne náklady (účet 527 099) | C74: 0 | E74: 0 | G74: =E74-C74 -> 0 | H74: =F74-D74 -> 0
A75: =A74+1 -> 70 | B75: Ostatné sociálne náklady (účet 528) | C75: 0 | E75: 0 | G75: =E75-C75 -> 0 | H75: =F75-D75 -> 0
A76: =A75+1 -> 71 | B76: Daň z motorových vozidiel (účet 531) | C76: 242.2 | D76: 81.08 | E76: 315.68 | F76: 142.77 | G76: =E76-C76 -> 73.48 | H76: =F76-D76 -> 61.69
A77: =A76+1 -> 72 | B77: Daň z nehnuteľnosti (účet 532) | C77: 34676.47 | E77: 34145.37 | G77: =E77-C77 -> -531.1 | H77: =F77-D77 -> 0
A78: =A77+1 -> 73 | B78: Ostatné dane a poplatky (účet 538) | C78: 46728.32 | D78: 2728.53 | E78: 44974.31 | F78: 595.33 | G78: =E78-C78 -> -1754.01 | H78: =F78-D78 -> -2133.2
A79: =A78+1 -> 74 | B79: Ostatné náklady (účtová skupina 54) [R75+ R76] | C79: =C80+C81 -> 1481367.2 | D79: =D80+D81 -> 170.89 | E79: =E80+E81 -> 1686279.3 | F79: =F80+F81 -> 168.29 | G79: =E79-C79 -> 204912.19 | H79: =F79-D79 -> -2.6
A80: =A79+1 -> 75 | B80: - Náklady účtovnej skupiny 54 okrem nákladov účtu 549 (541 až 548) | C80: 1541.12 | D80: 13.87 | E80: 2551.78 | G80: =E80-C80 -> 1010.66 | H80: =F80-D80 -> -13.87
A81: =A80+1 -> 76 | B81: - Iné ostatné náklady (účet 549) [SUM(R77:R83)] | C81: =SUM(C82:C89) -> 1479826 | D81: =SUM(D82:D89) -> 157.02 | E81: =SUM(E82:E89) -> 1683727.6 | F81: =SUM(F82:F89) -> 168.29 | G81: =E81-C81 -> 203901.53 | H81: =F81-D81 -> 11.27
A82: =A81+1 -> 77 | B82: - štipendiá doktorandov (účet 549 001, 549 016, 549 017) | C82: 1153332.3 | E82: 1210540.2 | G82: =E82-C82 -> 57207.94 | H82: =F82-D82 -> 0
A83: =A82+1 -> 78 | B83: - bankové poplatky (účet 549 002) | C83: 5585.93 | D83: 132.62 | E83: 6201.95 | F83: 125.29 | G83: =E83-C83 -> 616.02 | H83: =F83-D83 -> -7.33
A84: =A83+1 -> 79 | B84: - úhrada výnosov z úrokov na dotačnom účte (účet 549 003) | C84: 0 | E84: 0 | G84: =E84-C84 -> 0 | H84: =F84-D84 -> 0
A85: =A84+1 -> 80 | B85: - poistné náklady (havarijné, majetok, na študentov) (účet 549 004, 549 014, 549 015, 549 054) | C85: 20319.99 | E85: 18771.81 | G85: =E85-C85 -> -1548.18 | H85: =F85-D85 -> 0
A86: =A85+1 -> 81 | B86: - štipendiá z vlastných zdrojov (549 007-010, 549 019, 549 020) | C86: 185 | E86: 67468 | G86: =E86-C86 -> 67283 | H86: =F86-D86 -> 0
A87: 81a | B87: - Podpora štud. so špecifickými potrebami podľa §100 (549 018) | E87: 4002.98 | G87: =E87-C87 -> 4002.98 | H87: =F87-D87 -> 0
A88: =A86+1 -> 82 | B88: - iné analyticky sledované náklady (účet 549 005-006, 549 012) | C88: 252875.47 | E88: 160650 | G88: =E88-C88 -> -92225.47 | H88: =F88-D88 -> 0
A89: =A88+1 -> 83 | B89: - ostatné iné náklady (účet 549 098, 549 099, 549 011, 549 013) | C89: 47527.39 | D89: 24.4 | E89: 216092.63 | F89: 43 | G89: =E89-C89 -> 168565.24 | H89: =F89-D89 -> 18.6
A90: =A89+1 -> 84 | B90: Odpisy, predaný majetok a opravné položky (účtová skupina 55: 551 až 558) [SUM(R85:R92)] | C90: =SUM(C91:C99) -> 4573357.4 | D90: =SUM(D91:D99) -> 2833.01 | E90: =SUM(E91:E99) -> 4343524.4 | F90: =SUM(F91:F99) -> 2533.99 | G90: =E90-C90 -> -229833.06 | H90: =F90-D90 -> -299.02
A91: =A90+1 -> 85 | B91: - odpisy DN a HM nadobudnutého z kapitálových dotácií zo ŠR (účet 551 100, 551 121, 551 123, 551 001, 551 003) | C91: 652262.85 | E91: 653959.83 | G91: =E91-C91 -> 1696.98 | H91: =F91-D91 -> 0
A92: =A91+1 -> 86 | B92: - odpisy ostatného DN a HM (účet 551 200, 551 221, 551 223, 551 400, 551 900, 551 921, 551 923) | C92: 732589.53 | D92: 2900 | E92: 737541.15 | F92: 5376 | G92: =E92-C92 -> 4951.62 | H92: =F92-D92 -> 2476
A93: 86a | B93: - odpisy DN a HM nadobudnutého z kapitálových dotácií z EÚ (zo štrukturálnych fondov) (účet 551 300, 551 321, 551 323) | C93: 1229807 | E93: 1258017.7 | G93: =E93-C93 -> 28210.65 | H93: =F93-D93 -> 0
A94: =A92+1 -> 87 | B94: - ostatné náklady z účtovej skupiny 55 (účty 552, 553, 554, 557, 558, 559) | C94: 0 | D94: -66.99 | E94: 0 | F94: -2842.01 | G94: =E94-C94 -> 0 | H94: =F94-D94 -> -2775.02
A95: =A94+1 -> 88 | B95: - náklady na tvorbu rezervného fondu (účet 556 100) | C95: 0 | E95: 0 | G95: =E95-C95 -> 0 | H95: =F95-D95 -> 0
A96: =A95+1 -> 89 | B96: - náklady na tvorbu štipendijného fondu (účet 556 200) | C96: 1953948 | E96: 1694005.7 | G96: =E96-C96 -> -259942.31 | H96: =F96-D96 -> 0
A97: =A96+1 -> 90 | B97: - náklady na tvorbu fondu reprodukcie (účet 556 400) (z predaja a likvidácie majetku) | C97: 4750 | E97: 0 | G97: =E97-C97 -> -4750 | H97: =F97-D97 -> 0
A98: =A97+1 -> 91 | B98: - náklady na tvorbu fondu na podporu štúdia študentov so špecifickými potrebami (účet 556 300) | C98: 0 | E98: 0 | G98: =E98-C98 -> 0 | H98: =F98-D98 -> 0
A99: =A98+1 -> 92 | B99: - náklady na tvorbu ostatných fondov (účty 556 510, 556 520) | E99: 0 | G99: =E99-C99 -> 0 | H99: =F99-D99 -> 0
A100: =A99+1 -> 93 | B100: Poskytnuté príspevky (účtová skupina 56: 562 a 563) | C100: 267098.27 | E100: 271586.8 | G100: =E100-C100 -> 4488.53 | H100: =F100-D100 -> 0
...

Sheet T6-Zamestnanci_a_mzdy
A1: Tabuľka č. 6: Zamestnanci a náklady na mzdy verejnej vysokej školy v roku 2016
A2: Názov verejnej vysokej školy: Univerzita Konštantína Filozofa v Nitre
A3: Číslo riadku | B3: Kategória zamestnancov | C3: Priemerný evidenčný prepočítaný počet zamestnancov za rok 2016 | G3: Náklady na mzdy poskytované z prostriedkov štátneho rozpočtu (v Eur) | H3: z toho: | I3: Náklady na mzdy poskytované z iných zdrojov (v Eur) | J3: Náklady na mzdy spolu (v Eur) | K3: Priemerné platy
C4: Počet zamestnancov platených z prostriedkov štátneho rozpočtu | D4: z toho: | E4: Počet zamestnancov platených z iných zdrojov | F4: Počet zamestnancov spolu
D5: Zamestnanci platení z dotácie MŠVVaŠ SR | H5: Náklady na mzdy poskytované z dotácie MŠVVaŠ SR (v Eur)
C6: A | D6: B | E6: C | F6: D=A+C | G6: E | H6: F | I6: G | J6: H=E+G | K6: I=H/D/12
A7: 1 | B7: Vysokoškolskí učitelia spolu [SUM(R2:R6)] | C7: =SUM(C8:C12) -> 527.2 | D7: =SUM(D8:D12) -> 527.2 | E7: =SUM(E8:E12) -> 1.3 | F7: =C7+E7 -> 528.5 | G7: =SUM(G8:G12) -> 7891120 | H7: =SUM(H8:H12) -> 7738150 | I7: =SUM(I8:I12) -> 437840 | J7: =G7+I7 -> 8328960 | K7: =IF(F7=0,0,J7/F7/12) -> 1313.3018
A8: 2 | B8: - vysokoškolskí učitelia s funkčným zaradením "profesor" *) | C8: 75.2 | D8: 75.2 | F8: =C8+E8 -> 75.2 | G8: 1551986 | H8: 1517435 | I8: 53874 | J8: =G8+I8 -> 1605860 | K8: =IF(F8=0,0,J8/F8/12) -> 1779.5434
A9: 3 | B9: - vysokoškolskí učitelia s funkčným zaradením "docent" | C9: 148 | D9: 148 | F9: =C9+E9 -> 148 | G9: 2485224 | H9: 2434614 | I9: 131538 | J9: =G9+I9 -> 2616762 | K9: =IF(F9=0,0,J9/F9/12) -> 1473.402
A10: 4 | B10: - vysokoškolskí učitelia s funkčným zaradením "odborný asistent" | C10: 293 | D10: 293 | E10: 1 | F10: =C10+E10 -> 294 | G10: 3734964 | H10: 3667155 | I10: 244477 | J10: =G10+I10 -> 3979441 | K10: =IF(F10=0,0,J10/F10/12) -> 1127.9595
A11: 5 | B11: - vysokoškolskí učitelia s funkčným zaradením "asistent" | F11: =C11+E11 -> 0 | J11: =G11+I11 -> 0 | K11: =IF(F11=0,0,J11/F11/12) -> 0
A12: 6 | B12: - vysokoškolskí učitelia s funkčným zaradením "lektor" | C12: 11 | D12: 11 | E12: 0.3 | F12: =C12+E12 -> 11.3 | G12: 118946 | H12: 118946 | I12: 7951 | J12: =G12+I12 -> 126897 | K12: =IF(F12=0,0,J12/F12/12) -> 935.81858
A13: 7 | B13: Odborní zamestnanci | C13: 78 | D13: 78 | F13: =C13+E13 -> 78 | G13: 787274 | H13: 787024 | I13: 20251 | J13: =G13+I13 -> 807525 | K13: =IF(F13=0,0,J13/F13/12) -> 862.74038
B14: z toho:
A15: 8 | B15: - na oblasť IT | C15: 30 | D15: 30 | F15: =C15+E15 -> 30 | G15: 353965 | H15: 353965 | I15: 15208 | J15: =G15+I15 -> 369173 | K15: =IF(F15=0,0,J15/F15/12) -> 1025.4806
A16: 9 | B16: Administratívni zamestnanci spolu [SUM(R10:R12)] | C16: =SUM(C17:C19) -> 152.9 | D16: =SUM(D17:D19) -> 152.9 | E16: =SUM(E17:E19) -> 2 | F16: =C16+E16 -> 154.9 | G16: =SUM(G17:G19) -> 1979553 | H16: =SUM(H17:H19) -> 1959846 | I16: =SUM(I17:I19) -> 128514 | J16: =G16+I16 -> 2108067 | K16: =IF(F16=0,0,J16/F16/12) -> 1134.101
A17: 10 | B17: - zamestnanci zaradení na rektorátoch | C17: 58.9 | D17: 58.9 | E17: 2 | F17: =C17+E17 -> 60.9 | G17: 914931 | H17: 895224 | I17: 46900 | J17: =G17+I17 -> 961831 | K17: =IF(F17=0,0,J17/F17/12) -> 1316.1344
A18: 11 | B18: - zamestnanci zaradení na dekanátoch | C18: 54 | D18: 54 | F18: =C18+E18 -> 54 | G18: 781914 | H18: 781914 | I18: 63553 | J18: =G18+I18 -> 845467 | K18: =IF(F18=0,0,J18/F18/12) -> 1304.733
A19: 12 | B19: - zamestnanci zaradení na ostatných pracoviskách | C19: 40 | D19: 40 | F19: =C19+E19 -> 40 | G19: 282708 | H19: 282708 | I19: 18061 | J19: =G19+I19 -> 300769 | K19: =IF(F19=0,0,J19/F19/12) -> 626.60208
A20: 13 | B20: Výskumní pracovníci alebo umeleckí pracovníci | C20: 12.8 | D20: 10.8 | F20: =C20+E20 -> 12.8 | G20: 149025 | H20: 129616 | I20: 4663 | J20: =G20+I20 -> 153688 | K20: =IF(F20=0,0,J20/F20/12) -> 1000.5729
A21: 14 | B21: Prevádzkoví zamestnanci okrem zamestnancov študentských domovov a jedální | C21: 77.9 | D21: 77.9 | E21: 0.3 | F21: =C21+E21 -> 78.2 | G21: 486944 | H21: 486944 | I21: 5485 | J21: =G21+I21 -> 492429 | K21: =IF(F21=0,0,J21/F21/12) -> 524.75384
A22: 15 | B22: Zamestnanci osobitne financovaných súčastí verejnej vysokej školy (špecifiká) z R1, R7, R9, R13, R14 spolu [SUM(R15a:R15...)] | C22: =SUM(C23:C26) -> 5 | D22: =SUM(D23:D26) -> 5 | E22: =SUM(E23:E26) -> 0 | F22: =SUM(F27:F27) -> 0 | G22: =SUM(G23:G26) -> 60516 | H22: =SUM(H23:H26) -> 60516 | I22: =SUM(I23:I26) -> 922 | J22: =SUM(J23:J26) -> 61438 | K22: =IF(F22=0,0,J22/F22/12) -> 0
A23: 15a | B23: Zahraniční lektori | C23: 5 | D23: 5 | F23: =C23+E23 -> 5 | G23: 60516 | H23: 60516 | I23: 922 | J23: =G23+I23 -> 61438 | K23: =IF(F23=0,0,J23/F23/12) -> 1023.9667
A24: 15b | F24: =C24+E24 -> 0 | J24: =G24+I24 -> 0 | K24: =IF(F24=0,0,J24/F24/12) -> 0
A25: 15c | F25: =C25+E25 -> 0 | J25: =G25+I25 -> 0 | K25: =IF(F25=0,0,J25/F25/12) -> 0
A26: 15d | F26: =C26+E26 -> 0 | J26: =G26+I26 -> 0 | K26: =IF(F26=0,0,J26/F26/12) -> 0
F27: =C27+E27 -> 0
A28: 16 | B28: Zamestnanci študentských domovov | C28: 52.8 | D28: 52.8 | E28: 1.1 | F28: =C28+E28 -> 53.9 | G28: 360799 | H28: 360799 | I28: 10582 | J28: =G28+I28 -> 371381 | K28: =IF(F28=0,0,J28/F28/12) -> 574.18213
A29: 17 | B29: Zamestnanci študentských jedální | E29: 23.4 | F29: =C29+E29 -> 23.4 | I29: 173785 | J29: =G29+I29 -> 173785 | K29: =IF(F29=0,0,J29/F29/12) -> 618.89245
A30: 18 | B30: Spolu [R1+R7+R9+R13+R14+R16+R17] | C30: =C7+C13+C16+C20+C21+C28+C29 -> 901.6 | D30: =D7+D13+D16+D20+D21+D28+D29 -> 899.6 | E30: =E7+E13+E16+E20+E21+E28+E29 -> 28.1 | F30: =F7+F13+F16+F20+F21+F28+F29 -> 929.7 | G30: =G7+G13+G16+G20+G21+G28+G29 -> 11654715 | H30: =H7+H13+H16+H20+H21+H28+H29 -> 11462379 | I30: =I7+I13+I16+I20+I21+I28+I29 -> 781120 | J30: =J7+J13+J16+J20+J21+J28+J29 -> 12435835 | K30: =IF(F30=0,0,J30/F30/12) -> 1114.6817
A32: pozn.1): rozdiel medzi údajom, vykazovaným v stĺpci T6_R18_SH a údajom v T5_R56_(SC+SD) uviesť v komentári
B33: Rozdiel medzi údajmi vykazovanými v tab.T6 a T5 vznikol zaúčtovaním rezervy na dovolenky
A34: *) medzi profesorov sa započítava aj funkčné zaradenie "hosťujúci profesor"
B35: Pre účely výpočtu počtu zamestnancov bola použitá metóda - Priemerný evidenčný počet zamestnancov - prepočítaný počet - je aritmetickým priemerom denných evidenčných počtov zamestnancov za sledované obdobie prepočítaných na plnú zamestnanosť podľa dĺžky pracovných úväzkov zamestnancov, resp. podľa skutočne odpracovaných hodín. U zamestnancov, ktorí vykonávajú v organizácii činnosť v ďalšom pracovnom pomere, sa výpočet priemerného evidenčného počtu zamestnancov prepočítaného na plne zamestnaných skladá z dvoch častí :
B36: - prvýkrát sa započítavajú do evidenčného počtu zamestnancov vo fyzických osobách s plným týždenným pracovným časom, ktorý sa rovná ich prepočítanému počtu, a to pracovným úväzkom v hlavnom zamestnaní;
B37: - druhýkrát sa započítavajú do evidenčného počtu zamestnancov prepočítaného, a to svojím pracovným úväzkom v ďalšom pracovnom pomere.
B38: Do evidenčného počtu zamestnancov prepočítaného sa títo zamestnanci započítavajú dvakrát na rozdiel od evidenčného počtu zamestnancov vo fyzických osobách, v ktorom sú započítaní iba raz.

Sheet T6a-Zamestnanci_a_mzdy (ženy)
A1: Tabuľka č. 6a: Zamestnanci a náklady na mzdy verejnej vysokej školy v roku 2016 - len ženy a výpočet priemerného platu mužov
A2: Názov verejnej vysokej školy: Univerzita Konštantína Filozofa v Nitre | L2: Výpočet
A3: Číslo riadku | B3: Kategória zamestnancov - žien | C3: Priemerný evidenčný prepočítaný počet žien za rok 2016 | G3: Náklady na mzdy poskytované z prostriedkov štátneho rozpočtu (v Eur) | H3: z toho: | I3: Náklady na mzdy poskytované z iných zdrojov (v Eur) | J3: Náklady na mzdy spolu (v Eur) | K3: Priemerné platy žien | L3: Priemerné platy mužov
C4: Počet žien platených z prostriedkov štátneho rozpočtu | D4: z toho: | E4: Počet žien platených z iných zdrojov | F4: Počet žien spolu
D5: Ženy platené z dotácie MŠVVaŠ SR | H5: Náklady na mzdy poskytované z dotácie MŠVVaŠ SR (v Eur)
C6: A | D6: B | E6: C | F6: D=A+C | G6: E | H6: F | I6: G | J6: H=E+G | K6: I=H/D/12 | L6: J
A7: 1 | B7: Vysokoškolskí učitelia spolu [SUM(R2:R6)] | C7: =SUM(C8:C12) -> 286 | D7: =SUM(D8:D12) -> 286 | E7: =SUM(E8:E12) -> 0 | F7: =C7+E7 -> 286 | G7: =SUM(G8:G12) -> 4202596 | H7: =SUM(H8:H12) -> 4201125 | I7: =SUM(I8:I12) -> 213601 | J7: =G7+I7 -> 4416197 | K7: =IF(F7=0,0,J7/F7/12) -> 1286.7707 | L7: =IF('T6-Zamestnanci_a_mzdy'!F7-'T6a-Zamestnanci_a_mzdy (ženy)'!F7=0,0,('T6-Zamestnanci_a_mzdy'!J7-'T6a-Zamestnanci_a_mzdy (ženy)'!J7)/('T6-Zamestnanci_a_mzdy'!F7-'T6a-Zamestnanci_a_mzdy (ženy)'!F7)/12) -> 1344.5921
A8: 2 | B8: - vysokoškolskí učitelia s funkčným zaradením "profesor" *) | C8: 28 | D8: 28 | F8: =C8+E8 -> 28 | G8: 612538 | H8: 611067 | I8: 20623 | J8: =G8+I8 -> 633161 | K8: =IF(F8=0,0,J8/F8/12) -> 1884.4077 | L8: =IF('T6-Zamestnanci_a_mzdy'!F8-'T6a-Zamestnanci_a_mzdy (ženy)'!F8=0,0,('T6-Zamestnanci_a_mzdy'!J8-'T6a-Zamestnanci_a_mzdy (ženy)'!J8)/('T6-Zamestnanci_a_mzdy'!F8-'T6a-Zamestnanci_a_mzdy (ženy)'!F8)/12) -> 1717.3358
A9: 3 | B9: - vysokoškolskí učitelia s funkčným zaradením "docent" | C9: 80 | D9: 80 | F9: =C9+E9 -> 80 | G9: 1352950 | H9: 1352950 | I9: 64536 | J9: =G9+I9 -> 1417486 | K9: =IF(F9=0,0,J9/F9/12) -> 1476.5479 | L9: =IF('T6-Zamestnanci_a_mzdy'!F9-'T6a-Zamestnanci_a_mzdy (ženy)'!F9=0,0,('T6-Zamestnanci_a_mzdy'!J9-'T6a-Zamestnanci_a_mzdy (ženy)'!J9)/('T6-Zamestnanci_a_mzdy'!F9-'T6a-Zamestnanci_a_mzdy (ženy)'!F9)/12) -> 1469.701
A10: 4 | B10: - vysokoškolskí učitelia s funkčným zaradením "odborný asistent" | C10: 175 | D10: 175 | F10: =C10+E10 -> 175 | G10: 2206896 | H10: 2206896 | I10: 126932 | J10: =G10+I10 -> 2333828 | K10: =IF(F10=0,0,J10/F10/12) -> 1111.3467 | L10: =IF('T6-Zamestnanci_a_mzdy'!F10-'T6a-Zamestnanci_a_mzdy (ženy)'!F10=0,0,('T6-Zamestnanci_a_mzdy'!J10-'T6a-Zamestnanci_a_mzdy (ženy)'!J10)/('T6-Zamestnanci_a_mzdy'!F10-'T6a-Zamestnanci_a_mzdy (ženy)'!F10)/12) -> 1152.3901
A11: 5 | B11: - vysokoškolskí učitelia s funkčným zaradením "asistent" | F11: =C11+E11 -> 0 | J11: =G11+I11 -> 0 | K11: =IF(F11=0,0,J11/F11/12) -> 0 | L11: =IF('T6-Zamestnanci_a_mzdy'!F11-'T6a-Zamestnanci_a_mzdy (ženy)'!F11=0,0,('T6-Zamestnanci_a_mzdy'!J11-'T6a-Zamestnanci_a_mzdy (ženy)'!J11)/('T6-Zamestnanci_a_mzdy'!F11-'T6a-Zamestnanci_a_mzdy (ženy)'!F11)/12) -> 0
A12: 6 | B12: - vysokoškolskí učitelia s funkčným zaradením "lektor" | C12: 3 | D12: 3 | F12: =C12+E12 -> 3 | G12: 30212 | H12: 30212 | I12: 1510 | J12: =G12+I12 -> 31722 | K12: =IF(F12=0,0,J12/F12/12) -> 881.16667 | L12: =IF('T6-Zamestnanci_a_mzdy'!F12-'T6a-Zamestnanci_a_mzdy (ženy)'!F12=0,0,('T6-Zamestnanci_a_mzdy'!J12-'T6a-Zamestnanci_a_mzdy (ženy)'!J12)/('T6-Zamestnanci_a_mzdy'!F12-'T6a-Zamestnanci_a_mzdy (ženy)'!F12)/12) -> 955.57229
A13: 7 | B13: Odborní zamestnanci | C13: 37 | D13: 37 | F13: =C13+E13 -> 37 | G13: 315076 | H13: 315076 | I13: 3961 | J13: =G13+I13 -> 319037 | K13: =IF(F13=0,0,J13/F13/12) -> 718.5518 | L13: =IF('T6-Zamestnanci_a_mzdy'!F13-'T6a-Zamestnanci_a_mzdy (ženy)'!F13=0,0,('T6-Zamestnanci_a_mzdy'!J13-'T6a-Zamestnanci_a_mzdy (ženy)'!J13)/('T6-Zamestnanci_a_mzdy'!F13-'T6a-Zamestnanci_a_mzdy (ženy)'!F13)/12) -> 992.86179
B14: z toho:
A15: 8 | B15: - na oblasť IT | C15: 5 | D15: 5 | F15: =C15+E15 -> 5 | G15: 56589 | H15: 56589 | I15: 2430 | J15: =G15+I15 -> 59019 | K15: =IF(F15=0,0,J15/F15/12) -> 983.65 | L15: =IF('T6-Zamestnanci_a_mzdy'!F15-'T6a-Zamestnanci_a_mzdy (ženy)'!F15=0,0,('T6-Zamestnanci_a_mzdy'!J15-'T6a-Zamestnanci_a_mzdy (ženy)'!J15)/('T6-Zamestnanci_a_mzdy'!F15-'T6a-Zamestnanci_a_mzdy (ženy)'!F15)/12) -> 1033.8467
A16: 9 | B16: Administratívni zamestnanci spolu [SUM(R10:R12)] | C16: =SUM(C17:C19) -> 142 | D16: =SUM(D17:D19) -> 142 | E16: =SUM(E17:E19) -> 2 | F16: =C16+E16 -> 144 | G16: =SUM(G17:G19) -> 1682765 | H16: =SUM(H17:H19) -> 1682765 | I16: =SUM(I17:I19) -> 95609 | J16: =G16+I16 -> 1778374 | K16: =IF(F16=0,0,J16/F16/12) -> 1029.1516 | L16: =IF('T6-Zamestnanci_a_mzdy'!F16-'T6a-Zamestnanci_a_mzdy (ženy)'!F16=0,0,('T6-Zamestnanci_a_mzdy'!J16-'T6a-Zamestnanci_a_mzdy (ženy)'!J16)/('T6-Zamestnanci_a_mzdy'!F16-'T6a-Zamestnanci_a_mzdy (ženy)'!F16)/12) -> 2520.5887
A17: 10 | B17: - zamestnanci zaradení na rektorátoch | C17: 52 | D17: 52 | E17: 2 | F17: =C17+E17 -> 54 | G17: 759573 | H17: 759573 | I17: 32495 | J17: =G17+I17 -> 792068 | K17: =IF(F17=0,0,J17/F17/12) -> 1222.3272 | L17: =IF('T6-Zamestnanci_a_mzdy'!F17-'T6a-Zamestnanci_a_mzdy (ženy)'!F17=0,0,('T6-Zamestnanci_a_mzdy'!J17-'T6a-Zamestnanci_a_mzdy (ženy)'!J17)/('T6-Zamestnanci_a_mzdy'!F17-'T6a-Zamestnanci_a_mzdy (ženy)'!F17)/12) -> 2050.2778
A18: 11 | B18: - zamestnanci zaradení na dekanátoch | C18: 51 | D18: 51 | F18: =C18+E18 -> 51 | G18: 640484 | H18: 640484 | I18: 45053 | J18: =G18+I18 -> 685537 | K18: =IF(F18=0,0,J18/F18/12) -> 1120.1585 | L18: =IF('T6-Zamestnanci_a_mzdy'!F18-'T6a-Zamestnanci_a_mzdy (ženy)'!F18=0,0,('T6-Zamestnanci_a_mzdy'!J18-'T6a-Zamestnanci_a_mzdy (ženy)'!J18)/('T6-Zamestnanci_a_mzdy'!F18-'T6a-Zamestnanci_a_mzdy (ženy)'!F18)/12) -> 4442.5
A19: 12 | B19: - zamestnanci zaradení na ostatných pracoviskách | C19: 39 | D19: 39 | F19: =C19+E19 -> 39 | G19: 282708 | H19: 282708 | I19: 18061 | J19: =G19+I19 -> 300769 | K19: =IF(F19=0,0,J19/F19/12) -> 642.6688 | L19: =IF('T6-Zamestnanci_a_mzdy'!F19-'T6a-Zamestnanci_a_mzdy (ženy)'!F19=0,0,('T6-Zamestnanci_a_mzdy'!J19-'T6a-Zamestnanci_a_mzdy (ženy)'!J19)/('T6-Zamestnanci_a_mzdy'!F19-'T6a-Zamestnanci_a_mzdy (ženy)'!F19)/12) -> 0
A20: 13 | B20: Výskumní pracovníci alebo umeleckí pracovníci | C20: 9 | D20: 9 | F20: =C20+E20 -> 9 | G20: 111829 | H20: 111829 | I20: 2067 | J20: =G20+I20 -> 113896 | K20: =IF(F20=0,0,J20/F20/12) -> 1054.5926 | L20: =IF('T6-Zamestnanci_a_mzdy'!F20-'T6a-Zamestnanci_a_mzdy (ženy)'!F20=0,0,('T6-Zamestnanci_a_mzdy'!J20-'T6a-Zamestnanci_a_mzdy (ženy)'!J20)/('T6-Zamestnanci_a_mzdy'!F20-'T6a-Zamestnanci_a_mzdy (ženy)'!F20)/12) -> 872.63158
A21: 14 | B21: Prevádzkoví zamestnanci okrem zamestnancov študentských domovov a jedální | C21: 54 | D21: 54 | F21: =C21+E21 -> 54 | G21: 283754 | H21: 283754 | I21: 950 | J21: =G21+I21 -> 284704 | K21: =IF(F21=0,0,J21/F21/12) -> 439.35802 | L21: =IF('T6-Zamestnanci_a_mzdy'!F21-'T6a-Zamestnanci_a_mzdy (ženy)'!F21=0,0,('T6-Zamestnanci_a_mzdy'!J21-'T6a-Zamestnanci_a_mzdy (ženy)'!J21)/('T6-Zamestnanci_a_mzdy'!F21-'T6a-Zamestnanci_a_mzdy (ženy)'!F21)/12) -> 715.30647
A22: 15 | B22: Zamestnanci osobitne financovaných súčastí verejnej vysokej školy (špecifiká) z R1, R7, R9, R13, R14 spolu [SUM(R15a:R15...)] | C22: =SUM(C23:C26) -> 2 | D22: =SUM(D23:D26) -> 2 | E22: =SUM(E23:E26) -> 0 | F22: =SUM(F27:F27) -> 0 | G22: =SUM(G23:G26) -> 17330 | H22: =SUM(H23:H26) -> 17330 | I22: =SUM(I23:I26) -> 622 | J22: =SUM(J23:J26) -> 17952 | K22: 748 | L22: =IF('[2]T6-Zamestnanci_a_mzdy'!F22-'[2]T6a-Zamestnanci_a_mzdy (ženy)'!F22=0,0,('[2]T6-Zamestnanci_a_mzdy'!J22-'[2]T6a-Zamestnanci_a_mzdy (ženy)'!J22)/('[2]T6-Zamestnanci_a_mzdy'!F22-'[2]T6a-Zamestnanci_a_mzdy (ženy)'!F22)/12) -> 1207.9444
A23: 15a | B23: Zahranicní lektori | C23: 2 | D23: 2 | F23: =C23+E23 -> 2 | G23: 17330 | H23: 17330 | I23: 622 | J23: =G23+I23 -> 17952 | K23: =IF(F23=0,0,J23/F23/12) -> 748 | L23: =IF('T6-Zamestnanci_a_mzdy'!F23-'T6a-Zamestnanci_a_mzdy (ženy)'!F23=0,0,('T6-Zamestnanci_a_mzdy'!J23-'T6a-Zamestnanci_a_mzdy (ženy)'!J23)/('T6-Zamestnanci_a_mzdy'!F23-'T6a-Zamestnanci_a_mzdy (ženy)'!F23)/12) -> 1207.9444
A24: 15b | F24: =C24+E24 -> 0 | J24: =G24+I24 -> 0 | K24: =IF(F24=0,0,J24/F24/12) -> 0 | L24: =IF('T6-Zamestnanci_a_mzdy'!F24-'T6a-Zamestnanci_a_mzdy (ženy)'!F24=0,0,('T6-Zamestnanci_a_mzdy'!J24-'T6a-Zamestnanci_a_mzdy (ženy)'!J24)/('T6-Zamestnanci_a_mzdy'!F24-'T6a-Zamestnanci_a_mzdy (ženy)'!F24)/12) -> 0
A25: 15c | F25: =C25+E25 -> 0 | J25: =G25+I25 -> 0 | K25: =IF(F25=0,0,J25/F25/12) -> 0 | L25: =IF('T6-Zamestnanci_a_mzdy'!F25-'T6a-Zamestnanci_a_mzdy (ženy)'!F25=0,0,('T6-Zamestnanci_a_mzdy'!J25-'T6a-Zamestnanci_a_mzdy (ženy)'!J25)/('T6-Zamestnanci_a_mzdy'!F25-'T6a-Zamestnanci_a_mzdy (ženy)'!F25)/12) -> 0
A26: 15d | F26: =C26+E26 -> 0 | J26: =G26+I26 -> 0 | K26: =IF(F26=0,0,J26/F26/12) -> 0 | L26: =IF('T6-Zamestnanci_a_mzdy'!F26-'T6a-Zamestnanci_a_mzdy (ženy)'!F26=0,0,('T6-Zamestnanci_a_mzdy'!J26-'T6a-Zamestnanci_a_mzdy (ženy)'!J26)/('T6-Zamestnanci_a_mzdy'!F26-'T6a-Zamestnanci_a_mzdy (ženy)'!F26)/12) -> 0
F27: =C27+E27 -> 0
A28: 16 | B28: Zamestnanci študentských domovov | C28: 35 | D28: 35 | E28: 1 | F28: =C28+E28 -> 36 | G28: 219948 | H28: 219948 | I28: 4057 | J28: =G28+I28 -> 224005 | K28: =IF(F28=0,0,J28/F28/12) -> 518.53009 | L28: =IF('T6-Zamestnanci_a_mzdy'!F28-'T6a-Zamestnanci_a_mzdy (ženy)'!F28=0,0,('T6-Zamestnanci_a_mzdy'!J28-'T6a-Zamestnanci_a_mzdy (ženy)'!J28)/('T6-Zamestnanci_a_mzdy'!F28-'T6a-Zamestnanci_a_mzdy (ženy)'!F28)/12) -> 686.10801
A29: 17 | B29: Zamestnanci študentských jedální | E29: 16 | F29: =C29+E29 -> 16 | I29: 111638 | J29: =G29+I29 -> 111638 | K29: =IF(F29=0,0,J29/F29/12) -> 581.44792 | L29: =IF('T6-Zamestnanci_a_mzdy'!F29-'T6a-Zamestnanci_a_mzdy (ženy)'!F29=0,0,('T6-Zamestnanci_a_mzdy'!J29-'T6a-Zamestnanci_a_mzdy (ženy)'!J29)/('T6-Zamestnanci_a_mzdy'!F29-'T6a-Zamestnanci_a_mzdy (ženy)'!F29)/12) -> 699.8536
A30: 18 | B30: Spolu [R1+R7+R9+R13+R14+R16+R17] | C30: =C7+C13+C16+C20+C21+C28+C29 -> 563 | D30: =D7+D13+D16+D20+D21+D28+D29 -> 563 | E30: =E7+E13+E16+E20+E21+E28+E29 -> 19 | F30: =F7+F13+F16+F20+F21+F28+F29 -> 582 | G30: =G7+G13+G16+G20+G21+G28+G29 -> 6815968 | H30: =H7+H13+H16+H20+H21+H28+H29 -> 6814497 | I30: =I7+I13+I16+I20+I21+I28+I29 -> 431883 | J30: =J7+J13+J16+J20+J21+J28+J29 -> 7247851 | K30: =IF(F30=0,0,J30/F30/12) -> 1037.7794 | L30: =IF('T6-Zamestnanci_a_mzdy'!F30-'T6a-Zamestnanci_a_mzdy (ženy)'!F30=0,0,('T6-Zamestnanci_a_mzdy'!J30-'T6a-Zamestnanci_a_mzdy (ženy)'!J30)/('T6-Zamestnanci_a_mzdy'!F30-'T6a-Zamestnanci_a_mzdy (ženy)'!F30)/12) -> 1243.4052
A32: pozn.1): rozdiel medzi údajom, vykazovaným v stĺpci T6_R18_SH a údajom v T5_R56_(SC+SD) uviesť v komentári
A33: *) medzi profesorov sa započítava aj funkčné zaradenie "hosťujúci profesor"
B34: Pre účely výpočtu počtu zamestnancov bola použitá metóda - Priemerný evidenčný počet zamestnancov - prepočítaný počet - je aritmetickým priemerom denných evidenčných počtov zamestnancov za sledované obdobie prepočítaných na plnú zamestnanosť podľa dĺžky pracovných úväzkov zamestnancov, resp. podľa skutočne odpracovaných hodín. U zamestnancov, ktorí vykonávajú v organizácii činnosť v ďalšom pracovnom pomere, sa výpočet priemerného evidenčného počtu zamestnancov prepočítaného na plne zamestnaných skladá z dvoch častí :
B35: - prvýkrát sa započítavajú do evidenčného počtu zamestnancov vo fyzických osobách s plným týždenným pracovným časom, ktorý sa rovná ich prepočítanému počtu, a to pracovným úväzkom v hlavnom zamestnaní;
B36: - druhýkrát sa započítavajú do evidenčného počtu zamestnancov prepočítaného, a to svojím pracovným úväzkom v ďalšom pracovnom pomere.
B37: Do evidenčného počtu zamestnancov prepočítaného sa títo zamestnanci započítavajú dvakrát na rozdiel od evidenčného počtu zamestnancov vo fyzických osobách, v ktorom sú započítaní iba raz.

Sheet T7_Doktorandi 
A1: Tabuľka č. 7: Náklady verejnej vysokej školy na štipendiá interných doktorandov v roku 2016
A2: Názov verejnej vysokej školy: Univerzita Konštantína Filozofa v Nitre
A3: Číslo riadku | B3: Položka | C3: na miestach pridelených MŠVVaŠ SR pred 1.9. 2012 | E3: na miestach nepridelených MŠVVaŠ SR do 31.8.2012 kódy (12 - 17) | F3: na miestach nepridelených MŠVVaŠ SR po 1.9.2012 kódy (12 - 17) | G3: Náklady spolu
C4: v tom:
C5: z účelovej dotácie MŠVVaŠ SR (kódy 10, 11) | D5: z neúčelovej dotácie MŠVVaŠ SR
C6: A | D6: B | E6: C | F6: D | G6: E=A+B+C+D
A7: 1 | B7: Náklady na štipendiá interných doktorandov (R2+R5) 1) | C7: =C8+C11 -> 9375.96 | D7: =D8+D11 -> 0 | E7: =E8+E11 -> 0 | F7: =F8+F11 -> 1201164.2 | G7: =SUM(C7:F7) -> 1210540.2
A8: 2 | B8: - náklady na štipendiá interných doktorandov pred dizertačnou skúškou (v zmysle § 54 ods. 18 písm. a) zákona spolu (SUM(R3:R4)) | C8: =C9 -> 0 | D8: =D10 -> 0 | E8: =SUM(E9:E10) -> 0 | F8: =SUM(F9:F10) -> 462243.02 | G8: =SUM(C8:F8) -> 462243.02
A9: 3 | B9: - náklady na štipendiá vo výške 9. platovej triedy a 1. platového stupňa ( v CRŠ kód 10 ) | C9: 0 | D9: X | F9: 462243.02 | G9: =SUM(C9:F9) -> 462243.02
A10: 4 | B10: - náklady na časť štipendia prevyšujúce 9. platovú triedu a 1. platový stupeň (kód 16) | C10: X | G10: =SUM(C10:F10) -> 0
A11: 5 | B11: - náklady na štipendiá interných doktorandov po dizertačnej skúške (v zmysle § 54 ods. 18 písm. b) zákona spolu (SUM(R6:R7)) | C11: =C12 -> 9375.96 | D11: =D13 -> 0 | E11: =SUM(E12:E13) -> 0 | F11: =SUM(F12:F13) -> 738921.22 | G11: =SUM(C11:E11) -> 9375.96
A12: 6 | B12: - náklady na štipendiá vo výške 10. platovej triedy a 1. platového stupňa ( v CRŠ kód 11 ) | C12: 9375.96 | D12: X | F12: 738921.22 | G12: =SUM(C12:F12) -> 748297.18
A13: 7 | B13: - náklady na časť štipendia prevyšujúce 10. platovú triedu a 1. platový stupeň (kód 16) | C13: X | G13: =SUM(C13:F13) -> 0
A14: 8 | B14: Nevyčerpaná účelová dotácia (+) / nedoplatok účelovej dotácie (-) za rok 2015 | C14: 4472.5 | D14: X | E14: X | F14: X | G14: =SUM(C14:F14) -> 4472.5
A15: 9 | B15: Dotácia na štipendiá doktorandov poskytnutá v rámci dotačnej zmluvy v roku 2016 | C15: 9540 | E15: X | F15: X | G15: =SUM(C15:F15) -> 9540
A16: 10 | B16: Nevyčerpaná účelová dotácia (+) / nedoplatok účelovej dotácie (-) za rok 2016 | C16: =C14+C15-C7 -> 4636.54 | D16: X | E16: X | F16: X | G16: =SUM(C16:F16) -> 4636.54
A17: 11 | B17: Počet osobomesiacov za rok 2016 | C17: 15 | D17: X | F17: 2026 | G17: =SUM(C17:F17) -> 2041
A18: 12 | B18: Priemerný mesačný náklad na doktoranda | C18: =IF(C17=0,0,+(C7+D7)/C17) -> 625.064 | D18: X | E18: =IF(E17=0,0,+E7/E17) -> 0 | F18: =IF(F17=0,0,+F7/F17) -> 592.87475 | G18: =IF(G17=0,0,+G7/G17) -> 593.11132
A20: 1) V prípade, že ešte niektorá VVŠ vypláca doktorandské štipendiá pozadu (ako "mzdy zamestancom"), výška nákladov vykazovaná k 31.12.2016 zohľadňuje aj úhradu štipendií doktorandov, vyplatených
A21: v januári 2017 za december 2016

Sheet T8-Soc_štipendiá
A1: Tabuľka č. 8: Údaje o systéme sociálnej podpory - časť sociálne štipendiá (§ 96 zákona) za roky 2015 a 2016
A2: Názov verejnej vysokej školy: Univerzita Konštantína Filozofa v Nitre | C2: uvádzajú sa štipendiá vyplatené zo štátneho rozpočtu, kód v CRŠ: 1
A3: Číslo riadku | B3: Položka | C3: 2015 | E3: 2016
C4: Finančné prostriedky (v Eur) | D4: Počet študentov poberajúcich sociálne štipendium | E4: Finančné prostriedky (v Eur) | F4: Počet študentov poberajúcich sociálne štipendium
C5: A | D5: B | E5: C | F5: D
A6: 1 | B6: Výdavky na sociálne štipendiá (§ 96 zákona) za kalendárny rok | C6: 1413685 | D6: X | E6: 1141255 | F6: X
A7: =A6+1 -> 2 | B7: Počet študentov poberajúcich sociálne štipendiá v osobomesiacoch 1) | C7: X | D7: 8363 | E7: X | F7: 6676
A8: =A7+1 -> 3 | B8: Počet študentov poberajúcich sociálne štipendiá 2) | C8: X | D8: 1178 | E8: X | F8: 991
A9: =A8+1 -> 4 | B9: Nevyčerpaná dotácia (+) / nedoplatok dotácie (-) k 31. 12. predchádzajúceho roka [R4_SC = R6_SA] | C9: 161377 | D9: X | E9: =+C11 -> 261431 | F9: X
A10: =A9+1 -> 5 | B10: Príjem z dotácie poskytnutej na sociálne štipendiá v rámci dotačnej zmluvy z kapitoly MŠVVaŠ k 31.12. | C10: 1513739 | D10: X | E10: 1321731 | F10: X
A11: 6 | B11: Nevyčerpaná dotácia (+) / nedoplatok dotácie (-) k 31. 12. bežného roka [R4+R5-R1] | C11: =+C9+C10-C6 -> 261431 | D11: X | E11: =+E9+E10-E6 -> 441907 | F11: X
A12: 7 | B12: Priemerné štipendium na 1 študenta na mesiac [R1_SA/R2_SB resp. R1_SC/R2_SD] | C12: =IF(C6=0,0,C6/D7) -> 169.04042 | D12: X | E12: =IF(E6=0,0,E6/F7) -> 170.94892 | F12: X
A14: 1) V stĺpcoch B a D sa uvádza prepočítaný počet študentov určený ako počet osobomesiacov, počas ktorých bolo poskytované sociálne štipendium
A15: 2) V stĺpcoch B a D sa uvádza celkový (fyzický) počet študentov, ktorým bolo v príslušnom kalendárnom roku poskytnuté sociálne štipendium bez ohľadu na počet mesiacov.

Sheet T9_ŠD 
A1: Tabuľka č. 9: Údaje o systéme sociálnej podpory - časť výnosy a náklady1) študentských domovov (bez zmluvných zariadení) za roky 2015 a 2016
A2: Názov verejnej vysokej školy: Univerzita Konštantína Filozofa v Nitre
A3: Číslo riadku | B3: Položka | C3: Náklady / Výnosy | E3: Počty ubytovaných
C4: 2015 | D4: 2016 | E4: 2015 | F4: 2016
C5: A | D5: B | E5: C | F5: D
A6: 1 | B6: Projektovaná lôžková kapacita študentského domova k 31. 12. kalendárneho roka (v počte miest) | C6: X | D6: X | E6: 1363 | F6: 1363
A7: =A6+1 -> 2 | B7: Počet ubytovaných študentov (vrátane interných doktorandov)2) v osobomesiacoch | C7: X | D7: X | E7: 16556 | F7: 16334
A8: 3 | B8: Priemerný prepočítaný počet ubytovaných študentov [(R2/12] | C8: X | D8: X | E8: =E7/12 -> 1379.6667 | F8: =F7/12 -> 1361.1667
A9: =A8+1 -> 4 | B9: Výnosy z poplatkov za ubytovanie od študentov počas výučbového obdobia (10 mesiacov) | C9: 797962.5 | D9: 815184.5 | E9: X | F9: X
A10: =A9+1 -> 5 | B10: Výnosy z poplatkov za ubytovanie od študentov počas hlavných prázdnin (od interných doktorandov) a počty ubytovaných študentov | C10: 1984 | D10: 2180 | E10: 18 | F10: 19
A11: =A10+1 -> 6 | B11: Výnos z dotácie zo štátneho rozpočtu na študentské domovy (vrátane zmluvných zariadení a valorizácie miezd ŠJ) | C11: 694935 | D11: 718178 | E11: X | F11: X
A12: =A11+1 -> 7 | B12: Ostatné výnosy zo študentských domovov | C12: 159815.73 | D12: 126203.23 | E12: X | F12: X
A13: =A12+1 -> 8 | B13: Výnosy zo študentských domovov v kalendárnom roku spolu [SUM(R4:R7)] | C13: =SUM(C9:C12) -> 1654697.2 | D13: =SUM(D9:D12) -> 1661745.7 | E13: X | F13: X
A14: =A13+1 -> 9 | B14: Náklady študentských domovov spolu [R10+R11] | C14: =C15+C16 -> 1255153 | D14: =D15+D16 -> 1090616.7 | E14: X | F14: X
A15: =A14+1 -> 10 | B15: - náklady študentských domovov (bez zmluvných zariadení)- mzdy a odvody | C15: 452673.53 | D15: 469014.07 | E15: X | F15: X
A16: =A15+1 -> 11 | B16: - náklady študentských domovov (bez zmluvných zariadení) - ostatné | C16: 802479.48 | D16: 621602.63 | E16: X | F16: X
A17: =A16+1 -> 12 | B17: Rozdiel výnosov a nákladov na študentské domovy v kalendárnom roku [R8-R9] | C17: =+C13-C14 -> 399544.22 | D17: =+D13-D14 -> 571129.03 | E17: X | F17: X
A18: =A17+1 -> 13 | B18: Priemerné ročné náklady na jedného ubytovaného študenta [R9/R3] | C18: =IF(E8=0,0,C14/E8) -> 909.75091 | D18: =IF(F8=0,0,D14/F8) -> 801.23671 | E18: X | F18: X
A20: 1) výnosy a náklady z podnikateľskej činnosti sa neuvádzajú
A21: 2) uvádzajte počet denných študentov I. a II. stupňa štúdia počas výučbového obdobia, najviac však 10 mesiacov a denných študentov III. stupňa štúdia (doktorandov) vrátane hlavných prázdnin maximálne 12 mesiacov
A23: Poznámka: výška nákladov / výnosov v r. 6,8,9,10,11 je za rok 2015 a 2016 vyčíslená vrátane zmluvných zariadení

Sheet T10-ŠJ 
A1: Tabuľka č. 10: Údaje o systéme sociálnej podpory - časť výnosy a náklady1) študentských jedální za roky 2015 a 2016
A2: Názov verejnej vysokej školy: Univerzita Konštantína Filozofa v Nitre
A3: Číslo riadku | B3: Položka | C3: 2015 | D3: 2016
C4: A | D4: B
A5: 1 | B5: Výnosy2) študentských jedální súvisiace so stravovaním študentov spolu [R2+R5] | C5: =+C6+C9 -> 238738.73 | D5: =D6+D9 -> 213967.11
A6: =A5+1 -> 2 | B6: Tržby jedální súvisiace so stravovaním študentov v kalendárnom roku spolu [R3+R4] | C6: =+C7+C8 -> 147672.73 | D6: =+D7+D8 -> 130515.11
A7: =A6+1 -> 3 | B7: - tržby za stravné lístky študentov | C7: 145856.79 | D7: 130515.11
A8: =A7+1 -> 4 | B8: - ostatné tržby súvisiace so stravovaním študentov | C8: 1815.94 | D8: 0
A9: =A8+1 -> 5 | B9: Výnos z dotácie zo štátneho rozpočtu na študentské jedálne spolu [R6+R7-R8] | C9: =+C10+C11-C12 -> 91066 | D9: =+D10+D11-D12 -> 83452
A10: =A9+1 -> 6 | B10: - zostatok nevyčerpanej dotácie (+)/ nedoplatok dotácie (-) z predchádzajúcich rokov [R6_SB=R8_SA] | C10: 22201.24 | D10: =+C12 -> 17169.24
A11: =A10+1 -> 7 | B11: - účelová dotácia v danom kalendárnom roku | C11: 86034 | D11: 87856
A12: =A11+1 -> 8 | B12: - prenos zostatku dotácie do nasledujúceho kalendárneho roku [R6+R7-R15] | C12: =C10+C11-C20 -> 17169.24 | D12: =D10+D11-D20 -> 21573.24
A13: =A12+1 -> 9 | B13: Náklady na činnosť študentských jedální súvisiace so stravovaním študentov za kalendárny rok | C13: 261308.15 | D13: 228353.11
B14: z toho:
A15: =A13+1 -> 10 | B15: - náklady na jedlá študentov3) | C15: 261308.15 | D15: 228353.11
A16: =+A15+1 -> 11 | B16: Rozdiel výnosov a nákladov študentských jedální súvisiacich so stravovaním študentov [R1-R9] | C16: =C5-C13 -> -22569.42 | D16: =D5-D13 -> -14386
A17: =+A16+1 -> 12 | B17: Počet vydaných jedál študentom v kalendárnom roku | C17: =C18+C19 -> 91066 | D17: =D18+D19 -> 83452
A18: =+A17+1 -> 13 | B18: - počet vydaných jedál študentom vo vlastných stravovacích zariadeniach3) | C18: 91066 | D18: 83452
A19: =+A18+1 -> 14 | B19: - počet vydaných jedál študentom v zmluvných zariadeniach 4) | C19: 0 | D19: 0
A20: =+A19+1 -> 15 | B20: Nárok na príspevok zo štátneho rozpočtu na jedlá podľa metodiky | C20: =(C18*1+C19*1) -> 91066 | D20: =(D18*1+D19*1) -> 83452
A21: =+A20+1 -> 16 | B21: Priemerné náklady na jedlo študenta v Eur [R10/R13] | C21: =IF(C18=0,0,C15/C18) -> 2.869437 | D21: =IF(D18=0,0,D15/D18) -> 2.7363408
A23: 1) výnosy a náklady z podnikateľskej činnosti sa neuvádzajú, neuvádzajú sa ani výnosy a náklady súvisiace so stravovaním zamestnancov
A24: 2) všetky údaje o výnosoch a nákladoch sa uvádzajú v Eur
A25: 3) uvádzajú sa jedlá vydané študentom len vo vlastnej jedálni, na ktoré sa poskytuje dotácia
A26: 4) uvádzajú sa všetky jedlá vydané študentom v zmluvných zariadeniach, na ktoré sa poskytuje dotácia

Sheet T11-Zdroje KV
A1: Tabuľka č. 11: Zdroje verejnej vysokej školy na obstaranie a technické zhodnotenie dlhodobého majetku v rokoch 2015 a 2016
A2: Názov verejnej vysokej školy: Univerzita Konštantína Filozofa v Nitre
A3: Číslo riadku | B3: Položka | C3: Objem zdrojov
C4: 2015 | D4: 2016
C5: A | D5: B
A6: 1 | B6: Stav fondu reprodukcie k 1.1. | C6: 46622.23 | D6: 0
A7: =A6+1 -> 2 | B7: Tvorba fondu reprodukcie v kalendárnom roku spolu [SUM(R3:R8)] | C7: =SUM(C8:C13) -> 1102526.7 | D7: =SUM(D8:D13) -> 731765.95
A8: =A7+1 -> 3 | B8: - tvorba fondu z hospodárskeho výsledku (účet 413 111) 1) | C8: 0 | D8: 0
A9: =A8+1 -> 4 | B9: - tvorba fondu z odpisov (účet 413 116) | C9: 699178.91 | D9: 731765.95
A10: =A9+1 -> 5 | B10: - tvorba fondu z výnosov z predaja (a likvidácie) majetku (účet 413 117) | C10: 4750 | D10: 0
A11: =A10+1 -> 6 | B11: - tvorba fondu prevodom z rezervného fondu (účet 413 114) | C11: 394595.81 | D11: 0
A12: =A11+1 -> 7 | B12: - tvorba fondu z darov a z dedičstva (účet 413 112) | C12: 4002 | D12: 0
A13: =A12+1 -> 8 | B13: - ostatná tvorba (účet 413 113) 2) | C13: 0 | D13: 0
A14: =A13+1 -> 9 | B14: Zdroje na obstaranie a technické zhodnotenie majetku z fondu reprodukcie [R1+R2] | C14: =C6+C7 -> 1149148.9 | D14: =D6+D7 -> 731765.95
A15: =A14+1 -> 10 | B15: Dotácia na kapitálové výdavky zo štátneho rozpočtu | C15: 250000 | D15: 100000
A16: 10a | B16: Dotácia na kapitálové výdavky z prostriedkov EÚ (štrukturálnych fondov vrátane spolufinancovania) | C16: 4330228.7 | D16: 197721.96
A17: =A15+1 -> 11 | B17: Zostatok kapitálovej dotácie z predchádzajúceho roku (z dotácií na R10 a R10a) | C17: 1021841.5 | D17: 984086.52
A18: =A17+1 -> 12 | B18: Zdroje na obstaranie a technické zhodnotenie dlhodobého majetku z úverov
A19: =A18+1 -> 13 | B19: Iné zdroje na obstaranie a technické zhodnotenie dlhodobého majetku (v danom roku vrátane zostatkov na týchto zdrojoch)
A20: =A19+1 -> 14 | B20: Zdroje na obstaranie a technické zhodnotenie dlhodobého majetku spolu [SUM(R9:R13)] | C20: =SUM(C14:C19) -> 6751219.1 | D20: =SUM(D14:D19) -> 2013574.4
A22: 1) vrátane tvorby z nerozdeleného zisku z minulých rokov
A23: 2) ostatná tvorba fondu reprodukcie v zmysle § 16a ods. 8 zákona č. 131/2002 Z. z.o vysokých školách v znení neskorších predpisov (kreditné úroky a kurzové zisky)

Sheet T12-KV
A1: Tabuľka č. 12: Výdavky verejnej vysokej školy na obstaranie a technické zhodnotenie dlhodobého majetku v roku 2016
A2: Názov verejnej vysokej školy: Univerzita Konštantína Filozofa v Nitre
A3: Číslo riadku | B3: Položka | C3: Čerpanie kapitálovej dotácie v roku 2016 zo štátneho rozpočtu | D3: Čerpanie kapitálovej dotácie v roku 2016 z prostriedkov EÚ (štrukturálnych fondov) | E3: Čerpanie bežnej dotácie v roku 2016 prostredníctvom fondu reprodukcie | F3: Čerpanie ostatných zdrojov prostredníctvom fondu reprodukcie | G3: Čerpanie z úveru | H3: Čerpanie z iných zdrojov | I3: Celkové výdavky na obstaranie a technické zhodnotenie dlhodobého majetku
C5: A | D5: B | E5: C | F5: D | G5: E | H5: F | I5: G=A+B+C+D+E+F
A6: 1 | B6: Nákup pozemkov a nehmotných aktív | C6: =C8 -> 0 | D6: =D8 -> 3728.94 | E6: =E8 -> 0 | F6: =F8 -> 11053 | H6: =H8 -> 0 | I6: =SUM(C6:H6) -> 14781.94
B7: z toho:
A8: 2 | B8: - nákup softvéru | D8: 3728.94 | F8: 11053 | I8: =SUM(C8:H8) -> 14781.94
A9: 3 | B9: Nákup budov a stavieb | I9: =SUM(C9:H9) -> 0
A10: 4 | B10: Nákup strojov, prístrojov, zariadení, techniky a náradia [SUM(R5:R9)] | C10: =SUM(C11:C15) -> 0 | D10: =SUM(D11:D15) -> 45919.97 | E10: =SUM(E11:E15) -> 54611.98 | F10: =SUM(F11:F15) -> 27025.58 | G10: =SUM(G11:G15) -> 0 | H10: =SUM(H11:H15) -> 0 | I10: =SUM(C10:H10) -> 127557.53
A11: 5 | B11: - interiérové vybavenie (713 001) | D11: 2845.07 | F11: 4388.38 | I11: =SUM(C11:H11) -> 7233.45
A12: 6 | B12: - telekomunikačná technika (713 003), komunikačná infraštruktúra (713 006) | E12: 33416.4 | F12: 7788 | I12: =SUM(C12:H12) -> 41204.4
A13: 7 | B13: - výpočtová technika (713 002) | D13: 7129.56 | E13: 1789.99 | F13: 7603.2 | I13: =SUM(C13:H13) -> 16522.75
A14: 8 | B14: - prevádzkové stroje, prístroje, zariadenia, technika a náradie (713 004) | D14: 35945.34 | E14: 19405.59 | F14: 7246 | I14: =SUM(C14:H14) -> 62596.93
A15: 9 | B15: - špeciálne stroje, prístroje, zariadenia, technika, náradie a materiál (713 005) | I15: =SUM(C15:H15) -> 0
A16: 10 | B16: Nákup dopravných prostriedkov všetkých druhov | F16: 34800 | I16: =SUM(C16:H16) -> 34800
A17: 11 | B17: Prípravná a projektová dokumentácia | C17: 22238.5 | E17: 14857.08 | F17: 350 | I17: =SUM(C17:H17) -> 37445.58
A18: 12 | B18: Realizácia stavieb a ich technického zhodnotenia | C18: 552179.78 | D18: 148073.05 | E18: 51714.43 | F18: 96711.59 | I18: =SUM(C18:H18) -> 848678.85
A19: 13 | B19: Rekonštrukcia a modernizácia strojov a zariadení | I19: =SUM(C19:H19) -> 0
A20: 14 | B20: Nákup ostatného dlhodobého majetku | I20: =SUM(C20:H20) -> 0
A21: 15 | B21: Výdavky na obstaranie a technické zhodnotenie dlhobého majetku spolu [R1+SUM(R3:R4)+SUM(R10:R14)] | C21: =+C6+C9+C10+C16+C17+C18+C19+C20 -> 574418.28 | D21: =+D6+D9+D10+D16+D17+D18+D19+D20 -> 197721.96 | E21: =+E6+E9+E10+E16+E17+E18+E19+E20 -> 121183.49 | F21: =+F6+F9+F10+F16+F17+F18+F19+F20 -> 169940.17 | G21: =+G6+G9+G10+G16+G17+G18+G19+G20 -> 0 | H21: =+H6+H9+H10+H16+H17+H18+H19+H20 -> 0 | I21: =SUM(C21:H21) -> 1063263.9
B22: z toho PČ (jednou sumou z R15,SG) | C22: X | D22: X | E22: X | F22: X | G22: X | H22: X | I22: 36967.2

Sheet T13-Fondy
A1: Tabuľka č. 13: Stav a vývoj finančných fondov verejnej vysokej školy v rokoch 2015 a 2016
A2: Názov verejnej vysokej školy: Univerzita Konštantína Filozofa v Nitre
A3: Číslo riadku | B3: Fondy VVŠ | C3: Rezervný fond | E3: Fond reprodukcie | G3: Štipendijný fond | I3: Fond na podporu štúdia študentov so špecifickými potrebami | K3: Ostatné fondy | M3: Fondy spolu
C4: 2015 | D4: 2016 | E4: 2015 | F4: 2016 | G4: 2015 | H4: 2016 | I4: 2015 | J4: 2016 | K4: 2015 | L4: 2016 | M4: 2015 | N4: 2016
C5: A | D5: B | E5: C | F5: D | G5: E | H5: F | I5: G | J5: H | K5: I | L5: J | M5: K=A+C+E+G+I | N5: L=B+D+F+H+J
A6: 1 | B6: Stav fondu k 1.1. kalendárneho roku [R1_SB = R12_SA ...] | C6: 2350122.8 | D6: =C17 -> 2742761.6 | E6: 46622.23 | F6: =E17 -> 0 | G6: 172545.41 | H6: =G17 -> 267667.42 | I6: 0 | J6: =SUM(I17) -> 1000 | K6: 209455.58 | L6: =SUM(K17) -> 210098.03 | M6: =C6+E6+G6+I6+K6 -> 2778746 | N6: =D6+F6+H6+J6+L6 -> 3221527.1
A7: 2 | B7: Tvorba fondu v kalendárnom roku spolu SUM(R3:R10) | C7: =SUM(C8:C15) -> 787234.66 | D7: =SUM(D8:D15) -> 812244.52 | E7: =SUM(E8:E15) -> 1102526.7 | F7: =SUM(F8:F15) -> 731765.95 | G7: =SUM(G8:G15) -> 1953948 | H7: =SUM(H8:H15) -> 1694005.7 | I7: =SUM(I8:I15) -> 1000 | J7: =SUM(J8:J15) -> 1000 | ... L7: =SUM(L8:L15) -> 5268.56 | M7: =C7+E7+G7+I7+K7 -> 3857914.4 | N7: =D7+F7+H7+J7+L7 -> 3244284.7
A8: 3 | B8: - tvorba fondu z výsledku hospodárenia 1) | C8: 787234.66 | D8: 812244.52 | E8: 0 | F8: 0 | G8: 0 | H8: 0 | I8: 1000 | J8: 1000 | K8: 0 | L8: 0 | M8: =C8+E8+G8+I8+K8 -> 788234.66 | N8: =D8+F8+H8+J8+L8 -> 813244.52
A9: 4 | B9: - tvorba fondu z odpisov | C9: X | D9: X | E9: 699178.91 | F9: 731765.95 | G9: X | H9: X | I9: X | J9: X | K9: X | L9: X | M9: =E9 -> 699178.91 | N9: =F9 -> 731765.95
A10: 5 | B10: - tvorba fondu z predaja alebo likvidácie majetku | C10: X | D10: X | E10: 4750 | F10: 0 | G10: X | H10: X | I10: X | J10: X | K10: X | L10: X | M10: =E10 -> 4750 | N10: =F10 -> 0
A11: 6 | B11: - tvorba fondu prevodom z rezervného fondu | C11: X | D11: X | E11: 394595.81 | F11: 0 | G11: 0 | H11: 0 | I11: 0 | J11: 0 | K11: 0 | L11: 0 | M11: =E11+G11+I11+K11 -> 394595.81 | N11: =F11+H11+J11+L11 -> 0
A12: 7 | B12: - tvorba fondu z darov a z dedičstva | C12: 0 | D12: 0 | E12: 4002 | F12: 0 | G12: 0 | H12: 0 | I12: 0 | J12: 0 | K12: 13205 | L12: 5268.56 | M12: =C12+E12+G12+I12+K12 -> 17207 | N12: =D12+F12+H12+J12+L12 -> 5268.56
A13: 8 | B13: - tvorba fondu z dotácie 2) | C13: X | D13: X | E13: X | F13: X | G13: 1884437 | H13: 1624851 | I13: X | J13: X | K13: X | L13: X | M13: =G13 -> 1884437 | N13: =H13 -> 1624851
A14: 9 | B14: - tvorba fondu z výnosov zo školného | C14: X | D14: X | E14: X | F14: X | G14: 69511.01 | H14: 69154.7 | I14: X | J14: X | K14: X | L14: X | M14: =G14 -> 69511.01 | N14: =H14 -> 69154.7
A15: 10 | B15: - ostatná tvorba 2) | C15: 0 | D15: 0 | E15: 0 | F15: 0 | G15: 0 | H15: 0 | I15: 0 | J15: 0 | K15: 0 | L15: 0 | M15: =C15+E15+G15+I15+K15 -> 0 | N15: =D15+F15+H15+J15+L15 -> 0
A16: 11 | B16: Čerpanie fondu k 31. 12. kalendárneho roku | C16: 394595.81 | D16: 0 | E16: 1149148.9 | F16: 182507.01 | G16: 1858826 | H16: 1511851 | I16: 0 | J16: 0 | K16: 12562.55 | L16: 9990.11 | M16: =C16+E16+G16+I16+K16 -> 3415133.3 | N16: =D16+F16+H16+J16+L16 -> 1704348.1
A17: 12 | B17: Stav fondu k 31.12. kalendárneho roku [R1+R2-R11] | C17: =C6+C7-C16 -> 2742761.6 | D17: =D6+D7-D16 -> 3555006.2 | E17: =E6+E7-E16 -> 0 | F17: =F6+F7-F16 -> 549258.94 | G17: =G6+G7-G16 -> 267667.42 | H17: =H6+H7-H16 -> 449822.12 | I17: =I6+I7-I16 -> 1000 | J17: =J6+J7-J16 -> 2000 | ... L17: =L6+L7-L16 -> 205376.48 | M17: =C17+E17+G17+I17+K17 -> 3221527.1 | N17: =D17+F17+H17+J17+L17 -> 4761463.7
A18: 13 | B18: Krytie fondu finančnými prostriedkami na osobitnom bankovom účte 3) k 31.12. | C18: 0 | D18: 0 | E18: 0 | F18: 0 | G18: 0 | H18: 0 | I18: 0 | J18: 0 | K18: 0 | L18: 0 | M18: =C18+E18+G18+I18+K18 -> 0 | N18: =D18+F18+H18+J18+L18 -> 0
A20: 1) vrátane tvorby z nerozdeleného zisku z minulých rokov
A21: 2) len ak umožňuje zákon
A22: 3) uvádza sa v prípade, ak si vysoká škola vytvorila osobitný bankový účet na krytie fondu - napríklad fondu reprodukcie

Sheet T16 - Štruktúra hotovosti
A1: Tabuľka č. 16: Štruktúra a stav finančných prostriedkov na bankových účtoch verejnej vysokej školy k 31. decembru 2016
A2: Názov verejnej vysokej školy: Univerzita Konštantína Filozofa v Nitre Názov fakulty:
A3: Číslo riadku | B3: Bankový účet | C3: Stav účtu k 31.12.2016 | D3: Číslo účtu/Poznámka
B4: A | C4: B | D4: C
A5: 1 | B5: Účty v Štátnej pokladnici spolu [SUM(R2:R15)] | C5: =SUM(C6:C19) -> 15911328
A6: 2 | B6: - dotačný účet | C6: 0 | D6: 7000240831/8180
A7: 3 | B7: - zostatkový účet | C7: 4780748.8 | D7: 7000133198/8180
A8: 4 | B8: - distribučný účet
A9: 5 | B9: - bežný účet okrem účtov uvedených v R6:R8
A10: 6 | B10: - bežný účet pre študentské domovy | C10: 3923075.2 | D10: 7000276471/8180, 7000276498/8180
A11: 7 | B11: - bežný účet pre študentské jedálne | C11: 99730.92 | D11: 7000116355/8180
A12: 8 | B12: - bežný účet na riešenie úloh vedy a výskumu zo SR, resp.zahraničia
A13: 9 | B13: - devízové účty
A14: 10 | B14: - účet štipendijného fondu
A15: 11 | B15: - účet podnikateľskej činnosti | C15: 101980.66 | D15: 7000073105/8180, 7000073113/8180, 7000073121/8180, 7000073148/8180, 7000073156/8180, 7000073164/8180
A16: 12 | B16: - účet sociálneho fondu | C16: 7865.15 | D16: 7000072989/8180
A17: 13 | B17: - účet fondu reprodukcie
A18: 14 | B18: - bežný účet - zábezpeka | C18: 10000 | D18: 7000249553/8180
A19: 15 | B19: - ostatné bankové účty v Štátnej pokladnici mimo účtov uvedených v R2:R14 | C19: 6987927.5 | D19: 7000073017/8180, 7000073025/8180, 7000073033/8180, 7000073041/8180, 7000073068/8180, 7000073076/8180, 7000073172/8180, 7000073180/8180, 7000116347/8180, 7000249668/8180, 7000268674/8180, 7000274361/8180, 7000274388/8180, 7000329713/8180, 7000333878/8180, 7000335945/8180, 7000366530/8180, 7000371516/8180, 7000406643/8180, 7000486348/8180, 7000489311/8180, 7000489338/8180
A20: 16 | B20: Účty mimo Štátnej pokladnice spolu | C20: 0 | D20: 2563318951/0200, 1843557055/0200
A21: 17 | B21: Peniaze na ceste (účet 261)
A22: 18 | B22: Stav bankových účtov spolu [R1+R16+R17] | C22: =+C5+C20+C21 -> 15911328

Sheet T17-Dotácie zo ŠF EU
A1: Tabuľka č. 17: Príjmy verejnej vysokej školy z prostriedkov EÚ a z prostriedkov na ich spolufinancovanie zo štátneho rozpočtu z kapitoly MŠVVaŠ SR a z iných kapitol štátneho rozpočtu v roku 2016
A2: Názov verejnej vysokej školy: Univerzita Konštantína Filozofa v Nitre
A3: Číslo riadku | B3: Položka | C3: Bežné dotácie | E3: Kapitálové dotácie | G3: Dotácie spolu
C4: z EÚ | D4: spolufinanco- vanie zo ŠR | E4: z EÚ | F4: spolufinanco- vanie zo ŠR | G4: z EÚ | H4: spolufinanco- vanie zo ŠR
C5: A | D5: B | E5: C | F5: D | G5: E=A+C | H5: F=B+D
A6: 1 | B6: zdroj 11S + 13S spolu | C6: =C7 -> 141491.02 | D6: =D8 -> 16646.02 | E6: =E7 -> 176909 | F6: =F8 -> 20812.96 | G6: =C6+E6 -> 318400.02 | H6: =D6+F6 -> 37458.98
A7: 2 | B7: zdroj 11S1; 13S1 | C7: 141491.02 | D7: x | E7: 176909 | F7: x | G7: =C7+E7 -> 318400.02 | H7: x
A8: =A7+1 -> 3 | B8: zdroj 11S2; 13S2 | C8: x | D8: 16646.02 | E8: x | F8: 20812.96 | G8: x | H8: =D8+F8 -> 37458.98
A9: =A8+1 -> 4 | B9: zdroj 11T + 13T spolu | C9: =SUM(C10:C11) -> 34146.06 | D9: =SUM(D10:D11) -> 4017.43 | E9: =SUM(E10:E11) -> 0 | F9: =SUM(F10:F11) -> 0 | G9: =C9+E9 -> 34146.06 | H9: =D9+F9 -> 4017.43
A10: =A9+1 -> 5 | B10: zdroj 11T1; 13T1 | C10: 34146.06 | D10: x | E10: 0 | F10: x | G10: =C10+E10 -> 34146.06 | H10: x
A11: =A10+1 -> 6 | B11: zdroj 11T2; 13T2 | C11: x | D11: 4017.43 | E11: x | F11: 0 | G11: x | H11: =D11+F11 -> 4017.43
A12: =A11+1 -> 7 | B12: Dotácie z kapitoly MŠVVaŠ SR spolu [R1+R4] | C12: =C6+C9 -> 175637.08 | D12: =D6+D9 -> 20663.45 | E12: =E6+E9 -> 176909 | F12: =F6+F9 -> 20812.96 | G12: =G6+G9 -> 352546.08 | H12: =H6+H9 -> 41476.41
A13: =A12+1 -> 8 | B13: Dotácie z iných kapitol spolu [SUM(R9:Ra...)] | C13: =SUM(C14:C15) -> 0 | D13: =SUM(D14:D15) -> 0 | E13: =SUM(E14:E15) -> 0 | F13: =SUM(F14:F15) -> 0 | G13: =C13+E13 -> 0 | H13: =D13+F13 -> 0
A14: =A13+1 -> 9 | G14: =C14+E14 -> 0 | H14: =D14+F14 -> 0
A15: 9a | G15: =C15+E15 -> 0 | H15: =D15+F15 -> 0
A16: 10 | B16: Dotácie z prostriedkov EÚ spolu [R7+R8] | C16: =C12+C13 -> 175637.08 | D16: =D12+D13 -> 20663.45 | E16: =E12+E13 -> 176909 | F16: =F12+F13 -> 20812.96 | G16: =C16+E16 -> 352546.08 | H16: =D16+F16 -> 41476.41

Sheet T18-Ostatné dotacie z kap MŠ SR
A1: Tabuľka č. 18: Príjmy z dotácií verejnej vysokej škole zo štátneho rozpočtu z kapitoly MŠVVaŠ SR poskytnuté mimo programu 077 a mimo príjmov z prostriedkov EÚ (zo štrukturálnych fondov) v roku 2016
A2: Názov verejnej vysokej školy: Univerzita Konštantína Filozofa v Nitre
A3: Číslo riadku | B3: Položka | C3: Bežné dotácie | D3: Kapitálové dotácie | E3: Dotácia spolu
C4: A | D4: B | E4: C=A+B
B5: nadrezortná veda a technika
A6: 1 | B6: Program 06K [SUM(R2+R3+R4+R5)] | C6: =SUM(C7:C10) -> 310789 | D6: =SUM(D7:D10) -> 0 | E6: =C6+D6 -> 310789
A7: =A6+1 -> 2 | B7: - Podprogram 06K 11 | C7: 310789 | D7: 0 | E7: =C7+D7 -> 310789
A8: =A7+1 -> 3 | B8: - Podprogram 06K 12 | E8: =C8+D8 -> 0
A9: =A8+1 -> 4
A10: =A9+1 -> 5 | E10: =C10+D10 -> 0
B11: zabezpečenie mobilít v súlade s medzinárodnými zmluvami
A12: 6 | B12: - Prvok 021 02 03 | C12: 12198 | D12: 0 | E12: =C12+D12 -> 12198
A13: 7 | B13: - Podprogram 05T 08 | C13: 213900 | D13: 0 | E13: =C13+D13 -> 213900
A15: 8 | B15: Ostatné dotácie [SUM(R8a..R8x)] | C15: =SUM(C16:C17) -> 0 | D15: =SUM(D16:D17) -> 0 | E15: =C15+D15 -> 0
A16: 8a | B16: (uviesť zoznam všetkých dotácií, každú na zvláštny riadok, napr. podprogram 026 05) | E16: =C16+D16 -> 0
A18: 9 | B18: Spolu [R1+R6+R7+R8] | C18: =C6+C12+C13+C15 -> 536887 | D18: =D6+D12+D13+D15 -> 0 | E18: =E6+E12+E13+E15 -> 536887

Sheet T19-Štip_ z vlastných 
A1: Tabuľka č. 19: Štipendiá z vlastných zdrojov podľa § 97 zákona v rokoch 2015 a 2016
A2: Názov verejnej vysokej školy: Univerzita Konštantína Filozofa v Nitre | C2: uvádzajú sa len štipendiá vyplatené z vlastných zdrojov, v CRŠ kód 9
A3: Číslo riadku | B3: Položka | C3: 2015 | E3: 2016
C4: Náklady na štipendiá | D4: Počet študentov poberajúcich štipendium | E4: Náklady na štipendiá | F4: Počet študentov poberajúcich štipendium
C5: A | D5: B | E5: C | F5: D
A6: 1 | B6: Štipendiá z vlastných zdrojov vysokej školy (§ 97 zákona) spolu [R2+R5+R8+R11+R14] | C6: =C7+C10+C16+C19+C13 -> 74237 | D6: =D7+D10+D16+D19+D13 -> 628 | E6: =E7+E10+E16+E19+E13 -> 67468 | F6: =F7+F10+F16+F19+F13 -> 435
A7: 2 | B7: - prospechové [R3+R4] | C7: =SUM(C8:C9) -> 185 | D7: =SUM(D8:D9) -> 2 | E7: =SUM(E8:E9) -> 1447 | F7: =SUM(F8:F9) -> 11
A8: 3 | B8: - poskytnuté jednorázovo | C8: 185 | D8: 2 | E8: 1447 | F8: 11
A9: 4 | B9: - poskytované mesačne 1)
A10: 5 | B10: -za dosiahnutie vynikajúceho výsledku v oblasti štúdia [R6+R7] | C10: =SUM(C11:C12) -> 20787 | D10: =SUM(D11:D12) -> 169 | E10: =SUM(E11:E12) -> 18135 | F10: =SUM(F11:F12) -> 134
A11: 6 | B11: - poskytnuté jednorázovo | C11: 20787 | D11: 169 | E11: 18135 | F11: 134
A12: 7 | B12: - poskytované mesačne 1)
A13: 8 | B13: -za dosiahnutie vynikajúceho výsledku vo výskume a vývoji [R9+R10] | C13: =C14+C15 -> 0 | D13: =D14+D15 -> 0 | E13: =E14+E15 -> 0 | F13: =F14+F15 -> 0
A14: 9 | B14: - poskytnuté jednorázovo
A15: 10 | B15: - poskytované mesačne 1)
A16: 11 | B16: - za umeleckú alebo športovú činnosť [R11+R12] | C16: =SUM(C17:C18) -> 53265 | D16: =SUM(D17:D18) -> 457 | E16: =SUM(E17:E18) -> 47886 | F16: =SUM(F17:F18) -> 290
A17: 12 | B17: - poskytnuté jednorázovo | C17: 53265 | D17: 457 | E17: 47886 | F17: 290
A18: 13 | B18: - poskytované mesačne 1)
A19: 14 | B19: - na sociálnu podporu [R15+R16] | C19: =SUM(C20:C21) -> 0 | D19: =SUM(D20:D21) -> 0 | E19: =SUM(E20:E21) -> 0 | F19: =SUM(F20:F21) -> 0
A20: 15 | B20: - poskytnuté jednorázovo
A21: 16 | B21: - poskytované mesačne 1)
A22: 17 | B22: Počet študentov poberajúcich štipendiá z vlastných zdrojov 2) | C22: X | D22: 628 | E22: X | F22: 435
A24: 1) V stĺpcoch B a D sa uvádza prepočítaný počet študentov určený ako počet osobomesiacov, počas ktorých bolo poskytované štipendium
A25: 2) V stĺpcoch B a D sa uvádza celkový (fyzický) počet študentov, ktorým bolo v príslušnom roku poskytované štipendium .
A26: Do tabuľky sa uvádzajú aj motivačné štipendiá doktorandov, nie však "normálne" štipendiá doktorandov podľa platovej tabuľky!!

Sheet T20_motivačné štipendiá_nová
A1: Tabuľka č. 20: Motivačné štipendiá v rokoch 2015 a 2016 (v zmysle § 96a zákona )
A2: Názov verejnej vysokej školy: Univerzita Konštantína Filozofa v Nitre
A3: Číslo riadku | B3: Položka | C3: 2015 | E3: 2016
C4: mot. štipendiá podľa § 96a, ods.1, písm. a) (kód v CRŠ: 19)2) | D4: mot. štipendiá podľa § 96a, ods.1, písm. b) (kódy v CRŠ: 4, 5, 6, 7, 8)3) | E4: mot. štipendiá podľa § 96a, ods.1, písm. a) (kód v CRŠ: 19)2) | F4: mot. štipendiá podľa § 96a, ods.1, písm. b) (kódy v CRŠ: 4, 5, 6, 7, 8)3)
C5: A | D5: B | E5: C | F5: D
A6: 1 | B6: Nevyčerpaná dotácia (+) / nedoplatok dotácie (-) na motivačné štipendiá k 31. 12. predchádzajúceho kalendárneho roka | C6: 57 | D6: 157 | E6: =C9 -> 0 | F6: =D9 -> 8
A7: 2 | B7: Príjem z dotácie na motivačné štipendiá z kapitoly MŠVVaŠ SR v kalendárnom roku | C7: 103368 | D7: 267330 | E7: 300 | F7: 302820
A8: 3 | B8: Výdavky na motivačné štipendiá v kalendárnom roku | C8: 103425 | D8: 267479 | E8: 300 | F8: 302828
A9: 4 | B9: Nevyčerpaná dotácia (+) / nedoplatok dotácie (-) k 31. 12. kalendárneho roka [R1+R2-R3] | C9: =C6+C7-C8 -> 0 | D9: =D6+D7-D8 -> 8 | E9: =E6+E7-E8 -> 0 | F9: =F6+F7-F8 -> 0
A10: 5 | B10: Počet študentov, ktorým bolo priznané motivačné štipendium 1) | C10: 323 | D10: 1242 | E10: 2 | F10: 956
A12: 1) v riadku 5 sa uvedie celkový fyzický počet študentov (pričom 1 študent sa počíta za 1 fyzickú osobu), ktorým bolo vyplatené motivačné štipendium v kalendárnom roku
A13: 2) uvádzajú sa len motivačné štipendiá vyplatené podľa § 96a, ods.1, písm. a) (kód CRŠ 19)
A14: 3) uvádzajú sa len motivačné štipendiá vyplatené podľa § 96a, ods.1, písm. b) (kódy v CRŠ: 4, 5, 6, 7, 8)

Sheet T21-štruktúra_384
A1: Tabuľka č. 21: Štruktúra účtu 384 - výnosy budúcich období v rokoch 2015 a 2016
A2: Názov verejnej vysokej školy: Univerzita Konštantína Filozofa v Nitre
A3: Číslo riadku | B3: Stav k 31. 12. 2015 | H3: Stav k 31. 12. 2016
B4: Zvyšok prijatej kapitálovej dotácie zo štátneho rozpočtu používanej na kompenzáciu odpisov majetku z nej obstaraného | C4: Zvyšok prijatej kapitálovej dotácie z prostriedkov EÚ (štrukturálnych fondov) používanej na kompenzáciu odpisov majetku z nej obstaraného | D4: Bežná dotácia na úlohy budúcich období | E4: Prostriedky zo zahraničných projektov na budúce aktivity | F4: Ostatné | G4: Spolu | H4: Zvyšok prijatej kapitálovej dotácie zo štátneho rozpočtu používanej na kompenzáciu odpisov majetku z nej obstaraného | I4: Zvyšok prijatej kapitálovej dotácie z prostriedkov EÚ (štrukturálnych fondov) používanej na kompenzáciu odpisov majetku z nej obstaraného | J4: Bežná dotácia na úlohy budúcich období | K4: Prostriedky zo zahraničných projektov na budúce aktivity | L4: Ostatné | M4: Spolu
B5: A | C5: B | D5: C | E5: D | F5: E | G5: F = A+B+C+D+E | H5: G | I5: H | J5: I | K5: J | L5: K | M5: L= G+H+I+J+K
A6: 1 | B6: 18409618 | C6: 8858352.6 | D6: 2684675.1 | E6: 233408.46 | F6: 3965380.5 | G6: =SUM(B6:F6) -> 34151435 | H6: 17876471 | I6: 7777244 | J6: 4377081.4 | K6: 426754.5 | L6: 3569954.8 | M6: =SUM(H6:L6) -> 34027506
B9: T21_R1_SA + T11_R10_SB -T5_R85_SC = T21_R1_SG
B11: T21_R1_SB + T11_R10a_SB - T5_R86a_SC = T21_R1_SH

Sheet T22_Výnosy_soc_oblasť
A1: Tabuľka č. 22: Výnosy verejnej vysokej školy v roku 2016 v oblasti sociálnej podpory študentov
A2: Názov verejnej vysokej školy: Univerzita Konštantína Filozofa v Nitre
A3: Číslo účtu | B3: Účet | C3: Číslo riadku | D3: Výnosy v hlavnej činnosti 2015 | E3: Výnosy hlavnej činnosti 2016 | F3: Rozdiel 2016-2015
D4: A | E4: B | F4: C
A5: 601 | B5: Tržby za vlastné výrobky | C5: 39 | D5: 0 | E5: 0 | F5: =E5-D5 -> 0
A6: 602 | B6: Tržby z predaja služieb | C6: 40 | D6: 945803.29 | E6: 947879.61 | F6: =E6-D6 -> 2076.32
A7: 604 | B7: Tržby za predaný tovar | C7: 41 | D7: 0 | E7: 0 | F7: =E7-D7 -> 0
A8: 611 | B8: Zmena stavu zásob ned. výroby | C8: 42 | D8: 0 | E8: 0 | F8: =E8-D8 -> 0
A9: 612 | B9: Zmena stavu zásob polotovarov | C9: 43 | D9: 0 | E9: 0 | F9: =E9-D9 -> 0
A10: 613 | B10: Zmena stavu zásob výrobkov | C10: 44 | D10: 0 | E10: 0 | F10: =E10-D10 -> 0
A11: 614 | B11: Zmena stavu zásob zvierat | C11: 45 | D11: 0 | E11: 0 | F11: =E11-D11 -> 0
A12: 621 | B12: Aktivácia materiálu a tovaru | C12: 46 | D12: 0 | E12: 0 | F12: =E12-D12 -> 0
A13: 622 | B13: Aktivácia vnútroorganizačných služieb | C13: 47 | D13: 0 | E13: 0 | F13: =E13-D13 -> 0
A14: 623 | B14: Aktivácia dlhodobého nehmot. majetku | C14: 48 | D14: 0 | E14: 0 | F14: =E14-D14 -> 0
A15: 624 | B15: Aktivácia dlhodobého hmotného majet. | C15: 49 | D15: 0 | E15: 0 | F15: =E15-D15 -> 0
A16: 641 | B16: Zmluvné pokuty a penále | C16: 50 | D16: 0 | E16: 0 | F16: =E16-D16 -> 0
... A39: 691 | B39: Dotácie | C39: 73 | D39: 903020.7 | E39: 998950 | F39: =E39-D39 -> 95929.3
A40: Účtová trieda 6 spolu r.39 až r. 73 | C40: 74 | D40: =SUM(D5:D39) -> 1996419 | E40: =SUM(E5:E39) -> 2083452.3 | F40: =SUM(F5:F39) -> 87033.35
A41: Výsledok hospodárenia pred zdanením r.74-r.38 | C41: 75 | D41: =D40-T23_Náklady_soc_oblasť!D42 -> 307463.79 | E41: =E40-T23_Náklady_soc_oblasť!E42 -> 528663.8 | F41: =F40-T23_Náklady_soc_oblasť!F42 -> 221200.01
A42: 591 | B42: Daň z príjmov | C42: 76 | F42: =E42-D42 -> 0
A43: 595 | B43: Dodatočné odvody dane z príjmov | C43: 77 | F43: =E43-D43 -> 0
A44: Výsledok hospod. po zdanení r. 75-(r.76 + r.77) | C44: 78 | D44: =D41-D42-D43 -> 307463.79 | E44: =E41-E42-E43 -> 528663.8 | F44: =E44-D44 -> 221200.01

Sheet T23_Náklady_soc_oblasť
A1: Tabuľka č. 23: Náklady verejnej vysokej školy v roku 2016 v oblasti sociálnej podpory študentov
A2: Názov verejnej vysokej školy: Univerzita Konštantína Filozofa v Nitre Názov fakulty:
A3: Číslo účtu | B3: Účet | C3: Číslo riadku | D3: Náklady hlavnej činnosti 2015 | E3: Náklady hlavnej činnosti 2016 | F3: Rozdiel 2016-2015
D4: A | E4: B | F4: C
A5: 501 | B5: Spotreba materiálu | C5: 01 | D5: 330828.57 | E5: 139899.77 | F5: =E5-D5 -> -190928.8
A6: 502 | B6: Spotreba energie | C6: 02 | D6: 248510.09 | E6: 200554.28 | F6: =E6-D6 -> -47955.81
A7: 504 | B7: Predaný tovar | C7: 03 | D7: 0 | E7: 0 | F7: =E7-D7 -> 0
A8: 511 | B8: Opravy a udržiavanie | C8: 04 | D8: 47490.33 | E8: 18923.27 | F8: =E8-D8 -> -28567.06
A9: 512 | B9: Cestovné | C9: 05 | D9: 0 | E9: 12.6 | F9: =E9-D9 -> 12.6
A10: 513 | B10: Náklady na reprezentáciu | C10: 06 | D10: 0 | E10: 0 | F10: =E10-D10 -> 0
A11: 518 | B11: Ostatné služby | C11: 07 | D11: 67375.57 | E11: 151221.99 | F11: =E11-D11 -> 83846.42
A12: 521 | B12: Mzdové náklady | C12: 08 | D12: 402238.61 | E12: 420635.99 | F12: =E12-D12 -> 18397.38
A13: 524 | B13: Zákonné soc. poistenie a zdr.pois. | C13: 09 | D13: 134436.9 | E13: 158725.47 | F13: =E13-D13 -> 24288.57
A14: 525 | B14: Ostatné sociálne poistenie | C14: 10 | D14: 9242.26 | E14: 7793.59 | F14: =E14-D14 -> -1448.67
A15: 527 | B15: Zákonné sociálne náklady | C15: 11 | D15: 10845.38 | E15: 12719.65 | F15: =E15-D15 -> 1874.27
A16: 528 | B16: Ostatné sociálne náklady | C16: 12 | D16: 0 | E16: 0 | F16: =E16-D16 -> 0
... A41: 567 | B41: Poskyt. príspevky z verejnej zbierky | C41: 37 | D41: 0 | E41: 0 | F41: =E41-D41 -> 0
A42: Účtová trieda 5 spolu r.01 až r.37 | C42: 38 | D42: =SUM(D5:D41) -> 1688955.2 | E42: =SUM(E5:E41) -> 1554788.5 | F42: =SUM(F5:F41) -> -134166.66

Sheet T24__Aktíva
A1: Tabuľka č. 24: Súvaha - Strana aktív
A2: Názov verejnej vysokej školy:
A3: Polož. výkaz. NUJ | B3: Čislo riadku | C3: Brutto (v Eur) | D3: Korekcia | E3: Netto | F3: Predch. účt. obdobie
A4: A. NEOBEŽNÝ MAJETOK SPOLU r.002+r.009+r.021 | B4: 001
A5: 1. Dlhodobý nehmotný majetok r.003 až r.008 | B5: 002
A6: Nehmotné výsledky z vývojovej a obdob.činnosti 012-(072+091A | B6: 003
A7: Softvér 013-(073+091AÚ) | B7: 004
A8: Oceniteľné práva 014-(074+091AÚ) | B8: 005
A9: Ostatný.dlhodob.nehmot.majetok(018+019)-(078+079+091AÚ) | B9: 006
A10: Obstaranie dlhodobého nehmotného majetku (041-093) | B10: 007
A11: Poskytnut.preddavky na dlhodob.nehmot.majetok (051-095AÚ) | B11: 008
A12: 2. Dlhodobý hmotný majetok (r. 010 až r. 020) | B12: 009
A13: Pozemky (031) | B13: 010
A14: Umelecké diela a zbierky (032) | B14: 011
A15: Stavby 021-(081-092AÚ) | B15: 012
... A63: MAJETOK SPOLU r.001 + r.029 + r.057 | B63: 060
A64: Celkový výsledok
