Workbook

Sheet Rekapitulácia stavby
A1: Export Komplet | BA1: 2.0 | BT1: False | BU1: False | BV1: {d5dc89b3-1261-48b8-9b78-071aac43bf50}
AR2: >> skryté stĺpce << | BS2: 0,01 | BT2: 20
BS3: 0,01 | BT3: 20
D4: REKAPITULÁCIA STAVBY ZADANIE | AS4: v --- nižšie sa nachádzajú doplnkové a pomocné údaje k zostavám --- v | BE4: Návod na vyplnenie | BS4: 0,001
D5: Kód: | K5: 9 | BE5: Meniť je možné iba bunky so žltým podfarbením!_x000D_ _x000D_ 1) na prvom liste Rekapitulácie stavby vyplňte v zostave_x000D_ _x000D_ a) Rekapitulácia stavby_x000D_ - údaje o Zhotoviteľovi_x000D_ (prenesú sa do ostatných zostáv aj v iných listoch)_x000D_ _x000D_ b) Rekapitulácia objektov stavby_x000D_ - potrebné Ostatné náklady_x000D_ _x000D_ 2) na vybraných listoch vyplňte v zostave_x000D_ _x000D_ a) Krycí list_x000D_ - údaje o Zhotoviteľovi, pokiaľ sa líšia od údajov o Zhotoviteľovi na Rekapitulácii stavby_x000D_ (údaje se prenesú do ostatných zostav v danom liste)_x000D_ _x000D_ b) Rekapitulácia rozpočtu_x000D_ - potrebné Ostatné náklady_x000D_ _x000D_ c) Celkové náklady za stavbu_x000D_ - ceny na položkách_x000D_ - množstvo, pokiaľ má žlté podfarbenie_x000D_ - a v prípade potreby poznámku (tá je v skrytom stĺpci) | BS5: 0,01
D6: Stavba: | K6: Oddychová zóna v areáli ŠD UKF Zobor | BS6: 0,01
D7: JKSO: | AK7: KS: | BS7: 0,01
D8: Miesto: | K8: Dražovská cesta 2, Nitra | AK8: Dátum: | BS8: 0,01
BS9: 0,01
D10: Objednávateľ: | AK10: IČO: | BS10: 0,01
E11: Univerzita Konštantína Filozofa v Nitre | AK11: IČ DPH: | BS11: 0,01
BS12: 0,01
D13: Zhotoviteľ: | AK13: IČO: | AN13: Vyplň údaj | BS13: 0,01
E14: Vyplň údaj | AK14: IČ DPH: | AN14: Vyplň údaj | BS14: 0,01
BS15: False
D16: Projektant: | AK16: IČO: | BS16: False
E17: Ing. Slavomír Koiš | AK17: IČ DPH: | BS17: True
BS18: 0,01
D19: Spracovateľ: | AK19: IČO: | BS19: 0,01
AK20: IČ DPH: | BS20: True
D22: Poznámka:
D26: Cena bez DPH | AK26: =ROUND(AG94,2) -> 0
L28: Sadzba dane | W28: Základ dane | AK28: Výška dane
D29: DPH | F29: základná | L29: 0.2 | W29: =ROUND(AZ94, 2) -> #REF! | AK29: =ROUND(AV94, 2) -> #REF!
F30: znížená | L30: 0.2 | W30: =ROUND(BA94, 2) -> #REF! | AK30: =ROUND(AW94, 2) -> #REF!
F31: zákl. prenesená | L31: 0.2 | W31: =ROUND(BB94, 2) -> #REF! | AK31: 0
F32: zníž. prenesená | L32: 0.2 | W32: =ROUND(BC94, 2) -> #REF! | AK32: 0
F33: nulová | L33: 0 | W33: =ROUND(BD94, 2) -> #REF! | AK33: 0
D35: Cena s DPH | T35: v | X35: EUR | AK35: =SUM(AK26:AK33) -> #REF!
D49: Projektant | AH49: Spracovateľ
D60: Dátum a podpis: | V60: Pečiatka | AH60: Dátum a podpis: | AM60: Pečiatka
D64: Objednávateľ | AH64: Zhotoviteľ
D75: Dátum a podpis: | V75: Pečiatka | AH75: Dátum a podpis: | AM75: Pečiatka
C82: REKAPITULÁCIA OBJEKTOV STAVBY ZADANIE
C84: Kód: | L84: =K5 -> 9
C85: Stavba: | L85: =K6 -> Oddychová zóna v areáli ŠD UKF Zobor
C87: Miesto: | L87: =IF(K8="","",K8) -> Dražovská cesta 2, Nitra | AI87: Dátum: | AM87: =IF(AN8= "","",AN8)
C89: Objednávateľ: | L89: =IF(E11= "","",E11) -> Univerzita Konštantína Filozofa v Nitre | AI89: Projektant: | AM89: =IF(E17="","",E17) -> Ing. Slavomír Koiš | AS89: Informatívne údaje z listov zákaziek
C90: Zhotoviteľ: | L90: =IF(E14= "Vyplň údaj","",E14) | AI90: Spracovateľ: | AM90: =IF(E20="","",E20)
C92: Kód | I92: Popis | AG92: Cena bez DPH [EUR] | AN92: Cena s DPH [EUR] | AQ92: Typ | AS92: z toho Ostat._x000D_ náklady [EUR] | AT92: DPH [EUR] | AU92: Normohodiny [h] | AV92: DPH základná [EUR] | AW92: DPH znížená [EUR] | AX92: DPH základná prenesená_x000D_ [EUR] | AY92: DPH znížená prenesená_x000D_ [EUR] | AZ92: Základňa_x000D_ DPH základná | BA92: Základňa_x000D_ DPH znížená | BB92: Základňa_x000D_ DPH zákl. prenesená | BC92: Základňa_x000D_ DPH zníž. prenesená | BD92: Základňa_x000D_ DPH nulová
C94: Náklady z rozpočtov | AG94: =ROUND(SUM(AG95:AG101),2) -> 0 | AS94: =ROUND(SUM(AS95:AS101),2) -> 0 | AT94: =ROUND(SUM(AV94:AW94),2) -> #REF! | AU94: =ROUND(SUM(AU95:AU101),5) -> #REF! | AV94: =ROUND(AZ94*L29,2) -> #REF! | AW94: =ROUND(BA94*L30,2) -> #REF! | AX94: =ROUND(BB94*L29,2) -> #REF! | AY94: =ROUND(BC94*L30,2) -> #REF! | AZ94: =ROUND(SUM(AZ95:AZ101),2) -> #REF! | BA94: =ROUND(SUM(BA95:BA101),2) -> #REF! | BB94: =ROUND(SUM(BB95:BB101),2) -> #REF! | BC94: =ROUND(SUM(BC95:BC101),2) -> #REF! | BD94: =ROUND(SUM(BD95:BD101),2) -> #REF! | BS94: D | BT94: 0 | BU94: ###NOIMPORT### | BV94: IMPORT | BW94: {d5dc89b3-1261-48b8-9b78-071aac43bf50} | BX94: {00000000-0000-0000-0000-000000000000}
A95: / | D95: 01 | J95: E S01 - Demolácie a asanácie | AQ95: STA | AS95: 0 | AT95: =ROUND(SUM(AV95:AW95),2) -> 0 | AU95: ='01 - E S01 - Demolácie a ...'!P120 -> 0 | AV95: ='01 - E S01 - Demolácie a ...'!J33 -> 0 | AW95: ='01 - E S01 - Demolácie a ...'!J34 -> 0 | AX95: ='01 - E S01 - Demolácie a ...'!J35 -> 0 | AY95: ='01 - E S01 - Demolácie a ...'!J36 -> 0 | AZ95: ='01 - E S01 - Demolácie a ...'!F33 -> 0 | BA95: ='01 - E S01 - Demolácie a ...'!F34 -> 0 | BB95: ='01 - E S01 - Demolácie a ...'!F35 -> 0 | BC95: ='01 - E S01 - Demolácie a ...'!F36 -> 0 | BD95: ='01 - E S01 - Demolácie a ...'!F37 -> 0 | BT95: 1 | BV95: IMPORT | BW95: {8a105855-58f6-4d18-b8ce-74947de0b00e} | BX95: {d5dc89b3-1261-48b8-9b78-071aac43bf50} | CM95: 0
A96: / | D96: 02 | J96: E S02 - Krajinné úpravy | AQ96: STA | AS96: 0 | AT96: =ROUND(SUM(AV96:AW96),2) -> #REF! | AU96: =#REF! -> #REF! | AV96: =#REF! -> #REF! | AW96: =#REF! -> #REF! | AX96: =#REF! -> #REF! | AY96: =#REF! -> #REF! | AZ96: =#REF! -> #REF! | BA96: =#REF! -> #REF! | BB96: =#REF! -> #REF! | ... BD96: =#REF! -> #REF! | BT96: 1 | BV96: IMPORT | BW96: {72f5327d-73f0-474d-8a58-51070a0af749} | BX96: {d5dc89b3-1261-48b8-9b78-071aac43bf50} | CM96: 0
A97: / | D97: 03 | J97: E S03 - Komunikácie-parčík | AQ97: STA | AS97: 0 | AT97: =ROUND(SUM(AV97:AW97),2) -> #REF! | AU97: =#REF! -> #REF! | AV97: =#REF! -> #REF! | AW97: =#REF! -> #REF! | AX97: =#REF! -> #REF! | AY97: =#REF! -> #REF! | AZ97: =#REF! -> #REF! | BA97: =#REF! -> #REF! | BB97: =#REF! -> #REF! | ... BD97: =#REF! -> #REF! | BT97: 1 | BV97: IMPORT | BW97: {a32d8a56-9031-483e-a82e-cf06074403ec} | BX97: {d5dc89b3-1261-48b8-9b78-071aac43bf50} | CM97: 0
A98: / | D98: 04 | J98: E S04 - Architektúra-mobiliár | AQ98: STA | AS98: 0 | AT98: =ROUND(SUM(AV98:AW98),2) -> 0 | AU98: ='04 - E S04 - Architektúra...'!P118 -> Nh celkom [h] | AV98: ='04 - E S04 - Architektúra...'!J33 -> 0 | AW98: ='04 - E S04 - Architektúra...'!J34 -> 0 | AX98: ='04 - E S04 - Architektúra...'!J35 -> 0 | AY98: ='04 - E S04 - Architektúra...'!J36 -> 0 | AZ98: ='04 - E S04 - Architektúra...'!F33 -> 0 | BA98: ='04 - E S04 - Architektúra...'!F34 -> 0 | BB98: ='04 - E S04 - Architektúra...'!F35 -> 0 | BC98: ='04 - E S04 - Architektúra...'!F36 -> 0 | BD98: ='04 - E S04 - Architektúra...'!F37 -> 0 | BT98: 1 | BV98: IMPORT | BW98: {4a8fa04a-9eb3-44c7-a241-8ca8b61a1933} | BX98: {d5dc89b3-1261-48b8-9b78-071aac43bf50} | CM98: 0
A99: / | D99: 05 | J99: E S05 - Prístrešok | AQ99: STA | AS99: 0 | AT99: =ROUND(SUM(AV99:AW99),2) -> 0 | AU99: ='05 - E S05 - Prístrešok'!P130 -> 0 | AV99: ='05 - E S05 - Prístrešok'!J33 -> 0 | AW99: ='05 - E S05 - Prístrešok'!J34 -> 0 | AX99: ='05 - E S05 - Prístrešok'!J35 -> 0 | AY99: ='05 - E S05 - Prístrešok'!J36 -> 0 | AZ99: ='05 - E S05 - Prístrešok'!F33 -> 0 | BA99: ='05 - E S05 - Prístrešok'!F34 -> 0 | BB99: ='05 - E S05 - Prístrešok'!F35 -> 0 | BC99: ='05 - E S05 - Prístrešok'!F36 -> 0 | BD99: ='05 - E S05 - Prístrešok'!F37 -> 0 | BT99: 1 | BV99: IMPORT | BW99: {db5d43c7-8197-4b0b-9471-f0083ef0119c} | BX99: {d5dc89b3-1261-48b8-9b78-071aac43bf50} | CM99: 0
A100: / | D100: 06 | J100: E S06 - Osvetlenie | AQ100: STA | AS100: 0 | AT100: =ROUND(SUM(AV100:AW100),2) -> 0 | AU100: ='06 - E S06 - Osvetlenie (...'!P117 -> Nh celkom [h] | AV100: ='06 - E S06 - Osvetlenie (...'!J32 -> Výška dane | AW100: ='06 - E S06 - Osvetlenie (...'!J33 -> 0 | AX100: ='06 - E S06 - Osvetlenie (...'!J34 -> 0 | AY100: ='06 - E S06 - Osvetlenie (...'!J35 -> 0 | AZ100: ='06 - E S06 - Osvetlenie (...'!F32 -> Základ dane | BA100: ='06 - E S06 - Osvetlenie (...'!F33 -> 0 | BB100: ='06 - E S06 - Osvetlenie (...'!F34 -> 0 | BC100: ='06 - E S06 - Osvetlenie (...'!F35 -> 0 | BD100: ='06 - E S06 - Osvetlenie (...'!F36 -> 0 | BT100: 1 | BV100: IMPORT | BW100: {e9f87a1d-b7db-4262-8a71-f08d24771e93} | BX100: {d5dc89b3-1261-48b8-9b78-071aac43bf50} | CM100: 0
A101: / | D101: 7 | J101: E Chodníky v areáli | AQ101: STA | AS101: 0 | AT101: =ROUND(SUM(AV101:AW101),2) -> 0 | AU101: ='06 - E S06 - Osvetlenie (...'!P118 -> #REF! | AV101: ='06 - E S06 - Osvetlenie (...'!J33 -> 0 | AW101: ='06 - E S06 - Osvetlenie (...'!J34 -> 0 | AX101: ='06 - E S06 - Osvetlenie (...'!J35 -> 0 | AY101: ='06 - E S06 - Osvetlenie (...'!J36 -> 0 | AZ101: ='06 - E S06 - Osvetlenie (...'!F33 -> 0 | BA101: ='06 - E S06 - Osvetlenie (...'!F34 -> 0 | BB101: ='06 - E S06 - Osvetlenie (...'!F35 -> 0 | BC101: ='06 - E S06 - Osvetlenie (...'!F36 -> 0 | BD101: ='06 - E S06 - Osvetlenie (...'!F37 -> 0 | BT101: 1 | BV101: IMPORT | BW101: {e9f87a1d-b7db-4262-8a71-f08d24771e93} | BX101: {d5dc89b3-1261-48b8-9b78-071aac43bf50} | CM101: 0

Sheet 01 - E S01 - Demolácie a ...
L2: >> skryté stĺpce << | AT2: {8a105855-58f6-4d18-b8ce-74947de0b00e}
AT3: 0
D4: KRYCÍ LIST ROZPOČTU | M4: v --- nižšie sa nachádzajú doplnkové a pomocné údaje k zostavám --- v | AT4: False
D6: Stavba:
E7: ='Rekapitulácia stavby'!K6 -> Oddychová zóna v areáli ŠD UKF Zobor
D8: Objekt:
E9: 01 - E S01 - Demolácie a asanácie
D11: JKSO: | I11: KS:
D12: Miesto: | F12: Dražovská cesta 2, Nitra | I12: Dátum:
D14: Objednávateľ: | I14: IČO:
E15: Univerzita Konštantína Filozofa v Nitre | I15: IČ DPH:
D17: Zhotoviteľ: | I17: IČO: | J17: ='Rekapitulácia stavby'!AN13 -> Vyplň údaj
E18: ='Rekapitulácia stavby'!E14 -> Vyplň údaj | I18: IČ DPH: | J18: ='Rekapitulácia stavby'!AN14 -> Vyplň údaj
D20: Projektant: | I20: IČO:
E21: Ing. Slavomír Koiš | I21: IČ DPH:
D23: Spracovateľ: | I23: IČO:
E24: V. Civáň | I24: IČ DPH:
D26: Poznámka:
D30: Cena bez DPH | J30: =ROUND(J120, 2) -> 0
F32: Základ dane | I32: Sadzba dane | J32: Výška dane
D33: DPH | E33: základná | F33: =ROUND((SUM(BE120:BE148)), 2) -> 0 | I33: 0.2 | J33: =ROUND(((SUM(BE120:BE148))*I33), 2) -> 0
E34: znížená | F34: =ROUND((SUM(BF120:BF148)), 2) -> 0 | I34: 0.2 | J34: =ROUND(((SUM(BF120:BF148))*I34), 2) -> 0
E35: zákl. prenesená | F35: =ROUND((SUM(BG120:BG148)), 2) -> 0 | I35: 0.2 | J35: =0 -> 0
E36: zníž. prenesená | F36: =ROUND((SUM(BH120:BH148)), 2) -> 0 | I36: 0.2 | J36: =0 -> 0
E37: nulová | F37: =ROUND((SUM(BI120:BI148)), 2) -> 0 | I37: 0 | J37: =0 -> 0
D39: Cena s DPH | G39: v | H39: EUR | J39: =SUM(J30:J37) -> 0
D50: Projektant | G50: Spracovateľ
D61: Dátum a podpis: | F61: Pečiatka | G61: Dátum a podpis: | J61: Pečiatka
D65: Objednávateľ | G65: Zhotoviteľ
D76: Dátum a podpis: | F76: Pečiatka | G76: Dátum a podpis: | J76: Pečiatka
C82: REKAPITULÁCIA ROZPOČTU
C84: Stavba:
E85: =E7 -> Oddychová zóna v areáli ŠD UKF Zobor
C86: Objekt:
E87: =E9 -> 01 - E S01 - Demolácie a asanácie
C89: Miesto: | F89: =F12 -> Dražovská cesta 2, Nitra | I89: Dátum: | J89: =IF(J12="","",J12)
C91: Objednávateľ: | F91: =E15 -> Univerzita Konštantína Filozofa v Nitre | I91: Projektant: | J91: =E21 -> Ing. Slavomír Koiš
C92: Zhotoviteľ: | F92: =IF(E18="","",E18) -> Vyplň údaj | I92: Spracovateľ: | J92: =E24 -> V. Civáň
C94: Kód dielu - Popis | J94: Cena celkom [EUR]
C96: Náklady z rozpočtu | J96: =J120 -> 0 | AU96: -1
D97: HSV - Práce a dodávky HSV | J97: =J121 -> 0
D98: 1 - Zemné práce | J98: =J122 -> 0
D99: 9 - Ostatné konštrukcie a práce-búranie | J99: =J141 -> 0
D100: VRN - Vedľajšie rozpočtové náklady | J100: =J146 -> 0
C107: ROZPOČET
C109: Stavba:
E110: =E7 -> Oddychová zóna v areáli ŠD UKF Zobor
C111: Objekt:
E112: =E9 -> 01 - E S01 - Demolácie a asanácie
C114: Miesto: | F114: =F12 -> Dražovská cesta 2, Nitra | I114: Dátum: | J114: =IF(J12="","",J12)
C116: Objednávateľ: | F116: =E15 -> Univerzita Konštantína Filozofa v Nitre | I116: Projektant: | J116: =E21 -> Ing. Slavomír Koiš
C117: Zhotoviteľ: | F117: =IF(E18="","",E18) -> Vyplň údaj | I117: Spracovateľ: | J117: =E24 -> V. Civáň
C119: PČ | D119: Typ | E119: Kód | F119: Popis | G119: MJ | H119: Množstvo | I119: J.cena [EUR] | J119: Cena celkom [EUR] | K119: Cenová sústava | N119: DPH | O119: J. Nh [h] | P119: Nh celkom [h] | Q119: J. hmotnosť [t] | R119: Hmotnosť celkom [t] | S119: J. suť [t] | T119: Suť Celkom [t]
C120: Náklady z rozpočtu | J120: =BK120 -> 0 | P120: =P121+P146 -> 0 | R120: =R121+R146 -> 0 | T120: =T121+T146 -> 1087.6 | AT120: D | AU120: -1 | BK120: =BK121+BK146 -> 0
D121: D | E121: HSV | F121: Práce a dodávky HSV | J121: =BK121 -> 0 | P121: =P122+P141 -> 0 | R121: =R122+R141 -> 0 | T121: =T122+T141 -> 1087.6 | AR121: 1 | AT121: D | AU121: 0 | AY121: ROZPOCET | BK121: =BK122+BK141 -> 0
D122: D | E122: 1 | F122: Zemné práce | J122: =BK122 -> 0 | P122: =SUM(P123:P140) -> 0 | R122: =SUM(R123:R140) -> 0 | T122: =SUM(T123:T140) -> 920.4 | AR122: 1 | AT122: D | AU122: 1 | AY122: ROZPOCET | BK122: =SUM(BK123:BK140) -> 0
C123: 1 | D123: K | E123: 113307211.R | F123: Odstránenie podkladu v ploche nad 200 m2 z antuky , hr. vrstvy 50 mm, -0,0550t | G123: m2 | H123: 1000 | J123: =ROUND(I123*H123,2) -> 0 | N123: znížená | P123: =O123*H123 -> 0 | Q123: 0 | R123: =Q123*H123 -> 0 | S123: 0.055 | T123: =S123*H123 -> 55 | AR123: 4 | AT123: K | AU123: 2 | AY123: ROZPOCET | BE123: =IF(N123="základná",J123,0) -> 0 | BF123: =IF(N123="znížená",J123,0) -> 0 | BG123: =IF(N123="zákl. prenesená",J123,0) -> 0 | BH123: =IF(N123="zníž. prenesená",J123,0) -> 0 | BI123: =IF(N123="nulová",J123,0) -> 0 | BJ123: 2 | BK123: =ROUND(I123*H123,2) -> 0 | BL123: 4 | BM123: -530757427
C124: 2 | D124: K | E124: 113307213.R | F124: Odstránenie podkladu v ploche nad 200 m2 zo škváry hr. vrstvy 300 mm, -0,24000t | G124: m2 | H124: 1000 | J124: =ROUND(I124*H124,2) -> 0 | N124: znížená | P124: =O124*H124 -> 0 | Q124: 0 | R124: =Q124*H124 -> 0 | S124: 0.24 | T124: =S124*H124 -> 240 | AR124: 4 | AT124: K | AU124: 2 | AY124: ROZPOCET | BE124: =IF(N124="základná",J124,0) -> 0 | BF124: =IF(N124="znížená",J124,0) -> 0 | BG124: =IF(N124="zákl. prenesená",J124,0) -> 0 | BH124: =IF(N124="zníž. prenesená",J124,0) -> 0 | BI124: =IF(N124="nulová",J124,0) -> 0 | BJ124: 2 | BK124: =ROUND(I124*H124,2) -> 0 | BL124: 4 | BM124: -1890321281
C125: 3 | D125: K | E125: 113307211.R | F125: Odstránenie podkladu v ploche nad 200 m2 z antuky , hr. vrstvy 50 mm, -0,0550t | G125: m2 | H125: 1000 | J125: =ROUND(I125*H125,2) -> 0 | N125: znížená | P125: =O125*H125 -> 0 | Q125: 0 | R125: =Q125*H125 -> 0 | S125: 0.055 | T125: =S125*H125 -> 55 | AR125: 4 | AT125: K | AU125: 2 | AY125: ROZPOCET | BE125: =IF(N125="základná",J125,0) -> 0 | BF125: =IF(N125="znížená",J125,0) -> 0 | BG125: =IF(N125="zákl. prenesená",J125,0) -> 0 | BH125: =IF(N125="zníž. prenesená",J125,0) -> 0 | BI125: =IF(N125="nulová",J125,0) -> 0 | BJ125: 2 | BK125: =ROUND(I125*H125,2) -> 0 | BL125: 4 | BM125: -310761765
C126: 4 | D126: K | E126: 113307212.R | F126: Odstránenie podkladu v ploche nad 200 m2 zo škváry hr. vrstvy 100 mm, -0,08000t | G126: m2 | H126: 1000 | J126: =ROUND(I126*H126,2) -> 0 | N126: znížená | P126: =O126*H126 -> 0 | Q126: 0 | R126: =Q126*H126 -> 0 | S126: 0.08 | T126: =S126*H126 -> 80 | AR126: 4 | AT126: K | AU126: 2 | AY126: ROZPOCET | BE126: =IF(N126="základná",J126,0) -> 0 | BF126: =IF(N126="znížená",J126,0) -> 0 | BG126: =IF(N126="zákl. prenesená",J126,0) -> 0 | BH126: =IF(N126="zníž. prenesená",J126,0) -> 0 | BI126: =IF(N126="nulová",J126,0) -> 0 | BJ126: 2 | BK126: =ROUND(I126*H126,2) -> 0 | BL126: 4 | BM126: -779563973
C127: 5 | D127: K | E127: 113307221.R | F127: Odstránenie podkladu v ploche nad 200 m2 zo šotoliny hr. vrstvy 50 mm, -0,09000t | G127: m2 | H127: 480 | J127: =ROUND(I127*H127,2) -> 0 | N127: znížená | P127: =O127*H127 -> 0 | Q127: 0 | R127: =Q127*H127 -> 0 | S127: 0.09 | T127: =S127*H127 -> 43.2 | AR127: 4 | AT127: K | AU127: 2 | AY127: ROZPOCET | BE127: =IF(N127="základná",J127,0) -> 0 | BF127: =IF(N127="znížená",J127,0) -> 0 | BG127: =IF(N127="zákl. prenesená",J127,0) -> 0 | BH127: =IF(N127="zníž. prenesená",J127,0) -> 0 | BI127: =IF(N127="nulová",J127,0) -> 0 | BJ127: 2 | BK127: =ROUND(I127*H127,2) -> 0 | BL127: 4 | BM127: 736584270
C128: 6 | D128: K | E128: 113307223.R | F128: Odstránenie podkladu v ploche nad 200 m2 zo šotoliny hr. vrstvy 200 mm, -0,360000t | G128: m2 | H128: 520 | J128: =ROUND(I128*H128,2) -> 0 | N128: znížená | P128: =O128*H128 -> 0 | Q128: 0 | R128: =Q128*H128 -> 0 | S128: 0.36 | T128: =S128*H128 -> 187.2 | AR128: 4 | AT128: K | AU128: 2 | AY128: ROZPOCET | BE128: =IF(N128="základná",J128,0) -> 0 | BF128: =IF(N128="znížená",J128,0) -> 0 | BG128: =IF(N128="zákl. prenesená",J128,0) -> 0 | BH128: =IF(N128="zníž. prenesená",J128,0) -> 0 | BI128: =IF(N128="nulová",J128,0) -> 0 | BJ128: 2 | BK128: =ROUND(I128*H128,2) -> 0 | BL128: 4 | BM128: -402854095
C129: 7 | D129: K | E129: 113307232.R | F129: Odstránenie podkladu v ploche nad 200 m2 z betónu prostého, hr. vrstvy 200 mm, -0,50000t | G129: m2 | H129: 520 | J129: =ROUND(I129*H129,2) -> 0 | N129: znížená | P129: =O129*H129 -> 0 | Q129: 0 | R129: =Q129*H129 -> 0 | S129: 0.5 | T129: =S129*H129 -> 260 | AR129: 4 | AT129: K | AU129: 2 | AY129: ROZPOCET | BE129: =IF(N129="základná",J129,0) -> 0 | BF129: =IF(N129="znížená",J129,0) -> 0 | BG129: =IF(N129="zákl. prenesená",J129,0) -> 0 | BH129: =IF(N129="zníž. prenesená",J129,0) -> 0 | BI129: =IF(N129="nulová",J129,0) -> 0 | BJ129: 2 | BK129: =ROUND(I129*H129,2) -> 0 | BL129: 4 | BM129: 2033259155
C130: 8 | D130: K | E130: 122201102.S | F130: Odkopávka nezapažená v hornine 3, nad 100 do 1000 m3 | G130: m3 | H130: 192 | J130: =ROUND(I130*H130,2) -> 0 | N130: znížená | P130: =O130*H130 -> 0 | Q130: 0 | R130: =Q130*H130 -> 0 | S130: 0 | T130: =S130*H130 -> 0 | AR130: 4 | AT130: K | AU130: 2 | AY130: ROZPOCET | BE130: =IF(N130="základná",J130,0) -> 0 | BF130: =IF(N130="znížená",J130,0) -> 0 | BG130: =IF(N130="zákl. prenesená",J130,0) -> 0 | BH130: =IF(N130="zníž. prenesená",J130,0) -> 0 | BI130: =IF(N130="nulová",J130,0) -> 0 | BJ130: 2 | BK130: =ROUND(I130*H130,2) -> 0 | BL130: 4 | BM130: -364566175
C131: 9 | D131: K | E131: 132211121.R | F131: Odkop okolo inžinierskych sietí v horninách tr. 3 - ručným náradím | G131: m3 | H131: 10 | J131: =ROUND(I131*H131,2) -> 0 | N131: znížená | P131: =O131*H131 -> 0 | Q131: 0 | R131: =Q131*H131 -> 0 | S131: 0 | T131: =S131*H131 -> 0 | AR131: 4 | AT131: K | AU131: 2 | AY131: ROZPOCET | BE131: =IF(N131="základná",J131,0) -> 0 | BF131: =IF(N131="znížená",J131,0) -> 0 | BG131: =IF(N131="zákl. prenesená",J131,0) -> 0 | BH131: =IF(N131="zníž. prenesená",J131,0) -> 0 | BI131: =IF(N131="nulová",J131,0) -> 0 | BJ131: 2 | BK131: =ROUND(I131*H131,2) -> 0 | BL131: 4 | BM131: -1850182537
C132: 10 | D132: K | E132: 162201102.R. | F132: Vodorovné premiestnenie výkopku z horniny 1-4 do 50m vrámci stavby ( 202 m3 x2 ) zhutnená zemina nie nakopaná nykyprená ) | G132: m3 | H132: 404 | J132: =ROUND(I132*H132,2) -> 0 | N132: znížená | P132: =O132*H132 -> 0 | Q132: 0 | R132: =Q132*H132 -> 0 | S132: 0 | T132: =S132*H132 -> 0 | AR132: 4 | AT132: K | AU132: 2 | AY132: ROZPOCET | BE132: =IF(N132="základná",J132,0) -> 0 | BF132: =IF(N132="znížená",J132,0) -> 0 | BG132: =IF(N132="zákl. prenesená",J132,0) -> 0 | BH132: =IF(N132="zníž. prenesená",J132,0) -> 0 | BI132: =IF(N132="nulová",J132,0) -> 0 | BJ132: 2 | BK132: =ROUND(I132*H132,2) -> 0 | BL132: 4 | BM132: -719164351
C133: 11 | D133: K | E133: 167101102.S | F133: Nakladanie zeminy ( zhunená výmera ) z hornín tr.1-4 nad 100 do 1000 m3 | G133: m3 | H133: 202 | J133: =ROUND(I133*H133,2) -> 0 | N133: znížená | P133: =O133*H133 -> 0 | Q133: 0 | R133: =Q133*H133 -> 0 | S133: 0 | T133: =S133*H133 -> 0 | AR133: 4 | AT133: K | AU133: 2 | AY133: ROZPOCET | BE133: =IF(N133="základná",J133,0) -> 0 | BF133: =IF(N133="znížená",J133,0) -> 0 | BG133: =IF(N133="zákl. prenesená",J133,0) -> 0 | BH133: =IF(N133="zníž. prenesená",J133,0) -> 0 | BI133: =IF(N133="nulová",J133,0) -> 0 | BJ133: 2 | BK133: =ROUND(I133*H133,2) -> 0 | BL133: 4 | BM133: 1901445678
C134: 12 | D134: K | E134: 171201202.S | F134: Uloženie sypaniny na dočastnú medzskládku nad 100 do 1000 m3 na stavbe | G134: m3 | H134: 202 | J134: =ROUND(I134*H134,2) -> 0 | N134: znížená | P134: =O134*H134 -> 0 | Q134: 0 | R134: =Q134*H134 -> 0 | S134: 0 | T134: =S134*H134 -> 0 | AR134: 4 | AT134: K | AU134: 2 | AY134: ROZPOCET | BE134: =IF(N134="základná",J134,0) -> 0 | BF134: =IF(N134="znížená",J134,0) -> 0 | BG134: =IF(N134="zákl. prenesená",J134,0) -> 0 | BH134: =IF(N134="zníž. prenesená",J134,0) -> 0 | BI134: =IF(N134="nulová",J134,0) -> 0 | BJ134: 2 | BK134: =ROUND(I134*H134,2) -> 0 | BL134: 4 | BM134: 178173360
... C140: 18 | D140: K | E140: 162201102.S. | F140: Vodorovné premiestnenie šotoliny do 50m vrámci stavby | G140: m3 | H140: 208 | J140: =ROUND(I140*H140,2) -> 0 | N140: znížená | P140: =O140*H140 -> 0 | Q140: 0 | R140: =Q140*H140 -> 0 | S140: 0 | T140: =S140*H140 -> 0 | AR140: 4 | AT140: K | AU140: 2 | AY140: ROZPOCET | BE140: =IF(N140="základná",J140,0) -> 0 | BF140: =IF(N140="znížená",J140,0) -> 0 | BG140: =IF(N140="zákl. prenesená",J140,0) -> 0 | BH140: =IF(N140="zníž. prenesená",J140,0) -> 0 | BI140: =IF(N140="nulová",J140,0) -> 0 | BJ140: 2 | BK140: =ROUND(I140*H140,2) -> 0 | BL140: 4 | BM140: 1206112512
D141: D | E141: 9 | F141: Ostatné konštrukcie a práce-búranie | J141: =BK141 -> 0 | P141: =SUM(P142:P145) -> 0 | R141: =SUM(R142:R145) -> 0 | T141: =SUM(T142:T145) -> 167.2 | AR141: 1 | AT141: D | AU141: 1 | AY141: ROZPOCET | BK141: =SUM(BK142:BK145) -> 0
C142: 19 | D142: K | E142: 961041211.R | F142: Búranie základov, obrúb, z prost.,betónu, -2,20000t | G142: m3 | H142: 76 | J142: =ROUND(I142*H142,2) -> 0 | N142: znížená | P142: =O142*H142 -> 0 | Q142: 0 | R142: =Q142*H142 -> 0 | S142: 2.2 | T142: =S142*H142 -> 167.2 | AR142: 4 | AT142: K | AU142: 2 | AY142: ROZPOCET | BE142: =IF(N142="základná",J142,0) -> 0 | BF142: =IF(N142="znížená",J142,0) -> 0 | BG142: =IF(N142="zákl. prenesená",J142,0) -> 0 | BH142: =IF(N142="zníž. prenesená",J142,0) -> 0 | BI142: =IF(N142="nulová",J142,0) -> 0 | BJ142: 2 | BK142: =ROUND(I142*H142,2) -> 0 | BL142: 4 | BM142: 626287166
C143: 20 | D143: K | E143: 979084213.S | F143: Vodorovná doprava vybúraných hmôt po suchu bez naloženia, ale so zložením na riadenú skládku | G143: t | H143: 900.4 | J143: =ROUND(I143*H143,2) -> 0 | N143: znížená | P143: =O143*H143 -> 0 | Q143: 0 | R143: =Q143*H143 -> 0 | S143: 0 | T143: =S143*H143 -> 0 | AR143: 4 | AT143: K | AU143: 2 | AY143: ROZPOCET | BE143: =IF(N143="základná",J143,0) -> 0 | BF143: =IF(N143="znížená",J143,0) -> 0 | BG143: =IF(N143="zákl. prenesená",J143,0) -> 0 | BH143: =IF(N143="zníž. prenesená",J143,0) -> 0 | BI143: =IF(N143="nulová",J143,0) -> 0 | BJ143: 2 | BK143: =ROUND(I143*H143,2) -> 0 | BL143: 4 | BM143: -1498977663
C144: 21 | D144: K | E144: 171209002.S | F144: Poplatok za skladovanie ( riadená skládka ) - zemina a kamenivo (17 05) ostatné | G144: t | H144: 473.2 | J144: =ROUND(I144*H144,2) -> 0 | N144: znížená | P144: =O144*H144 -> 0 | Q144: 0 | R144: =Q144*H144 -> 0 | S144: 0 | T144: =S144*H144 -> 0 | AR144: 4 | AT144: K | AU144: 2 | AY144: ROZPOCET | BE144: =IF(N144="základná",J144,0) -> 0 | BF144: =IF(N144="znížená",J144,0) -> 0 | BG144: =IF(N144="zákl. prenesená",J144,0) -> 0 | BH144: =IF(N144="zníž. prenesená",J144,0) -> 0 | BI144: =IF(N144="nulová",J144,0) -> 0 | BJ144: 2 | BK144: =ROUND(I144*H144,2) -> 0 | BL144: 4 | BM144: 955144242
C145: 22 | D145: K | E145: 979089012 | F145: Poplatok za skladovanie ( riadená skládka ) - betón (17 01) ostatné | G145: t | H145: 427.2 | J145: =ROUND(I145*H145,2) -> 0 | N145: znížená | P145: =O145*H145 -> 0 | Q145: 0 | R145: =Q145*H145 -> 0 | S145: 0 | T145: =S145*H145 -> 0 | AR145: 4 | AT145: K | AU145: 2 | AY145: ROZPOCET | BE145: =IF(N145="základná",J145,0) -> 0 | BF145: =IF(N145="znížená",J145,0) -> 0 | BG145: =IF(N145="zákl. prenesená",J145,0) -> 0 | BH145: =IF(N145="zníž. prenesená",J145,0) -> 0 | BI145: =IF(N145="nulová",J145,0) -> 0 | BJ145: 2 | BK145: =ROUND(I145*H145,2) -> 0 | BL145: 4 | BM145: -354813307
D146: D | E146: VRN | F146: Vedľajšie rozpočtové náklady | J146: =BK146 -> 0 | P146: =SUM(P147:P148) -> 0 | R146: =SUM(R147:R148) -> 0 | T146: =SUM(T147:T148) -> 0 | AR146: 5 | AT146: D | AU146: 0 | AY146: ROZPOCET | BK146: =SUM(BK147:BK148) -> 0
C147: 23 | D147: K | E147: 000300012.R | F147: Vytýčenie a označenie jestvujúcich inžinierskych sietí ich správcami | G147: € | H147: 1 | J147: =ROUND(I147*H147,2) -> 0 | N147: znížená | P147: =O147*H147 -> 0 | Q147: 0 | R147: =Q147*H147 -> 0 | S147: 0 | T147: =S147*H147 -> 0 | AR147: 1024 | AT147: K | AU147: 1 | AY147: ROZPOCET | BE147: =IF(N147="základná",J147,0) -> 0 | BF147: =IF(N147="znížená",J147,0) -> 0 | BG147: =IF(N147="zákl. prenesená",J147,0) -> 0 | BH147: =IF(N147="zníž. prenesená",J147,0) -> 0 | BI147: =IF(N147="nulová",J147,0) -> 0 | BJ147: 2 | BK147: =ROUND(I147*H147,2) -> 0 | BL147: 1024 | BM147: -1771545227
C148: 24 | D148: K | E148: 000600015.R | F148: Zariadenie staveniska | G148: € | H148: 1 | J148: =ROUND(I148*H148,2) -> 0 | N148: znížená | P148: =O148*H148 -> 0 | Q148: 0 | R148: =Q148*H148 -> 0 | S148: 0 | T148: =S148*H148 -> 0 | AR148: 1024 | AT148: K | AU148: 1 | AY148: ROZPOCET | BE148: =IF(N148="základná",J148,0) -> 0 | BF148: =IF(N148="znížená",J148,0) -> 0 | BG148: =IF(N148="zákl. prenesená",J148,0) -> 0 | BH148: =IF(N148="zníž. prenesená",J148,0) -> 0 | BI148: =IF(N148="nulová",J148,0) -> 0 | BJ148: 2 | BK148: =ROUND(I148*H148,2) -> 0 | BL148: 1024 | BM148: -1943112412

Sheet 02-SO02 Krajinné úpravy
L2: >> skryté stĺpce << | AT2: {c3f265a0-ed93-49f2-bb31-c36777b8b274}
AT3: 0
D4: KRYCÍ LIST ROZPOČTU | M4: v --- nižšie sa nachádzajú doplnkové a pomocné údaje k zostavám --- v | AT4: False
D6: Stavba:
E7: ='[1]Rekapitulácia stavby'!K6 -> Oddychová zóna v areáli ŠD UKF Zobor
D8: Objekt:
E9: SO 2 - Krajinné úpravy
D11: JKSO: | I11: KS:
D12: Miesto: | F12: Nitra | I12: Dátum:
D14: Objednávateľ: | I14: IČO: | J14: =IF('[1]Rekapitulácia stavby'!AN10="","",'[1]Rekapitulácia stavby'!AN10)
E15: =IF('[1]Rekapitulácia stavby'!E11="","",'[1]Rekapitulácia stavby'!E11) | I15: IČ DPH: | J15: =IF('[1]Rekapitulácia stavby'!AN11="","",'[1]Rekapitulácia stavby'!AN11)
D17: Zhotoviteľ: | I17: IČO: | J17: ='[1]Rekapitulácia stavby'!AN13 -> Vyplň údaj
E18: ='[1]Rekapitulácia stavby'!E14 -> Vyplň údaj | I18: IČ DPH: | J18: ='[1]Rekapitulácia stavby'!AN14 -> Vyplň údaj
D20: Projektant: | I20: IČO:
E21: Rudbeckia | I21: IČ DPH:
D23: Spracovateľ: | I23: IČO: | J23: =IF('[1]Rekapitulácia stavby'!AN19="","",'[1]Rekapitulácia stavby'!AN19)
E24: =IF('[1]Rekapitulácia stavby'!E20="","",'[1]Rekapitulácia stavby'!E20) | I24: IČ DPH: | J24: =IF('[1]Rekapitulácia stavby'!AN20="","",'[1]Rekapitulácia stavby'!AN20)
D26: Poznámka:
D30: Cena bez DPH | J30: =ROUND(J123, 2) -> 0
F32: Základ dane | I32: Sadzba dane | J32: Výška dane
D33: DPH | E33: základná | F33: =ROUND((SUM(BE123:BE213)), 2) -> 0 | I33: 0.2 | J33: =ROUND(((SUM(BE123:BE213))*I33), 2) -> 0
E34: znížená | F34: =ROUND((SUM(BF123:BF213)), 2) -> 0 | I34: 0.2 | J34: =ROUND(((SUM(BF123:BF213))*I34), 2) -> 0
E35: zákl. prenesená | F35: =ROUND((SUM(BG123:BG213)), 2) -> 0 | I35: 0.2 | J35: =0 -> 0
E36: zníž. prenesená | F36: =ROUND((SUM(BH123:BH213)), 2) -> 0 | I36: 0.2 | J36: =0 -> 0
E37: nulová | F37: =ROUND((SUM(BI123:BI213)), 2) -> 0 | I37: 0 | J37: =0 -> 0
D39: Cena s DPH | G39: v | H39: EUR | J39: =SUM(J30:J37) -> 0
D50: Projektant | G50: Spracovateľ
D61: Dátum a podpis: | F61: Pečiatka | G61: Dátum a podpis: | J61: Pečiatka
D65: Objednávateľ | G65: Zhotoviteľ
D76: Dátum a podpis: | F76: Pečiatka | G76: Dátum a podpis: | J76: Pečiatka
C82: REKAPITULÁCIA ROZPOČTU
C84: Stavba:
E85: =E7 -> Oddychová zóna v areáli ŠD UKF Zobor
C86: Objekt:
E87: =E9 -> SO 2 - Krajinné úpravy
C89: Miesto: | F89: =F12 -> Nitra | I89: Dátum: | J89: =IF(J12="","",J12)
C91: Objednávateľ: | F91: =E15 | I91: Projektant: | J91: =E21 -> Rudbeckia
C92: Zhotoviteľ: | F92: =IF(E18="","",E18) -> Vyplň údaj | I92: Spracovateľ: | J92: =E24
C94: Kód dielu - Popis | J94: Cena celkom [EUR]
C96: Náklady z rozpočtu | J96: =J123 -> 0 | AU96: -1
D97: HSV - HSV | J97: =J124 -> 0
D98: 1. - Výruby | J98: =J125 -> 0
D99: 2. - Výsadba stromov | J99: =J130 -> 0
D100: 3. - Výsadba krov v záhonoch | J100: =J148 -> 0
D101: 4. - Výsadba záhonov | J101: =J159 -> 0
D102: 5. - Výsev trávnika | J102: =J204 -> 0
D103: 99 - Presun hmôt HSV | J103: =J212 -> 0
C110: ROZPOČET
C112: Stavba:
E113: =E7 -> Oddychová zóna v areáli ŠD UKF Zobor
C114: Objekt:
E115: =E9 -> SO 2 - Krajinné úpravy
C117: Miesto: | F117: =F12 -> Nitra | I117: Dátum: | J117: =IF(J12="","",J12)
C119: Objednávateľ: | F119: =E15 | I119: Projektant: | J119: =E21 -> Rudbeckia
C120: Zhotoviteľ: | F120: =IF(E18="","",E18) -> Vyplň údaj | I120: Spracovateľ: | J120: =E24
C122: PČ | D122: Typ | E122: Kód | F122: Popis | G122: MJ | H122: Množstvo | I122: J.cena [EUR] | J122: Cena celkom [EUR] | K122: Cenová sústava | N122: DPH | O122: J. Nh [h] | P122: Nh celkom [h] | Q122: J. hmotnosť [t] | R122: Hmotnosť celkom [t] | S122: J. suť [t] | T122: Suť Celkom [t]
C123: Náklady z rozpočtu | J123: =BK123 -> 0 | P123: =P124 -> 0 | R123: =R124 -> 15.2699 | T123: =T124 -> 0 | AT123: D | AU123: -1 | BK123: =BK124 -> 0
D124: D | E124: HSV | F124: HSV | J124: =BK124 -> 0 | P124: =P125+P130+P148+P159+P204+P212 -> 0 | R124: =R125+R130+R148+R159+R204+R212 -> 15.2699 | T124: =T125+T130+T148+T159+T204+T212 -> 0 | AR124: 1 | AT124: D | AU124: 0 | AY124: ROZPOCET | BK124: =BK125+BK130+BK148+BK159+BK204+BK212 -> 0
D125: D | E125: 1. | F125: Výruby | J125: =BK125 -> 0 | P125: =SUM(P126:P129) -> 0 | R125: =SUM(R126:R129) -> 0 | T125: =SUM(T126:T129) -> 0 | AR125: 1 | AT125: D | AU125: 1 | AY125: ROZPOCET | BK125: =SUM(BK126:BK129) -> 0
C126: 1 | D126: K | E126: 111201101 | F126: Odstránenie krovín a stromov s koreňom s priemerom kmeňa do 100 mm, do 1000 m2 | G126: m2 | H126: 22 | J126: =ROUND(I126*H126,3) -> 0 | N126: znížená | P126: =O126*H126 -> 0 | Q126: 0 | R126: =Q126*H126 -> 0 | S126: 0 | T126: =S126*H126 -> 0 | AR126: 4 | AT126: K | AU126: 2 | AY126: ROZPOCET | BE126: =IF(N126="základná",J126,0) -> 0 | BF126: =IF(N126="znížená",J126,0) -> 0 | BG126: =IF(N126="zákl. prenesená",J126,0) -> 0 | BH126: =IF(N126="zníž. prenesená",J126,0) -> 0 | BI126: =IF(N126="nulová",J126,0) -> 0 | BJ126: 2 | BK126: =ROUND(I126*H126,3) -> 0 | BL126: 4 | BM126: 1170753976
D127: VV | F127: "stromy - 3ks"15 | H127: 15 | AT127: VV | AU127: 2 | AV127: 2 | AW127: True | AX127: 0 | AY127: ROZPOCET
D128: VV | F128: "kry" 7 | H128: 7 | AT128: VV | AU128: 2 | AV128: 2 | AW128: True | AX128: 0 | AY128: ROZPOCET
D129: VV | F129: Súčet | H129: 22 | AT129: VV | AU129: 2 | AV129: 4 | AW129: True | AX129: 1 | AY129: ROZPOCET
D130: D | E130: 2. | F130: Výsadba stromov | J130: =BK130 -> 0 | P130: =SUM(P131:P147) -> 0 | R130: =SUM(R131:R147) -> 4.3674 | T130: =SUM(T131:T147) -> 0 | AR130: 1 | AT130: D | AU130: 1 | AY130: ROZPOCET | BK130: =SUM(BK131:BK147) -> 0
C131: 2 | D131: K | E131: 183101221 | F131: Hĺbenie jamiek pre výsadbu v horn. 1-4 s výmenou pôdy do 50% v rovine alebo na svahu do 1:5 objemu nad 0, 40 do 1,00 m3 | G131: ks | H131: 5 | J131: =ROUND(I131*H131,3) -> 0 | N131: znížená | P131: =O131*H131 -> 0 | Q131: 0 | R131: =Q131*H131 -> 0 | S131: 0 | T131: =S131*H131 -> 0 | AR131: 4 | AT131: K | AU131: 2 | AY131: ROZPOCET | BE131: =IF(N131="základná",J131,0) -> 0 | BF131: =IF(N131="znížená",J131,0) -> 0 | BG131: =IF(N131="zákl. prenesená",J131,0) -> 0 | BH131: =IF(N131="zníž. prenesená",J131,0) -> 0 | BI131: =IF(N131="nulová",J131,0) -> 0 | BJ131: 2 | BK131: =ROUND(I131*H131,3) -> 0 | BL131: 4 | BM131: -1681104048
C132: 3 | D132: K | E132: 184202113 | F132: Zhotovenie ochrany proti prerastaniu koreňov umiestnením koreňovej chráničky, dĺžka 2m, výška 1m | G132: ks | H132: 5 | J132: =ROUND(I132*H132,3) -> 0 | N132: znížená | P132: =O132*H132 -> 0 | Q132: 0 | R132: =Q132*H132 -> 0 | S132: 0 | T132: =S132*H132 -> 0 | AR132: 4 | AT132: K | AU132: 2 | AY132: ROZPOCET | BE132: =IF(N132="základná",J132,0) -> 0 | BF132: =IF(N132="znížená",J132,0) -> 0 | BG132: =IF(N132="zákl. prenesená",J132,0) -> 0 | BH132: =IF(N132="zníž. prenesená",J132,0) -> 0 | BI132: =IF(N132="nulová",J132,0) -> 0 | BJ132: 2 | BK132: =ROUND(I132*H132,3) -> 0 | BL132: 4 | BM132: -2108232986
C133: 4 | D133: M | E133: 0521742070 | F133: Protikoreňová bariéra, dĺžka 2m, šírka 1m | G133: ks | H133: 5 | J133: =ROUND(I133*H133,3) -> 0 | N133: znížená | P133: =O133*H133 -> 0 | Q133: 0 | R133: =Q133*H133 -> 0 | S133: 0 | T133: =S133*H133 -> 0 | AR133: 8 | AT133: M | AU133: 2 | AY133: ROZPOCET | BE133: =IF(N133="základná",J133,0) -> 0 | BF133: =IF(N133="znížená",J133,0) -> 0 | BG133: =IF(N133="zákl. prenesená",J133,0) -> 0 | BH133: =IF(N133="zníž. prenesená",J133,0) -> 0 | BI133: =IF(N133="nulová",J133,0) -> 0 | BJ133: 2 | BK133: =ROUND(I133*H133,3) -> 0 | BL133: 4 | BM133: 1438150732
C134: 5 | D134: K | E134: 184102116 | F134: Výsadba dreviny s balom v rovine alebo na svahu do 1:5, priemer balu nad 600 do 800 mm | G134: ks | H134: 5 | J134: =ROUND(I134*H134,3) -> 0 | N134: znížená | P134: =O134*H134 -> 0 | Q134: 0 | R134: =Q134*H134 -> 0 | S134: 0 | T134: =S134*H134 -> 0 | AR134: 4 | AT134: K | AU134: 2 | AY134: ROZPOCET | BE134: =IF(N134="základná",J134,0) -> 0 | BF134: =IF(N134="znížená",J134,0) -> 0 | BG134: =IF(N134="zákl. prenesená",J134,0) -> 0 | BH134: =IF(N134="zníž. prenesená",J134,0) -> 0 | BI134: =IF(N134="nulová",J134,0) -> 0 | BJ134: 2 | BK134: =ROUND(I134*H134,3) -> 0 | BL134: 4 | BM134: -378048203
C135: 6 | D135: M | E135: s1 | F135: Koelreuteria paniculata (jaseňovec metlinatý), bal 14/16 cm | G135: ks | H135: 5 | J135: =ROUND(I135*H135,3) -> 0 | N135: znížená | P135: =O135*H135 -> 0 | Q135: 0.1 | R135: =Q135*H135 -> 0.5 | S135: 0 | T135: =S135*H135 -> 0 | AR135: 8 | AT135: M | AU135: 2 | AY135: ROZPOCET | BE135: =IF(N135="základná",J135,0) -> 0 | BF135: =IF(N135="znížená",J135,0) -> 0 | BG135: =IF(N135="zákl. prenesená",J135,0) -> 0 | BH135: =IF(N135="zníž. prenesená",J135,0) -> 0 | BI135: =IF(N135="nulová",J135,0) -> 0 | BJ135: 2 | BK135: =ROUND(I135*H135,3) -> 0 | BL135: 4 | BM135: 6983660
C136: 7 | D136: K | E136: 184202112 | F136: Zakotvenie dreviny troma a viac kolmi pri priemere kolov do 100 mm pri dĺžke kolov do 2 m do 3 m | G136: ks | H136: 5 | J136: =ROUND(I136*H136,3) -> 0 | N136: znížená | P136: =O136*H136 -> 0 | Q136: 0.00048 | R136: =Q136*H136 -> 0.0024 | S136: 0 | T136: =S136*H136 -> 0 | AR136: 4 | AT136: K | AU136: 2 | AY136: ROZPOCET | BE136: =IF(N136="základná",J136,0) -> 0 | BF136: =IF(N136="znížená",J136,0) -> 0 | BG136: =IF(N136="zákl. prenesená",J136,0) -> 0 | BH136: =IF(N136="zníž. prenesená",J136,0) -> 0 | BI136: =IF(N136="nulová",J136,0) -> 0 | BJ136: 2 | BK136: =ROUND(I136*H136,3) -> 0 | BL136: 4 | BM136: -601431695
C137: 8 | D137: M | E137: 0521742030 | F137: Kotviace koly, pr. 50mm, dĺžka 2,5m, 3 ks/1strom | G137: ks | H137: 5 | J137: =ROUND(I137*H137,3) -> 0 | N137: znížená | P137: =O137*H137 -> 0 | Q137: 0.5 | R137: =Q137*H137 -> 2.5 | S137: 0 | T137: =S137*H137 -> 0 | AR137: 8 | AT137: M | AU137: 2 | AY137: ROZPOCET | BE137: =IF(N137="základná",J137,0) -> 0 | BF137: =IF(N137="znížená",J137,0) -> 0 | BG137: =IF(N137="zákl. prenesená",J137,0) -> 0 | BH137: =IF(N137="zníž. prenesená",J137,0) -> 0 | BI137: =IF(N137="nulová",J137,0) -> 0 | BJ137: 2 | BK137: =ROUND(I137*H137,3) -> 0 | BL137: 4 | BM137: 845113132
C138: 9 | D138: M | E138: 0521742040 | F138: Kotviace polkoly, pr. 50mm, dĺžka 2,5m, 1ks/1strom | G138: ks | H138: 5 | J138: =ROUND(I138*H138,3) -> 0 | N138: znížená | P138: =O138*H138 -> 0 | Q138: 0.25 | R138: =Q138*H138 -> 1.25 | S138: 0 | T138: =S138*H138 -> 0 | AR138: 8 | AT138: M | AU138: 2 | AY138: ROZPOCET | BE138: =IF(N138="základná",J138,0) -> 0 | BF138: =IF(N138="znížená",J138,0) -> 0 | BG138: =IF(N138="zákl. prenesená",J138,0) -> 0 | BH138: =IF(N138="zníž. prenesená",J138,0) -> 0 | BI138: =IF(N138="nulová",J138,0) -> 0 | BJ138: 2 | BK138: =ROUND(I138*H138,3) -> 0 | BL138: 4 | BM138: 1556547781
C139: 10 | D139: M | E139: 0521742050 | F139: Viazací a spojovací materiál | G139: ks | H139: 5 | J139: =ROUND(I139*H139,3) -> 0 | N139: znížená | P139: =O139*H139 -> 0 | Q139: 0 | R139: =Q139*H139 -> 0 | S139: 0 | T139: =S139*H139 -> 0 | AR139: 8 | AT139: M | AU139: 2 | AY139: ROZPOCET | BE139: =IF(N139="základná",J139,0) -> 0 | BF139: =IF(N139="znížená",J139,0) -> 0 | BG139: =IF(N139="zákl. prenesená",J139,0) -> 0 | BH139: =IF(N139="zníž. prenesená",J139,0) -> 0 | BI139: =IF(N139="nulová",J139,0) -> 0 | BJ139: 2 | BK139: =ROUND(I139*H139,3) -> 0 | BL139: 4 | BM139: 511210215
C140: 11 | D140: K | E140: 184921093 | F140: Mulčovanie rastlín pri hrúbke mulča nad 50 do 100 mm v rovine alebo na svahu do 1:5 | G140: m2 | H140: 5 | J140: =ROUND(I140*H140,3) -> 0 | N140: znížená | P140: =O140*H140 -> 0 | Q140: 0 | R140: =Q140*H140 -> 0 | S140: 0 | T140: =S140*H140 -> 0 | AR140: 4 | AT140: K | AU140: 2 | AY140: ROZPOCET | BE140: =IF(N140="základná",J140,0) -> 0 | BF140: =IF(N140="znížená",J140,0) -> 0 | BG140: =IF(N140="zákl. prenesená",J140,0) -> 0 | BH140: =IF(N140="zníž. prenesená",J140,0) -> 0 | BI140: =IF(N140="nulová",J140,0) -> 0 | BJ140: 2 | BK140: =ROUND(I140*H140,3) -> 0 | BL140: 4 | BM140: 961133411
C141: 12 | D141: M | E141: 055410000100 | F141: Mulčovacia kôra | G141: l | H141: 350 | J141: =ROUND(I141*H141,3) -> 0 | N141: znížená | P141: =O141*H141 -> 0 | Q141: 0.0003 | R141: =Q141*H141 -> 0.105 | S141: 0 | T141: =S141*H141 -> 0 | AR141: 8 | AT141: M | AU141: 2 | AY141: ROZPOCET | BE141: =IF(N141="základná",J141,0) -> 0 | BF141: =IF(N141="znížená",J141,0) -> 0 | BG141: =IF(N141="zákl. prenesená",J141,0) -> 0 | BH141: =IF(N141="zníž. prenesená",J141,0) -> 0 | BI141: =IF(N141="nulová",J141,0) -> 0 | BJ141: 2 | BK141: =ROUND(I141*H141,3) -> 0 | BL141: 4 | BM141: -1663917834
D142: VV | F142: 5*70 | H142: 350 | AT142: VV | AU142: 2 | AV142: 2 | AW142: True | AX142: 1 | AY142: ROZPOCET
C143: 13 | D143: K | E143: 185802114 | F143: Hnojenie pôdy v rovine alebo na svahu do 1:5 umelým hnojivom | G143: t | H143: 0.01 | J143: =ROUND(I143*H143,3) -> 0 | N143: znížená | P143: =O143*H143 -> 0 | Q143: 0 | R143: =Q143*H143 -> 0 | S143: 0 | T143: =S143*H143 -> 0 | AR143: 4 | AT143: K | AU143: 2 | AY143: ROZPOCET | BE143: =IF(N143="základná",J143,0) -> 0 | BF143: =IF(N143="znížená",J143,0) -> 0 | BG143: =IF(N143="zákl. prenesená",J143,0) -> 0 | BH143: =IF(N143="zníž. prenesená",J143,0) -> 0 | BI143: =IF(N143="nulová",J143,0) -> 0 | BJ143: 2 | BK143: =ROUND(I143*H143,3) -> 0 | BL143: 4 | BM143: 615805324
C144: 14 | D144: M | E144: 251910000100 | F144: Hnojivo tabletové Silvamix 4x10g | G144: t | H144: 0.01 | J144: =ROUND(I144*H144,3) -> 0 | N144: znížená | P144: =O144*H144 -> 0 | Q144: 1 | R144: =Q144*H144 -> 0.01 | S144: 0 | T144: =S144*H144 -> 0 | AR144: 8 | AT144: M | AU144: 2 | AY144: ROZPOCET | BE144: =IF(N144="základná",J144,0) -> 0 | BF144: =IF(N144="znížená",J144,0) -> 0 | BG144: =IF(N144="zákl. prenesená",J144,0) -> 0 | BH144: =IF(N144="zníž. prenesená",J144,0) -> 0 | BI144: =IF(N144="nulová",J144,0) -> 0 | BJ144: 2 | BK144: =ROUND(I144*H144,3) -> 0 | BL144: 4 | BM144: -356824595
C145: 15 | D145: K | E145: 185804311 | F145: Zaliatie rastlín vodou, plochy jednotlivo do 20 m2 | G145: m3 | H145: 0.5 | J145: =ROUND(I145*H145,3) -> 0 | N145: znížená | P145: =O145*H145 -> 0 | Q145: 0 | R145: =Q145*H145 -> 0 | S145: 0 | T145: =S145*H145 -> 0 | AR145: 4 | AT145: K | AU145: 2 | AY145: ROZPOCET | BE145: =IF(N145="základná",J145,0) -> 0 | BF145: =IF(N145="znížená",J145,0) -> 0 | BG145: =IF(N145="zákl. prenesená",J145,0) -> 0 | BH145: =IF(N145="zníž. prenesená",J145,0) -> 0 | BI145: =IF(N145="nulová",J145,0) -> 0 | BJ145: 2 | BK145: =ROUND(I145*H145,3) -> 0 | BL145: 4 | BM145: -812017502
D146: VV | F146: 5*100/1000 | H146: 0.5 | AT146: VV | AU146: 2 | AV146: 2 | AW146: True | AX146: 1 | AY146: ROZPOCET
C147: 16 | D147: K | E147: 185851111 | F147: Dovoz vody pre zálievku rastlín na vzdialenosť do 6000 m | G147: m3 | H147: 0.5 | J147: =ROUND(I147*H147,3) -> 0 | N147: znížená | P147: =O147*H147 -> 0 | Q147: 0 | R147: =Q147*H147 -> 0 | S147: 0 | T147: =S147*H147 -> 0 | AR147: 4 | AT147: K | AU147: 2 | AY147: ROZPOCET | BE147: =IF(N147="základná",J147,0) -> 0 | BF147: =IF(N147="znížená",J147,0) -> 0 | BG147: =IF(N147="zákl. prenesená",J147,0) -> 0 | BH147: =IF(N147="zníž. prenesená",J147,0) -> 0 | BI147: =IF(N147="nulová",J147,0) -> 0 | BJ147: 2 | BK147: =ROUND(I147*H147,3) -> 0 | BL147: 4 | BM147: 1815267475
D148: D | E148: 3. | F148: Výsadba krov v záhonoch | J148: =BK148 -> 0 | P148: =SUM(P149:P158) -> 0 | R148: =SUM(R149:R158) -> 0.7025 | T148: =SUM(T149:T158) -> 0 | AR148: 1 | AT148: D | AU148: 1 | AY148: ROZPOCET | BK148: =SUM(BK149:BK158) -> 0
C149: 17 | D149: K | E149: 183105113 | F149: Hĺbenie jamky na svahu nad 1:2-1:1 , objemu nad 0,02 do 0,05 m3 | G149: ks | H149: 5 | J149: =ROUND(I149*H149,3) -> 0 | N149: znížená | P149: =O149*H149 -> 0 | Q149: 0 | R149: =Q149*H149 -> 0 | S149: 0 | T149: =S149*H149 -> 0 | AR149: 4 | AT149: K | AU149: 2 | AY149: ROZPOCET | BE149: =IF(N149="základná",J149,0) -> 0 | BF149: =IF(N149="znížená",J149,0) -> 0 | BG149: =IF(N149="zákl. prenesená",J149,0) -> 0 | BH149: =IF(N149="zníž. prenesená",J149,0) -> 0 | BI149: =IF(N149="nulová",J149,0) -> 0 | BJ149: 2 | BK149: =ROUND(I149*H149,3) -> 0 | BL149: 4 | BM149: 1407089837
C150: 18 | D150: K | E150: 184102130 | F150: Výsadba dreviny s balom na svahu nad 1:2 do 1:1, pri priemere balu do 100 mm | G150: ks | H150: 5 | J150: =ROUND(I150*H150,3) -> 0 | N150: znížená | P150: =O150*H150 -> 0 | Q150: 0 | R150: =Q150*H150 -> 0 | S150: 0 | T150: =S150*H150 -> 0 | AR150: 4 | AT150: K | AU150: 2 | AY150: ROZPOCET | BE150: =IF(N150="základná",J150,0) -> 0 | BF150: =IF(N150="znížená",J150,0) -> 0 | BG150: =IF(N150="zákl. prenesená",J150,0) -> 0 | BH150: =IF(N150="zníž. prenesená",J150,0) -> 0 | BI150: =IF(N150="nulová",J150,0) -> 0 | BJ150: 2 | BK150: =ROUND(I150*H150,3) -> 0 | BL150: 4 | BM150: -156509759
C151: 19 | D151: M | E151: k1 | F151: Amelanchier lamarckii (muchovník lamarkov), v 80/100, K 2l | G151: ks | H151: 5 | J151: =ROUND(I151*H151,3) -> 0 | N151: znížená | P151: =O151*H151 -> 0 | Q151: 0.1 | R151: =Q151*H151 -> 0.5 | S151: 0 | T151: =S151*H151 -> 0 | AR151: 8 | AT151: M | AU151: 2 | AY151: ROZPOCET | BE151: =IF(N151="základná",J151,0) -> 0 | BF151: =IF(N151="znížená",J151,0) -> 0 | BG151: =IF(N151="zákl. prenesená",J151,0) -> 0 | BH151: =IF(N151="zníž. prenesená",J151,0) -> 0 | BI151: =IF(N151="nulová",J151,0) -> 0 | BJ151: 2 | BK151: =ROUND(I151*H151,3) -> 0 | BL151: 4 | BM151: -428622295
C152: 20 | D152: M | E152: 5812532000 | F152: Záhradnícky substrát voľne ložený | G152: m3 | H152: 0.25 | J152: =ROUND(I152*H152,3) -> 0 | N152: znížená | P152: =O152*H152 -> 0 | Q152: 0.77 | R152: =Q152*H152 -> 0.1925 | S152: 0 | T152: =S152*H152 -> 0 | AR152: 8 | AT152: M | AU152: 2 | AY152: ROZPOCET | BE152: =IF(N152="základná",J152,0) -> 0 | BF152: =IF(N152="znížená",J152,0) -> 0 | BG152: =IF(N152="zákl. prenesená",J152,0) -> 0 | BH152: =IF(N152="zníž. prenesená",J152,0) -> 0 | BI152: =IF(N152="nulová",J152,0) -> 0 | BJ152: 2 | BK152: =ROUND(I152*H152,3) -> 0 | BL152: 4 | BM152: -1482430178
D153: VV | F153: 5*0,05 | H153: 0.25 | AT153: VV | AU153: 2 | AV153: 2 | AW153: True | AX153: 1 | AY153: ROZPOCET
C154: 21 | D154: K | E154: 185802114 | F154: Hnojenie pôdy v rovine alebo na svahu do 1:5 umelým hnojivom | G154: t | H154: 0.01 | J154: =ROUND(I154*H154,3) -> 0 | N154: znížená | P154: =O154*H154 -> 0 | Q154: 0 | R154: =Q154*H154 -> 0 | S154: 0 | T154: =S154*H154 -> 0 | AR154: 4 | AT154: K | AU154: 2 | AY154: ROZPOCET | BE154: =IF(N154="základná",J154,0) -> 0 | BF154: =IF(N154="znížená",J154,0) -> 0 | BG154: =IF(N154="zákl. prenesená",J154,0) -> 0 | BH154: =IF(N154="zníž. prenesená",J154,0) -> 0 | BI154: =IF(N154="nulová",J154,0) -> 0 | BJ154: 2 | BK154: =ROUND(I154*H154,3) -> 0 | BL154: 4 | BM154: -558457108
C155: 22 | D155: M | E155: 251910000100 | F155: Hnojivo tabletové Silvamix 4x10g | G155: t | H155: 0.01 | J155: =ROUND(I155*H155,3) -> 0 | N155: znížená | P155: =O155*H155 -> 0 | Q155: 1 | R155: =Q155*H155 -> 0.01 | S155: 0 | T155: =S155*H155 -> 0 | AR155: 8 | AT155: M | AU155: 2 | AY155: ROZPOCET | BE155: =IF(N155="základná",J155,0) -> 0 | BF155: =IF(N155="znížená",J155,0) -> 0 | BG155: =IF(N155="zákl. prenesená",J155,0) -> 0 | BH155: =IF(N155="zníž. prenesená",J155,0) -> 0 | BI155: =IF(N155="nulová",J155,0) -> 0 | BJ155: 2 | BK155: =ROUND(I155*H155,3) -> 0 | BL155: 4 | BM155: 654763121
C156: 23 | D156: K | E156: 185804311 | F156: Zaliatie rastlín vodou, plochy jednotlivo do 20 m2 | G156: m3 | H156: 0.1 | J156: =ROUND(I156*H156,3) -> 0 | N156: znížená | P156: =O156*H156 -> 0 | Q156: 0 | R156: =Q156*H156 -> 0 | S156: 0 | T156: =S156*H156 -> 0 | AR156: 4 | AT156: K | AU156: 2 | AY156: ROZPOCET | BE156: =IF(N156="základná",J156,0) -> 0 | BF156: =IF(N156="znížená",J156,0) -> 0 | BG156: =IF(N156="zákl. prenesená",J156,0) -> 0 | BH156: =IF(N156="zníž. prenesená",J156,0) -> 0 | BI156: =IF(N156="nulová",J156,0) -> 0 | BJ156: 2 | BK156: =ROUND(I156*H156,3) -> 0 | BL156: 4 | BM156: 1493207713
D157: VV | F157: 5*20/1000 | H157: 0.1 | AT157: VV | AU157: 2 | AV157: 2 | AW157: True | AX157: 1 | AY157: ROZPOCET
C158: 24 | D158: K | E158: 185851111 | F158: Dovoz vody pre zálievku rastlín na vzdialenosť do 6000 m | G158: m3 | H158: 0.1 | J158: =ROUND(I158*H158,3) -> 0 | N158: znížená | P158: =O158*H158 -> 0 | Q158: 0 | R158: =Q158*H158 -> 0 | S158: 0 | T158: =S158*H158 -> 0 | AR158: 4 | AT158: K | AU158: 2 | AY158: ROZPOCET | BE158: =IF(N158="základná",J158,0) -> 0 | BF158: =IF(N158="znížená",J158,0) -> 0 | BG158: =IF(N158="zákl. prenesená",J158,0) -> 0 | BH158: =IF(N158="zníž. prenesená",J158,0) -> 0 | BI158: =IF(N158="nulová",J158,0) -> 0 | BJ158: 2 | BK158: =ROUND(I158*H158,3) -> 0 | BL158: 4 | BM158: -1730312683
D159: D | E159: 4. | F159: Výsadba záhonov | J159: =BK159 -> 0 | P159: =SUM(P160:P203) -> 0 | R159: =SUM(R160:R203) -> 10.2 | T159: =SUM(T160:T203) -> 0 | AR159: 1 | AT159: D | AU159: 1 | AY159: ROZPOCET | BK159: =SUM(BK160:BK203) -> 0
C160: 25 | D160: K | E160: 183205111 | F160: Založenie záhonu v rovine alebo na svahu do 1:5 v hornine 1 až 2 | G160: m2 | H160: 102 | J160: =ROUND(I160*H160,3) -> 0 | N160: znížená | P160: =O160*H160 -> 0 | Q160: 0 | R160: =Q160*H160 -> 0 | S160: 0 | T160: =S160*H160 -> 0 | AR160: 4 | AT160: K | AU160: 2 | AY160: ROZPOCET | BE160: =IF(N160="základná",J160,0) -> 0 | BF160: =IF(N160="znížená",J160,0) -> 0 | BG160: =IF(N160="zákl. prenesená",J160,0) -> 0 | BH160: =IF(N160="zníž. prenesená",J160,0) -> 0 | BI160: =IF(N160="nulová",J160,0) -> 0 | BJ160: 2 | BK160: =ROUND(I160*H160,3) -> 0 | BL160: 4 | BM160: -2064202524
C161: 26 | D161: K | E161: 18340311 | F161: Obrobenie pôdy prekopaním do hĺbky nad 50 do 100 mm v rovine alebo na svahu do 1:5 | G161: m2 | H161: 102 | J161: =ROUND(I161*H161,3) -> 0 | N161: znížená | P161: =O161*H161 -> 0 | Q161: 0 | R161: =Q161*H161 -> 0 | S161: 0 | T161: =S161*H161 -> 0 | AR161: 4 | AT161: K | AU161: 2 | AY161: ROZPOCET | BE161: =IF(N161="základná",J161,0) -> 0 | BF161: =IF(N161="znížená",J161,0) -> 0 | BG161: =IF(N161="zákl. prenesená",J161,0) -> 0 | BH161: =IF(N161="zníž. prenesená",J161,0) -> 0 | BI161: =IF(N161="nulová",J161,0) -> 0 | BJ161: 2 | BK161: =ROUND(I161*H161,3) -> 0 | BL161: 4 | BM161: -1660962946
C162: 27 | D162: K | E162: 183403153.z | F162: Obrobenie pôdy hrabaním v rovine alebo na svahu do 1:5, 2x | G162: m2 | H162: 204 | J162: =ROUND(I162*H162,3) -> 0 | N162: znížená | P162: =O162*H162 -> 0 | Q162: 0 | R162: =Q162*H162 -> 0 | S162: 0 | T162: =S162*H162 -> 0 | AR162: 4 | AT162: K | AU162: 2 | AY162: ROZPOCET | BE162: =IF(N162="základná",J162,0) -> 0 | BF162: =IF(N162="znížená",J162,0) -> 0 | BG162: =IF(N162="zákl. prenesená",J162,0) -> 0 | BH162: =IF(N162="zníž. prenesená",J162,0) -> 0 | BI162: =IF(N162="nulová",J162,0) -> 0 | BJ162: 2 | BK162: =ROUND(I162*H162,3) -> 0 | BL162: 4 | BM162: 2068503549
D163: VV | F163: 2*102 | H163: 204 | AT163: VV | AU163: 2 | AV163: 2 | AW163: True | AX163: 1 | AY163: ROZPOCET
C164: 28 | D164: K | E164: 183101112 | F164: Hĺbenie jamky v rovine alebo na svahu do 1:5, objem nad 0,01 do 0,02 m3 | G164: ks | H164: 535 | J164: =ROUND(I164*H164,3) -> 0 | N164: znížená | P164: =O164*H164 -> 0 | Q164: 0 | R164: =Q164*H164 -> 0 | S164: 0 | T164: =S164*H164 -> 0 | AR164: 4 | AT164: K | AU164: 2 | AY164: ROZPOCET | BE164: =IF(N164="základná",J164,0) -> 0 | BF164: =IF(N164="znížená",J164,0) -> 0 | BG164: =IF(N164="zákl. prenesená",J164,0) -> 0 | BH164: =IF(N164="zníž. prenesená",J164,0) -> 0 | BI164: =IF(N164="nulová",J164,0) -> 0 | BJ164: 2 | BK164: =ROUND(I164*H164,3) -> 0 | BL164: 4 | BM164: -1764493387
C165: 29 | D165: K | E165: 183204112 | F165: Výsadba kvetín do pripravovanej pôdy so zaliatím s jednoduchými koreňami trvaliek | G165: ks | H165: 535 | J165: =ROUND(I165*H165,3) -> 0 | N165: znížená | P165: =O165*H165 -> 0 | Q165: 0 | R165: =Q165*H165 -> 0 | S165: 0 | T165: =S165*H165 -> 0 | AR165: 4 | AT165: K | AU165: 2 | AY165: ROZPOCET | BE165: =IF(N165="základná",J165,0) -> 0 | BF165: =IF(N165="znížená",J165,0) -> 0 | BG165: =IF(N165="zákl. prenesená",J165,0) -> 0 | BH165: =IF(N165="zníž. prenesená",J165,0) -> 0 | BI165: =IF(N165="nulová",J165,0) -> 0 | BJ165: 2 | BK165: =ROUND(I165*H165,3) -> 0 | BL165: 4 | BM165: -230680913
C166: 30 | D166: M | E166: T1.1 | F166: Allium schoenoprasum | G166: ks | H166: 25 | J166: =ROUND(I166*H166,3) -> 0 | N166: znížená | P166: =O166*H166 -> 0 | Q166: 0 | R166: =Q166*H166 -> 0 | S166: 0 | T166: =S166*H166 -> 0 | AR166: 8 | AT166: M | AU166: 2 | AY166: ROZPOCET | BE166: =IF(N166="základná",J166,0) -> 0 | BF166: =IF(N166="znížená",J166,0) -> 0 | BG166: =IF(N166="zákl. prenesená",J166,0) -> 0 | BH166: =IF(N166="zníž. prenesená",J166,0) -> 0 | BI166: =IF(N166="nulová",J166,0) -> 0 | BJ166: 2 | BK166: =ROUND(I166*H166,3) -> 0 | BL166: 4 | BM166: -604960694
...

Sheet 03-SO3 Komunikácie parčík
A1: ZADANIE S VÝKAZOM VÝMER
A2: Stavba: Oddychová zóna v areáli ŠD UKF Zobor
A3: Objekt: SO 3 Komunikácie - parčík
A5: JKSO: | H5: Dátum:
A7: P.Č. | B7: KCN | C7: Kód položky | D7: Popis | E7: MJ | F7: Množstvo celkom | G7: Jednotková cena zadania | H7: Celková cena zadania
A8: 1 | B8: 2 | C8: 3 | D8: 4 | E8: 5 | F8: 6 | G8: 7 | H8: 8
C10: HSV | D10: Práce a dodávky HSV
C11: 1 | D11: Zemné práce
A12: 1 | B12: 221 | C12: 113107141 | D12: Odstránenie krytu v ploche do 200 m2 asfaltového, hr. vrstvy do 50 mm, -0,09800t | E12: m2 | F12: 16
A13: 2 | B13: 221 | C13: 113206111 | D13: Vytrhanie obrúb betónových, s vybúraním lôžka, z krajníkov alebo obrubníkov stojatých, -0,14500t | E13: m | F13: 18
A14: 3 | B14: 221 | C14: 113307122 | D14: Odstránenie podkladu v ploche do 200 m2 z kameniva hrubého drveného, hr.100 do 200 mm, -0,23500t | E14: m2 | F14: 16
D15: "jest. asf. chodník" 16,0 | F15: 16
A16: 4 | B16: 221 | C16: 113307132 | D16: Odstránenie podkladu v ploche do 200 m2 z betónu prostého, hr. vrstvy 150 do 300 mm, -0,50000t | E16: m2 | F16: 16
A17: 5 | B17: 001 | C17: 131101101 | D17: Výkop nezapaženej jamy v hornine 1-2, do 100 m3 | E17: m3 | F17: 82
D18: "podľa PD výkopy" 82,0 | F18: 82
A19: 6 | B19: 001 | C19: 162201102 | D19: Vodorovné premiestnenie výkopku z horniny 1-4 nad 20-50m | E19: m3 | F19: 10
D20: "pre násyp z výkop. zeminy na medziskl. a späť" 5,0*2 | F20: 10
A21: 7 | B21: 001 | C21: 162301101 | D21: Vodorovné premiestnenie výkopku po spevnenej ceste z horniny tr.1-4 v množstve do 100 m3 na vzdialenosť do 500 m | E21: m3 | F21: 77
D22: "výkopová zemina - násypy" 82,0-5,0 | F22: 77
A23: 8 | B23: 001 | C23: 167101101 | D23: Nakladanie neuľahnutého výkopku z hornín tr.1-4 do 100 m3 | E23: m3 | F23: 5
A24: 9 | B24: 001 | C24: 171101103 | D24: Uloženie sypaniny do násypu súdržnej horniny s mierou zhutnenia nad 96 do 100 % podľa Proctor-Standard | E24: m3 | F24: 5
D25: "podľa PD násypy" 5,0 | F25: 5
A26: 10 | B26: 001 | C26: 171201101 | D26: Uloženie sypaniny do násypov s rozprestretím sypaniny vo vrstvách a s hrubým urovnaním nezhutnených | E26: m3 | F26: 77
D27: "prebytočná zemina" 82,0-5,0 | F27: 77
C28: 5 | D28: Komunikácie
A29: 11 | B29: 231 | C29: 183403161 | D29: Valcovanie v rovine alebo na svahu do 1:5 | E29: m2 | F29: 480
D30: " mlatový chodník- každú vrstvu hr. 40 a 60 mm -3x " 80*2*3 | F30: 480
A31: 12 | B31: 221 | C31: 561121111 | D31: Zhotovenie krytu -mlatový chodník z drveného kameniva hr.40+60 mm | E31: m2 | F31: 160
D32: "mlatový chodník" 80,0*2 | F32: 160
A33: 13 | B33: 583 | C33: 5833155100 | D33: Kamenivo ťažené drobné fr. 0-4 mm | E33: t | F33: 5.76
D34: "mlatový chodník kamenivo hr. 40 mm" 80,0*0,04*1,8 | F34: 5.76
A35: 14 | B35: 583 | C35: 5834331200 | D35: Kamenivo drvené fr. 0-16 mm | E35: t | F35: 8.64
D36: "mlatový chodník kamenivo hr. 60 mm" 80,0*0,06*1,8 | F36: 8.64
A37: 15 | B37: 221 | C37: 564661115 | D37: Podklad z kameniva hrubého drveného veľ. 0-63 mm s rozprestretím a zhutnením po zhutnení hr.240 mm | E37: m2 | F37: 88
D38: "mlatový chodník" 80,0*1,1 | F38: 88
A39: 16 | B39: 221 | C39: 564671111 | D39: Podklad z kameniva hrubého drveného veľ.0-63 mm s rozprestrením a zhutnením, po zhutneni hr.250 mm | E39: m2 | F39: 141.9
D40: "bet. dlažba, chodník" 129,0*1,1 | F40: 141.9
A41: 17 | B41: 221 | C41: 596911112 | D41: Kladenie zámkovej dlažby hr.6cm pre peších vrátane lôžka z kameniva fr, 0-4 mm hr. 30 mm | E41: m2 | F41: 129
A42: 18 | B42: 592 | C42: 5921953430 | D42: Dlažba betónová hr. 6 cm sivá | E42: m2 | F42: 130.29
D43: 129 * 1,01 | F43: 130.29
C44: 9 | D44: Ostatné konštrukcie a práce-búranie
A45: 19 | B45: 221 | C45: 916561111 | D45: Osadenie parkového obrubníka bet. a deliacej lišty do lôžka z bet. pros. tr. C 10/12,5 s bočnou oporou | E45: m | F45: 148
D46: "parkový " 148,0 | F46: 148
A47: 20 | B47: 592 | C47: 5921954590 | D47: Obrubník parkový sivý 50x20x5 cm | E47: ks | F47: 298.96
D48: 148 * 2,02 | F48: 298.96
A49: 21 | B49: 221 | C49: 917862111 | D49: Osadenie chodník. obrub. betón. stojatého s bočnou oporou z betónu prostého tr. C 10/12, 5 do lôžka | E49: m | F49: 6
D50: " obrubník rovný " 6,0 | F50: 6
A51: 22 | B51: 592 | C51: 5921954390 | D51: Obrubník cestný rovný 100x26x15 cm | E51: ks | F51: 6.06
D52: 6 * 1,01 | F52: 6.06
A53: 23 | B53: 221 | C53: 918101111 | D53: Lôžko pod obrub., krajníky alebo obruby z dlažob. kociek z betónu prostého tr. C 10/12,5 | E53: m3 | F53: 3.768
D54: " cestný obrubník + parkový" 6*0,3*0,12+148*0,2*0,12 | F54: 3.768
A55: 24 | B55: 221 | C55: 919721212 | D55: Škáry v kryte vyplnené asfaltovou zálievkou | E55: m | F55: 11
A56: 25 | B56: 245 | C56: 24511171610 | D56: Asfaltové tesniace pásky 40x4 mm | E56: m | F56: 12.1
D57: "prac. škára "11,0 | F57: 11
A58: 26 | B58: 221 | C58: 919731114 | D58: Zarovnanie styčnej plochy k jest. časti komunikácie | E58: m | F58: 11
A59: 27 | B59: 221 | C59: 919735111 | D59: Rezanie existujúceho asfaltového krytu alebo podkladu hĺbky do 50 mm | E59: m | F59: 11
A60: 28 | B60: 221 | C60: 919795111 | D60: Montáž fólie separačnej, drenažnej a pod. | E60: m2 | F60: 209
D61: "mlatový chod.+ bet. chod. - geotextília proti prerastaniu" 129,0+80 | F61: 209
A62: 29 | B62: 693 | C62: 693665601.1 | D62: Textília proti prerastaniu koreňov burín | E62: m2 | F62: 229.9
D63: 209 * 1,1 | F63: 229.9
A64: 30 | B64: 221 | C64: 979082213 | D64: Vodorovná doprava sutiny so zložením a hrubým urovnaním na vzdialenosť do 1 km | E64: t | F64: 15.938
A65: 31 | B65: 221 | C65: 979082219 | D65: Príplatok k cene za každý ďalší aj začatý 1 km nad 1 km | E65: t | F65: 79.69
A66: 32 | B66: 221 | C66: 979087212 | D66: Nakladanie na dopravné prostriedky pre vodorovnú dopravu sutiny | E66: t | F66: 15.938
A67: 33 | B67: 013 | C67: 97908901.3 | D67: Zákonný poplatok obci | E67: t | F67: 15.938
A68: 34 | B68: 013 | C68: 979089012 | D68: Poplatok za skladovanie, ostatné | E68: t | F68: 14.37
D69: " cel. tonáž - tonáž pol. č. 1 " 15,938-1,568 | F69: 14.37
A70: 35 | B70: 013 | C70: 979089211 | D70: Poplatok za skladovanie - bitúmenové zmesi, uhoľný decht, dechtové výrobky (17 03), nebezpečné | E70: t | F70: 1.568
D71: " tonáž pol. č. 1 " 1,568 | F71: 1.568
C72: 99 | D72: Presun hmôt HSV
A73: 36 | B73: 221 | C73: 998223011 | D73: Presun hmôt pre pozemné komunikácie s krytom dláždeným (822 2.3, 822 5.3) akejkoľvek dĺžky objektu | E73: t | F73: 183.439
D74: Celkom

Sheet 04 - E S04 - Architektúra...
L2: >> skryté stĺpce << | AT2: {5cad0a15-933a-458a-9613-66e6fe30679e}
AT3: 0
D4: KRYCÍ LIST ROZPOČTU | M4: v --- nižšie sa nachádzajú doplnkové a pomocné údaje k zostavám --- v | AT4: False
D6: Stavba:
E7: ='[2]Rekapitulácia stavby'!K6 -> Oddychová zóna v areáli ŠD UKF Zobor
D8: Objekt:
E9: SO 4 - Architektúra - mobiliár
D11: JKSO: | I11: KS:
D12: Miesto: | F12: Nitra | I12: Dátum: | J12: ='[2]Rekapitulácia stavby'!AN8 -> 25. 2. 2021
D14: Objednávateľ: | I14: IČO: | J14: =IF('[2]Rekapitulácia stavby'!AN10="","",'[2]Rekapitulácia stavby'!AN10)
E15: =IF('[2]Rekapitulácia stavby'!E11="","",'[2]Rekapitulácia stavby'!E11) | I15: IČ DPH: | J15: =IF('[2]Rekapitulácia stavby'!AN11="","",'[2]Rekapitulácia stavby'!AN11)
D17: Zhotoviteľ: | I17: IČO: | J17: ='[2]Rekapitulácia stavby'!AN13 -> Vyplň údaj
E18: ='[2]Rekapitulácia stavby'!E14 -> Vyplň údaj | I18: IČ DPH: | J18: ='[2]Rekapitulácia stavby'!AN14 -> Vyplň údaj
D20: Projektant: | I20: IČO:
E21: Rudbeckia | I21: IČ DPH:
D23: Spracovateľ: | I23: IČO: | J23: =IF('[2]Rekapitulácia stavby'!AN19="","",'[2]Rekapitulácia stavby'!AN19)
E24: =IF('[2]Rekapitulácia stavby'!E20="","",'[2]Rekapitulácia stavby'!E20) | I24: IČ DPH: | J24: =IF('[2]Rekapitulácia stavby'!AN20="","",'[2]Rekapitulácia stavby'!AN20)
D26: Poznámka:
D30: Cena bez DPH | J30: =ROUND(J119, 2) -> 0
F32: Základ dane | I32: Sadzba dane | J32: Výška dane
D33: DPH | E33: základná | F33: =ROUND((SUM(BE119:BE149)), 2) -> 0 | I33: 0.2 | J33: =ROUND(((SUM(BE119:BE149))*I33), 2) -> 0
E34: znížená | F34: =ROUND((SUM(BF119:BF149)), 2) -> 0 | I34: 0.2 | J34: =ROUND(((SUM(BF119:BF149))*I34), 2) -> 0
E35: zákl. prenesená | F35: =ROUND((SUM(BG119:BG149)), 2) -> 0 | I35: 0.2 | J35: =0 -> 0
E36: zníž. prenesená | F36: =ROUND((SUM(BH119:BH149)), 2) -> 0 | I36: 0.2 | J36: =0 -> 0
E37: nulová | F37: =ROUND((SUM(BI119:BI149)), 2) -> 0 | I37: 0 | J37: =0 -> 0
D39: Cena s DPH | G39: v | H39: EUR | J39: =SUM(J30:J37) -> 0
D50: Projektant | G50: Spracovateľ
D61: Dátum a podpis: | F61: Pečiatka | G61: Dátum a podpis: | J61: Pečiatka
D65: Objednávateľ | G65: Zhotoviteľ
D76: Dátum a podpis: | F76: Pečiatka | G76: Dátum a podpis: | J76: Pečiatka
C82: REKAPITULÁCIA ROZPOČTU
C84: Stavba:
E85: =E7 -> Oddychová zóna v areáli ŠD UKF Zobor
C86: Objekt:
E87: =E9 -> SO 4 - Architektúra - mobiliár
C89: Miesto: | F89: =F12 -> Nitra | I89: Dátum: | J89: =IF(J12="","",J12) -> 25. 2. 2021
C91: Objednávateľ: | F91: =E15 | I91: Projektant: | J91: =E21 -> Rudbeckia
C92: Zhotoviteľ: | F92: =IF(E18="","",E18) -> Vyplň údaj | I92: Spracovateľ: | J92: =E24
C94: Kód dielu - Popis | J94: Cena celkom [EUR]
C96: Náklady z rozpočtu | J96: =J119 -> 0 | AU96: -1
D97: HSV - HSV | J97: =J120 -> 0
D98: 1. - Prvky mobiliáru | J98: =J121 -> 0
D99: 2. - Ostatné práce | J99: =J146 -> 0
C106: ROZPOČET
C108: Stavba:
E109: =E7 -> Oddychová zóna v areáli ŠD UKF Zobor
C110: Objekt:
E111: =E9 -> SO 4 - Architektúra - mobiliár
C113: Miesto: | F113: =F12 -> Nitra | I113: Dátum:
C115: Objednávateľ: | F115: =E15 | I115: Projektant:
C116: Zhotoviteľ: | F116: =IF(E18="","",E18) -> Vyplň údaj | I116: Spracovateľ: | J116: =E24
C118: PČ | D118: Typ | E118: Kód | F118: Popis | G118: MJ | H118: Množstvo | I118: J.cena [EUR] | J118: Cena celkom [EUR] | K118: Cenová sústava | N118: DPH | O118: J. Nh [h] | P118: Nh celkom [h] | Q118: J. hmotnosť [t] | R118: Hmotnosť celkom [t] | S118: J. suť [t] | T118: Suť Celkom [t]
C119: Náklady z rozpočtu | J119: =BK119 -> 0 | P119: =P120 -> 0 | R119: =R120 -> 0 | T119: =T120 -> 0 | AT119: D | AU119: -1 | BK119: =BK120 -> 0
D120: D | E120: HSV | F120: HSV | J120: =BK120 -> 0 | P120: =P121+P146 -> 0 | R120: =R121+R146 -> 0 | T120: =T121+T146 -> 0 | AR120: 1 | AT120: D | AU120: 0 | AY120: ROZPOCET | BK120: =BK121+BK146 -> 0
D121: D | E121: 1. | F121: Prvky mobiliáru | J121: =BK121 -> 0 | P121: =SUM(P122:P145) -> 0 | R121: =SUM(R122:R145) -> 0 | T121: =SUM(T122:T145) -> 0 | AR121: 1 | AT121: D | AU121: 1 | AY121: ROZPOCET | BK121: =SUM(BK122:BK145) -> 0
C122: 1 | D122: M | E122: 1.1 | F122: Lavička s operadlom Radioum LRA160r | G122: ks | H122: 3 | J122: =ROUND(I122*H122,3) -> 0 | P122: =O122*H122 -> 0 | Q122: 0 | R122: =Q122*H122 -> 0 | S122: 0 | T122: =S122*H122 -> 0 | AR122: 8 | AT122: M | AU122: 2 | AY122: ROZPOCET | BE122: =IF(N122="základná",J122,0) -> 0 | BF122: =IF(N122="znížená",J122,0) -> 0 | BG122: =IF(N122="zákl. prenesená",J122,0) -> 0 | BH122: =IF(N122="zníž. prenesená",J122,0) -> 0 | BI122: =IF(N122="nulová",J122,0) -> 0 | BJ122: 2 | BK122: =ROUND(I122*H122,3) -> 0 | BL122: 4 | BM122: 463640679
C123: 2 | D123: M | E123: 1a | F123: Lavička s operadlom, montáž | G123: ks | H123: 3 | J123: =ROUND(I123*H123,3) -> 0 | P123: =O123*H123 -> 0 | Q123: 0 | R123: =Q123*H123 -> 0 | S123: 0 | T123: =S123*H123 -> 0 | AR123: 8 | AT123: M | AU123: 2 | AY123: ROZPOCET | BE123: =IF(N123="základná",J123,0) -> 0 | BF123: =IF(N123="znížená",J123,0) -> 0 | BG123: =IF(N123="zákl. prenesená",J123,0) -> 0 | BH123: =IF(N123="zníž. prenesená",J123,0) -> 0 | BI123: =IF(N123="nulová",J123,0) -> 0 | BJ123: 2 | BK123: =ROUND(I123*H123,3) -> 0 | BL123: 4 | BM123: -1669001328
C124: 3 | D124: M | E124: 1b | F124: Lavička s operadlom, spodná stavba | G124: ks | H124: 3 | J124: =ROUND(I124*H124,3) -> 0 | P124: =O124*H124 -> 0 | Q124: 0 | R124: =Q124*H124 -> 0 | S124: 0 | T124: =S124*H124 -> 0 | AR124: 8 | AT124: M | AU124: 2 | AY124: ROZPOCET | BE124: =IF(N124="základná",J124,0) -> 0 | BF124: =IF(N124="znížená",J124,0) -> 0 | BG124: =IF(N124="zákl. prenesená",J124,0) -> 0 | BH124: =IF(N124="zníž. prenesená",J124,0) -> 0 | BI124: =IF(N124="nulová",J124,0) -> 0 | BJ124: 2 | BK124: =ROUND(I124*H124,3) -> 0 | BL124: 4 | BM124: 1658629056
C125: 4 | D125: M | E125: 2.1 | F125: Lavička bez operadla Radium LRA130r | G125: ks | H125: 4 | J125: =ROUND(I125*H125,3) -> 0 | P125: =O125*H125 -> 0 | Q125: 0 | R125: =Q125*H125 -> 0 | S125: 0 | T125: =S125*H125 -> 0 | AR125: 8 | AT125: M | AU125: 2 | AY125: ROZPOCET | BE125: =IF(N125="základná",J125,0) -> 0 | BF125: =IF(N125="znížená",J125,0) -> 0 | BG125: =IF(N125="zákl. prenesená",J125,0) -> 0 | BH125: =IF(N125="zníž. prenesená",J125,0) -> 0 | BI125: =IF(N125="nulová",J125,0) -> 0 | BJ125: 2 | BK125: =ROUND(I125*H125,3) -> 0 | BL125: 4 | BM125: -143882128
C126: 5 | D126: M | E126: 2a | F126: Lavička bez operadla, montáž | G126: ks | H126: 4 | J126: =ROUND(I126*H126,3) -> 0 | P126: =O126*H126 -> 0 | Q126: 0 | R126: =Q126*H126 -> 0 | S126: 0 | T126: =S126*H126 -> 0 | AR126: 8 | AT126: M | AU126: 2 | AY126: ROZPOCET | BE126: =IF(N126="základná",J126,0) -> 0 | BF126: =IF(N126="znížená",J126,0) -> 0 | BG126: =IF(N126="zákl. prenesená",J126,0) -> 0 | BH126: =IF(N126="zníž. prenesená",J126,0) -> 0 | BI126: =IF(N126="nulová",J126,0) -> 0 | BJ126: 2 | BK126: =ROUND(I126*H126,3) -> 0 | BL126: 4 | BM126: 245413359
C127: 6 | D127: M | E127: 2b | F127: Lavička bez operadla, spodná stavba | G127: ks | H127: 4 | J127: =ROUND(I127*H127,3) -> 0 | P127: =O127*H127 -> 0 | Q127: 0 | R127: =Q127*H127 -> 0 | S127: 0 | T127: =S127*H127 -> 0 | AR127: 8 | AT127: M | AU127: 2 | AY127: ROZPOCET | BE127: =IF(N127="základná",J127,0) -> 0 | BF127: =IF(N127="znížená",J127,0) -> 0 | BG127: =IF(N127="zákl. prenesená",J127,0) -> 0 | BH127: =IF(N127="zníž. prenesená",J127,0) -> 0 | BI127: =IF(N127="nulová",J127,0) -> 0 | BJ127: 2 | BK127: =ROUND(I127*H127,3) -> 0 | BL127: 4 | BM127: 1154204274
C128: 7 | D128: M | E128: 3.1 | F128: Lavička kocka Radium LRA115b | G128: ks | H128: 6 | J128: =ROUND(I128*H128,3) -> 0 | P128: =O128*H128 -> 0 | Q128: 0 | R128: =Q128*H128 -> 0 | S128: 0 | T128: =S128*H128 -> 0 | AR128: 8 | AT128: M | AU128: 2 | AY128: ROZPOCET | BE128: =IF(N128="základná",J128,0) -> 0 | BF128: =IF(N128="znížená",J128,0) -> 0 | BG128: =IF(N128="zákl. prenesená",J128,0) -> 0 | BH128: =IF(N128="zníž. prenesená",J128,0) -> 0 | BI128: =IF(N128="nulová",J128,0) -> 0 | BJ128: 2 | BK128: =ROUND(I128*H128,3) -> 0 | BL128: 4 | BM128: -1422967754
C129: 8 | D129: M | E129: 3a | F129: Lavička kocka, montáž | G129: ks | H129: 6 | J129: =ROUND(I129*H129,3) -> 0 | P129: =O129*H129 -> 0 | Q129: 0 | R129: =Q129*H129 -> 0 | S129: 0 | T129: =S129*H129 -> 0 | AR129: 8 | AT129: M | AU129: 2 | AY129: ROZPOCET | BE129: =IF(N129="základná",J129,0) -> 0 | BF129: =IF(N129="znížená",J129,0) -> 0 | BG129: =IF(N129="zákl. prenesená",J129,0) -> 0 | BH129: =IF(N129="zníž. prenesená",J129,0) -> 0 | BI129: =IF(N129="nulová",J129,0) -> 0 | BJ129: 2 | BK129: =ROUND(I129*H129,3) -> 0 | BL129: 4 | BM129: -1610680085
C130: 9 | D130: M | E130: 3b | F130: Lavička kocka, spodná stavba | G130: ks | H130: 6 | J130: =ROUND(I130*H130,3) -> 0 | P130: =O130*H130 -> 0 | Q130: 0 | R130: =Q130*H130 -> 0 | S130: 0 | T130: =S130*H130 -> 0 | AR130: 8 | AT130: M | AU130: 2 | AY130: ROZPOCET | BE130: =IF(N130="základná",J130,0) -> 0 | BF130: =IF(N130="znížená",J130,0) -> 0 | BG130: =IF(N130="zákl. prenesená",J130,0) -> 0 | BH130: =IF(N130="zníž. prenesená",J130,0) -> 0 | BI130: =IF(N130="nulová",J130,0) -> 0 | BJ130: 2 | BK130: =ROUND(I130*H130,3) -> 0 | BL130: 4 | BM130: 1335906210
C131: 10 | D131: M | E131: 4.1 | F131: Piknikový stôl s lavičkami Blocq LBQ962b | G131: ks | H131: 2 | J131: =ROUND(I131*H131,3) -> 0 | P131: =O131*H131 -> 0 | Q131: 0 | R131: =Q131*H131 -> 0 | S131: 0 | T131: =S131*H131 -> 0 | AR131: 8 | AT131: M | AU131: 2 | AY131: ROZPOCET | BE131: =IF(N131="základná",J131,0) -> 0 | BF131: =IF(N131="znížená",J131,0) -> 0 | BG131: =IF(N131="zákl. prenesená",J131,0) -> 0 | BH131: =IF(N131="zníž. prenesená",J131,0) -> 0 | BI131: =IF(N131="nulová",J131,0) -> 0 | BJ131: 2 | BK131: =ROUND(I131*H131,3) -> 0 | BL131: 4 | BM131: -708461702
C132: 11 | D132: M | E132: 4a | F132: Piknikový stôl s lavičkami, montáž | G132: ks | H132: 2 | J132: =ROUND(I132*H132,3) -> 0 | P132: =O132*H132 -> 0 | Q132: 0 | R132: =Q132*H132 -> 0 | S132: 0 | T132: =S132*H132 -> 0 | AR132: 8 | AT132: M | AU132: 2 | AY132: ROZPOCET | BE132: =IF(N132="základná",J132,0) -> 0 | BF132: =IF(N132="znížená",J132,0) -> 0 | BG132: =IF(N132="zákl. prenesená",J132,0) -> 0 | BH132: =IF(N132="zníž. prenesená",J132,0) -> 0 | BI132: =IF(N132="nulová",J132,0) -> 0 | BJ132: 2 | BK132: =ROUND(I132*H132,3) -> 0 | BL132: 4 | BM132: -1061166671
C133: 12 | D133: M | E133: 4b | F133: Piknikový stôl s lavičkami, spodná stavba | G133: ks | H133: 2 | J133: =ROUND(I133*H133,3) -> 0 | P133: =O133*H133 -> 0 | Q133: 0 | R133: =Q133*H133 -> 0 | S133: 0 | T133: =S133*H133 -> 0 | AR133: 8 | AT133: M | AU133: 2 | AY133: ROZPOCET | BE133: =IF(N133="základná",J133,0) -> 0 | BF133: =IF(N133="znížená",J133,0) -> 0 | BG133: =IF(N133="zákl. prenesená",J133,0) -> 0 | BH133: =IF(N133="zníž. prenesená",J133,0) -> 0 | BI133: =IF(N133="nulová",J133,0) -> 0 | BJ133: 2 | BK133: =ROUND(I133*H133,3) -> 0 | BL133: 4 | BM133: 413444136
... C145: 24 | D145: M | E145: 9a | F145: Hydrant, montáž | G145: ks | H145: 1 | J145: =ROUND(I145*H145,3) -> 0 | P145: =O145*H145 -> 0 | Q145: 0 | R145: =Q145*H145 -> 0 | S145: 0 | T145: =S145*H145 -> 0 | AR145: 8 | AT145: M | AU145: 2 | AY145: ROZPOCET | BE145: =IF(N145="základná",J145,0) -> 0 | BF145: =IF(N145="znížená",J145,0) -> 0 | BG145: =IF(N145="zákl. prenesená",J145,0) -> 0 | BH145: =IF(N145="zníž. prenesená",J145,0) -> 0 | BI145: =IF(N145="nulová",J145,0) -> 0 | BJ145: 2 | BK145: =ROUND(I145*H145,3) -> 0 | BL145: 4 | BM145: 837907030
D146: D | E146: 2. | F146: Ostatné práce | J146: =BK146 -> 0 | P146: =SUM(P147:P149) -> 0 | R146: =SUM(R147:R149) -> 0 | T146: =SUM(T147:T149) -> 0 | AR146: 1 | AT146: D | AU146: 1 | AY146: ROZPOCET | BK146: =SUM(BK147:BK149) -> 0
C147: 25 | D147: K | E147: 3 002 | F147: Doprava tovaru na miesto | G147: súb. | H147: 1 | J147: =ROUND(I147*H147,3) -> 0 | P147: =O147*H147 -> 0 | Q147: 0 | R147: =Q147*H147 -> 0 | S147: 0 | T147: =S147*H147 -> 0 | AR147: 512 | AT147: K | AU147: 2 | AY147: ROZPOCET | BE147: =IF(N147="základná",J147,0) -> 0 | BF147: =IF(N147="znížená",J147,0) -> 0 | BG147: =IF(N147="zákl. prenesená",J147,0) -> 0 | BH147: =IF(N147="zníž. prenesená",J147,0) -> 0 | BI147: =IF(N147="nulová",J147,0) -> 0 | BJ147: 2 | BK147: =ROUND(I147*H147,3) -> 0 | BL147: 512 | BM147: 1290158208
C148: 26 | D148: K | E148: 3 003 | F148: Doprava montážnikov | G148: súb. | H148: 1 | J148: =ROUND(I148*H148,3) -> 0 | P148: =O148*H148 -> 0 | Q148: 0 | R148: =Q148*H148 -> 0 | S148: 0 | T148: =S148*H148 -> 0 | AR148: 512 | AT148: K | AU148: 2 | AY148: ROZPOCET | BE148: =IF(N148="základná",J148,0) -> 0 | BF148: =IF(N148="znížená",J148,0) -> 0 | BG148: =IF(N148="zákl. prenesená",J148,0) -> 0 | BH148: =IF(N148="zníž. prenesená",J148,0) -> 0 | BI148: =IF(N148="nulová",J148,0) -> 0 | BJ148: 2 | BK148: =ROUND(I148*H148,3) -> 0 | BL148: 512 | BM148: 71672742
C149: 27 | D149: K | E149: 3 004 | F149: Doprava montážnikov v predstihu na vybudovanie spodných stavieb | G149: súb. | H149: 1 | J149: =ROUND(I149*H149,3) -> 0 | P149: =O149*H149 -> 0 | Q149: 0 | R149: =Q149*H149 -> 0 | S149: 0 | T149: =S149*H149 -> 0 | AR149: 512 | AT149: K | AU149: 2 | AY149: ROZPOCET | BE149: =IF(N149="základná",J149,0) -> 0 | BF149: =IF(N149="znížená",J149,0) -> 0 | BG149: =IF(N149="zákl. prenesená",J149,0) -> 0 | BH149: =IF(N149="zníž. prenesená",J149,0) -> 0 | BI149: =IF(N149="nulová",J149,0) -> 0 | BJ149: 2 | BK149: =ROUND(I149*H149,3) -> 0 | BL149: 512 | BM149: -1285570362

Sheet 05 - E S05 - Prístrešok
L2: >> skryté stĺpce << | AT2: {db5d43c7-8197-4b0b-9471-f0083ef0119c}
AT3: 0
D4: KRYCÍ LIST ROZPOČTU | M4: v --- nižšie sa nachádzajú doplnkové a pomocné údaje k zostavám --- v | AT4: False
D6: Stavba:
E7: ='Rekapitulácia stavby'!K6 -> Oddychová zóna v areáli ŠD UKF Zobor
D8: Objekt:
E9: 05 - E S05 - Prístrešok
D11: JKSO: | I11: KS:
D12: Miesto: | F12: Dražovská cesta 2, Nitra | I12: Dátum:
D14: Objednávateľ: | I14: IČO:
E15: Univerzita Konštantína Filozofa v Nitre | I15: IČ DPH:
D17: Zhotoviteľ: | I17: IČO: | J17: ='Rekapitulácia stavby'!AN13 -> Vyplň údaj
E18: ='Rekapitulácia stavby'!E14 -> Vyplň údaj | I18: IČ DPH: | J18: ='Rekapitulácia stavby'!AN14 -> Vyplň údaj
D20: Projektant: | I20: IČO:
E21: Ing. Slavomír Koiš | I21: IČ DPH:
D23: Spracovateľ: | I23: IČO:
E24: V. Civáň | I24: IČ DPH:
D26: Poznámka:
D30: Cena bez DPH | J30: =ROUND(J130, 2) -> 0
F32: Základ dane | I32: Sadzba dane | J32: Výška dane
D33: DPH | E33: základná | F33: =ROUND((SUM(BE130:BE203)), 2) -> 0 | I33: 0.2 | J33: =ROUND(((SUM(BE130:BE203))*I33), 2) -> 0
E34: znížená | F34: =ROUND((SUM(BF130:BF203)), 2) -> 0 | I34: 0.2 | J34: =ROUND(((SUM(BF130:BF203))*I34), 2) -> 0
E35: zákl. prenesená | F35: =ROUND((SUM(BG130:BG203)), 2) -> 0 | I35: 0.2 | J35: =0 -> 0
E36: zníž. prenesená | F36: =ROUND((SUM(BH130:BH203)), 2) -> 0 | I36: 0.2 | J36: =0 -> 0
E37: nulová | F37: =ROUND((SUM(BI130:BI203)), 2) -> 0 | I37: 0 | J37: =0 -> 0
D39: Cena s DPH | G39: v | H39: EUR | J39: =SUM(J30:J37) -> 0
D50: Projektant | G50: Spracovateľ
D61: Dátum a podpis: | F61: Pečiatka | G61: Dátum a podpis: | J61: Pečiatka
D65: Objednávateľ | G65: Zhotoviteľ
D76: Dátum a podpis: | F76: Pečiatka | G76: Dátum a podpis: | J76: Pečiatka
C82: REKAPITULÁCIA ROZPOČTU
C84: Stavba:
E85: =E7 -> Oddychová zóna v areáli ŠD UKF Zobor
C86: Objekt:
E87: =E9 -> 05 - E S05 - Prístrešok
C89: Miesto: | F89: =F12 -> Dražovská cesta 2, Nitra | I89: Dátum: | J89: =IF(J12="","",J12)
C91: Objednávateľ: | F91: =E15 -> Univerzita Konštantína Filozofa v Nitre | I91: Projektant: | J91: =E21 -> Ing. Slavomír Koiš
C92: Zhotoviteľ: | F92: =IF(E18="","",E18) -> Vyplň údaj | I92: Spracovateľ: | J92: =E24 -> V. Civáň
C94: Kód dielu - Popis | J94: Cena celkom [EUR]
C96: Náklady z rozpočtu | J96: =J130 -> 0 | AU96: -1
D97: HSV - Práce a dodávky HSV | J97: =J131 -> 0
D98: 1 - Zemné práce | J98: =J132 -> 0
D99: 2 - Zakladanie | J99: =J135 -> 0
D100: 8 - Rozvádzač osvetlenia PD v.č. 7 - stavebná časť | J100: =J139 -> 0
D101: 9 - Ostatné konštrukcie a práce-búranie | J101: =J157 -> 0
D102: 99 - Presun hmôt HSV | J102: =J164 -> 0
D103: PSV - Práce a dodávky PSV | J103: =J166 -> 0
D104: 712 - Izolácie striech, povlakové krytiny | J104: =J167 -> 0
D105: 762 - Konštrukcie tesárske | J105: =J171 -> 0
D106: 764 - Konštrukcie klampiarske | J106: =J175 -> 0
D107: 767 - Konštrukcie doplnkové kovové | J107: =J181 -> 0
D108: M - Práce a dodávky M - Elektroinštalácia-bleskozvod | J108: =J190 -> 0
D109: 21-M - Elektromontáže | J109: =J191 -> 0
D110: 46-M - Zemné práce vykonávané pri externých montážnych prácach | J110: =J201 -> 0
C117: ROZPOČET
C119: Stavba:
E120: =E7 -> Oddychová zóna v areáli ŠD UKF Zobor
C121: Objekt:
E122: =E9 -> 05 - E S05 - Prístrešok
C124: Miesto: | F124: =F12 -> Dražovská cesta 2, Nitra | I124: Dátum: | J124: =IF(J12="","",J12)
C126: Objednávateľ: | F126: =E15 -> Univerzita Konštantína Filozofa v Nitre | I126: Projektant: | J126: =E21 -> Ing. Slavomír Koiš
C127: Zhotoviteľ: | F127: =IF(E18="","",E18) -> Vyplň údaj | I127: Spracovateľ: | J127: =E24 -> V. Civáň
C129: PČ | D129: Typ | E129: Kód | F129: Popis | G129: MJ | H129: Množstvo | I129: J.cena [EUR] | J129: Cena celkom [EUR] | K129: Cenová sústava | N129: DPH | O129: J. Nh [h] | P129: Nh celkom [h] | Q129: J. hmotnosť [t] | R129: Hmotnosť celkom [t] | S129: J. suť [t] | T129: Suť Celkom [t]
C130: Náklady z rozpočtu | J130: =BK130 -> 0 | P130: =P131+P166+P190 -> 0 | R130: =R131+R166+R190 -> 11.920254 | T130: =T131+T166+T190 -> 0 | AT130: D | AU130: -1 | BK130: =BK131+BK166+BK190 -> 0
D131: D | E131: HSV | F131: Práce a dodávky HSV | J131: =BK131 -> 0 | P131: =P132+P135+P139+P157+P164 -> 0 | R131: =R132+R135+R139+R157+R164 -> 11.194979 | T131: =T132+T135+T139+T157+T164 -> 0 | AR131: 1 | AT131: D | AU131: 0 | AY131: ROZPOCET | BK131: =BK132+BK135+BK139+BK157+BK164 -> 0
D132: D | E132: 1 | F132: Zemné práce | J132: =BK132 -> 0 | P132: =SUM(P133:P134) -> 0 | R132: =SUM(R133:R134) -> 0 | T132: =SUM(T133:T134) -> 0 | AR132: 1 | AT132: D | AU132: 1 | AY132: ROZPOCET | BK132: =SUM(BK133:BK134) -> 0
C133: 1 | D133: K | E133: 133201201.S | F133: Výkop pätiek , hornina 3 do 100 m3 | G133: m3 | H133: 3.072 | J133: =ROUND(I133*H133,2) -> 0 | N133: znížená | P133: =O133*H133 -> 0 | Q133: 0 | R133: =Q133*H133 -> 0 | S133: 0 | T133: =S133*H133 -> 0 | AR133: 4 | AT133: K | AU133: 2 | AY133: ROZPOCET | BE133: =IF(N133="základná",J133,0) -> 0 | BF133: =IF(N133="znížená",J133,0) -> 0 | BG133: =IF(N133="zákl. prenesená",J133,0) -> 0 | BH133: =IF(N133="zníž. prenesená",J133,0) -> 0 | BI133: =IF(N133="nulová",J133,0) -> 0 | BJ133: 2 | BK133: =ROUND(I133*H133,2) -> 0 | BL133: 4 | BM133: -1434994961
C134: 2 | D134: K | E134: 162201102.S | F134: Vodorovné premiestnenie výkopku z horniny 1-4 do 50m | G134: m3 | H134: 3.072 | J134: =ROUND(I134*H134,2) -> 0 | N134: znížená | P134: =O134*H134 -> 0 | Q134: 0 | R134: =Q134*H134 -> 0 | S134: 0 | T134: =S134*H134 -> 0 | AR134: 4 | AT134: K | AU134: 2 | AY134: ROZPOCET | BE134: =IF(N134="základná",J134,0) -> 0 | BF134: =IF(N134="znížená",J134,0) -> 0 | BG134: =IF(N134="zákl. prenesená",J134,0) -> 0 | BH134: =IF(N134="zníž. prenesená",J134,0) -> 0 | BI134: =IF(N134="nulová",J134,0) -> 0 | BJ134: 2 | BK134: =ROUND(I134*H134,2) -> 0 | BL134: 4 | BM134: 384477600
D135: D | E135: 2 | F135: Zakladanie | J135: =BK135 -> 0 | P135: =SUM(P136:P138) -> 0 | R135: =SUM(R136:R138) -> 10.238577 | T135: =SUM(T136:T138) -> 0 | AR135: 1 | AT135: D | AU135: 1 | AY135: ROZPOCET | BK135: =SUM(BK136:BK138) -> 0
C136: 3 | D136: K | E136: 275313612.S | F136: Betón základových pätiek, prostý tr. C 20/25 | G136: m3 | H136: 4.608 | J136: =ROUND(I136*H136,2) -> 0 | N136: znížená | P136: =O136*H136 -> 0 | Q136: 2.21513 | R136: =Q136*H136 -> 10.207319 | S136: 0 | T136: =S136*H136 -> 0 | AR136: 4 | AT136: K | AU136: 2 | AY136: ROZPOCET | BE136: =IF(N136="základná",J136,0) -> 0 | BF136: =IF(N136="znížená",J136,0) -> 0 | BG136: =IF(N136="zákl. prenesená",J136,0) -> 0 | BH136: =IF(N136="zníž. prenesená",J136,0) -> 0 | BI136: =IF(N136="nulová",J136,0) -> 0 | BJ136: 2 | BK136: =ROUND(I136*H136,2) -> 0 | BL136: 4 | BM136: 2057599840
C137: 4 | D137: K | E137: 275351217.S | F137: Debnenie stien základových pätiek, zhotovenie-tradičné | G137: m2 | H137: 7.68 | J137: =ROUND(I137*H137,2) -> 0 | N137: znížená | P137: =O137*H137 -> 0 | Q137: 0.00407 | R137: =Q137*H137 -> 0.0312576 | S137: 0 | T137: =S137*H137 -> 0 | AR137: 4 | AT137: K | AU137: 2 | AY137: ROZPOCET | BE137: =IF(N137="základná",J137,0) -> 0 | BF137: =IF(N137="znížená",J137,0) -> 0 | BG137: =IF(N137="zákl. prenesená",J137,0) -> 0 | BH137: =IF(N137="zníž. prenesená",J137,0) -> 0 | BI137: =IF(N137="nulová",J137,0) -> 0 | BJ137: 2 | BK137: =ROUND(I137*H137,2) -> 0 | BL137: 4 | BM137: -64869267
C138: 5 | D138: K | E138: 275351218.S | F138: Debnenie stien základových pätiek, odstránenie-tradičné | G138: m2 | H138: 7.68 | J138: =ROUND(I138*H138,2) -> 0 | N138: znížená | P138: =O138*H138 -> 0 | Q138: 0 | R138: =Q138*H138 -> 0 | S138: 0 | T138: =S138*H138 -> 0 | AR138: 4 | AT138: K | AU138: 2 | AY138: ROZPOCET | BE138: =IF(N138="základná",J138,0) -> 0 | BF138: =IF(N138="znížená",J138,0) -> 0 | BG138: =IF(N138="zákl. prenesená",J138,0) -> 0 | BH138: =IF(N138="zníž. prenesená",J138,0) -> 0 | BI138: =IF(N138="nulová",J138,0) -> 0 | BJ138: 2 | BK138: =ROUND(I138*H138,2) -> 0 | BL138: 4 | BM138: 1091697293
D139: D | E139: 8 | F139: Rozvádzač osvetlenia PD v.č. 7 - stavebná časť | J139: =BK139 -> 0 | P139: =SUM(P140:P156) -> 0 | R139: =SUM(R140:R156) -> 0.78947252 | T139: =SUM(T140:T156) -> 0 | AR139: 1 | AT139: D | AU139: 1 | AY139: ROZPOCET | BK139: =SUM(BK140:BK156) -> 0
C140: 6 | D140: K | E140: 133201101.S | F140: Výkop šachty zapaženej, hornina 3 do 100 m3 | G140: m3 | H140: 0.256 | J140: =ROUND(I140*H140,2) -> 0 | N140: znížená | P140: =O140*H140 -> 0 | Q140: 0 | R140: =Q140*H140 -> 0 | S140: 0 | T140: =S140*H140 -> 0 | AR140: 4 | AT140: K | AU140: 2 | AY140: ROZPOCET | BE140: =IF(N140="základná",J140,0) -> 0 | BF140: =IF(N140="znížená",J140,0) -> 0 | BG140: =IF(N140="zákl. prenesená",J140,0) -> 0 | BH140: =IF(N140="zníž. prenesená",J140,0) -> 0 | BI140: =IF(N140="nulová",J140,0) -> 0 | BJ140: 2 | BK140: =ROUND(I140*H140,2) -> 0 | BL140: 4 | BM140: 144999427
C141: 7 | D141: K | E141: 162201102.S | F141: Vodorovné premiestnenie výkopku z horniny 1-4 do 50m | G141: m3 | H141: 0.256 | J141: =ROUND(I141*H141,2) -> 0 | N141: znížená | P141: =O141*H141 -> 0 | Q141: 0 | R141: =Q141*H141 -> 0 | S141: 0 | T141: =S141*H141 -> 0 | AR141: 4 | AT141: K | AU141: 2 | AY141: ROZPOCET | BE141: =IF(N141="základná",J141,0) -> 0 | BF141: =IF(N141="znížená",J141,0) -> 0 | BG141: =IF(N141="zákl. prenesená",J141,0) -> 0 | BH141: =IF(N141="zníž. prenesená",J141,0) -> 0 | BI141: =IF(N141="nulová",J141,0) -> 0 | BJ141: 2 | BK141: =ROUND(I141*H141,2) -> 0 | BL141: 4 | BM141: -466742973
C142: 8 | D142: K | E142: 275313612.S | F142: Betón základových pätiek, prostý tr. C 20/25 | G142: m3 | H142: 0.23 | J142: =ROUND(I142*H142,2) -> 0 | N142: znížená | P142: =O142*H142 -> 0 | Q142: 2.21513 | R142: =Q142*H142 -> 0.5094799 | S142: 0 | T142: =S142*H142 -> 0 | AR142: 4 | AT142: K | AU142: 2 | AY142: ROZPOCET | BE142: =IF(N142="základná",J142,0) -> 0 | BF142: =IF(N142="znížená",J142,0) -> 0 | BG142: =IF(N142="zákl. prenesená",J142,0) -> 0 | BH142: =IF(N142="zníž. prenesená",J142,0) -> 0 | BI142: =IF(N142="nulová",J142,0) -> 0 | BJ142: 2 | BK142: =ROUND(I142*H142,2) -> 0 | BL142: 4 | BM142: -1603359963
C143: 9 | D143: K | E143: 275351217.S | F143: Debnenie stien základových pätiek, zhotovenie-tradičné | G143: m2 | H143: 0.324 | J143: =ROUND(I143*H143,2) -> 0 | N143: znížená | P143: =O143*H143 -> 0 | Q143: 0.00407 | R143: =Q143*H143 -> 0.00131868 | S143: 0 | T143: =S143*H143 -> 0 | AR143: 4 | AT143: K | AU143: 2 | AY143: ROZPOCET | BE143: =IF(N143="základná",J143,0) -> 0 | BF143: =IF(N143="znížená",J143,0) -> 0 | BG143: =IF(N143="zákl. prenesená",J143,0) -> 0 | BH143: =IF(N143="zníž. prenesená",J143,0) -> 0 | BI143: =IF(N143="nulová",J143,0) -> 0 | BJ143: 2 | BK143: =ROUND(I143*H143,2) -> 0 | BL143: 4 | BM143: -1202565345
C144: 10 | D144: K | E144: 275351218.S | F144: Debnenie stien základových pätiek, odstránenie-tradičné | G144: m2 | H144: 0.324 | J144: =ROUND(I144*H144,2) -> 0 | N144: znížená | P144: =O144*H144 -> 0 | Q144: 0 | R144: =Q144*H144 -> 0 | S144: 0 | T144: =S144*H144 -> 0 | AR144: 4 | AT144: K | AU144: 2 | AY144: ROZPOCET | BE144: =IF(N144="základná",J144,0) -> 0 | BF144: =IF(N144="znížená",J144,0) -> 0 | BG144: =IF(N144="zákl. prenesená",J144,0) -> 0 | BH144: =IF(N144="zníž. prenesená",J144,0) -> 0 | BI144: =IF(N144="nulová",J144,0) -> 0 | BJ144: 2 | BK144: =ROUND(I144*H144,2) -> 0 | BL144: 4 | BM144: 277319768
C145: 11 | D145: K | E145: 711462301 | F145: Hydroizolácia základu proti vode a zamnej vhkosti | G145: m2 | H145: 0.688 | J145: =ROUND(I145*H145,2) -> 0 | N145: znížená | P145: =O145*H145 -> 0 | Q145: 0.00452 | R145: =Q145*H145 -> 0.00310976 | S145: 0 | T145: =S145*H145 -> 0 | AR145: 4 | AT145: K | AU145: 2 | AY145: ROZPOCET | BE145: =IF(N145="základná",J145,0) -> 0 | BF145: =IF(N145="znížená",J145,0) -> 0 | BG145: =IF(N145="zákl. prenesená",J145,0) -> 0 | BH145: =IF(N145="zníž. prenesená",J145,0) -> 0 | BI145: =IF(N145="nulová",J145,0) -> 0 | BJ145: 2 | BK145: =ROUND(I145*H145,2) -> 0 | BL145: 4 | BM145: 2039613870
C146: 12 | D146: K | E146: 342272104 | F146: Priečky z tvárnic YTONG hr. 150 mm hladkých, na maltu (150x249x599) | G146: m2 | H146: 1.45 | J146: =ROUND(I146*H146,2) -> 0 | N146: znížená | P146: =O146*H146 -> 0 | Q146: 0.10778 | R146: =Q146*H146 -> 0.156281 | S146: 0 | T146: =S146*H146 -> 0 | AR146: 4 | AT146: K | AU146: 2 | AY146: ROZPOCET | BE146: =IF(N146="základná",J146,0) -> 0 | BF146: =IF(N146="znížená",J146,0) -> 0 | BG146: =IF(N146="zákl. prenesená",J146,0) -> 0 | BH146: =IF(N146="zníž. prenesená",J146,0) -> 0 | BI146: =IF(N146="nulová",J146,0) -> 0 | BJ146: 2 | BK146: =ROUND(I146*H146,2) -> 0 | BL146: 4 | BM146: 1290309065
C147: 13 | D147: K | E147: 411321414.R | F147: Betón stropov doskových , železový vodostavebný tr. C 25/30 | G147: m3 | H147: 0.041 | J147: =ROUND(I147*H147,2) -> 0 | N147: znížená | P147: =O147*H147 -> 0 | Q147: 2.4019 | R147: =Q147*H147 -> 0.0984779 | S147: 0 | T147: =S147*H147 -> 0 | AR147: 4 | AT147: K | AU147: 2 | AY147: ROZPOCET | BE147: =IF(N147="základná",J147,0) -> 0 | BF147: =IF(N147="znížená",J147,0) -> 0 | BG147: =IF(N147="zákl. prenesená",J147,0) -> 0 | BH147: =IF(N147="zníž. prenesená",J147,0) -> 0 | BI147: =IF(N147="nulová",J147,0) -> 0 | BJ147: 2 | BK147: =ROUND(I147*H147,2) -> 0 | BL147: 4 | BM147: 365753393
C148: 14 | D148: K | E148: 411351101.S | F148: Debnenie stropov doskových zhotovenie-dielce | G148: m2 | H148: 0.486 | J148: =ROUND(I148*H148,2) -> 0 | N148: znížená | P148: =O148*H148 -> 0 | Q148: 0.00113 | R148: =Q148*H148 -> 0.00054918 | S148: 0 | T148: =S148*H148 -> 0 | AR148: 4 | AT148: K | AU148: 2 | AY148: ROZPOCET | BE148: =IF(N148="základná",J148,0) -> 0 | BF148: =IF(N148="znížená",J148,0) -> 0 | BG148: =IF(N148="zákl. prenesená",J148,0) -> 0 | BH148: =IF(N148="zníž. prenesená",J148,0) -> 0 | BI148: =IF(N148="nulová",J148,0) -> 0 | BJ148: 2 | BK148: =ROUND(I148*H148,2) -> 0 | BL148: 4 | BM148: -384251069
C149: 15 | D149: K | E149: 411351102.S | F149: Debnenie stropov doskových odstránenie-dielce | G149: m2 | H149: 0.486 | J149: =ROUND(I149*H149,2) -> 0 | N149: znížená | P149: =O149*H149 -> 0 | Q149: 0 | R149: =Q149*H149 -> 0 | S149: 0 | T149: =S149*H149 -> 0 | AR149: 4 | AT149: K | AU149: 2 | AY149: ROZPOCET | BE149: =IF(N149="základná",J149,0) -> 0 | BF149: =IF(N149="znížená",J149,0) -> 0 | BG149: =IF(N149="zákl. prenesená",J149,0) -> 0 | BH149: =IF(N149="zníž. prenesená",J149,0) -> 0 | BI149: =IF(N149="nulová",J149,0) -> 0 | BJ149: 2 | BK149: =ROUND(I149*H149,2) -> 0 | BL149: 4 | BM149: -1720661133
C150: 16 | D150: K | E150: 411354171.S | F150: Podporná konštrukcia stropov výšky do 4 m pre zaťaženie do 5 kPa zhotovenie | G150: m2 | H150: 0.204 | J150: =ROUND(I150*H150,2) -> 0 | N150: znížená | P150: =O150*H150 -> 0 | Q150: 0.00228 | R150: =Q150*H150 -> 0.00046512 | S150: 0 | T150: =S150*H150 -> 0 | AR150: 4 | AT150: K | AU150: 2 | AY150: ROZPOCET | BE150: =IF(N150="základná",J150,0) -> 0 | BF150: =IF(N150="znížená",J150,0) -> 0 | BG150: =IF(N150="zákl. prenesená",J150,0) -> 0 | BH150: =IF(N150="zníž. prenesená",J150,0) -> 0 | BI150: =IF(N150="nulová",J150,0) -> 0 | BJ150: 2 | BK150: =ROUND(I150*H150,2) -> 0 | BL150: 4 | BM150: -161622208
C151: 17 | D151: K | E151: 411354172.S | F151: Podporná konštrukcia stropov výšky do 4 m pre zaťaženie do 5 kPa odstránenie | G151: m2 | H151: 0.204 | J151: =ROUND(I151*H151,2) -> 0 | N151: znížená | P151: =O151*H151 -> 0 | Q151: 0 | R151: =Q151*H151 -> 0 | S151: 0 | T151: =S151*H151 -> 0 | AR151: 4 | AT151: K | AU151: 2 | AY151: ROZPOCET | BE151: =IF(N151="základná",J151,0) -> 0 | BF151: =IF(N151="znížená",J151,0) -> 0 | BG151: =IF(N151="zákl. prenesená",J151,0) -> 0 | BH151: =IF(N151="zníž. prenesená",J151,0) -> 0 | BI151: =IF(N151="nulová",J151,0) -> 0 | BJ151: 2 | BK151: =ROUND(I151*H151,2) -> 0 | BL151: 4 | BM151: 1665034594
... C156: 22 | D156: K | E156: 953945111 | F156: Rohová lišta | G156: m | H156: 3.68 | J156: =ROUND(I156*H156,2) -> 0 | N156: znížená | P156: =O156*H156 -> 0 | Q156: 3e-05 | R156: =Q156*H156 -> 0.0001104 | S156: 0 | T156: =S156*H156 -> 0 | AR156: 4 | AT156: K | AU156: 2 | AY156: ROZPOCET | BE156: =IF(N156="základná",J156,0) -> 0 | BF156: =IF(N156="znížená",J156,0) -> 0 | BG156: =IF(N156="zákl. prenesená",J156,0) -> 0 | BH156: =IF(N156="zníž. prenesená",J156,0) -> 0 | BI156: =IF(N156="nulová",J156,0) -> 0 | BJ156: 2 | BK156: =ROUND(I156*H156,2) -> 0 | BL156: 4 | BM156: 342424327
D157: D | E157: 9 | F157: Ostatné konštrukcie a práce-búranie | J157: =BK157 -> 0 | P157: =SUM(P158:P163) -> 0 | R157: =SUM(R158:R163) -> 0.16693 | T157: =SUM(T158:T163) -> 0 | AR157: 1 | AT157: D | AU157: 1 | AY157: ROZPOCET | BK157: =SUM(BK158:BK163) -> 0
C158: 23 | D158: K | E158: 941955001.S | F158: Lešenie ľahké pracovné pomocné, s výškou lešeňovej podlahy do 1,20 m | G158: m2 | H158: 69 | J158: =ROUND(I158*H158,2) -> 0 | N158: znížená | P158: =O158*H158 -> 0 | Q158: 0.00153 | R158: =Q158*H158 -> 0.10557 | S158: 0 | T158: =S158*H158 -> 0 | AR158: 4 | AT158: K | AU158: 2 | AY158: ROZPOCET | BE158: =IF(N158="základná",J158,0) -> 0 | BF158: =IF(N158="znížená",J158,0) -> 0 | BG158: =IF(N158="zákl. prenesená",J158,0) -> 0 | BH158: =IF(N158="zníž. prenesená",J158,0) -> 0 | BI158: =IF(N158="nulová",J158,0) -> 0 | BJ158: 2 | BK158: =ROUND(I158*H158,2) -> 0 | BL158: 4 | BM158: 786669842
C159: 24 | D159: K | E159: 953943123.S | F159: Osadenie drobných kovových predmetov do betónu pred zabetónovaním, hmotnosti 5-15 kg/kus (bez dodávky) | G159: ks | H159: 8 | J159: =ROUND(I159*H159,2) -> 0 | N159: znížená | P159: =O159*H159 -> 0 | Q159: 0.00025 | R159: =Q159*H159 -> 0.002 | S159: 0 | T159: =S159*H159 -> 0 | AR159: 4 | AT159: K | AU159: 2 | AY159: ROZPOCET | BE159: =IF(N159="základná",J159,0) -> 0 | BF159: =IF(N159="znížená",J159,0) -> 0 | BG159: =IF(N159="zákl. prenesená",J159,0) -> 0 | BH159: =IF(N159="zníž. prenesená",J159,0) -> 0 | BI159: =IF(N159="nulová",J159,0) -> 0 | BJ159: 2 | BK159: =ROUND(I159*H159,2) -> 0 | BL159: 4 | BM159: -2116199958
C160: 25 | D160: M | E160: 133210000000.R | F160: Platňa oceľová 300x300x8 mm PD v.č.1 | G160: ks | H160: 8 | J160: =ROUND(I160*H160,2) -> 0 | N160: znížená | P160: =O160*H160 -> 0 | Q160: 0.00565 | R160: =Q160*H160 -> 0.0452 | S160: 0 | T160: =S160*H160 -> 0 | AR160: 8 | AT160: M | AU160: 2 | AY160: ROZPOCET | BE160: =IF(N160="základná",J160,0) -> 0 | BF160: =IF(N160="znížená",J160,0) -> 0 | BG160: =IF(N160="zákl. prenesená",J160,0) -> 0 | BH160: =IF(N160="zníž. prenesená",J160,0) -> 0 | BI160: =IF(N160="nulová",J160,0) -> 0 | BJ160: 2 | BK160: =ROUND(I160*H160,2) -> 0 | BL160: 4 | BM160: 1000249415
C161: 26 | D161: K | E161: 959941113.S | F161: Chemická kotva s kotevným svorníkom tesnená chemickou ampulkou do betónu, ŽB, kameňa, s vyvŕtaním otvoru M10/100/20 mm | G161: ks | H161: 32 | J161: =ROUND(I161*H161,2) -> 0 | N161: znížená | P161: =O161*H161 -> 0 | Q161: 0.00013 | R161: =Q161*H161 -> 0.00416 | S161: 0 | T161: =S161*H161 -> 0 | AR161: 4 | AT161: K | AU161: 2 | AY161: ROZPOCET | BE161: =IF(N161="základná",J161,0) -> 0 | BF161: =IF(N161="znížená",J161,0) -> 0 | BG161: =IF(N161="zákl. prenesená",J161,0) -> 0 | BH161: =IF(N161="zníž. prenesená",J161,0) -> 0 | BI161: =IF(N161="nulová",J161,0) -> 0 | BJ161: 2 | BK161: =ROUND(I161*H161,2) -> 0 | BL161: 4 | BM161: -1057516747
C162: 27 | D162: K | E162: 767995102.R1 | F162: Osadenie hasiaceho prístroja | G162: ks | H162: 1 | J162: =ROUND(I162*H162,2) -> 0 | N162: znížená | P162: =O162*H162 -> 0 | Q162: 0 | R162: =Q162*H162 -> 0 | S162: 0 | T162: =S162*H162 -> 0 | AR162: 4 | AT162: K | AU162: 2 | AY162: ROZPOCET | BE162: =IF(N162="základná",J162,0) -> 0 | BF162: =IF(N162="znížená",J162,0) -> 0 | BG162: =IF(N162="zákl. prenesená",J162,0) -> 0 | BH162: =IF(N162="zníž. prenesená",J162,0) -> 0 | BI162: =IF(N162="nulová",J162,0) -> 0 | BJ162: 2 | BK162: =ROUND(I162*H162,2) -> 0 | BL162: 4 | BM162: -16882476
C163: 28 | D163: M | E163: 5539000000.R | F163: Hasiaci prístroj práškový 6 kg | G163: ks | H163: 1 | J163: =ROUND(I163*H163,2) -> 0 | N163: znížená | P163: =O163*H163 -> 0 | Q163: 0.01 | R163: =Q163*H163 -> 0.01 | S163: 0 | T163: =S163*H163 -> 0 | AR163: 8 | AT163: M | AU163: 2 | AY163: ROZPOCET | BE163: =IF(N163="základná",J163,0) -> 0 | BF163: =IF(N163="znížená",J163,0) -> 0 | BG163: =IF(N163="zákl. prenesená",J163,0) -> 0 | BH163: =IF(N163="zníž. prenesená",J163,0) -> 0 | BI163: =IF(N163="nulová",J163,0) -> 0 | BJ163: 2 | BK163: =ROUND(I163*H163,2) -> 0 | BL163: 4 | BM163: 1256730984
D164: D | E164: 99 | F164: Presun hmôt HSV | J164: =BK164 -> 0 | P164: =P165 -> 0 | R164: =R165 -> 0 | T164: =T165 -> 0 | AR164: 1 | AT164: D | AU164: 1 | AY164: ROZPOCET | BK164: =BK165 -> 0
C165: 29 | D165: K | E165: 998224111.S | F165: Presun hmôt vnútrostaveniskový pre HSV práce | G165: t | H165: 11.195 | J165: =ROUND(I165*H165,2) -> 0 | N165: znížená | P165: =O165*H165 -> 0 | Q165: 0 | R165: =Q165*H165 -> 0 | S165: 0 | T165: =S165*H165 -> 0 | AR165: 4 | AT165: K | AU165: 2 | AY165: ROZPOCET | BE165: =IF(N165="základná",J165,0) -> 0 | BF165: =IF(N165="znížená",J165,0) -> 0 | BG165: =IF(N165="zákl. prenesená",J165,0) -> 0 | BH165: =IF(N165="zníž. prenesená",J165,0) -> 0 | BI165: =IF(N165="nulová",J165,0) -> 0 | BJ165: 2 | BK165: =ROUND(I165*H165,2) -> 0 | BL165: 4 | BM165: 1345044043
D166: D | E166: PSV | F166: Práce a dodávky PSV | J166: =BK166 -> 0 | P166: =P167+P171+P175+P181 -> 0 | R166: =R167+R171+R175+R181 -> 0.7252752 | T166: =T167+T171+T175+T181 -> 0 | AR166: 2 | AT166: D | AU166: 0 | AY166: ROZPOCET | BK166: =BK167+BK171+BK175+BK181 -> 0
D167: D | E167: 712 | F167: Izolácie striech, povlakové krytiny | J167: =BK167 -> 0 | P167: =SUM(P168:P170) -> 0 | R167: =SUM(R168:R170) -> 0.0214522 | T167: =SUM(T168:T170) -> 0 | AR167: 2 | AT167: D | AU167: 1 | AY167: ROZPOCET | BK167: =SUM(BK168:BK170) -> 0
C168: 30 | D168: K | E168: 712370570.R | F168: Hydroizolačná strešná fólia TPO hr. 1,2 mm kotvená vr. doplkov ( dodávka a montáž ) | G168: m2 | H168: 43.78 | J168: =ROUND(I168*H168,2) -> 0 | N168: znížená | P168: =O168*H168 -> 0 | Q168: 0.00049 | R168: =Q168*H168 -> 0.0214522 | S168: 0 | T168: =S168*H168 -> 0 | AR168: 16 | AT168: K | AU168: 2 | AY168: ROZPOCET | BE168: =IF(N168="základná",J168,0) -> 0 | BF168: =IF(N168="znížená",J168,0) -> 0 | BG168: =IF(N168="zákl. prenesená",J168,0) -> 0 | BH168: =IF(N168="zníž. prenesená",J168,0) -> 0 | BI168: =IF(N168="nulová",J168,0) -> 0 | BJ168: 2 | BK168: =ROUND(I168*H168,2) -> 0 | BL168: 16 | BM168: 1121758949
C169: 31 | D169: K | E169: 712990040.S | F169: Geotextília 300g/m2 | G169: m2 | H169: 43.78 | J169: =ROUND(I169*H169,2) -> 0 | N169: znížená | P169: =O169*H169 -> 0 | Q169: 0 | R169: =Q169*H169 -> 0 | S169: 0 | T169: =S169*H169 -> 0 | AR169: 16 | AT169: K | AU169: 2 | AY169: ROZPOCET | BE169: =IF(N169="základná",J169,0) -> 0 | BF169: =IF(N169="znížená",J169,0) -> 0 | BG169: =IF(N169="zákl. prenesená",J169,0) -> 0 | BH169: =IF(N169="zníž. prenesená",J169,0) -> 0 | BI169: =IF(N169="nulová",J169,0) -> 0 | BJ169: 2 | BK169: =ROUND(I169*H169,2) -> 0 | BL169: 16 | BM169: 668122893
C170: 32 | D170: K | E170: 998712201.S | F170: Presun hmôt pre izoláciu povlakovej krytiny v objektoch výšky do 6 m | G170: % | J170: =ROUND(I170*H170,2) -> 0 | N170: znížená | P170: =O170*H170 -> 0 | Q170: 0 | R170: =Q170*H170 -> 0 | S170: 0 | T170: =S170*H170 -> 0 | AR170: 16 | AT170: K | AU170: 2 | AY170: ROZPOCET | BE170: =IF(N170="základná",J170,0) -> 0 | BF170: =IF(N170="znížená",J170,0) -> 0 | BG170: =IF(N170="zákl. prenesená",J170,0) -> 0 | BH170: =IF(N170="zníž. prenesená",J170,0) -> 0 | BI170: =IF(N170="nulová",J170,0) -> 0 | BJ170: 2 | BK170: =ROUND(I170*H170,2) -> 0 | BL170: 16 | BM170: 851076364
...

Sheet 06 - E S06 - Osvetlenie (...
L2: >> skryté stĺpce << | AT2: {e9f87a1d-b7db-4262-8a71-f08d24771e93}
AT3: 0
D4: KRYCÍ LIST ROZPOČTU | M4: v --- nižšie sa nachádzajú doplnkové a pomocné údaje k zostavám --- v | AT4: False
D6: Stavba:
E7: ='Rekapitulácia stavby'!K6 -> Oddychová zóna v areáli ŠD UKF Zobor
D8: Objekt:
E9: 06 - E S06 - Osvetlenie ( viď príloha )
D11: JKSO: | I11: KS:
D12: Miesto: | F12: Dražovská cesta 2, Nitra | I12: Dátum:
D14: Objednávateľ: | I14: IČO:
E15: Univerzita Konštantína Filozofa v Nitre | I15: IČ DPH:
D17: Zhotoviteľ: | I17: IČO: | J17: ='Rekapitulácia stavby'!AN13 -> Vyplň údaj
E18: ='Rekapitulácia stavby'!E14 -> Vyplň údaj | I18: IČ DPH: | J18: ='Rekapitulácia stavby'!AN14 -> Vyplň údaj
D20: Projektant: | I20: IČO:
E21: Ing. Slavomír Koiš | I21: IČ DPH:
D23: Spracovateľ: | I23: IČO: | J23: =IF('Rekapitulácia stavby'!AN19="","",'Rekapitulácia stavby'!AN19)
E24: =IF('Rekapitulácia stavby'!E20="","",'Rekapitulácia stavby'!E20) | I24: IČ DPH: | J24: =IF('Rekapitulácia stavby'!AN20="","",'Rekapitulácia stavby'!AN20)
D26: Poznámka:
D30: Cena bez DPH | J30: =ROUND(J118, 2) -> 0
F32: Základ dane | I32: Sadzba dane | J32: Výška dane
D33: DPH | E33: základná | F33: =ROUND((SUM(BE118:BE119)), 2) -> 0 | I33: 0.2 | J33: =ROUND(((SUM(BE118:BE119))*I33), 2) -> 0
E34: znížená | F34: =ROUND((SUM(BF118:BF119)), 2) -> 0 | I34: 0.2 | J34: =ROUND(((SUM(BF118:BF119))*I34), 2) -> 0
E35: zákl. prenesená | F35: =ROUND((SUM(BG118:BG119)), 2) -> 0 | I35: 0.2 | J35: =0 -> 0
E36: zníž. prenesená | F36: =ROUND((SUM(BH118:BH119)), 2) -> 0 | I36: 0.2 | J36: =0 -> 0
E37: nulová | F37: =ROUND((SUM(BI118:BI119)), 2) -> 0 | I37: 0 | J37: =0 -> 0
D39: Cena s DPH | G39: v | H39: EUR | J39: =SUM(J30:J37) -> 0
D50: Projektant | G50: Spracovateľ
D61: Dátum a podpis: | F61: Pečiatka | G61: Dátum a podpis: | J61: Pečiatka
D65: Objednávateľ | G65: Zhotoviteľ
D76: Dátum a podpis: | F76: Pečiatka | G76: Dátum a podpis: | J76: Pečiatka
C82: REKAPITULÁCIA ROZPOČTU
C84: Stavba:
E85: =E7 -> Oddychová zóna v areáli ŠD UKF Zobor
C86: Objekt:
E87: =E9 -> 06 - E S06 - Osvetlenie ( viď príloha )
C89: Miesto: | F89: =F12 -> Dražovská cesta 2, Nitra | I89: Dátum: | J89: =IF(J12="","",J12)
C91: Objednávateľ: | F91: =E15 -> Univerzita Konštantína Filozofa v Nitre | I91: Projektant: | J91: =E21 -> Ing. Slavomír Koiš
C92: Zhotoviteľ: | F92: =IF(E18="","",E18) -> Vyplň údaj | I92: Spracovateľ: | J92: =E24
C94: Kód dielu - Popis | J94: Cena celkom [EUR]
C96: Náklady z rozpočtu | J96: =J118 -> 0 | AU96: -1
D97: M - Práce a dodávky M - Elektroinštalácia-osvetlenie | J97: =J119 -> 0
D98: 21-M - Elektromontáže | J98: =#REF! -> #REF!
C105: ROZPOČET
C107: Stavba:
E108: =E7 -> Oddychová zóna v areáli ŠD UKF Zobor
C109: Objekt:
E110: =E9 -> 06 - E S06 - Osvetlenie ( viď príloha )
C112: Miesto: | F112: =F12 -> Dražovská cesta 2, Nitra | I112: Dátum: | J112: =IF(J12="","",J12)
C114: Objednávateľ: | F114: =E15 -> Univerzita Konštantína Filozofa v Nitre | I114: Projektant: | J114: =E21 -> Ing. Slavomír Koiš
C115: Zhotoviteľ: | F115: =IF(E18="","",E18) -> Vyplň údaj | I115: Spracovateľ: | J115: =E24
C117: PČ | D117: Typ | E117: Kód | F117: Popis | G117: MJ | H117: Množstvo | I117: J.cena [EUR] | J117: Cena celkom [EUR] | K117: Cenová sústava | N117: DPH | O117: J. Nh [h] | P117: Nh celkom [h] | Q117: J. hmotnosť [t] | R117: Hmotnosť celkom [t] | S117: J. suť [t] | T117: Suť Celkom [t]
C118: Náklady z rozpočtu | P118: =P119 -> #REF! | R118: =R119 -> #REF! | T118: =T119 -> #REF! | AT118: D | AU118: -1 | BK118: =BK119 -> #REF!
D119: D | E119: M | F119: Práce a dodávky M - Elektroinštalácia-osvetlenie | P119: =#REF! -> #REF! | R119: =#REF! -> #REF! | T119: =#REF! -> #REF! | AR119: 3 | AT119: D | AU119: 0 | AY119: ROZPOCET | BK119: =#REF! -> #REF!
C121: Č. | D121: KCN | E121: Kód položky | F121: Popis | G121: MJ | H121: Množstvo celkom | I121: Cena jednotková | J121: Cena celkom
C122: 1 | D122: 2 | E122: 3 | F122: 4 | G122: 5 | H122: 6 | I122: 7 | J122: 8
E125: 13 M | F125: ROZVÁDZAČ RS
C126: 43 | D126: 921 | E126: 210120401 | F126: Istič vzduchový vč.zapojenia jednopólový do 25 A bez krytu (IJV-IJM-PO) | G126: ks | H126: 3
C127: 44 | D127: 358 | E127: 3580760459 | F127: Prepojovacia lišta G-4L-1000/16 4-pólová prepojovacia lišta, 16 mm2 OEZ | G127: ks | H127: 0.5
C128: 45 | D128: 921 | E128: 210120451 | F128: Istič vzduchový vč.zapojenia trojpólový do 25 A bez krytu | G128: ks | H128: 2
C129: 64 | D129: 358 | E129: 358210000300.S | F129: Stýkač inštalačný tichý 2P, 25A, kontakty 2 NO, cievka 230 V, 1 modul | G129: ks | H129: 1
C130: 65 | D130: 358 | E130: 358220006600.S | F130: Istič 1P, 6 A, charakteristika B, 10 kA, 1 modul | G130: ks | H130: 1
C131: 66 | D131: 358 | E131: 358220006700.S | F131: Istič 1P, 10 A, charakteristika B, 10 kA, 1 modul | G131: ks | H131: 1
C132: 67 | D132: 358 | E132: 358220006900.S | F132: Istič 1P, 16 A, charakteristika B, 10 kA, 1 modul | G132: ks | H132: 1
C133: 68 | D133: 358 | E133: 358220046300 | F133: Istič TX3 3P, charakteristika B, 25 A, 10000 A/10 kA, 3 moduly, LEGRAND | G133: ks | H133: 1
C134: 69 | D134: 358 | E134: 358220046100 | F134: Istič TX3 3P, charakteristika B, 16 A, 10000 A/10 kA, 3 moduly, LEGRAND | G134: ks | H134: 1
C135: 70 | D135: 358 | E135: 358230021500.S | F135: Prúdový chránič s istením 4P, charakteristika C, 25 A, 30 mA, typ AC, 4 moduly | G135: ks | H135: 1
C136: 71 | D136: 358 | E136: 358240003000 | F136: Zvodič prepätia T2 4P, 440 V, 40kA, 4 moduly, signalizácia na diaľkum LEGRAND | G136: ks | H136: 1
C137: 72 | D137: 374 | E137: 374310006800.S | F137: Časové relé digitálne programovateľné so 16 funkciami 0,01s-100h, AC 230V, výstup 2x16A prepínací | G137: ks | H137: 1
... C151: 63 | D151: 341 | E151: 3410401900 | F151: Vodič medený CY 01.5 žltozelený | G151: m | H151: 4
C152: 83 | D152: R | E152: PPV | F152: Podiel pridružených výkonov | G152: %
E154: M | F154: Práce a dodávky M
E155: 21-M | F155: Elektromontáže
C156: 3 | D156: 921 | E156: 210010063.S | F156: Rúrka elektroinštalačná oceľová, závitová, typ 6021, uložená pevne | G156: m | H156: 3
C157: 4 | D157: 345 | E157: 345710003600.S | F157: Rúrka oceľová závitová 6021 s vysokou mechanickou odolnosťou, pozinkovaná, D 28,3 mm | G157: m | H157: 3
C158: 6 | D158: 921 | E158: 210020671.S | F158: Konštrukcia oceľová, klasická všeobecná výroba, montáž vrátane základného náteru | G158: kg | H158: 20
C159: 7 | D159: 132 | E159: 132210006300.S | F159: Tyč oceľová jemná plochá šxhr 20x5 mm, ozn. 11 373, podľa EN alebo EN ISO S235JRG1 | G159: t | H159: 0.004
C160: 8 | D160: 132 | E160: 132310001200.S | F160: Tyč oceľová prierezu L 30x30x4 mm, ozn. 11 373, podľa EN ISO S235JRG1 | G160: t | H160: 0.006
C161: 9 | D161: 145 | E161: 145540000500.S | F161: Profil oceľový 50x2 mm zváraný tenkostenný uzavretý štvorcový | G161: t | H161: 0.01
C162: 10 | D162: 246 | E162: 246220000900.S | F162: Farba syntetická suríková S 2005 | G162: kg | H162: 0.112
C163: 11 | D163: 246 | E163: 246420001200.S | F163: Riedidlo S-6006 do syntetických a olejových látok | G163: kg | H163: 0.037
C164: 12 | D164: 312 | E164: 312110000800.S | F164: Elektróda zváracia E-R 117 D 2,5 mm x dĺ. 350 mm nelegovaná s rutilovým a kyslým obalom | G164: tks | H164: 0.01
C165: 20 | D165: 921 | E165: 210100001.S | F165: Ukončenie vodičov v rozvádzač. vrátane zapojenia a vodičovej koncovky do 2,5 mm2 | G165: ks | H165: 20
C166: 21 | D166: 921 | E166: 210100251.S | F166: Ukončenie celoplastových káblov zmrašť. záklopkou alebo páskou do 4 x 10 mm2 | G166: ks | H166: 4
C167: 22 | D167: 343 | E167: 343430001600.S | F167: Teplom zmraštiteľná stredne hrubá trubica z polyolefinu MWTM bez lepidla, na cievkach 16/5-A/U 5,5-14,5, dĺ. 1000 mm | G167: m | H167: 4
... C184: 15 | D184: 341 | E184: 341110000800.S | F184: Kábel medený CYKY 3x2,5 mm2 | G184: m | H184: 80
C185: 79 | D185: R | E185: MV | F185: Murárske výpomoci | G185: %
C186: 80 | D186: R | E186: PM | F186: Podružný materiál | G186: %
C187: 82 | D187: R | E187: PPV | F187: Podiel pridružených výkonov | G187: %
E188: 46-M | F188: Zemné práce pri extr.mont.prácach
C189: 42 | D189: 946 | E189: 460070263.S | F189: Jama prerozvádzač RS v zemine triedy 3 | G189: ks | H189: 1
C190: 31 | D190: 946 | E190: 460070534 | F190: Jama pre stožiar signal.zariadenia cestnej križovatky priamy zapustený v zemine triedy 4 | G190: ks | H190: 5
C191: 32 | D191: 946 | E191: 460080001 | F191: Základ z prostého betónu s dopravou zmesi a betonážou do prírodnej zeminy bez debnenia | G191: m3 | H191: 3
C192: 33 | D192: 589 | E192: 5893206500 | F192: Betón C 8/10 cem. trosk.,fr. do 22mm,spr. 60-100mm | G192: m3 | H192: 3
C193: 34 | D193: 946 | E193: 460200173 | F193: Hĺbenie káblovej ryhy 35 cm širokej a 90 cm hlbokej, v zemine triedy 3 | G193: m | H193: 60
C194: 35 | D194: 946 | E194: 460420373 | F194: Zriad. káblového lôžka z piesku vrstvy 10 cm, tehlami na šírku 45 cm | G194: m | H194: 60
C195: 36 | D195: 583 | E195: 5831214500 | F195: Drvina vápencová zmes 0-4 | G195: t | H195: 4.32
C196: 37 | D196: 596 | E196: 5961046500 | F196: Tehly plné pálené 29x14x6,5 P 15 I | G196: tks | H196: 0.6
C197: 38 | D197: 946 | E197: 460490012 | F197: Rozvinutie a uloženie výstražnej fólie z PVC do ryhy,šírka 33 cm | G197: m | H197: 60
C198: 39 | D198: 283 | E198: 2830002000 | F198: Fólia červená v m | G198: m | H198: 60
C199: 84 | D199: 946 | E199: 460560173.S | F199: Ručný zásyp nezap. káblovej ryhy bez zhutn. zeminy, 35 cm širokej, 90 cm hlbokej v zemine tr. 3 | G199: m | H199: 60
...

Sheet 07-E Chodníky v areáli
A1: ZADANIE S VÝKAZOM VÝMER
A2: Stavba: Chodník v areáli ŠD UKF Zobor
A3: Objekt:
A5: JKSO:
A7: P.Č. | B7: KCN | C7: Kód položky | D7: Popis | E7: MJ | F7: Množstvo celkom | G7: Jednotková cena zadania | H7: Celková cena zadania
A8: 1 | B8: 2 | C8: 3 | D8: 4 | E8: 5 | F8: 6 | G8: 7 | H8: 8
C10: HSV | D10: Práce a dodávky HSV
C11: 1 | D11: Zemné práce
A12: 1 | B12: 221 | C12: 113106121 | D12: Rozoberanie dlažby, z betónových dlaždíc, dosiek alebo tvaroviek, -0,13800t | E12: m2 | F12: 40
A13: 2 | B13: 221 | C13: 113107141 | D13: Odstránenie krytu v ploche do 200 m2 asfaltového, hr. vrstvy do 50 mm, -0,09800t | E13: m2 | F13: 198
A14: 3 | B14: 221 | C14: 113307122 | D14: Odstránenie podkladu v ploche do 200 m2 z kameniva hrubého drveného, hr.100 do 200 mm, -0,23500t | E14: m2 | F14: 250
D15: "jest. asf. chodník+ bet. dlažba+bet. chod." 198,0+40+12 | F15: 250
A16: 4 | B16: 221 | C16: 113307132 | D16: Odstránenie podkladu v ploche do 200 m2 z betónu prostého, hr. vrstvy 150 do 300 mm, -0,50000t | E16: m2 | F16: 210
D17: "jest. asf. chodník+bet. chod." 198,0+12,0 | F17: 210
A18: 5 | B18: 001 | C18: 122101401 | D18: Výkop v zemníku na suchu v horninách 1-2, do 100 m3 | E18: m3 | F18: 83
D19: "potreba zeminy pre násypyv rámci areálu" 110,0-27,0 | F19: 83
A20: 6 | B20: 001 | C20: 122101401 | D20: Výkop v zemníku zemín vhodných na zatrávnenie na suchu v horninách 1-2, do 100 m3 | E20: m3 | F20: 63
D21: "zatrávnenie" 315*0,2 | F21: 63
A22: 7 | B22: 001 | C22: 131101101 | D22: Výkop nezapaženej jamy v hornine 1-2, do 100 m3 | E22: m3 | F22: 27
D23: "podľa PD výkopy" 27,0 | F23: 27
A24: 8 | B24: 001 | C24: 162201102 | D24: Vodorovné premiestnenie výkopku z horniny 1-4 nad 20-50m | E24: m3 | F24: 54
D25: "pre násyp z výkop. zeminy na medziskl. a späť" 27*2 | F25: 54
A26: 9 | B26: 001 | C26: 162301101 | D26: Vodorovné premiestnenie výkopku po spevnenej ceste z horniny tr.1-4 v množstve do 100 m3 na vzdialenosť do 500 m | E26: m3 | F26: 83
D27: "potreba zeminy pre násypyv rámci areálu" 110,0-27 | F27: 83
A28: 10 | B28: 001 | C28: 162501102 | D28: Vodorovné premiestnenie výkopku po spevnenej ceste z horniny tr.1-4 v množstve do 100 m3 na vzdialenosť do 3000 m | E28: m3 | F28: 63
D29: " zo zemníka pre zatrávnenie" 63,0 | F29: 63
A30: 11 | B30: 001 | C30: 167101101 | D30: Nakladanie neuľahnutého výkopku z hornín tr.1-4 do 100 m3 | E30: m3 | F30: 27
D31: "z medziskladky výkopov" 27,0 | F31: 27
A32: 12 | B32: 001 | C32: 171101103 | D32: Uloženie sypaniny do násypu súdržnej horniny s mierou zhutnenia nad 96 do 100 % podľa Proctor-Standard | E32: m3 | F32: 110
D33: "podľa PD násypy" 110,0 | F33: 110
A34: 13 | B34: 001 | C34: 171201101 | D34: Uloženie sypaniny do násypov s rozprestretím sypaniny vo vrstvách a s hrubým urovnaním nezhutnených | E34: m3 | F34: 63
D35: "zatrávnenie" 315*0,2 | F35: 63
A36: 14 | B36: 231 | C36: 180402111 | D36: Založenie trávnika parkového výsevom v rovine do 1:5 | E36: m2 | F36: 315
A37: 15 | B37: 005 | C37: 0057211200 | D37: Trávové semeno - parková zmes | E37: kg | F37: 12.6
D38: 315 * 0,04 | F38: 12.6
A39: 16 | B39: 001 | C39: 181201101 | D39: Úprava pláne v násypoch v hornine 1-4 bez zhutnenia | E39: m2 | F39: 315
A40: 17 | B40: 001 | C40: 181301102 | D40: Rozprestretie zeminy v rovine, plocha do 500 m2,hr.do 150 mm | E40: m2 | F40: 315
A41: 18 | B41: 231 | C41: 182001111 | D41: Plošná úprava terénu pri nerovnostiach terénu nad 50-100mm v rovine alebo na svahu do 1:5 | E41: m2 | F41: 315
A42: 19 | B42: 231 | C42: 184807111 | D42: Ochrana stromu debnením pred poškodením stavebnou činnosťou zhotovenie | E42: m2 | F42: 22
A43: 20 | B43: 231 | C43: 184807112 | D43: Ochrana stromu debnením pred poškodením stavebnou činnosťou odstránenie | E43: m2 | F43: 22
C44: 5 | D44: Komunikácie
A45: 21 | B45: 221 | C45: 564671111 | D45: Podklad z kameniva hrubého drveného veľ.0-63 mm s rozprestrením a zhutnením, po zhutneni hr.250 mm | E45: m2 | F45: 299.2
D46: "bet. dlažba, chodník" 272,0*1,1 | F46: 299.2
A47: 22 | B47: 221 | C47: 596911112 | D47: Kladenie zámkovej dlažby hr.6cm pre peších vrátane lôžka z kameniva fr, 0-4 mm hr. 30 mm | E47: m2 | F47: 272
D48: "nový chodník" 272,0 | F48: 272
A49: 23 | B49: 592 | C49: 5921953430 | D49: Dlažba betónová hr. 6 cm sivá | E49: m2 | F49: 274.72
D50: 272 * 1,01 | F50: 274.72
C51: 9 | D51: Ostatné konštrukcie a práce-búranie
A52: 24 | B52: 221 | C52: 899331111 | D52: Výšková úprava poklopu šachty do 200 mm | E52: ks | F52: 1
A53: 25 | B53: 221 | C53: 916561111 | D53: Osadenie parkového obrubníka bet. a deliacej lišty do lôžka z bet. pros. tr. C 10/12,5 s bočnou oporou | E53: m | F53: 272
D54: "parkový " 272,0 | F54: 272
A55: 26 | B55: 592 | C55: 5921954590 | D55: Obrubník parkový sivý 50x20x5 cm | E55: ks | F55: 549.44
D56: 272 * 2,02 | F56: 549.44
A57: 27 | B57: 221 | C57: 918101111 | D57: Lôžko pod obrub., krajníky alebo obruby z dlažob. kociek z betónu prostého tr. C 10/12,5 | E57: m3 | F57: 6.528
D58: " obrubník parkový" 272,0*0,2*0,12 | F58: 6.528
A59: 28 | B59: 221 | C59: 919721212 | D59: Škáry v kryte vyplnené asfaltovou zálievkou | E59: m | F59: 10
A60: 29 | B60: 245 | C60: 24511171610 | D60: Asfaltové tesniace pásky 40x4 mm | E60: m | F60: 11
D61: "prac. škára "10,0 | F61: 10
A62: 30 | B62: 221 | C62: 919731114 | D62: Zarovnanie styčnej plochy k jest. časti komunikácie | E62: m | F62: 10
A63: 31 | B63: 221 | C63: 919735111 | D63: Rezanie existujúceho asfaltového krytu alebo podkladu hĺbky do 50 mm | E63: m | F63: 10
A64: 32 | B64: 221 | C64: 919795111 | D64: Montáž fólie separačnej, drenažnej a pod. | E64: m2 | F64: 272
D65: "dlaždený chod. - geotextília proti prerastaniu" 272,0 | F65: 272
A66: 33 | B66: 693 | C66: 693665601.1 | D66: Textília proti prerastaniu koreňov burín | E66: m2 | F66: 299.2
D67: 272 * 1,1 | F67: 299.2
A68: 34 | B68: 221 | C68: 979082213 | D68: Vodorovná doprava sutiny so zložením a hrubým urovnaním na vzdialenosť do 1 km | E68: t | F68: 188.674
A69: 35 | B69: 221 | C69: 979082219 | D69: Príplatok k cene za každý ďalší aj začatý 1 km nad 1 km | E69: t | F69: 943.37
A70: 36 | B70: 221 | C70: 979087212 | D70: Nakladanie na dopravné prostriedky pre vodorovnú dopravu sutiny | E70: t | F70: 188.674
A71: 37 | B71: 013 | C71: 97908901.3 | D71: Zákonný poplatok obci | E71: t | F71: 188.674
A72: 38 | B72: 013 | C72: 979089012 | D72: Poplatok za skladovanie, ostatné | E72: t | F72: 169.27
D73: " cel. tonáž - tonáž pol. č. 2 " 188,674 -19,404 | F73: 169.27
A74: 39 | B74: 013 | C74: 979089211 | D74: Poplatok za skladovanie - bitúmenové zmesi, uhoľný decht, dechtové výrobky (17 03), nebezpečné | E74: t | F74: 19.404
D75: " tonáž pol. č. 2 "19,404 | F75: 19.404
C76: 99 | D76: Presun hmôt HSV
A77: 40 | B77: 221 | C77: 998223011 | D77: Presun hmôt pre pozemné komunikácie s krytom dláždeným (822 2.3, 822 5.3) akejkoľvek dĺžky objektu | E77: t | F77: 260.492
D78: Celkom
