Workbook

Sheet Rekapitulácia stavby
A1: Export Komplet | BA1: 2.0 | BT1: False | BU1: False | BV1: {d5dc89b3-1261-48b8-9b78-071aac43bf50}
AR2: >> skryté stĺpce << | BS2: 0,01 | BT2: 20
BS3: 0,01 | BT3: 20
D4: REKAPITULÁCIA STAVBY ZADANIE | AS4: v --- nižšie sa nachádzajú doplnkové a pomocné údaje k zostavám --- v | BE4: Návod na vyplnenie | BS4: 0,001
D5: Kód: | K5: 9 | BE5: Meniť je možné iba bunky so žltým podfarbením!_x000D_ _x000D_ 1) na prvom liste Rekapitulácie stavby vyplňte v zostave_x000D_ _x000D_ a) Rekapitulácia stavby_x000D_ - údaje o Zhotoviteľovi_x000D_ (prenesú sa do ostatných zostáv aj v iných listoch)_x000D_ _x000D_ b) Rekapitulácia objektov stavby_x000D_ - potrebné Ostatné náklady_x000D_ _x000D_ 2) na vybraných listoch vyplňte v zostave_x000D_ _x000D_ a) Krycí list_x000D_ - údaje o Zhotoviteľovi, pokiaľ sa líšia od údajov o Zhotoviteľovi na Rekapitulácii stavby_x000D_ (údaje se prenesú do ostatných zostav v danom liste)_x000D_ _x000D_ b) Rekapitulácia rozpočtu_x000D_ - potrebné Ostatné náklady_x000D_ _x000D_ c) Celkové náklady za stavbu_x000D_ - ceny na položkách_x000D_ - množstvo, pokiaľ má žlté podfarbenie_x000D_ - a v prípade potreby poznámku (tá je v skrytom stĺpci) | BS5: 0,01
D6: Stavba: | K6: Oddychová zóna v areáli ŠD UKF Zobor | BS6: 0,01
D7: JKSO: | AK7: KS: | BS7: 0,01
D8: Miesto: | K8: Dražovská cesta 2, Nitra | AK8: Dátum: | BS8: 0,01
BS9: 0,01
D10: Objednávateľ: | AK10: IČO: | BS10: 0,01
E11: Univerzita Konštantína Filozofa v Nitre | AK11: IČ DPH: | BS11: 0,01
BS12: 0,01
D13: Zhotoviteľ: | AK13: IČO: | AN13: Vyplň údaj | BS13: 0,01
E14: Vyplň údaj | AK14: IČ DPH: | AN14: Vyplň údaj | BS14: 0,01
BS15: False
D16: Projektant: | AK16: IČO: | BS16: False
E17: Ing. Slavomír Koiš | AK17: IČ DPH: | BS17: True
BS18: 0,01
D19: Spracovateľ: | AK19: IČO: | BS19: 0,01
AK20: IČ DPH: | BS20: True
D22: Poznámka:
D26: Cena bez DPH | AK26: =ROUND(AG94,2) -> 0
L28: Sadzba dane | W28: Základ dane | AK28: Výška dane
D29: DPH | F29: základná | L29: 0.2 | W29: =ROUND(AZ94, 2) -> #REF! | AK29: =ROUND(AV94, 2) -> #REF!
F30: znížená | L30: 0.2 | W30: =ROUND(BA94, 2) -> #REF! | AK30: =ROUND(AW94, 2) -> #REF!
F31: zákl. prenesená | L31: 0.2 | W31: =ROUND(BB94, 2) -> #REF! | AK31: 0
F32: zníž. prenesená | L32: 0.2 | W32: =ROUND(BC94, 2) -> #REF! | AK32: 0
F33: nulová | L33: 0 | W33: =ROUND(BD94, 2) -> #REF! | AK33: 0
D35: Cena s DPH | T35: v | X35: EUR | AK35: =SUM(AK26:AK33) -> #REF!
D49: Projektant | AH49: Spracovateľ
D60: Dátum a podpis: | V60: Pečiatka | AH60: Dátum a podpis: | AM60: Pečiatka
D64: Objednávateľ | AH64: Zhotoviteľ
D75: Dátum a podpis: | V75: Pečiatka | AH75: Dátum a podpis: | AM75: Pečiatka
C82: REKAPITULÁCIA OBJEKTOV STAVBY ZADANIE
C84: Kód: | L84: =K5 -> 9
C85: Stavba: | L85: =K6 -> Oddychová zóna v areáli ŠD UKF Zobor
C87: Miesto: | L87: =IF(K8="","",K8) -> Dražovská cesta 2, Nitra | AI87: Dátum: | AM87: =IF(AN8= "","",AN8)
C89: Objednávateľ: | L89: =IF(E11= "","",E11) -> Univerzita Konštantína Filozofa v Nitre | AI89: Projektant: | AM89: =IF(E17="","",E17) -> Ing. Slavomír Koiš | AS89: Informatívne údaje z listov zákaziek
C90: Zhotoviteľ: | L90: =IF(E14= "Vyplň údaj","",E14) | AI90: Spracovateľ: | AM90: =IF(E20="","",E20)
C92: Kód | I92: Popis | AG92: Cena bez DPH [EUR] | AN92: Cena s DPH [EUR] | AQ92: Typ | AS92: z toho Ostat._x000D_ náklady [EUR] | AT92: DPH [EUR] | AU92: Normohodiny [h] | AV92: DPH základná [EUR] | AW92: DPH znížená [EUR] | AX92: DPH základná prenesená_x000D_ [EUR] | AY92: DPH znížená prenesená_x000D_ [EUR] | AZ92: Základňa_x000D_ DPH základná | BA92: Základňa_x000D_ DPH znížená | BB92: Základňa_x000D_ DPH zákl. prenesená | BC92: Základňa_x000D_ DPH zníž. prenesená | BD92: Základňa_x000D_ DPH nulová
...

Sheet 01 - E S01 - Demolácie a ...
L2: >> skryté stĺpce << | AT2: {8a105855-58f6-4d18-b8ce-74947de0b00e}
AT3: 0
D4: KRYCÍ LIST ROZPOČTU | M4: v --- nižšie sa nachádzajú doplnkové a pomocné údaje k zostavám --- v | AT4: False
D6: Stavba:
E7: ='Rekapitulácia stavby'!K6 -> Oddychová zóna v areáli ŠD UKF Zobor
D8: Objekt:
E9: 01 - E S01 - Demolácie a asanácie
D11: JKSO: | I11: KS:
D12: Miesto: | F12: Dražovská cesta 2, Nitra | I12: Dátum:
D14: Objednávateľ: | I14: IČO:
E15: Univerzita Konštantína Filozofa v Nitre | I15: IČ DPH:
D17: Zhotoviteľ: | I17: IČO: | J17: ='Rekapitulácia stavby'!AN13 -> Vyplň údaj
E18: ='Rekapitulácia stavby'!E14 -> Vyplň údaj | I18: IČ DPH: | J18: ='Rekapitulácia stavby'!AN14 -> Vyplň údaj
D20: Projektant: | I20: IČO:
E21: Ing. Slavomír Koiš | I21: IČ DPH:
D23: Spracovateľ: | I23: IČO:
E24: V. Civáň | I24: IČ DPH:
D26: Poznámka:
D30: Cena bez DPH | J30: =ROUND(J120, 2) -> 0
F32: Základ dane | I32: Sadzba dane | J32: Výška dane
D33: DPH | E33: základná | F33: =ROUND((SUM(BE120:BE148)), 2) -> 0 | I33: 0.2 | J33: =ROUND(((SUM(BE120:BE148))*I33), 2) -> 0
E34: znížená | F34: =ROUND((SUM(BF120:BF148)), 2) -> 0 | I34: 0.2 | J34: =ROUND(((SUM(BF120:BF148))*I34), 2) -> 0
E35: zákl. prenesená | F35: =ROUND((SUM(BG120:BG148)), 2) -> 0 | I35: 0.2 | J35: =0 -> 0
E36: zníž. prenesená | F36: =ROUND((SUM(BH120:BH148)), 2) -> 0 | I36: 0.2 | J36: =0 -> 0
E37: nulová | F37: =ROUND((SUM(BI120:BI148)), 2) -> 0 | I37: 0 | J37: =0 -> 0
D39: Cena s DPH | G39: v | H39: EUR | J39: =SUM(J30:J37) -> 0
D50: Projektant | G50: Spracovateľ
D61: Dátum a podpis: | F61: Pečiatka | G61: Dátum a podpis: | J61: Pečiatka
D65: Objednávateľ | G65: Zhotoviteľ
D76: Dátum a podpis: | F76: Pečiatka | G76: Dátum a podpis: | J76: Pečiatka
C82: REKAPITULÁCIA ROZPOČTU
C84: Stavba:
E85: =E7 -> Oddychová zóna v areáli ŠD UKF Zobor
C86: Objekt:
E87: =E9 -> 01 - E S01 - Demolácie a asanácie
C89: Miesto: | F89: =F12 -> Dražovská cesta 2, Nitra | I89: Dátum: | J89: =IF(J12="","",J12)
C91: Objednávateľ: | F91: =E15 -> Univerzita Konštantína Filozofa v Nitre | I91: Projektant: | J91: =E21 -> Ing. Slavomír Koiš
C92: Zhotoviteľ: | F92: =IF(E18="","",E18) -> Vyplň údaj | I92: Spracovateľ: | J92: =E24 -> V. Civáň
C94: Kód dielu - Popis | J94: Cena celkom [EUR]
C96: Náklady z rozpočtu | J96: =J120 -> 0 | AU96: -1
...

Sheet 02-SO02 Krajinné úpravy
L2: >> skryté stĺpce << | AT2: {c3f265a0-ed93-49f2-bb31-c36777b8b274}
AT3: 0
D4: KRYCÍ LIST ROZPOČTU | M4: v --- nižšie sa nachádzajú doplnkové a pomocné údaje k zostavám --- v | AT4: False
D6: Stavba:
E7: ='[1]Rekapitulácia stavby'!K6 -> Oddychová zóna v areáli ŠD UKF Zobor
D8: Objekt:
E9: SO 2 - Krajinné úpravy
D11: JKSO: | I11: KS:
D12: Miesto: | F12: Nitra | I12: Dátum:
D14: Objednávateľ: | I14: IČO: | J14: =IF('[1]Rekapitulácia stavby'!AN10="","",'[1]Rekapitulácia stavby'!AN10)
E15: =IF('[1]Rekapitulácia stavby'!E11="","",'[1]Rekapitulácia stavby'!E11) | I15: IČ DPH: | J15: =IF('[1]Rekapitulácia stavby'!AN11="","",'[1]Rekapitulácia stavby'!AN11)
D17: Zhotoviteľ: | I17: IČO: | J17: ='[1]Rekapitulácia stavby'!AN13 -> Vyplň údaj
E18: ='[1]Rekapitulácia stavby'!E14 -> Vyplň údaj | I18: IČ DPH: | J18: ='[1]Rekapitulácia stavby'!AN14 -> Vyplň údaj
D20: Projektant: | I20: IČO:
E21: Rudbeckia | I21: IČ DPH:
D23: Spracovateľ: | I23: IČO: | J23: =IF('[1]Rekapitulácia stavby'!AN19="","",'[1]Rekapitulácia stavby'!AN19)
E24: =IF('[1]Rekapitulácia stavby'!E20="","",'[1]Rekapitulácia stavby'!E20) | I24: IČ DPH: | J24: =IF('[1]Rekapitulácia stavby'!AN20="","",'[1]Rekapitulácia stavby'!AN20)
D26: Poznámka:
D30: Cena bez DPH | J30: =ROUND(J123, 2) -> 0
F32: Základ dane | I32: Sadzba dane | J32: Výška dane
D33: DPH | E33: základná | F33: =ROUND((SUM(BE123:BE213)), 2) -> 0 | I33: 0.2 | J33: =ROUND(((SUM(BE123:BE213))*I33), 2) -> 0
E34: znížená | F34: =ROUND((SUM(BF123:BF213)), 2) -> 0 | I34: 0.2 | J34: =ROUND(((SUM(BF123:BF213))*I34), 2) -> 0
E35: zákl. prenesená | F35: =ROUND((SUM(BG123:BG213)), 2) -> 0 | I35: 0.2 | J35: =0 -> 0
E36: zníž. prenesená | F36: =ROUND((SUM(BH123:BH213)), 2) -> 0 | I36: 0.2 | J36: =0 -> 0
E37: nulová | F37: =ROUND((SUM(BI123:BI213)), 2) -> 0 | I37: 0 | J37: =0 -> 0
D39: Cena s DPH | G39: v | H39: EUR | J39: =SUM(J30:J37) -> 0
D50: Projektant | G50: Spracovateľ
D61: Dátum a podpis: | F61: Pečiatka | G61: Dátum a podpis: | J61: Pečiatka
D65: Objednávateľ | G65: Zhotoviteľ
D76: Dátum a podpis: | F76: Pečiatka | G76: Dátum a podpis: | J76: Pečiatka
C82: REKAPITULÁCIA ROZPOČTU
C84: Stavba:
E85: =E7 -> Oddychová zóna v areáli ŠD UKF Zobor
C86: Objekt:
E87: =E9 -> SO 2 - Krajinné úpravy
C89: Miesto: | F89: =F12 -> Nitra | I89: Dátum: | J89: =IF(J12="","",J12)
C91: Objednávateľ: | F91: =E15 | I91: Projektant: | J91: =E21 -> Rudbeckia
C92: Zhotoviteľ: | F92: =IF(E18="","",E18) -> Vyplň údaj | I92: Spracovateľ: | J92: =E24
C94: Kód dielu - Popis | J94: Cena celkom [EUR]
C96: Náklady z rozpočtu | J96: =J123 -> 0 | AU96: -1
...

Sheet 03-SO3 Komunikácie parčík
A1: ZADANIE S VÝKAZOM VÝMER
A2: Stavba: Oddychová zóna v areáli ŠD UKF Zobor
A3: Objekt: SO 3 Komunikácie - parčík
A5: JKSO: | H5: Dátum:
A7: P.Č. | B7: KCN | C7: Kód položky | D7: Popis | E7: MJ | F7: Množstvo celkom | G7: Jednotková cena zadania | H7: Celková cena zadania
A8: 1 | B8: 2 | C8: 3 | D8: 4 | E8: 5 | F8: 6 | G8: 7 | H8: 8
C10: HSV | D10: Práce a dodávky HSV
C11: 1 | D11: Zemné práce
A12: 1 | B12: 221 | C12: 113107141 | D12: Odstránenie krytu v ploche do 200 m2 asfaltového, hr. vrstvy do 50 mm, -0,09800t | E12: m2 | F12: 16
A13: 2 | B13: 221 | C13: 113206111 | D13: Vytrhanie obrúb betónových, s vybúraním lôžka, z krajníkov alebo obrubníkov stojatých, -0,14500t | E13: m | F13: 18
A14: 3 | B14: 221 | C14: 113307122 | D14: Odstránenie podkladu v ploche do 200 m2 z kameniva hrubého drveného, hr.100 do 200 mm, -0,23500t | E14: m2 | F14: 16
D15: "jest. asf. chodník" 16,0 | F15: 16
A16: 4 | B16: 221 | C16: 113307132 | D16: Odstránenie podkladu v ploche do 200 m2 z betónu prostého, hr. vrstvy 150 do 300 mm, -0,50000t | E16: m2 | F16: 16
A17: 5 | B17: 001 | C17: 131101101 | D17: Výkop nezapaženej jamy v hornine 1-2, do 100 m3 | E17: m3 | F17: 82
D18: "podľa PD výkopy" 82,0 | F18: 82
A19: 6 | B19: 001 | C19: 162201102 | D19: Vodorovné premiestnenie výkopku z horniny 1-4 nad 20-50m | E19: m3 | F19: 10
D20: "pre násyp z výkop. zeminy na medziskl. a späť" 5,0*2 | F20: 10
A21: 7 | B21: 001 | C21: 162301101 | D21: Vodorovné premiestnenie výkopku po spevnenej ceste z horniny tr.1-4 v množstve do 100 m3 na vzdialenosť do 500 m | E21: m3 | F21: 77
D22: "výkopová zemina - násypy" 82,0-5,0 | F22: 77
A23: 8 | B23: 001 | C23: 167101101 | D23: Nakladanie neuľahnutého výkopku z hornín tr.1-4 do 100 m3 | E23: m3 | F23: 5
A24: 9 | B24: 001 | C24: 171101103 | D24: Uloženie sypaniny do násypu súdržnej horniny s mierou zhutnenia nad 96 do 100 % podľa Proctor-Standard | E24: m3 | F24: 5
D25: "podľa PD násypy" 5,0 | F25: 5
A26: 10 | B26: 001 | C26: 171201101 | D26: Uloženie sypaniny do násypov s rozprestretím sypaniny vo vrstvách a s hrubým urovnaním nezhutnených | E26: m3 | F26: 77
D27: "prebytočná zemina" 82,0-5,0 | F27: 77
C28: 5 | D28: Komunikácie
A29: 11 | B29: 231 | C29: 183403161 | D29: Valcovanie v rovine alebo na svahu do 1:5 | E29: m2 | F29: 480
D30: " mlatový chodník- každú vrstvu hr. 40 a 60 mm -3x " 80*2*3 | F30: 480
A31: 12 | B31: 221 | C31: 561121111 | D31: Zhotovenie krytu -mlatový chodník z drveného kameniva hr.40+60 mm | E31: m2 | F31: 160
D32: "mlatový chodník" 80,0*2 | F32: 160
A33: 13 | B33: 583 | C33: 5833155100 | D33: Kamenivo ťažené drobné fr. 0-4 mm | E33: t | F33: 5.76
D34: "mlatový chodník kamenivo hr. 40 mm" 80,0*0,04*1,8 | F34: 5.76
A35: 14 | B35: 583 | C35: 5834331200 | D35: Kamenivo drvené fr. 0-16 mm | E35: t | F35: 8.64
D36: "mlatový chodník kamenivo hr. 60 mm" 80,0*0,06*1,8 | F36: 8.64
A37: 15 | B37: 221 | C37: 564661115 | D37: Podklad z kameniva hrubého drveného veľ. 0-63 mm s rozprestretím a zhutnením po zhutnení hr.240 mm | E37: m2 | F37: 88
D38: "mlatový chodník" 80,0*1,1 | F38: 88
A39: 16 | B39: 221 | C39: 564671111 | D39: Podklad z kameniva hrubého drveného veľ.0-63 mm s rozprestrením a zhutnením, po zhutneni hr.250 mm | E39: m2 | F39: 141.9
D40: "bet. dlažba, chodník" 129,0*1,1 | F40: 141.9
A41: 17 | B41: 221 | C41: 596911112 | D41: Kladenie zámkovej dlažby hr.6cm pre peších vrátane lôžka z kameniva fr, 0-4 mm hr. 30 mm | E41: m2 | F41: 129
A42: 18 | B42: 592 | C42: 5921953430 | D42: Dlažba betónová hr. 6 cm sivá | E42: m2 | F42: 130.29
D43: 129 * 1,01 | F43: 130.29
...

Sheet 04 - E S04 - Architektúra...
L2: >> skryté stĺpce << | AT2: {5cad0a15-933a-458a-9613-66e6fe30679e}
AT3: 0
D4: KRYCÍ LIST ROZPOČTU | M4: v --- nižšie sa nachádzajú doplnkové a pomocné údaje k zostavám --- v | AT4: False
D6: Stavba:
E7: ='[2]Rekapitulácia stavby'!K6 -> Oddychová zóna v areáli ŠD UKF Zobor
D8: Objekt:
E9: SO 4 - Architektúra - mobiliár
D11: JKSO: | I11: KS:
D12: Miesto: | F12: Nitra | I12: Dátum: | J12: ='[2]Rekapitulácia stavby'!AN8 -> 25. 2. 2021
D14: Objednávateľ: | I14: IČO: | J14: =IF('[2]Rekapitulácia stavby'!AN10="","",'[2]Rekapitulácia stavby'!AN10)
E15: =IF('[2]Rekapitulácia stavby'!E11="","",'[2]Rekapitulácia stavby'!E11) | I15: IČ DPH: | J15: =IF('[2]Rekapitulácia stavby'!AN11="","",'[2]Rekapitulácia stavby'!AN11)
D17: Zhotoviteľ: | I17: IČO: | J17: ='[2]Rekapitulácia stavby'!AN13 -> Vyplň údaj
E18: ='[2]Rekapitulácia stavby'!E14 -> Vyplň údaj | I18: IČ DPH: | J18: ='[2]Rekapitulácia stavby'!AN14 -> Vyplň údaj
D20: Projektant: | I20: IČO:
E21: Rudbeckia | I21: IČ DPH:
D23: Spracovateľ: | I23: IČO: | J23: =IF('[2]Rekapitulácia stavby'!AN19="","",'[2]Rekapitulácia stavby'!AN19)
E24: =IF('[2]Rekapitulácia stavby'!E20="","",'[2]Rekapitulácia stavby'!E20) | I24: IČ DPH: | J24: =IF('[2]Rekapitulácia stavby'!AN20="","",'[2]Rekapitulácia stavby'!AN20)
D26: Poznámka:
D30: Cena bez DPH | J30: =ROUND(J119, 2) -> 0
F32: Základ dane | I32: Sadzba dane | J32: Výška dane
D33: DPH | E33: základná | F33: =ROUND((SUM(BE119:BE149)), 2) -> 0 | I33: 0.2 | J33: =ROUND(((SUM(BE119:BE149))*I33), 2) -> 0
E34: znížená | F34: =ROUND((SUM(BF119:BF149)), 2) -> 0 | I34: 0.2 | J34: =ROUND(((SUM(BF119:BF149))*I34), 2) -> 0
E35: zákl. prenesená | F35: =ROUND((SUM(BG119:BG149)), 2) -> 0 | I35: 0.2 | J35: =0 -> 0
E36: zníž. prenesená | F36: =ROUND((SUM(BH119:BH149)), 2) -> 0 | I36: 0.2 | J36: =0 -> 0
E37: nulová | F37: =ROUND((SUM(BI119:BI149)), 2) -> 0 | I37: 0 | J37: =0 -> 0
D39: Cena s DPH | G39: v | H39: EUR | J39: =SUM(J30:J37) -> 0
D50: Projektant | G50: Spracovateľ
D61: Dátum a podpis: | F61: Pečiatka | G61: Dátum a podpis: | J61: Pečiatka
D65: Objednávateľ | G65: Zhotoviteľ
D76: Dátum a podpis: | F76: Pečiatka | G76: Dátum a podpis: | J76: Pečiatka
C82: REKAPITULÁCIA ROZPOČTU
C84: Stavba:
E85: =E7 -> Oddychová zóna v areáli ŠD UKF Zobor
C86: Objekt:
E87: =E9 -> SO 4 - Architektúra - mobiliár
C89: Miesto: | F89: =F12 -> Nitra | I89: Dátum: | J89: =IF(J12="","",J12) -> 25. 2. 2021
C91: Objednávateľ: | F91: =E15 | I91: Projektant: | J91: =E21 -> Rudbeckia
C92: Zhotoviteľ: | F92: =IF(E18="","",E18) -> Vyplň údaj | I92: Spracovateľ: | J92: =E24
C94: Kód dielu - Popis | J94: Cena celkom [EUR]
C96: Náklady z rozpočtu | J96: =J119 -> 0 | AU96: -1
...

Sheet 05 - E S05 - Prístrešok
L2: >> skryté stĺpce << | AT2: {db5d43c7-8197-4b0b-9471-f0083ef0119c}
AT3: 0
D4: KRYCÍ LIST ROZPOČTU | M4: v --- nižšie sa nachádzajú doplnkové a pomocné údaje k zostavám --- v | AT4: False
D6: Stavba:
E7: ='Rekapitulácia stavby'!K6 -> Oddychová zóna v areáli ŠD UKF Zobor
D8: Objekt:
E9: 05 - E S05 - Prístrešok
D11: JKSO: | I11: KS:
D12: Miesto: | F12: Dražovská cesta 2, Nitra | I12: Dátum:
D14: Objednávateľ: | I14: IČO:
E15: Univerzita Konštantína Filozofa v Nitre | I15: IČ DPH:
D17: Zhotoviteľ: | I17: IČO: | J17: ='Rekapitulácia stavby'!AN13 -> Vyplň údaj
E18: ='Rekapitulácia stavby'!E14 -> Vyplň údaj | I18: IČ DPH: | J18: ='Rekapitulácia stavby'!AN14 -> Vyplň údaj
D20: Projektant: | I20: IČO:
E21: Ing. Slavomír Koiš | I21: IČ DPH:
D23: Spracovateľ: | I23: IČO:
E24: V. Civáň | I24: IČ DPH:
D26: Poznámka:
D30: Cena bez DPH | J30: =ROUND(J130, 2) -> 0
F32: Základ dane | I32: Sadzba dane | J32: Výška dane
D33: DPH | E33: základná | F33: =ROUND((SUM(BE130:BE203)), 2) -> 0 | I33: 0.2 | J33: =ROUND(((SUM(BE130:BE203))*I33), 2) -> 0
E34: znížená | F34: =ROUND((SUM(BF130:BF203)), 2) -> 0 | I34: 0.2 | J34: =ROUND(((SUM(BF130:BF203))*I34), 2) -> 0
E35: zákl. prenesená | F35: =ROUND((SUM(BG130:BG203)), 2) -> 0 | I35: 0.2 | J35: =0 -> 0
E36: zníž. prenesená | F36: =ROUND((SUM(BH130:BH203)), 2) -> 0 | I36: 0.2 | J36: =0 -> 0
E37: nulová | F37: =ROUND((SUM(BI130:BI203)), 2) -> 0 | I37: 0 | J37: =0 -> 0
D39: Cena s DPH | G39: v | H39: EUR | J39: =SUM(J30:J37) -> 0
D50: Projektant | G50: Spracovateľ
D61: Dátum a podpis: | F61: Pečiatka | G61: Dátum a podpis: | J61: Pečiatka
D65: Objednávateľ | G65: Zhotoviteľ
D76: Dátum a podpis: | F76: Pečiatka | G76: Dátum a podpis: | J76: Pečiatka
C82: REKAPITULÁCIA ROZPOČTU
C84: Stavba:
E85: =E7 -> Oddychová zóna v areáli ŠD UKF Zobor
C86: Objekt:
E87: =E9 -> 05 - E S05 - Prístrešok
C89: Miesto: | F89: =F12 -> Dražovská cesta 2, Nitra | I89: Dátum: | J89: =IF(J12="","",J12)
C91: Objednávateľ: | F91: =E15 -> Univerzita Konštantína Filozofa v Nitre | I91: Projektant: | J91: =E21 -> Ing. Slavomír Koiš
C92: Zhotoviteľ: | F92: =IF(E18="","",E18) -> Vyplň údaj | I92: Spracovateľ: | J92: =E24 -> V. Civáň
C94: Kód dielu - Popis | J94: Cena celkom [EUR]
C96: Náklady z rozpočtu | J96: =J130 -> 0 | AU96: -1
...

Sheet 06 - E S06 - Osvetlenie (...
L2: >> skryté stĺpce << | AT2: {e9f87a1d-b7db-4262-8a71-f08d24771e93}
AT3: 0
D4: KRYCÍ LIST ROZPOČTU | M4: v --- nižšie sa nachádzajú doplnkové a pomocné údaje k zostavám --- v | AT4: False
D6: Stavba:
E7: ='Rekapitulácia stavby'!K6 -> Oddychová zóna v areáli ŠD UKF Zobor
D8: Objekt:
E9: 06 - E S06 - Osvetlenie ( viď príloha )
D11: JKSO: | I11: KS:
D12: Miesto: | F12: Dražovská cesta 2, Nitra | I12: Dátum:
D14: Objednávateľ: | I14: IČO:
E15: Univerzita Konštantína Filozofa v Nitre | I15: IČ DPH:
D17: Zhotoviteľ: | I17: IČO: | J17: ='Rekapitulácia stavby'!AN13 -> Vyplň údaj
E18: ='Rekapitulácia stavby'!E14 -> Vyplň údaj | I18: IČ DPH: | J18: ='Rekapitulácia stavby'!AN14 -> Vyplň údaj
D20: Projektant: | I20: IČO:
E21: Ing. Slavomír Koiš | I21: IČ DPH:
D23: Spracovateľ: | I23: IČO: | J23: =IF('Rekapitulácia stavby'!AN19="","",'Rekapitulácia stavby'!AN19)
E24: =IF('Rekapitulácia stavby'!E20="","",'Rekapitulácia stavby'!E20) | I24: IČ DPH: | J24: =IF('Rekapitulácia stavby'!AN20="","",'Rekapitulácia stavby'!AN20)
D26: Poznámka:
D30: Cena bez DPH | J30: =ROUND(J118, 2) -> 0
F32: Základ dane | I32: Sadzba dane | J32: Výška dane
D33: DPH | E33: základná | F33: =ROUND((SUM(BE118:BE119)), 2) -> 0 | I33: 0.2 | J33: =ROUND(((SUM(BE118:BE119))*I33), 2) -> 0
E34: znížená | F34: =ROUND((SUM(BF118:BF119)), 2) -> 0 | I34: 0.2 | J34: =ROUND(((SUM(BF118:BF119))*I34), 2) -> 0
E35: zákl. prenesená | F35: =ROUND((SUM(BG118:BG119)), 2) -> 0 | I35: 0.2 | J35: =0 -> 0
E36: zníž. prenesená | F36: =ROUND((SUM(BH118:BH119)), 2) -> 0 | I36: 0.2 | J36: =0 -> 0
E37: nulová | F37: =ROUND((SUM(BI118:BI119)), 2) -> 0 | I37: 0 | J37: =0 -> 0
D39: Cena s DPH | G39: v | H39: EUR | J39: =SUM(J30:J37) -> 0
D50: Projektant | G50: Spracovateľ
D61: Dátum a podpis: | F61: Pečiatka | G61: Dátum a podpis: | J61: Pečiatka
D65: Objednávateľ | G65: Zhotoviteľ
D76: Dátum a podpis: | F76: Pečiatka | G76: Dátum a podpis: | J76: Pečiatka
C82: REKAPITULÁCIA ROZPOČTU
C84: Stavba:
E85: =E7 -> Oddychová zóna v areáli ŠD UKF Zobor
C86: Objekt:
E87: =E9 -> 06 - E S06 - Osvetlenie ( viď príloha )
C89: Miesto: | F89: =F12 -> Dražovská cesta 2, Nitra | I89: Dátum: | J89: =IF(J12="","",J12)
C91: Objednávateľ: | F91: =E15 -> Univerzita Konštantína Filozofa v Nitre | I91: Projektant: | J91: =E21 -> Ing. Slavomír Koiš
C92: Zhotoviteľ: | F92: =IF(E18="","",E18) -> Vyplň údaj | I92: Spracovateľ: | J92: =E24
C94: Kód dielu - Popis | J94: Cena celkom [EUR]
C96: Náklady z rozpočtu | J96: =J118 -> 0 | AU96: -1
...

Sheet 07-E Chodníky v areáli
A1: ZADANIE S VÝKAZOM VÝMER
A2: Stavba: Chodník v areáli ŠD UKF Zobor
A3: Objekt:
A5: JKSO:
A7: P.Č. | B7: KCN | C7: Kód položky | D7: Popis | E7: MJ | F7: Množstvo celkom | G7: Jednotková cena zadania | H7: Celková cena zadania
A8: 1 | B8: 2 | C8: 3 | D8: 4 | E8: 5 | F8: 6 | G8: 7 | H8: 8
C10: HSV | D10: Práce a dodávky HSV
C11: 1 | D11: Zemné práce
A12: 1 | B12: 221 | C12: 113106121 | D12: Rozoberanie dlažby, z betónových dlaždíc, dosiek alebo tvaroviek, -0,13800t | E12: m2 | F12: 40
A13: 2 | B13: 221 | C13: 113107141 | D13: Odstránenie krytu v ploche do 200 m2 asfaltového, hr. vrstvy do 50 mm, -0,09800t | E13: m2 | F13: 198
A14: 3 | B14: 221 | C14: 113307122 | D14: Odstránenie podkladu v ploche do 200 m2 z kameniva hrubého drveného, hr.100 do 200 mm, -0,23500t | E14: m2 | F14: 250
D15: "jest. asf. chodník+ bet. dlažba+bet. chod." 198,0+40+12 | F15: 250
A16: 4 | B16: 221 | C16: 113307132 | D16: Odstránenie podkladu v ploche do 200 m2 z betónu prostého, hr. vrstvy 150 do 300 mm, -0,50000t | E16: m2 | F16: 210
D17: "jest. asf. chodník+bet. chod." 198,0+12,0 | F17: 210
A18: 5 | B18: 001 | C18: 122101401 | D18: Výkop v zemníku na suchu v horninách 1-2, do 100 m3 | E18: m3 | F18: 83
D19: "potreba zeminy pre násypyv rámci areálu" 110,0-27,0 | F19: 83
A20: 6 | B20: 001 | C20: 122101401 | D20: Výkop v zemníku zemín vhodných na zatrávnenie na suchu v horninách 1-2, do 100 m3 | E20: m3 | F20: 63
D21: "zatrávnenie" 315*0,2 | F21: 63
A22: 7 | B22: 001 | C22: 131101101 | D22: Výkop nezapaženej jamy v hornine 1-2, do 100 m3 | E22: m3 | F22: 27
D23: "podľa PD výkopy" 27,0 | F23: 27
A24: 8 | B24: 001 | C24: 162201102 | D24: Vodorovné premiestnenie výkopku z horniny 1-4 nad 20-50m | E24: m3 | F24: 54
D25: "pre násyp z výkop. zeminy na medziskl. a späť" 27*2 | F25: 54
A26: 9 | B26: 001 | C26: 162301101 | D26: Vodorovné premiestnenie výkopku po spevnenej ceste z horniny tr.1-4 v množstve do 100 m3 na vzdialenosť do 500 m | E26: m3 | F26: 83
D27: "potreba zeminy pre násypyv rámci areálu" 110,0-27 | F27: 83
A28: 10 | B28: 001 | C28: 162501102 | D28: Vodorovné premiestnenie výkopku po spevnenej ceste z horniny tr.1-4 v množstve do 100 m3 na vzdialenosť do 3000 m | E28: m3 | F28: 63
D29: " zo zemníka pre zatrávnenie" 63,0 | F29: 63
A30: 11 | B30: 001 | C30: 167101101 | D30: Nakladanie neuľahnutého výkopku z hornín tr.1-4 do 100 m3 | E30: m3 | F30: 27
D31: "z medziskladky výkopov" 27,0 | F31: 27
A32: 12 | B32: 001 | C32: 171101103 | D32: Uloženie sypaniny do násypu súdržnej horniny s mierou zhutnenia nad 96 do 100 % podľa Proctor-Standard | E32: m3 | F32: 110
D33: "podľa PD násypy" 110,0 | F33: 110
A34: 13 | B34: 001 | C34: 171201101 | D34: Uloženie sypaniny do násypov s rozprestretím sypaniny vo vrstvách a s hrubým urovnaním nezhutnených | E34: m3 | F34: 63
D35: "zatrávnenie" 315*0,2 | F35: 63
A36: 14 | B36: 231 | C36: 180402111 | D36: Založenie trávnika parkového výsevom v rovine do 1:5 | E36: m2 | F36: 315
A37: 15 | B37: 005 | C37: 0057211200 | D37: Trávové semeno - parková zmes | E37: kg | F37: 12.6
D38: 315 * 0,04 | F38: 12.6
A39: 16 | B39: 001 | C39: 181201101 | D39: Úprava pláne v násypoch v hornine 1-4 bez zhutnenia | E39: m2 | F39: 315
A40: 17 | B40: 001 | C40: 181301102 | D40: Rozprestretie zeminy v rovine, plocha do 500 m2,hr.do 150 mm | E40: m2 | F40: 315
A41: 18 | B41: 231 | C41: 182001111 | D41: Plošná úprava terénu pri nerovnostiach terénu nad 50-100mm v rovine alebo na svahu do 1:5 | E41: m2 | F41: 315
A42: 19 | B42: 231 | C42: 184807111 | D42: Ochrana stromu debnením pred poškodením stavebnou činnosťou zhotovenie | E42: m2 | F42: 22
A43: 20 | B43: 231 | C43: 184807112 | D43: Ochrana stromu debnením pred poškodením stavebnou činnosťou odstránenie | E43: m2 | F43: 22
...
