Workbook

Sheet Drobné opravy, údržba a poh.sl.
A2: Príloha č. 3 k výzve na predloženie cenovej ponuky " Návratka"
A3: Univerzita Konštantína Filozofa v Nitre, Tr. A. Hlinku 1, 949 74 Nitra
A5: Predmet zákazky: „Vykonávanie drobných opráv, údržby a pohotovostnej služby,
A6: odborných prehliadok a skúšok výťahov, čistenie skiel v šachtách výťahov“
A8: Drobné opravy, údržba a pohotovostná služba - cenová kalkulácia v EUR:
A9: Výťah | B9: Počet mesiacov | C9: Cena bez DPH / cena celkom | D9: Cena s DPH | E9: Spolu bez DPH | F9: SPOLU s DPH
A10: R1 | B10: 12 | D10: =C10*1.2 -> 0 | E10: =B10*C10 -> 0 | F10: =B10*D10 -> 0
A11: R2 | B11: 12 | D11: =C11*1.2 -> 0 | E11: =B11*C11 -> 0 | F11: =B11*D11 -> 0
A12: R3 | B12: 12 | D12: =C12*1.2 -> 0 | E12: =B12*C12 -> 0 | F12: =B12*D12 -> 0
A13: R4 | B13: 12 | D13: =C13*1.2 -> 0 | E13: =B13*C13 -> 0 | F13: =B13*D13 -> 0
A14: R5 | B14: 12 | D14: =C14*1.2 -> 0 | E14: =B14*C14 -> 0 | F14: =B14*D14 -> 0
A15: R6 | B15: 12 | D15: =C15*1.2 -> 0 | E15: =B15*C15 -> 0 | F15: =B15*D15 -> 0
A16: R7 | B16: 12 | D16: =C16*1.2 -> 0 | E16: =B16*C16 -> 0 | F16: =B16*D16 -> 0
A17: ŠD1 | B17: 12 | D17: =C17*1.2 -> 0 | E17: =B17*C17 -> 0 | F17: =B17*D17 -> 0
A18: ŠD2 | B18: 12 | D18: =C18*1.2 -> 0 | E18: =B18*C18 -> 0 | F18: =B18*D18 -> 0
A19: ŠD3 | B19: 12 | D19: =C19*1.2 -> 0 | E19: =B19*C19 -> 0 | F19: =B19*D19 -> 0
A20: ŠD4 | B20: 12 | D20: =C20*1.2 -> 0 | E20: =B20*C20 -> 0 | F20: =B20*D20 -> 0
A21: UJ1 | B21: 12 | D21: =C21*1.2 -> 0 | E21: =B21*C21 -> 0 | F21: =B21*D21 -> 0
... A25: UJ5 | B25: 12 | D25: =C25*1.2 -> 0 | E25: =B25*C25 -> 0 | F25: =B25*D25 -> 0
A26: SPOLU | E26: =SUM(E10:E25) -> 0 | F26: =SUM(F10:F25) -> 0
A27: Poznámka: | E27: Platca DPH*
A28: Vyplniť len žltou farbou označený stĺpec. | E28: Neplatca DPH*
A29: Nemeniť obsah buniek. | E29: * nehodiace sa vyškrtnúť
A33: V................. Dňa.........................
D35: ...............................................................................
D36: podpis oprávenenej osoby

Sheet Odborné prehliadky
A2: Príloha č. 3 k výzve na predloženie cenovej ponuky " Návratka"
A3: Univerzita Konštantína Filozofa v Nitre, Tr. A. Hlinku 1, 949 74 Nitra
A5: Predmet zákazky: „Vykonávanie drobných opráv, údržby a pohotovostnej služby,
A6: odborných prehliadok a skúšok výťahov, čistenie skiel v šachtách výťahov“
A8: Odborné prehliadky - cenová kalkulácia v EUR:
A9: Výťah | B9: Počet prehliadok | C9: Cena bez DPH / cena celkom | D9: Cena s DPH | E9: Spolu bez DPH | F9: SPOLU s DPH
A10: R1 | B10: 4 | D10: =C10*1.2 -> 0 | E10: =B10*C10 -> 0 | F10: =B10*D10 -> 0
A11: R2 | B11: 4 | D11: =C11*1.2 -> 0 | E11: =B11*C11 -> 0 | F11: =B11*D11 -> 0
A12: R3 | B12: 4 | D12: =C12*1.2 -> 0 | E12: =B12*C12 -> 0 | F12: =B12*D12 -> 0
A13: R4 | B13: 4 | D13: =C13*1.2 -> 0 | E13: =B13*C13 -> 0 | F13: =B13*D13 -> 0
A14: R5 | B14: 4 | D14: =C14*1.2 -> 0 | E14: =B14*C14 -> 0 | F14: =B14*D14 -> 0
A15: R6 | B15: 4 | D15: =C15*1.2 -> 0 | E15: =B15*C15 -> 0 | F15: =B15*D15 -> 0
A16: R7 | B16: 4 | D16: =C16*1.2 -> 0 | E16: =B16*C16 -> 0 | F16: =B16*D16 -> 0
A17: ŠD1 | B17: 4 | D17: =C17*1.2 -> 0 | E17: =B17*C17 -> 0 | F17: =B17*D17 -> 0
A18: ŠD2 | B18: 4 | D18: =C18*1.2 -> 0 | E18: =B18*C18 -> 0 | F18: =B18*D18 -> 0
A19: ŠD3 | B19: 4 | D19: =C19*1.2 -> 0 | E19: =B19*C19 -> 0 | F19: =B19*D19 -> 0
A20: ŠD4 | B20: 4 | D20: =C20*1.2 -> 0 | E20: =B20*C20 -> 0 | F20: =B20*D20 -> 0
A21: UJ1 | B21: 2 | D21: =C21*1.2 -> 0 | E21: =B21*C21 -> 0 | F21: =B21*D21 -> 0
... A25: UJ5 | B25: 4 | D25: =C25*1.2 -> 0 | E25: =B25*C25 -> 0 | F25: =B25*D25 -> 0
A26: SPOLU | E26: =SUM(E10:E25) -> 0 | F26: =SUM(F10:F25) -> 0
A27: Poznámka: | E27: Platca DPH*
A28: Vyplniť len žltou farbou označený stĺpec. | E28: Neplatca DPH*
A29: Nemeniť obsah buniek. | E29: * nehodiace sa vyškrtnúť
A33: V................. Dňa.........................
D35: ...............................................................................
D36: podpis oprávenenej osoby

Sheet Odborné skúšky
A2: Príloha č. 3 k výzve na predloženie cenovej ponuky " Návratka"
A3: Univerzita Konštantína Filozofa v Nitre, Tr. A. Hlinku 1, 949 74 Nitra
A5: Predmet zákazky: „Vykonávanie drobných opráv, údržby a pohotovostnej služby,
A6: odborných prehliadok a skúšok výťahov, čistenie skiel v šachtách výťahov“
A8: Odborné skúšky- cenová kalkulácia v EUR:
A9: Výťah | B9: Počet skúšok | C9: Cena bez DPH/ cena celkom | D9: Cena s DPH | E9: Spolu bez DPH | F9: SPOLU s DPH
A10: R7 | B10: 1 | D10: =C10*1.2 -> 0 | E10: =B10*C10 -> 0 | F10: =B10*D10 -> 0
A11: ŠD1 | B11: 1 | D11: =C11*1.2 -> 0 | E11: =B11*C11 -> 0 | F11: =B11*D11 -> 0
A12: ŠD2 | B12: 1 | D12: =C12*1.2 -> 0 | E12: =B12*C12 -> 0 | F12: =B12*D12 -> 0
A13: ŠD3 | B13: 1 | D13: =C13*1.2 -> 0 | E13: =B13*C13 -> 0 | F13: =B13*D13 -> 0
A14: ŠD4 | B14: 1 | D14: =C14*1.2 -> 0 | E14: =B14*C14 -> 0 | F14: =B14*D14 -> 0
A15: UJ3 | B15: 1 | D15: =C15*1.2 -> 0 | E15: =B15*C15 -> 0 | F15: =B15*D15 -> 0
A16: UJ4 | B16: 1 | D16: =C16*1.2 -> 0 | E16: =B16*C16 -> 0 | F16: =B16*D16 -> 0
A17: SPOLU | E17: =SUM(E10:E16) -> 0 | F17: =SUM(F10:F16) -> 0
A18: Poznámka: | E18: Platca DPH*
A19: Vyplniť len žltou farbou označený stĺpec. | E19: Neplatca DPH*
A20: Nemeniť obsah buniek. | E20: * nehodiace sa vyškrtnúť
A24: V................. Dňa.........................
D26: ...............................................................................
D27: podpis oprávenenej osoby

Sheet Opakované úradné skúšky
A2: Príloha č. 3 k výzve na predloženie cenovej ponuky " Návratka"
A3: Univerzita Konštantína Filozofa v Nitre, Tr. A. Hlinku 1, 949 74 Nitra
A5: Predmet zákazky: „Vykonávanie drobných opráv, údržby a pohotovostnej služby,
A6: odborných prehliadok a skúšok výťahov, čistenie skiel v šachtách výťahov“
A8: Opakované úradné skúšky- cenová kalkulácia v EUR:
A9: Výťah | B9: Počet skúšok | C9: Cena bez DPH/ cena celkom | D9: Cena s DPH | E9: Spolu bez DPH | F9: SPOLU s DPH
A10: R1 | B10: 1 | D10: =C10*1.2 -> 0 | E10: =B10*C10 -> 0 | F10: =B10*D10 -> 0
A11: UJ1 | B11: 1 | D11: =C11*1.2 -> 0 | E11: =B11*C11 -> 0 | F11: =B11*D11 -> 0
A12: UJ5 | B12: 1 | D12: =C12*1.2 -> 0 | E12: =B12*C12 -> 0 | F12: =B12*D12 -> 0
A13: SPOLU | E13: =SUM(E10:E12) -> 0 | F13: =SUM(F10:F12) -> 0
A14: Poznámka: | E14: Platca DPH*
A15: Vyplniť len žltou farbou označený stĺpec. | E15: Neplatca DPH*
A16: Nemeniť obsah buniek. | E16: * nehodiace sa vyškrtnúť
A20: V................. Dňa.........................
D22: ...............................................................................
D23: podpis oprávenenej osoby

Sheet Čistenie skiel výťahov
A2: Príloha č. 3 k výzve na predloženie cenovej ponuky " Návratka"
A3: Univerzita Konštantína Filozofa v Nitre, Tr. A. Hlinku 1, 949 74 Nitra
A5: Predmet zákazky: „Vykonávanie drobných opráv, údržby a pohotovostnej služby,
A6: odborných prehliadok a skúšok výťahov, čistenie skiel v šachtách výťahov“
A8: Čistenie skiel v šachtách výťahov - cenová kalkulácia v EUR:
A9: Výťah | B9: m² | C9: Cena bez DPH/ cena celkom | D9: Cena s DPH | E9: Spolu bez DPH | F9: SPOLU s DPH
A10: R2 | B10: 19 | D10: =C10*1.2 -> 0 | E10: =B10*C10 -> 0 | F10: =B10*D10 -> 0
A11: R3 | B11: 38 | D11: =C11*1.2 -> 0 | E11: =B11*C11 -> 0 | F11: =B11*D11 -> 0
A12: R4 | B12: 38 | D12: =C12*1.2 -> 0 | E12: =B12*C12 -> 0 | F12: =B12*D12 -> 0
A13: R5 | B13: 76 | D13: =C13*1.2 -> 0 | E13: =B13*C13 -> 0 | F13: =B13*D13 -> 0
A14: R6 | B14: 53 | D14: =C14*1.2 -> 0 | E14: =B14*C14 -> 0 | F14: =B14*D14 -> 0
A15: R7 | B15: 7 | D15: =C15*1.2 -> 0 | E15: =B15*C15 -> 0 | F15: =B15*D15 -> 0
A16: SPOLU | E16: =SUM(E10:E15) -> 0 | F16: =SUM(F10:F15) -> 0
A17: Poznámka: | E17: Platca DPH*
A18: Vyplniť len žltou farbou označený stĺpec. | E18: Neplatca DPH*
A19: Nemeniť obsah buniek. | E19: * nehodiace sa vyškrtnúť
A23: V................. Dňa.........................
D25: ...............................................................................
D26: podpis oprávenenej osoby

Sheet SPOLU
A2: Príloha č. 3 k výzve na predloženie cenovej ponuky " Návratka"
A3: Univerzita Konštantína Filozofa v Nitre, Tr. A. Hlinku 1, 949 74 Nitra
A5: Predmet zákazky: „Vykonávanie drobných opráv, údržby a pohotovostnej služby,
A6: odborných prehliadok a skúšok výťahov, čistenie skiel v šachtách výťahov“
A8: Celková cena za predmet zákazky v EUR:
A9: Predmet zákazky podľa špecifikácie | E9: Cena za špecifikáciu bez DPH/ cena celkom | F9: Cena za špecifikáciu vrátane DPH
A10: Drobné opravy, údržba a pohotovostná služba | E10: ='Drobné opravy, údržba a poh.sl.'!E26 -> 0 | F10: =E10*1.2 -> 0
A11: Odborné prehliadky | E11: ='Odborné prehliadky'!E26 -> 0 | F11: =E11*1.2 -> 0
A12: Odborné skúšky | E12: ='Odborné skúšky'!E17 -> 0 | F12: =E12*1.2 -> 0
A13: Opakované úradné skúšky | E13: ='Opakované úradné skúšky'!E13 -> 0 | F13: =E13*1.2 -> 0
A14: Čistenie skiel v šachtách výťahov | E14: ='Čistenie skiel výťahov'!E16 -> 0 | F14: =E14*1.2 -> 0
A15: CELKOVÁ CENA | E15: =SUM(E10:E14) -> 0 | F15: =SUM(F10:F14) -> 0
A16: Poznámka: | E16: Platca DPH*
A17: Vyplniť len žltou farbou označený stĺpec. | E17: Neplatca DPH*
A18: Nemeniť obsah buniek. | E18: * nehodiace sa vyškrtnúť
A22: V................. Dňa.........................
D24: ...............................................................................
D25: podpis oprávenenej osoby
