Workbook

Sheet Kryci_list 
F1: Krycí list rozpočtu | W1: 30.126
B2: Stavba Univerzita Konštantísna Filozofa v Nitre
B3: Objekt rekonštrukcia sociálnych zariadení pri Aule a pri posluchárni P2
I4: Ks:
B5: Zákazka: | F5: Spracoval: | I5: Dňa | J5: 07.08.2019
B6: Odberateľ: Univerzita Konštantína Filozofa v Nitre | G6: IČO:
G7: DIČ:
B8: Dodávateľ: | G8: IČO:
G9: DIČ:
B10: Projektant: | D10: Ing. Eva Takácsová | G10: IČO:
G11: DIČ:
B15: A | C15: ZRN | D15: Montáž | E15: Materiál | F15: ZRN spolu | G15: B | H15: Ďalšie náklady
B16: 1 | C16: HSV | G16: 6 | H16: Ostatné náklady | J16: 0
B17: 2 | C17: PSV | G17: 7 | H17: Kompletačná činnosť | J17: ='SO 6728'!Z94 -> 0
B18: 3 | C18: MONT | D18: ='Rekap '!B29 -> 0 | E18: ='Rekap '!C29 -> 0 | F18: ='Rekap '!D29 -> 0 | G18: 8 | H18: HZS | J18: 0
B19: 4 | G19: 9
B20: 5 | C20: Spolu | F20: =SUM(F16:F19) -> 0 | G20: 10 | H20: Spolu | J20: =SUM(J16:J19) -> 0
B21: C | C21: VRN | G21: D | H21: VRN
B22: 11 | C22: Zariadenie staveniska | E22: 0% z [H+P+M] | F22: =((F16*U22*0)+(F17*V22*0)+(F18*W22*0))/100 -> 0 | G22: 16 | H22: Sťažené podmienky dopravy | I22: 0% z [H+P+M] | J22: =((F16*X22*0)+(F17*Y22*0)+(F18*Z22*0))/100 -> 0 | U22: 1 | V22: 1 | W22: 1 | X22: 1 | Y22: 1 | Z22: 1
B23: 12 | C23: Sťažené výrobné podmienky | E23: 0% z [H+P] | F23: =((F16*U23*0)+(F17*V23*0)+(F18*W23*0))/100 -> 0 | G23: 17 | H23: Horské oblasti | I23: 0% z [H+P+M] | J23: =((F16*X23*0)+(F17*Y23*0)+(F18*Z23*0))/100 -> 0 | U23: 1 | V23: 1 | W23: 0 | X23: 1 | Y23: 1 | Z23: 1
B24: 13 | C24: Prevádzkové vplyvy | E24: 0% z [H+P+M] | F24: =((F16*U24*0)+(F17*V24*0)+(F18*W24*0))/100 -> 0 | G24: 18 | H24: Mimostavenisková doprava | I24: 0% z [H+P] | J24: =((F16*X24*0)+(F17*Y24*0)+(F18*Z24*0))/100 -> 0 | U24: 1 | V24: 1 | W24: 1 | X24: 1 | Y24: 1 | Z24: 0
B25: 14 | G25: 19
B26: 15 | G26: 20 | H26: Spolu | J26: =SUM(J22:J25)+SUM(F22:F25) -> 0
C27: Projektant,rozpočtár | G27: E | H27: Celkové náklady
G28: 21 | H28: Súčet riadkov 5,10,15,20 | J28: =F20+J20+F26+J26 -> 0
G29: 22 | H29: DPH 20% z | I29: =J28 -> 0 | J29: =ROUND(((ROUND(I29,2)*20)*1/100),2) -> 0
G30: 23 | H30: DPH 0% z | J30: =ROUND(((ROUND(I30,2)*0)/100),2) -> 0
G31: 24 | H31: Spolu v EUR | J31: =SUM(J28:J30) -> 0
G32: F
D33: Odberateľ | G33: 26 | H33: Dodávateľ

Sheet Rekapitulácia
A2: Rekapitulácia rozpočtu | F2: Sadzby DPH
F3: A | G3: B
A4: Stavba Univerzita Konštantísna Filozofa v Nitre - rekonštrukcia sociálnych zariadení | F4: 0.2 | G4: 0
A6: Názov objektu | B6: ZRN | C6: VRN | D6: HZS | E6: Kompl.čin. | F6: Ost. náklady | G6: Cena
A7: Rekonštrukcia sociálnych zariadení | K7: ='SO 6728'!K94 -> 0 | Q7: 30.126
A8: Celkom bez DPH
A9: DPH 20% z
A10: DPH 0% z
A11: Celkom v EUR

Sheet Krycí list stavby
F1: Krycí list stavby | W1: 30.126
B2: Stavba Univerzita Konštantísna Filozofa v Nitre - rekonštrukcia sociálnych zariadení | G2: Miesto:
G3: Ks:
B5: Zákazka: | F5: Spracoval: | I5: Dňa | J5: 07.08.2019
B6: Odberateľ: Univerzita Konštantína Filozofa v Nitre | G6: IČO:
G7: DIČ:
B8: Dodávateľ: | G8: IČO:
G9: DIČ:
B10: Projektant: | G10: IČO:
G11: DIČ:
B15: A | C15: ZRN | D15: Montáž | E15: Materiál | F15: ZRN spolu | G15: B | H15: Ďalšie náklady
B16: 1 | C16: HSV | D16: ='Kryci_list '!D16 -> 0 | E16: ='Kryci_list '!E16 -> 0 | F16: ='Kryci_list '!F16 -> 0 | G16: 6 | H16: Ostatné náklady | J16: =Rekapitulácia!F8 -> 0
B17: 2 | C17: PSV | D17: ='Kryci_list '!D17 -> 0 | E17: ='Kryci_list '!E17 -> 0 | F17: ='Kryci_list '!F17 -> 0 | G17: 7 | H17: Kompletačná činnosť | J17: =Rekapitulácia!E8 -> 0
B18: 3 | C18: MONT | D18: ='Kryci_list '!D18 -> 0 | E18: ='Kryci_list '!E18 -> 0 | F18: ='Kryci_list '!F18 -> 0 | G18: 8 | H18: HZS | J18: =Rekapitulácia!D8 -> 0
B19: 4 | G19: 9
B20: 5 | C20: Spolu | F20: =SUM(F16:F19) -> 0 | G20: 10 | H20: Spolu | J20: =SUM(J16:J19) -> 0
B21: C | C21: VRN | G21: D | H21: VRN
B22: 11 | C22: Zariadenie staveniska | F22: ='Kryci_list '!F22 -> 0 | G22: 16 | H22: Sťažené podmienky dopravy | J22: ='Kryci_list '!J22 -> 0
B23: 12 | C23: Sťažené výrobné podmienky | F23: ='Kryci_list '!F23 -> 0 | G23: 17 | H23: Horské oblasti | J23: ='Kryci_list '!J23 -> 0
B24: 13 | C24: Prevádzkové vplyvy | F24: ='Kryci_list '!F24 -> 0 | G24: 18 | H24: Mimostavenisková doprava | J24: ='Kryci_list '!J24 -> 0
B25: 14 | G25: 19
B26: 15 | G26: 20 | H26: Spolu | J26: =SUM(J22:J25)+SUM(F22:F25) -> 0
C27: Projektant,rozpočtár | G27: E | H27: Celkové náklady
G28: 21 | H28: Súčet riadkov 5,10,15,20 | J28: =F20+J20+F26+J26 -> 0
G29: 22 | H29: DPH 20% z | I29: =Rekapitulácia!B9 -> 0 | J29: =ROUND(((ROUND(I29,2)*20)/100),2)*1 -> 0
G30: 23 | H30: DPH 0% z | I30: =Rekapitulácia!B10 -> 0 | J30: =ROUND(((ROUND(I30,2)*0)/100),2) -> 0
G31: 24 | H31: Spolu v EUR | J31: =SUM(J28:J30) -> 0
G32: F
D33: Odberateľ | H33: Dodávateľ

Sheet Rekap 
A1: Odberateľ: Univerzita Konštantína Filozofa v Nitre | D1: Spracoval: | W1: 30.126
A2: Projektant: | D2: Ks:
A3: Dodávateľ: | D3: Dátum: 07.08.2019
A4: Stavba Univerzita Konštantísna Filozofa v Nitre - rekonštrukcia sociálnych zariadení
A5: Objekt Rekonštrukcia sociálnych zariadení
A8: Prehľad rozpočtových nákladov
A9: Oddiel | B9: Montáž | C9: Materiál | D9: Spolu | E9: Hmotnosť (T) | F9: Suť (T)
A10: Práce HSV
A11: ZVISLÉ KONŠTRUKCIE
A12: POVRCHOVÉ ÚPRAVY
A13: OSTATNÉ PRÁCE
A14: Práce HSV
A16: Práce PSV
A17: ZDRAVOTECHNIKA
A18: ZTI-ZARIAĎOVACIE PREDMETY
A19: VYKUROVANIE
A20: M-21 ELEKTROMONTÁŽE
A21: DREVOSTAVBY
A22: KOVOVÉ DOPLNKOVÉ KONŠTRUKCIE
... A25: Práce PSV
A31: Celkom v EUR | B31: =SUM(B14+B25) -> 0 | C31: =SUM(C14+C25) -> 0 | D31: =SUM(D14+D25) -> 0

Sheet SO 6728
B1: Odberateľ: Univerzita Konštantína Filozofa v Nitre | E1: Spracoval: | W1: 30.126
B2: Projektant: | E2: Ks:
B3: Dodávateľ: | E3: Dátum: 07.08.2019
B4: Zákazka Univerzita Konštantísna Filozofa v Nitre - rekonštrukcia sociálnych zariadení
B5: Objekt Rekonštrukcia sociálnych zariadení
B7: Prehľad rozpočtových nákladov
A8: Por.č. | B8: Cenník | C8: Kód položky | D8: Názov | E8: Mj | F8: Množstvo | G8: Montáž | H8: Materiál | I8: Cena celkom | P8: Hmotnosť | S8: Suť
D9: Práce HSV
D10: ZVISLÉ KONŠTRUKCIE
A11: 1 | B11: 11/A 1 | C11: 312272120 | D11: Murivo výplňové z tvárnic YTONG hladkých na MC-5 a tenkovrst.,maltu YTONG hr.200 P4-500 | E11: m3 | F11: 1.041 | J11: =ROUND(F11*(N11),2) -> 150.89 | K11: =ROUND(F11*(O11),2) -> 0 | L11: =ROUND(F11*(G11),2) -> 0 | M11: =ROUND(F11*(H11),2) -> 0 | N11: 144.95 | P11: =ROUND(F11*(R11),3) -> 0.987 | R11: 0.94846472 | Z11: 0
A12: 2 | B12: 11/A 1 | C12: 342272102 | D12: Priečky z tvárnic YTONG na MC-5 a tenkovrst.,maltu YTONG hr.100, P2-500 | E12: m2 | F12: 5.096 | J12: =ROUND(F12*(N12),2) -> 85.46 | K12: =ROUND(F12*(O12),2) -> 0 | L12: =ROUND(F12*(G12),2) -> 0 | M12: =ROUND(F12*(H12),2) -> 0 | N12: 16.77 | P12: =ROUND(F12*(R12),3) -> 0.607 | R12: 0.11907968 | Z12: 0
A13: 3 | B13: 11/A 1 | C13: 342948112 | D13: Ukotvenie priečok k murovaným konštrukciam | E13: m | F13: 13.2 | J13: =ROUND(F13*(N13),2) -> 30.23 | K13: =ROUND(F13*(O13),2) -> 0 | L13: =ROUND(F13*(G13),2) -> 0 | M13: =ROUND(F13*(H13),2) -> 0 | N13: 2.29 | P13: =ROUND(F13*(R13),3) -> 0.004 | R13: 0.00032 | Z13: 0
D14: ZVISLÉ KONŠTRUKCIE | L14: =ROUND((SUM(L10:L13))/1,2) -> 0 | M14: =ROUND((SUM(M10:M13))/1,2) -> 0 | P14: =ROUND((SUM(P10:P13))/1,2) -> 1.6 | S14: =ROUND((SUM(S10:S13))/1,2) -> 0
D16: POVRCHOVÉ ÚPRAVY
A17: 4 | B17: 11/A 1 | C17: 612481119 | D17: Potiahnutie vnútorných stien, sklotextílnou mriežkou | E17: m2 | F17: 18.158 | J17: =ROUND(F17*(N17),2) -> 68.27 | K17: =ROUND(F17*(O17),2) -> 0 | L17: =ROUND(F17*(G17),2) -> 0 | M17: =ROUND(F17*(H17),2) -> 0 | N17: 3.76 | P17: =ROUND(F17*(R17),3) -> 0.052 | R17: 0.00288 | Z17: 0
A18: 5 | B18: 14/C 1 | C18: 612421431 | D18: Oprava vnútorných vápenných omietok stien, štukových - po odsekaní vnút. obkladov - pre ozn.1 | E18: m2 | F18: 211.632 | J18: =ROUND(F18*(N18),2) -> 1532.22 | K18: =ROUND(F18*(O18),2) -> 0 | L18: =ROUND(F18*(G18),2) -> 0 | M18: =ROUND(F18*(H18),2) -> 0 | N18: 7.24 | P18: =ROUND(F18*(R18),3) -> 4.023 | R18: 0.01901 | Z18: 0
A19: 6 | B19: 14/C 1 | C19: 632451505 | D19: Opravná a vyrovnávacia hmota, vo vonkajších aj vnútorných priestoroch, hr. 10 mm - pre ozn.1 (P1-P5) | E19: m2 | F19: 48.164 | J19: =ROUND(F19*(N19),2) -> 714.27 | K19: =ROUND(F19*(O19),2) -> 0 | L19: =ROUND(F19*(G19),2) -> 0 | M19: =ROUND(F19*(H19),2) -> 0 | N19: 14.83 | P19: =ROUND(F19*(R19),3) -> 0.744 | R19: 0.01545 | Z19: 0
D20: POVRCHOVÉ ÚPRAVY | L20: =ROUND((SUM(L16:L19))/1,2) -> 0 | M20: =ROUND((SUM(M16:M19))/1,2) -> 0 | P20: =ROUND((SUM(P16:P19))/1,2) -> 4.82 | S20: =ROUND((SUM(S16:S19))/1,2) -> 0
D22: OSTATNÉ PRÁCE
A23: 7 | B23: 13/B 1 | C23: 962031132 | D23: Búranie priečok z tehál pálených, plných alebo dutých hr. do 150 mm, -0,19600t - ozn.4 | E23: m2 | F23: 33.884 | J23: =ROUND(F23*(N23),2) -> 84.03 | K23: =ROUND(F23*(O23),2) -> 0 | L23: =ROUND(F23*(G23),2) -> 0 | M23: =ROUND(F23*(H23),2) -> 0 | N23: 2.48 | S23: =ROUND(F23*(X23),3) -> 6.641 | X23: 0.196 | Z23: 0
A24: 8 | B24: 13/B 1 | C24: 962032231 | D24: Búranie muriva nadzákladového z tehál pálených, vápenopieskových,cementových na maltu, -1,90500t | E24: m3 | F24: 0.599 | J24: =ROUND(F24*(N24),2) -> 13.18 | K24: =ROUND(F24*(O24),2) -> 0 | L24: =ROUND(F24*(G24),2) -> 0 | M24: =ROUND(F24*(H24),2) -> 0 | N24: 22.01 | S24: =ROUND(F24*(X24),3) -> 1.141 | X24: 1.905 | Z24: 0
A25: 9 | B25: 13/B 1 | C25: 965081712 | D25: Búranie dlažieb, bez podklad. lôžka z xylolit., alebo keramických dlaždíc hr. do 10 mm, -0,02000t - ozn.1 (P1-P5) | E25: m2 | F25: 48.164 | J25: =ROUND(F25*(N25),2) -> 89.1 | K25: =ROUND(F25*(O25),2) -> 0 | L25: =ROUND(F25*(G25),2) -> 0 | M25: =ROUND(F25*(H25),2) -> 0 | N25: 1.85 | S25: =ROUND(F25*(X25),3) -> 0.963 | X25: 0.02 | Z25: 0
A26: 10 | B26: 13/B 1 | C26: 968061125 | D26: Vyvesenie alebo zavesenie dreveného dverného krídla do 2 m2 - ozn.7 | E26: kus | F26: 9 | J26: =ROUND(F26*(N26),2) -> 6.03 | K26: =ROUND(F26*(O26),2) -> 0 | L26: =ROUND(F26*(G26),2) -> 0 | M26: =ROUND(F26*(H26),2) -> 0 | N26: 0.67 | Z26: 0
A27: 11 | B27: 13/B 1 | C27: 968063455 | D27: Vybúranie kovových dverových zárubní, -0,08200t - ozn.7 | E27: m2 | F27: 13.002 | J27: =ROUND(F27*(N27),2) -> 60.85 | K27: =ROUND(F27*(O27),2) -> 0 | L27: =ROUND(F27*(G27),2) -> 0 | M27: =ROUND(F27*(H27),2) -> 0 | N27: 4.68 | P27: =ROUND(F27*(R27),3) -> 0.015 | R27: 0.001146 | S27: =ROUND(F27*(X27),3) -> 1.066 | X27: 0.082 | Z27: 0
A28: 12 | B28: 13/B 1 | C28: 978059531 | D28: Odsekanie a odobratie stien z obkladačiek vnútorných nad 2 m2, -0,06800t - ozn.1 | E28: m2 | F28: 262.166 | J28: =ROUND(F28*(N28),2) -> 820.58 | K28: =ROUND(F28*(O28),2) -> 0 | L28: =ROUND(F28*(G28),2) -> 0 | M28: =ROUND(F28*(H28),2) -> 0 | N28: 3.13 | S28: =ROUND(F28*(X28),3) -> 17.827 | X28: 0.068 | Z28: 0
A29: 13 | B29: 13/B 1 | C29: 979011111 | D29: Zvislá doprava sutiny a vybúraných hmôt za prvé podlažie nad alebo pod základným podlažím | E29: t | F29: 27.821806 | J29: =ROUND(F29*(N29),2) -> 232.59 | K29: =ROUND(F29*(O29),2) -> 0 | L29: =ROUND(F29*(G29),2) -> 0 | M29: =ROUND(F29*(H29),2) -> 0 | N29: 8.36 | Z29: 0
A30: 14 | B30: 13/B 1 | C30: 979081111 | D30: Odvoz sutiny a vybúraných hmôt na skládku do 1 km | E30: t | F30: 27.822 | J30: =ROUND(F30*(N30),2) -> 354.17 | K30: =ROUND(F30*(O30),2) -> 0 | L30: =ROUND(F30*(G30),2) -> 0 | M30: =ROUND(F30*(H30),2) -> 0 | N30: 12.73 | Z30: 0
A31: 15 | B31: 13/B 1 | C31: 979081121 | D31: Odvoz sutiny a vybúraných hmôt na skládku za každý ďalší 1 km | E31: t | F31: 139.11 | J31: =ROUND(F31*(N31),2) -> 62.6 | K31: =ROUND(F31*(O31),2) -> 0 | L31: =ROUND(F31*(G31),2) -> 0 | M31: =ROUND(F31*(H31),2) -> 0 | N31: 0.45 | Z31: 0
A32: 16 | B32: 13/B 1 | C32: 979082111 | D32: Vnútrostavenisková doprava sutiny a vybúraných hmôt do 10 m | E32: t | F32: 27.822 | J32: =ROUND(F32*(N32),2) -> 234.82 | K32: =ROUND(F32*(O32),2) -> 0 | L32: =ROUND(F32*(G32),2) -> 0 | M32: =ROUND(F32*(H32),2) -> 0 | N32: 8.44 | Z32: 0
A33: 17 | B33: 13/B 1 | C33: 979082121 | D33: Vnútrostavenisková doprava sutiny a vybúraných hmôt za každých ďalších 5 m | E33: t | F33: 111.288 | J33: =ROUND(F33*(N33),2) -> 105.72 | K33: =ROUND(F33*(O33),2) -> 0 | L33: =ROUND(F33*(G33),2) -> 0 | M33: =ROUND(F33*(H33),2) -> 0 | N33: 0.95 | Z33: 0
A34: 18 | B34: 13/B 1 | C34: 979087313 | D34: Nakladanie vybúraných hmôt na dopravný prostriedok | E34: t | F34: 27.822 | J34: =ROUND(F34*(N34),2) -> 225.08 | K34: =ROUND(F34*(O34),2) -> 0 | L34: =ROUND(F34*(G34),2) -> 0 | M34: =ROUND(F34*(H34),2) -> 0 | N34: 8.09 | Z34: 0
A35: 19 | B35: 13/B 1 | C35: 979089012 | D35: Poplatok za skladovanie - betón, tehly, dlaždice (17 01 ), ostatné - predbežná cena | E35: t | F35: 27.822 | J35: =ROUND(F35*(N35),2) -> 470.19 | K35: =ROUND(F35*(O35),2) -> 0 | L35: =ROUND(F35*(G35),2) -> 0 | M35: =ROUND(F35*(H35),2) -> 0 | N35: 16.9 | Z35: 0
A36: 20 | B36: 766/B 1 | C36: 766691811 | D36: Demontáž parapetných dosiek - ozn.2 | E36: m | F36: 7.8 | J36: =ROUND(F36*(N36),2) -> 21.45 | K36: =ROUND(F36*(O36),2) -> 0 | L36: =ROUND(F36*(G36),2) -> 0 | M36: =ROUND(F36*(H36),2) -> 0 | N36: 2.75 | Z36: 0
D37: OSTATNÉ PRÁCE | L37: =ROUND((SUM(L22:L36))/1,2) -> 0 | M37: =ROUND((SUM(M22:M36))/1,2) -> 0 | P37: =ROUND((SUM(P22:P36))/1,2) -> 0.02 | S37: =ROUND((SUM(S22:S36))/1,2) -> 27.64
D39: Práce HSV | L39: =ROUND((SUM(L9:L38))/2,2) -> 0 | M39: =ROUND((SUM(M9:M38))/2,2) -> 0 | P39: =ROUND((SUM(P9:P38))/2,2) -> 6.44 | S39: =ROUND((SUM(S9:S38))/2,2) -> 27.64
D41: Práce PSV
D42: ZTI-VNÚTORNA KANALIZÁCIA
A43: 21 | B43: R/R 0 | C43: 721.10 | D43: Zdravotechnika - viď samostatný rozpočet | E43: kpl | F43: 1 | J43: =ROUND(F43*(N43),2) -> 34906.33 | K43: =ROUND(F43*(O43),2) -> 0 | L43: =ROUND(F43*(G43),2) -> 0 | M43: =ROUND(F43*(H43),2) -> 0 | N43: 34906.33 | Z43: 0
D44: ZTI-VNÚTORNA KANALIZÁCIA | L44: =ROUND((SUM(L42:L43))/1,2) -> 0 | M44: =ROUND((SUM(M42:M43))/1,2) -> 0 | P44: =ROUND((SUM(P42:P43))/1,2) -> 0 | S44: =ROUND((SUM(S42:S43))/1,2) -> 0
D46: ZTI-ZARIAĎOVACIE PREDMETY
...

Sheet Samostat.rozpočet ZTI
A1: Kontrolný rozpočet
A2: Zdravotechnika
A4: Objekt: Soc.zar.pri aule a posluchárni P2 UKF v Nitre
A6: Pol. | B6: Skrátený popis | C6: Obj.číslo | D6: Mer. | E6: Počet | F6: Jedn. | G6: Cena
D7: jedn. | E7: m.j. | F7: cena | G7: celkom
B8: Dodávka
A9: A. | B9: Zariaďovacie predmety a príslušenstvo
A10: 1a | B10: Umývadlo Quadro Miranit ANMW411 rozmer 600x125x530 | D10: ks | E10: 2
A11: 1b | B11: Umývadlo Quadro s troma miestami na umývanie ANMW430 rozmer 2100x125x530 | D11: ks | E11: 1
A12: 1c | B12: Umývadlo Quadro s dvoma miestami na umývanie ANMW420 rozmer 1400x125x530 | D12: ks | E12: 1
B13: Batéria automatická umývadlová WBS 2.2.A.1-150, 026010-130 | D13: ks | E13: 2
B14: Zápachová uzávierka pre umývadlo Alcaplast A402 | D14: ks | E14: 7
B15: Odtokový ventil s krytkou G1 1/4 B ZANMW900 | D15: ks | E15: 7
B16: Montážny rám pre umývadlo A104/1200 | D16: ks | E16: 7
B17: Pripojovací dvojpolový konektor RAPP 600 mm, 140001-900 | D17: ks | E17: 7
B18: Compact Nofer 12054 FMS batéria, susič rúk, dávkovač mydla | D18: ks | E18: 5
A19: 2 | B19: Pisoár automatický IS Golf 013033-092.V, APIS 1 VS9 Golf | D19: ks | E19: 4
B20: Montážny rám pre pisoár A107/1200 | D20: ks | E20: 4
B21: Transformátor ZAS 230A/6DS.31, 062140-000 | D21: ks | E21: 4
B22: Pripojovací dvojpolový konektor RAPP 600 mm, 140001-900 | D22: ks | E22: 4
A23: 3 | B23: WC závesné Connec s technológiou Aquablade E047901 | D23: ks | E23: 10
B24: Montážny modul Geberit Duofix pre závesné WC 111300005 | D24: ks | E24: 10
B25: Súprava stenových kotiev Geberit 111815001 | D25: ks | E25: 10
B26: Doska zvukovoizolačná s príslušenstvom APM930 | D26: ks | E26: 10
B27: Ovládacie tlačítko Sigma30 biela/lesklý chróm/biela 115883KJ1 | D27: ks | E27: 10
B28: Klozetové sedátko ultra ploché Soft-close E772401 | D28: ks | E28: 10
A29: 4 | B29: Výlevka nástenná Franke | D29: ks | E29: 1
B30: Zápachová uzávierka Alcaplast A441 | D30: ks | E30: 1
B31: Nástenná batéria LOTUS 100 mm - výtok Z 200 mm | D31: ks | E31: 1
B32: Montážny rám pre umývadlo A104/1200 | D32: ks | E32: 1
A33: C. | B33: Armatúry
A34: 1 | B34: Rohový ventil
B35: DN15 | D35: ks | E35: 22
A36: 2 | B36: Prechod oceľ/plasthliník
B37: 1/2"/20 | D37: ks | E37: 5
B38: 3/4"/26 | D38: ks | E38: 2
B39: 1"/32 | D39: ks | E39: 1
B40: 5/4"/40 | D40: ks | E40: 1
A41: D. | B41: Rúrový materiál | I41: Soc. | K41: Poslucharen
A42: 1 | B42: Potrubný rozvod z viacvrstvových plast. rúr Ivar Alpex Duo XS v tyčiach, vrát. tvaroviek | I42: SV | J42: TV | K42: SV | L42: TV
...

Sheet Samostat.rozpočet ÚK
A1: Kontrolný rozpočet
A2: Vykurovanie
A4: Objekt: Soc.zar.pri aule a posluchárni P2 UKF v Nitre
A6: Pol. | B6: Skrátený popis | C6: Obj.č. | D6: Mer. | E6: Počet | F6: j.cena | G6: Cena celkom
D7: jedn. | E7: m.j. | F7: (EUR) | G7: (EUR)
B8: Dodávka | H8: =SUM(G10:G30) -> 0
A9: A | B9: Armatúry
A10: 1 | B10: Termostatická hlavica HEIMEIER K pre verejné priestory 6-28°C | D10: ks | E10: 5
A11: 2 | B11: Regulačné šroubenie HEIMEIER VEKOLUX, DN15 priame | D11: ks | E11: 5
A12: 3 | B12: Prechod oceľ/plasthliník
B13: 1/2"/20 | D13: ks | E13: 2
B14: 1"/32 | D14: ks | E14: 4
A15: B. | B15: Vykurovacie telesá
A16: 1 | B16: Doskové vykurovacie teleso KORAD typ VK
B17: 21VKP-600/800 | D17: ks | E17: 2
B18: 21VKP-600/1200 | D18: ks | E18: 1
B19: 21VKP-900/400 | D19: ks | E19: 1
B20: 21VKP-900/600 | D20: ks | E20: 1
A21: C. | B21: Rúrový materiál
A22: 1 | B22: Potrubný rozvod z viacvrstvových plast. rúr Ivar Alpex Duo XS v tyčiach, vrát. tvaroviek
B23: 16x2,0 | D23: bm | E23: 13
B24: 20x2,0 | D24: bm | E24: 1
B25: 32x3,0 | D25: bm | E25: 12
A26: D. | B26: Izolácia
A27: 1 | B27: Tepelná izolácia potrubí TUBOLIT DG
B28: TL 18 x 13 DG | D28: bm | E28: 13
B29: TL 22 x 13 DG | D29: bm | E29: 1
B30: TL 35 x 20 DG | D30: bm | E30: 12
B31: Montáž | H31: =SUM(G32:G48) -> 0
A32: 1 | B32: Montáť vykurovacích telies | D32: ks | E32: 5
A33: 2 | B33: Montáž potrubného rozvodu z viacvrstvového plastového potrubia IVAR | D33: bm | E33: 26
A34: 3 | B34: Montáž izolácie do DN25 | D34: bm | E34: 26
A35: 4 | B35: Montáž armatúr závitových s dvomi závitmi
B36: do DN15 | D36: ks | E36: 7
B37: DN20-DN25 | D37: ks | E37: 4
A38: 5 | B38: Montáž termostatickej hlavice so vstavaným snímačom | D38: ks | E38: 5
A39: 6 | B39: Hydraulické vyregulovanie VT | D39: ks | E39: 5
A40: 7 | B40: Tlaková skúška | D40: hod | E40: 6
A41: 8 | B41: Prevádzková skúška | D41: hod | E41: 72
A42: 9 | B42: Presun hmôt v objekte do 6m | D42: %
...

Sheet Samostat.rozpočet EI
B1: UKF Nitra, TR A. Hlinku 1, 949 74 Nitra
B2: Rekonštrukcia sociálnych zariadení , Soc. pri aule UKF v Nitre a prednáškovej miestnosti P2
B3: Výkaz výmer
B4: časť Elektroinštalácia
A6: Por. | B6: Predmet dodávky,montáže | E6: Jednotková cena | J6: Jednotk.cena/€ | O6: CELKOM/€
A7: č. | C7: Počet | D7: mj | E7: D+M | F7: index | G7: Dodávka | H7: Montáž | I7: index | N7: Dodávka | O7: Montáž | P7: Celkom
A8: 1 | B8: Elektroinštalácia
A9: 2 | B9: Vypínač 10A/230V na povrch, rad. 1 IP20 +rámiky | C9: 1 | D9: ks | I9: 1
A10: 3 | B10: Senzor pohybu (v podhľade, resp na strope), 230V/10A, IP20 | C10: 15 | D10: ks | I10: 1
A11: 4 | B11: Zásuvka 16A/230V, IP44 +rámiky | C11: 3 | D11: ks | I11: 1
A12: 5 | B12: Rozbočovacia krabica KR68 so svorkovnicou | C12: 10 | D12: ks | I12: 1
A13: 6 | B13: Prístrojová krabica KP67/2 | C13: 20 | D13: ks | I13: 1
A14: 7 | B14: Kábel N2XH-J 3x1,5 | C14: 460 | D14: m | I14: 1
A15: 8 | B15: Kábel N2XH-J 5x1,5 | C15: 50 | D15: m | I15: 1
A16: 9 | B16: Kábel N2XH-J 3x2,5 | C16: 180 | D16: m | I16: 1
A17: 10 | B17: Vodič N2XH 1x25 žltozelený | C17: 80 | D17: m | I17: 1
A18: 11 | B18: Vodič N2XH 1x4 žltozelený | C18: 135 | D18: m | I18: 1
A19: 12 | B19: Protipožiarna upchávka HILTI | C19: 0.2 | D19: m2 | I19: 1
A20: 13 | B20: Svorkovnica vyrovnania potenciálu - Obo bettermann TYP 1809 | C20: 3 | D20: ks | I20: 1
... A25: 18 | B25: Štítky plastové | C25: 1 | D25: kpl | I25: 1
A26: 19 | B26: Celkom elektroinštalácia
A27: 20
A28: 21 | B28: Svietidlá
A29: 22 | B29: Svietidlá A,B.C, - montáž, dodávku rieši investor (architekt) | C29: 25 | D29: ks | I29: 1
A30: 23
A31: 24 | B31: Rozvádzače
A32: 25 | B32: Dozbrojenie rozvádzača, viď PD (vrátane náplne) | C32: 1 | D32: ks | I32: 1
A33: 26 | B33: Celkom rozvádzače
A34: 27
A35: 28 | B35: HZS , Ostatné
A36: 29 | B36: Demontáž existujúcej elektroinštalácie | C36: 1 | D36: kpl | I36: 1
A37: 30 | B37: Funkčné skúšky, zaškolenie obsluhy | C37: 1 | D37: kpl | I37: 1
A38: 31 | B38: Murárska výpomoc - vysprávky | C38: 1 | D38: kpl | I38: 1
A39: 32 | B39: Nešpecifikované výkony a materiál | C39: 1 | D39: kpl | I39: 1
A40: 33 | B40: Odborná prehliadka a odborná skúška | C40: 1 | D40: kpl | I40: 1
A41: 34 | B41: Plošiny, lešenia a ostatná mechanizácia | C41: 1 | D41: kpl | I41: 1
A42: 35 | B42: Prierazy, drážkovanie pre káble do priemeru D29 a ostatné stavebné úkony | C42: 30 | D42: m | I42: 1
A43: 36 | B43: Projektová dokumentácia (projekt skutočného vyhotovenia) | C43: 1 | D43: kpl | I43: 1
A44: 37 | B44: Celkom HZS , ostatné
A45: 38
...
