Workbook

Sheet Rekapitulácia stavby
A1: 2012 | D1: Hárok obsahuje: | K1: 1) Súhrnný list stavby | W1: 2) Rekapitulácia objektov | BA1: 2.0 | BB1: ZAMOK | BT1: False | BU1: False
C2: optimalizované pre tlač zostáv vo formáte A4 - na výšku | AR2: >> skryté stĺpce << | BS2: 0,001 | BT2: 20
BS3: 0,001 | BT3: 20
C4: SÚHRNNÝ LIST STAVBY | AS4: v --- nižšie sa nachádzajú doplnkové a pomocné údaje k zostavám --- v | BE4: Návod na vyplnenie | BS4: 0,001
D5: Kód: | K5: IMPORT(3) | BE5: Meniť je možné iba bunky so žltým podfarbením!_x000D_ _x000D_ 1) na prvom liste Rekapitulácie stavby vyplňte v zostave_x000D_ _x000D_ a) Súhrnný list_x000D_ - údaje o Zhotoviteľovi_x000D_ (prenesú sa do ostatných zostáv aj v iných listoch)_x000D_ _x000D_ b) Rekapitulácia objektov_x000D_ - potrebné Ostatné náklady_x000D_ _x000D_ 2) na vybraných listoch vyplňte v zostave_x000D_ _x000D_ a) Krycí list_x000D_ - údaje o Zhotoviteľovi, pokiaľ sa líšia od údajov o Zhotoviteľovi na Súhrnnom liste_x000D_ (údaje se prenesú do ostatných zostav v danom liste)_x000D_ _x000D_ b) Rekapitulácia rozpočtu_x000D_ - potrebné Ostatné náklady_x000D_ _x000D_ c) Celkové náklady za stavbu_x000D_ - ceny na položkách_x000D_ - množstvo, pokiaľ má žlté podfarbenie_x000D_ - a v prípade potreby poznámku (tá je v skrytom stĺpci) | BS5: 0,001
D6: Stavba: | K6: Stavebné úpravy priestorov bloku B objektu UKF v NItre na Triede A. Hlinku 1, Nitra | BS6: 0,001
D7: JKSO: | AK7: KS: | BS7: 0,001
D8: Miesto: | AK8: Dátum: | AN8: 12. 2. 2018 | BS8: 0,001
BS9: 0,001
D10: Objednávateľ: | AK10: IČO: | BS10: 0,001
E11: UKF v NItre, Trieda A. Hlinku 1, Nitra | AK11: IČO DPH: | BS11: 0,001
BS12: 0,001
D13: Zhotoviteľ: | AK13: IČO: | AN13: Vyplň údaj | BS13: 0,001
E14: Vyplň údaj | AK14: IČO DPH: | AN14: Vyplň údaj | BS14: 0,001
BS15: False
D16: Projektant: | AK16: IČO: | BS16: False
E17: K2 ateliér s.r.o., Nitra | AK17: IČO DPH: | BS17: True
BS18: 0,01
D19: Spracovateľ: | AK19: IČO: | BS19: 0,01
AK20: IČO DPH:
D22: Poznámka:
D26: Náklady z rozpočtov | AK26: =ROUND(AG87,2) -> 0
D27: Ostatné náklady zo súhrnného listu | AK27: =ROUND(AG94,2) -> 0
D29: Cena bez DPH | AK29: =ROUND(AK26+AK27,2) -> 0
D31: DPH | F31: základná | L31: 0.2 | T31: z | W31: =ROUND(AZ87+SUM(CD95:CD99),2) -> 0 | AK31: =ROUND(AV87+SUM(BY95:BY99),2) -> 0
F32: znížená | L32: 0.2 | T32: z | W32: =ROUND(BA87+SUM(CE95:CE99),2) -> 0 | AK32: =ROUND(AW87+SUM(BZ95:BZ99),2) -> 0
F33: zákl. prenesená | L33: 0.2 | T33: z | W33: =ROUND(BB87+SUM(CF95:CF99),2) -> 0 | AK33: 0
F34: zníž. prenesená | L34: 0.2 | T34: z | W34: =ROUND(BC87+SUM(CG95:CG99),2) -> 0 | AK34: 0
F35: nulová | L35: 0 | T35: z | W35: =ROUND(BD87+SUM(CH95:CH99),2) -> 0 | AK35: 0
D37: Cena s DPH | T37: v | X37: EUR | AK37: =SUM(AK29:AK35) -> 0
D49: Projektant | AC49: Spracovateľ
D58: Dátum a podpis: | R58: Pečiatka | AC58: Dátum a podpis: | AM58: Pečiatka
D60: Objednávateľ | AC60: Zhotoviteľ
D69: Dátum a podpis: | R69: Pečiatka | AC69: Dátum a podpis: | AM69: Pečiatka
C76: REKAPITULÁCIA OBJEKTOV STAVBY
C77: Kód: | L77: =K5 -> IMPORT(3)
C78: Stavba: | L78: =K6 -> Stavebné úpravy priestorov bloku B objektu UKF v NItre na Triede A. Hlinku 1, Nitra
C80: Miesto: | L80: =IF(K8="","",K8) | AI80: Dátum: | AM80: =IF(AN8= "","",AN8) -> 12. 2. 2018
C82: Objednávateľ: | L82: =IF(E11= "","",E11) -> UKF v NItre, Trieda A. Hlinku 1, Nitra | AI82: Projektant: | AM82: =IF(E17="","",E17) -> K2 ateliér s.r.o., Nitra | AS82: Informatívne údaje z listov zákaziek
C83: Zhotoviteľ: | L83: =IF(E14= "Vyplň údaj","",E14) | AI83: Spracovateľ: | AM83: =IF(E20="","",E20)
...

Sheet 1 - Stavebné úpravy
D1: Hárok obsahuje: | F1: 1) Krycí list rozpočtu | H1: 2) Rekapitulácia rozpočtu | L1: 3) Rozpočet | O1: Späť na hárok: | S1: Rekapitulácia stavby
C2: optimalizované pre tlač zostáv vo formáte A4 - na výšku | S2: >> skryté stĺpce << | AT2: {c46f2d76-8e46-42cc-ae68-d838923a9e64}
AT3: 0
C4: KRYCÍ LIST ROZPOČTU | T4: v --- nižšie sa nachádzajú doplnkové a pomocné údaje k zostavám --- v | AT4: False
D6: Stavba: | F6: ='Rekapitulácia stavby'!K6 -> Stavebné úpravy priestorov bloku B objektu UKF v NItre na Triede A. Hlinku 1, Nitra
D7: Objekt: | F7: 1 - Stavebné úpravy
D8: JKSO: | M8: KS:
D9: Miesto: | M9: Dátum: | O9: ='Rekapitulácia stavby'!AN8 -> 12. 2. 2018
D11: Objednávateľ: | M11: IČO:
E12: UKF v NItre, Trieda A. Hlinku 1, Nitra | M12: IČO DPH:
D14: Zhotoviteľ: | M14: IČO:
M15: IČO DPH:
D17: Projektant: | M17: IČO:
E18: K2 ateliér s.r.o., Nitra | M18: IČO DPH:
D20: Spracovateľ: | M20: IČO:
M21: IČO DPH:
D23: Poznámka:
D27: Náklady z rozpočtu | M27: =N88 -> 0
D28: Ostatné náklady | M28: =N106 -> 0
D30: Cena bez DPH | M30: =ROUND(M27+M28,2) -> 0
D32: DPH | E32: základná | F32: 0.2 | G32: z | H32: =ROUND((((SUM(BE106:BE113)+SUM(BE131:BE264))+SUM(BE266:BE270))),2) -> 0 | M32: =ROUND(((ROUND((SUM(BE106:BE113)+SUM(BE131:BE264)), 2)*F32)+SUM(BE266:BE270)*F32),2) -> 0
E33: znížená | F33: 0.2 | G33: z | H33: =ROUND((((SUM(BF106:BF113)+SUM(BF131:BF264))+SUM(BF266:BF270))),2) -> 0 | M33: =ROUND(((ROUND((SUM(BF106:BF113)+SUM(BF131:BF264)), 2)*F33)+SUM(BF266:BF270)*F33),2) -> 0
E34: zákl. prenesená | F34: 0.2 | G34: z | H34: =ROUND((((SUM(BG106:BG113)+SUM(BG131:BG264))+SUM(BG266:BG270))),2) -> 0 | M34: 0
E35: zníž. prenesená | F35: 0.2 | G35: z | H35: =ROUND((((SUM(BH106:BH113)+SUM(BH131:BH264))+SUM(BH266:BH270))),2) -> 0 | M35: 0
E36: nulová | F36: 0 | G36: z | H36: =ROUND((((SUM(BI106:BI113)+SUM(BI131:BI264))+SUM(BI266:BI270))),2) -> 0 | M36: 0
D38: Cena s DPH | G38: v | H38: EUR | L38: =SUM(M30:M36) -> 0
D50: Projektant | J50: Spracovateľ
D59: Dátum a podpis: | G59: Pečiatka | J59: Dátum a podpis: | N59: Pečiatka
D61: Objednávateľ | J61: Zhotoviteľ
D70: Dátum a podpis: | G70: Pečiatka | J70: Dátum a podpis: | N70: Pečiatka
C76: REKAPITULÁCIA ROZPOČTU
C78: Stavba: | F78: =F6 -> Stavebné úpravy priestorov bloku B objektu UKF v NItre na Triede A. Hlinku 1, Nitra
C79: Objekt: | F79: =F7 -> 1 - Stavebné úpravy
C81: Miesto: | F81: =F9 | K81: Dátum: | M81: =IF(O9="","",O9) -> 12. 2. 2018
C83: Objednávateľ: | F83: =E12 -> UKF v NItre, Trieda A. Hlinku 1, Nitra | K83: Projektant: | M83: =E18 -> K2 ateliér s.r.o., Nitra
C84: Zhotoviteľ: | F84: =IF(E15="","",E15) | K84: Spracovateľ: | M84: =E21
C86: Kód - Popis | N86: Cena celkom [EUR]
C88: 1) Náklady z rozpočtu | N88: =N131 -> 0 | AU88: -1
D89: HSV - Práce a dodávky HSV | N89: =N132 -> 0
D90: 3 - Zvislé a kompletné konštrukcie | N90: =N133 -> 0
...

Sheet 2 - Vnútorná zdravotechnika
D1: Hárok obsahuje: | F1: 1) Krycí list rozpočtu | H1: 2) Rekapitulácia rozpočtu | L1: 3) Rozpočet | O1: Späť na hárok: | S1: Rekapitulácia stavby
C2: optimalizované pre tlač zostáv vo formáte A4 - na výšku | S2: >> skryté stĺpce << | AT2: {46f94d55-1508-419a-ace8-c080d250cc09}
AT3: 0
C4: KRYCÍ LIST ROZPOČTU | T4: v --- nižšie sa nachádzajú doplnkové a pomocné údaje k zostavám --- v | AT4: False
D6: Stavba: | F6: ='Rekapitulácia stavby'!K6 -> Stavebné úpravy priestorov bloku B objektu UKF v NItre na Triede A. Hlinku 1, Nitra
D7: Objekt: | F7: 2 - Vnútorná zdravotechnika
D8: JKSO: | M8: KS:
D9: Miesto: | M9: Dátum: | O9: ='Rekapitulácia stavby'!AN8 -> 12. 2. 2018
D11: Objednávateľ: | M11: IČO:
E12: UKF v NItre, Trieda A. Hlinku 1, Nitra | M12: IČO DPH:
D14: Zhotoviteľ: | M14: IČO:
M15: IČO DPH:
D17: Projektant: | M17: IČO:
E18: K2 ateliér s.r.o., Nitra | M18: IČO DPH:
D20: Spracovateľ: | M20: IČO:
M21: IČO DPH:
D23: Poznámka:
D27: Náklady z rozpočtu | M27: =N88 -> 0
D28: Ostatné náklady | M28: =N100 -> 0
D30: Cena bez DPH | M30: =ROUND(M27+M28,2) -> 0
D32: DPH | E32: základná | F32: 0.2 | G32: z | H32: =ROUND((((SUM(BE100:BE107)+SUM(BE125:BE180))+SUM(BE182:BE186))),2) -> 0 | M32: =ROUND(((ROUND((SUM(BE100:BE107)+SUM(BE125:BE180)), 2)*F32)+SUM(BE182:BE186)*F32),2) -> 0
E33: znížená | F33: 0.2 | G33: z | H33: =ROUND((((SUM(BF100:BF107)+SUM(BF125:BF180))+SUM(BF182:BF186))),2) -> 0 | M33: =ROUND(((ROUND((SUM(BF100:BF107)+SUM(BF125:BF180)), 2)*F33)+SUM(BF182:BF186)*F33),2) -> 0
E34: zákl. prenesená | F34: 0.2 | G34: z | H34: =ROUND((((SUM(BG100:BG107)+SUM(BG125:BG180))+SUM(BG182:BG186))),2) -> 0 | M34: 0
E35: zníž. prenesená | F35: 0.2 | G35: z | H35: =ROUND((((SUM(BH100:BH107)+SUM(BH125:BH180))+SUM(BH182:BH186))),2) -> 0 | M35: 0
E36: nulová | F36: 0 | G36: z | H36: =ROUND((((SUM(BI100:BI107)+SUM(BI125:BI180))+SUM(BI182:BI186))),2) -> 0 | M36: 0
D38: Cena s DPH | G38: v | H38: EUR | L38: =SUM(M30:M36) -> 0
D50: Projektant | J50: Spracovateľ
D59: Dátum a podpis: | G59: Pečiatka | J59: Dátum a podpis: | N59: Pečiatka
D61: Objednávateľ | J61: Zhotoviteľ
D70: Dátum a podpis: | G70: Pečiatka | J70: Dátum a podpis: | N70: Pečiatka
C76: REKAPITULÁCIA ROZPOČTU
C78: Stavba: | F78: =F6 -> Stavebné úpravy priestorov bloku B objektu UKF v NItre na Triede A. Hlinku 1, Nitra
C79: Objekt: | F79: =F7 -> 2 - Vnútorná zdravotechnika
C81: Miesto: | F81: =F9 | K81: Dátum: | M81: =IF(O9="","",O9) -> 12. 2. 2018
C83: Objednávateľ: | F83: =E12 -> UKF v NItre, Trieda A. Hlinku 1, Nitra | K83: Projektant: | M83: =E18 -> K2 ateliér s.r.o., Nitra
C84: Zhotoviteľ: | F84: =IF(E15="","",E15) | K84: Spracovateľ: | M84: =E21
C86: Kód - Popis | N86: Cena celkom [EUR]
C88: 1) Náklady z rozpočtu | N88: =N125 -> 0 | AU88: -1
D89: HSV - Práce a dodávky HSV | N89: =N126 -> 0
D90: 6 - Úpravy povrchov, podlahy, osadenie | N90: =N127 -> 0
...

Sheet 3 - Elektroinštalácia
D1: Hárok obsahuje: | F1: 1) Krycí list rozpočtu | H1: 2) Rekapitulácia rozpočtu | L1: 3) Rozpočet | O1: Späť na hárok: | S1: Rekapitulácia stavby
C2: optimalizované pre tlač zostáv vo formáte A4 - na výšku | S2: >> skryté stĺpce << | AT2: {c353890f-9373-4ed3-80d0-0a2b79b0a93c}
AT3: 0
C4: KRYCÍ LIST ROZPOČTU | T4: v --- nižšie sa nachádzajú doplnkové a pomocné údaje k zostavám --- v | AT4: False
D6: Stavba: | F6: ='Rekapitulácia stavby'!K6 -> Stavebné úpravy priestorov bloku B objektu UKF v NItre na Triede A. Hlinku 1, Nitra
D7: Objekt: | F7: 3 - Elektroinštalácia
D8: JKSO: | M8: KS:
D9: Miesto: | M9: Dátum: | O9: ='Rekapitulácia stavby'!AN8 -> 12. 2. 2018
D11: Objednávateľ: | M11: IČO:
E12: UKF v NItre, Trieda A. Hlinku 1, Nitra | M12: IČO DPH:
D14: Zhotoviteľ: | M14: IČO:
M15: IČO DPH:
D17: Projektant: | M17: IČO:
E18: K2 ateliér s.r.o., Nitra | M18: IČO DPH:
D20: Spracovateľ: | M20: IČO:
M21: IČO DPH:
D23: Poznámka:
D27: Náklady z rozpočtu | M27: =N88 -> 0
D28: Ostatné náklady | M28: =N96 -> 0
D30: Cena bez DPH | M30: =ROUND(M27+M28,2) -> 0
D32: DPH | E32: základná | F32: 0.2 | G32: z | H32: =ROUND((((SUM(BE96:BE103)+SUM(BE121:BE223))+SUM(BE225:BE229))),2) -> 0 | M32: =ROUND(((ROUND((SUM(BE96:BE103)+SUM(BE121:BE223)), 2)*F32)+SUM(BE225:BE229)*F32),2) -> 0
E33: znížená | F33: 0.2 | G33: z | H33: =ROUND((((SUM(BF96:BF103)+SUM(BF121:BF223))+SUM(BF225:BF229))),2) -> 0 | M33: =ROUND(((ROUND((SUM(BF96:BF103)+SUM(BF121:BF223)), 2)*F33)+SUM(BF225:BF229)*F33),2) -> 0
E34: zákl. prenesená | F34: 0.2 | G34: z | H34: =ROUND((((SUM(BG96:BG103)+SUM(BG121:BG223))+SUM(BG225:BG229))),2) -> 0 | M34: 0
E35: zníž. prenesená | F35: 0.2 | G35: z | H35: =ROUND((((SUM(BH96:BH103)+SUM(BH121:BH223))+SUM(BH225:BH229))),2) -> 0 | M35: 0
E36: nulová | F36: 0 | G36: z | H36: =ROUND((((SUM(BI96:BI103)+SUM(BI121:BI223))+SUM(BI225:BI229))),2) -> 0 | M36: 0
D38: Cena s DPH | G38: v | H38: EUR | L38: =SUM(M30:M36) -> 0
D50: Projektant | J50: Spracovateľ
D59: Dátum a podpis: | G59: Pečiatka | J59: Dátum a podpis: | N59: Pečiatka
D61: Objednávateľ | J61: Zhotoviteľ
D70: Dátum a podpis: | G70: Pečiatka | J70: Dátum a podpis: | N70: Pečiatka
C76: REKAPITULÁCIA ROZPOČTU
C78: Stavba: | F78: =F6 -> Stavebné úpravy priestorov bloku B objektu UKF v NItre na Triede A. Hlinku 1, Nitra
C79: Objekt: | F79: =F7 -> 3 - Elektroinštalácia
C81: Miesto: | F81: =F9 | K81: Dátum: | M81: =IF(O9="","",O9) -> 12. 2. 2018
C83: Objednávateľ: | F83: =E12 -> UKF v NItre, Trieda A. Hlinku 1, Nitra | K83: Projektant: | M83: =E18 -> K2 ateliér s.r.o., Nitra
C84: Zhotoviteľ: | F84: =IF(E15="","",E15) | K84: Spracovateľ: | M84: =E21
C86: Kód - Popis | N86: Cena celkom [EUR]
C88: 1) Náklady z rozpočtu | N88: =N121 -> 0 | AU88: -1
D89: D3 - Materiál | N89: =N122 -> 0
D90: D4 - Dozbrojenie existujúceh RH | N90: =N123 -> 0
...

Sheet 4 - Štrukturovaná kabeláž
D1: Hárok obsahuje: | F1: 1) Krycí list rozpočtu | H1: 2) Rekapitulácia rozpočtu | L1: 3) Rozpočet | O1: Späť na hárok: | S1: Rekapitulácia stavby
C2: optimalizované pre tlač zostáv vo formáte A4 - na výšku | S2: >> skryté stĺpce << | AT2: {17038966-01e5-469a-bfa7-ceac4906a4e9}
AT3: 0
C4: KRYCÍ LIST ROZPOČTU | T4: v --- nižšie sa nachádzajú doplnkové a pomocné údaje k zostavám --- v | AT4: False
D6: Stavba: | F6: ='Rekapitulácia stavby'!K6 -> Stavebné úpravy priestorov bloku B objektu UKF v NItre na Triede A. Hlinku 1, Nitra
D7: Objekt: | F7: 4 - Štrukturovaná kabeláž
D8: JKSO: | M8: KS:
D9: Miesto: | M9: Dátum: | O9: ='Rekapitulácia stavby'!AN8 -> 12. 2. 2018
D11: Objednávateľ: | M11: IČO:
E12: UKF v NItre, Trieda A. Hlinku 1, Nitra | M12: IČO DPH:
D14: Zhotoviteľ: | M14: IČO:
M15: IČO DPH:
D17: Projektant: | M17: IČO:
E18: K2 ateliér s.r.o., Nitra | M18: IČO DPH:
D20: Spracovateľ: | M20: IČO:
M21: IČO DPH:
D23: Poznámka:
D27: Náklady z rozpočtu | M27: =N88 -> 0
D28: Ostatné náklady | M28: =N95 -> 0
D30: Cena bez DPH | M30: =ROUND(M27+M28,2) -> 0
D32: DPH | E32: základná | F32: 0.2 | G32: z | H32: =ROUND((((SUM(BE95:BE102)+SUM(BE120:BE212))+SUM(BE214:BE218))),2) -> 0 | M32: =ROUND(((ROUND((SUM(BE95:BE102)+SUM(BE120:BE212)), 2)*F32)+SUM(BE214:BE218)*F32),2) -> 0
E33: znížená | F33: 0.2 | G33: z | H33: =ROUND((((SUM(BF95:BF102)+SUM(BF120:BF212))+SUM(BF214:BF218))),2) -> 0 | M33: =ROUND(((ROUND((SUM(BF95:BF102)+SUM(BF120:BF212)), 2)*F33)+SUM(BF214:BF218)*F33),2) -> 0
E34: zákl. prenesená | F34: 0.2 | G34: z | H34: =ROUND((((SUM(BG95:BG102)+SUM(BG120:BG212))+SUM(BG214:BG218))),2) -> 0 | M34: 0
E35: zníž. prenesená | F35: 0.2 | G35: z | H35: =ROUND((((SUM(BH95:BH102)+SUM(BH120:BH212))+SUM(BH214:BH218))),2) -> 0 | M35: 0
E36: nulová | F36: 0 | G36: z | H36: =ROUND((((SUM(BI95:BI102)+SUM(BI120:BI212))+SUM(BI214:BI218))),2) -> 0 | M36: 0
D38: Cena s DPH | G38: v | H38: EUR | L38: =SUM(M30:M36) -> 0
D50: Projektant | J50: Spracovateľ
D59: Dátum a podpis: | G59: Pečiatka | J59: Dátum a podpis: | N59: Pečiatka
D61: Objednávateľ | J61: Zhotoviteľ
D70: Dátum a podpis: | G70: Pečiatka | J70: Dátum a podpis: | N70: Pečiatka
C76: REKAPITULÁCIA ROZPOČTU
C78: Stavba: | F78: =F6 -> Stavebné úpravy priestorov bloku B objektu UKF v NItre na Triede A. Hlinku 1, Nitra
C79: Objekt: | F79: =F7 -> 4 - Štrukturovaná kabeláž
C81: Miesto: | F81: =F9 | K81: Dátum: | M81: =IF(O9="","",O9) -> 12. 2. 2018
C83: Objednávateľ: | F83: =E12 -> UKF v NItre, Trieda A. Hlinku 1, Nitra | K83: Projektant: | M83: =E18 -> K2 ateliér s.r.o., Nitra
C84: Zhotoviteľ: | F84: =IF(E15="","",E15) | K84: Spracovateľ: | M84: =E21
C86: Kód - Popis | N86: Cena celkom [EUR]
C88: 1) Náklady z rozpočtu | N88: =N120 -> 0 | AU88: -1
D89: D1 - ŠTRUKTÚROVANÁ KABELÁŽ | N89: =N121 -> 0
D90: D2 - Dozbrojenie existujúceh DR na 2NP | N90: =N122 -> 0
...

Sheet 5 - Systém kontroly vstupu
D1: Hárok obsahuje: | F1: 1) Krycí list rozpočtu | H1: 2) Rekapitulácia rozpočtu | L1: 3) Rozpočet | O1: Späť na hárok: | S1: Rekapitulácia stavby
C2: optimalizované pre tlač zostáv vo formáte A4 - na výšku | S2: >> skryté stĺpce << | AT2: {cba6471b-5070-4fbe-ac29-b10ba051082d}
AT3: 0
C4: KRYCÍ LIST ROZPOČTU | T4: v --- nižšie sa nachádzajú doplnkové a pomocné údaje k zostavám --- v | AT4: False
D6: Stavba: | F6: ='Rekapitulácia stavby'!K6 -> Stavebné úpravy priestorov bloku B objektu UKF v NItre na Triede A. Hlinku 1, Nitra
D7: Objekt: | F7: 5 - Systém kontroly vstupu
D8: JKSO: | M8: KS:
D9: Miesto: | M9: Dátum: | O9: ='Rekapitulácia stavby'!AN8 -> 12. 2. 2018
D11: Objednávateľ: | M11: IČO:
E12: UKF v NItre, Trieda A. Hlinku 1, Nitra | M12: IČO DPH:
D14: Zhotoviteľ: | M14: IČO:
M15: IČO DPH:
D17: Projektant: | M17: IČO:
E18: K2 ateliér s.r.o., Nitra | M18: IČO DPH:
D20: Spracovateľ: | M20: IČO:
M21: IČO DPH:
D23: Poznámka:
D27: Náklady z rozpočtu | M27: =N88 -> 0
D28: Ostatné náklady | M28: =N95 -> 0
D30: Cena bez DPH | M30: =ROUND(M27+M28,2) -> 0
D32: DPH | E32: základná | F32: 0.2 | G32: z | H32: =ROUND((((SUM(BE95:BE102)+SUM(BE120:BE161))+SUM(BE163:BE167))),2) -> 0 | M32: =ROUND(((ROUND((SUM(BE95:BE102)+SUM(BE120:BE161)), 2)*F32)+SUM(BE163:BE167)*F32),2) -> 0
E33: znížená | F33: 0.2 | G33: z | H33: =ROUND((((SUM(BF95:BF102)+SUM(BF120:BF161))+SUM(BF163:BF167))),2) -> 0 | M33: =ROUND(((ROUND((SUM(BF95:BF102)+SUM(BF120:BF161)), 2)*F33)+SUM(BF163:BF167)*F33),2) -> 0
E34: zákl. prenesená | F34: 0.2 | G34: z | H34: =ROUND((((SUM(BG95:BG102)+SUM(BG120:BG161))+SUM(BG163:BG167))),2) -> 0 | M34: 0
E35: zníž. prenesená | F35: 0.2 | G35: z | H35: =ROUND((((SUM(BH95:BH102)+SUM(BH120:BH161))+SUM(BH163:BH167))),2) -> 0 | M35: 0
E36: nulová | F36: 0 | G36: z | H36: =ROUND((((SUM(BI95:BI102)+SUM(BI120:BI161))+SUM(BI163:BI167))),2) -> 0 | M36: 0
D38: Cena s DPH | G38: v | H38: EUR | L38: =SUM(M30:M36) -> 0
D50: Projektant | J50: Spracovateľ
D59: Dátum a podpis: | G59: Pečiatka | J59: Dátum a podpis: | N59: Pečiatka
D61: Objednávateľ | J61: Zhotoviteľ
D70: Dátum a podpis: | G70: Pečiatka | J70: Dátum a podpis: | N70: Pečiatka
C76: REKAPITULÁCIA ROZPOČTU
C78: Stavba: | F78: =F6 -> Stavebné úpravy priestorov bloku B objektu UKF v NItre na Triede A. Hlinku 1, Nitra
C79: Objekt: | F79: =F7 -> 5 - Systém kontroly vstupu
C81: Miesto: | F81: =F9 | K81: Dátum: | M81: =IF(O9="","",O9) -> 12. 2. 2018
C83: Objednávateľ: | F83: =E12 -> UKF v NItre, Trieda A. Hlinku 1, Nitra | K83: Projektant: | M83: =E18 -> K2 ateliér s.r.o., Nitra
C84: Zhotoviteľ: | F84: =IF(E15="","",E15) | K84: Spracovateľ: | M84: =E21
C86: Kód - Popis | N86: Cena celkom [EUR]
C88: 1) Náklady z rozpočtu | N88: =N120 -> 0 | AU88: -1
D89: D1 - POPLACHOVÝ SYSTÉM NARUŠENIA | N89: =N121 -> 0
D90: D2 - Poplachový systém narušenia | N90: =N122 -> 0
...
