Workbook

Sheet Rekapitulácia stavby
A1: 2012 | D1: Hárok obsahuje: | K1: 1) Súhrnný list stavby | W1: 2) Rekapitulácia objektov | BA1: 2.0 | BB1: ZAMOK | BT1: False | BU1: False
C2: optimalizované pre tlač zostáv vo formáte A4 - na výšku | AR2: >> skryté stĺpce << | BS2: 0,001 | BT2: 20
BS3: 0,001 | BT3: 20
C4: SÚHRNNÝ LIST STAVBY | AS4: v --- nižšie sa nachádzajú doplnkové a pomocné údaje k zostavám --- v | BE4: Návod na vyplnenie | BS4: 0,001
D5: Kód: | K5: IMPORT(3) | BE5: Meniť je možné iba bunky so žltým podfarbením!_x000D_ _x000D_ 1) na prvom liste Rekapitulácie stavby vyplňte v zostave_x000D_ _x000D_ a) Súhrnný list_x000D_ - údaje o Zhotoviteľovi_x000D_ (prenesú sa do ostatných zostáv aj v iných listoch)_x000D_ _x000D_ b) Rekapitulácia objektov_x000D_ - potrebné Ostatné náklady_x000D_ _x000D_ 2) na vybraných listoch vyplňte v zostave_x000D_ _x000D_ a) Krycí list_x000D_ - údaje o Zhotoviteľovi, pokiaľ sa líšia od údajov o Zhotoviteľovi na Súhrnnom liste_x000D_ (údaje se prenesú do ostatných zostav v danom liste)_x000D_ _x000D_ b) Rekapitulácia rozpočtu_x000D_ - potrebné Ostatné náklady_x000D_ _x000D_ c) Celkové náklady za stavbu_x000D_ - ceny na položkách_x000D_ - množstvo, pokiaľ má žlté podfarbenie_x000D_ - a v prípade potreby poznámku (tá je v skrytom stĺpci) | BS5: 0,001
D6: Stavba: | K6: Stavebné úpravy priestorov bloku B objektu UKF v NItre na Triede A. Hlinku 1, Nitra | BS6: 0,001
D7: JKSO: | AK7: KS: | BS7: 0,001
D8: Miesto: | AK8: Dátum: | AN8: 12. 2. 2018 | BS8: 0,001
BS9: 0,001
D10: Objednávateľ: | AK10: IČO: | BS10: 0,001
E11: UKF v NItre, Trieda A. Hlinku 1, Nitra | AK11: IČO DPH: | BS11: 0,001
BS12: 0,001
D13: Zhotoviteľ: | AK13: IČO: | AN13: Vyplň údaj | BS13: 0,001
E14: Vyplň údaj | AK14: IČO DPH: | AN14: Vyplň údaj | BS14: 0,001
BS15: False
D16: Projektant: | AK16: IČO: | BS16: False
E17: K2 ateliér s.r.o., Nitra | AK17: IČO DPH: | BS17: True
BS18: 0,01
D19: Spracovateľ: | AK19: IČO: | BS19: 0,01
AK20: IČO DPH:
D22: Poznámka:
D26: Náklady z rozpočtov | AK26: =ROUND(AG87,2) -> 0
D27: Ostatné náklady zo súhrnného listu | AK27: =ROUND(AG94,2) -> 0
D29: Cena bez DPH | AK29: =ROUND(AK26+AK27,2) -> 0
D31: DPH | F31: základná | L31: 0.2 | T31: z | W31: =ROUND(AZ87+SUM(CD95:CD99),2) -> 0 | AK31: =ROUND(AV87+SUM(BY95:BY99),2) -> 0
F32: znížená | L32: 0.2 | T32: z | W32: =ROUND(BA87+SUM(CE95:CE99),2) -> 0 | AK32: =ROUND(AW87+SUM(BZ95:BZ99),2) -> 0
F33: zákl. prenesená | L33: 0.2 | T33: z | W33: =ROUND(BB87+SUM(CF95:CF99),2) -> 0 | AK33: 0
F34: zníž. prenesená | L34: 0.2 | T34: z | W34: =ROUND(BC87+SUM(CG95:CG99),2) -> 0 | AK34: 0
F35: nulová | L35: 0 | T35: z | W35: =ROUND(BD87+SUM(CH95:CH99),2) -> 0 | AK35: 0
D37: Cena s DPH | T37: v | X37: EUR | AK37: =SUM(AK29:AK35) -> 0
D49: Projektant | AC49: Spracovateľ
D58: Dátum a podpis: | R58: Pečiatka | AC58: Dátum a podpis: | AM58: Pečiatka
D60: Objednávateľ | AC60: Zhotoviteľ
D69: Dátum a podpis: | R69: Pečiatka | AC69: Dátum a podpis: | AM69: Pečiatka
C76: REKAPITULÁCIA OBJEKTOV STAVBY
C77: Kód: | L77: =K5 -> IMPORT(3)
C78: Stavba: | L78: =K6 -> Stavebné úpravy priestorov bloku B objektu UKF v NItre na Triede A. Hlinku 1, Nitra
C80: Miesto: | L80: =IF(K8="","",K8) | AI80: Dátum: | AM80: =IF(AN8= "","",AN8) -> 12. 2. 2018
C82: Objednávateľ: | L82: =IF(E11= "","",E11) -> UKF v NItre, Trieda A. Hlinku 1, Nitra | AI82: Projektant: | AM82: =IF(E17="","",E17) -> K2 ateliér s.r.o., Nitra | AS82: Informatívne údaje z listov zákaziek
C83: Zhotoviteľ: | L83: =IF(E14= "Vyplň údaj","",E14) | AI83: Spracovateľ: | AM83: =IF(E20="","",E20)
C85: Kód | I85: Objekt | AG85: Cena bez DPH [EUR] | AN85: Cena s DPH [EUR] | AS85: z toho Ostat._x000D_ náklady [EUR] | AT85: DPH [EUR] | AU85: Normohodiny [h] | AV85: DPH základná [EUR] | AW85: DPH znížená [EUR] | AX85: DPH základná prenesená_x000D_ [EUR] | AY85: DPH znížená prenesená_x000D_ [EUR] | AZ85: Základňa_x000D_ DPH základná | BA85: Základňa_x000D_ DPH znížená | BB85: Základňa_x000D_ DPH zákl. prenesená | BC85: Základňa_x000D_ DPH zníž. prenesená | BD85: Základňa_x000D_ DPH nulová
C87: 1) Náklady z rozpočtov | AG87: =ROUND(SUM(AG88:AG92),2) -> 0 | AN87: =SUM(AG87,AT87) -> 0 | AS87: =ROUND(SUM(AS88:AS92),2) -> 0 | AT87: =ROUND(SUM(AV87:AW87),2) -> 0 | AU87: =ROUND(SUM(AU88:AU92),5) -> 0 | AV87: =ROUND(AZ87*L31,2) -> 0 | AW87: =ROUND(BA87*L32,2) -> 0 | AX87: =ROUND(BB87*L31,2) -> 0 | AY87: =ROUND(BC87*L32,2) -> 0 | AZ87: =ROUND(SUM(AZ88:AZ92),2) -> 0 | BA87: =ROUND(SUM(BA88:BA92),2) -> 0 | BB87: =ROUND(SUM(BB88:BB92),2) -> 0 | BC87: =ROUND(SUM(BC88:BC92),2) -> 0 | BD87: =ROUND(SUM(BD88:BD92),2) -> 0 | BS87: D | BT87: 0 | BU87: ###NOIMPORT### | BV87: IMPORT | BW87: {2dc07bec-23a5-4bfb-8f94-007e8616f509} | BX87: {00000000-0000-0000-0000-000000000000}
A88: / | D88: 1 | J88: Stavebné úpravy | AG88: ='1 - Stavebné úpravy'!M30 -> 0 | AN88: =SUM(AG88,AT88) -> 0 | AS88: ='1 - Stavebné úpravy'!M28 -> 0 | AT88: =ROUND(SUM(AV88:AW88),2) -> 0 | AU88: ='1 - Stavebné úpravy'!W131 -> 0 | AV88: ='1 - Stavebné úpravy'!M32 -> 0 | AW88: ='1 - Stavebné úpravy'!M33 -> 0 | AX88: ='1 - Stavebné úpravy'!M34 -> 0 | AY88: ='1 - Stavebné úpravy'!M35 -> 0 | AZ88: ='1 - Stavebné úpravy'!H32 -> 0 | BA88: ='1 - Stavebné úpravy'!H33 -> 0 | BB88: ='1 - Stavebné úpravy'!H34 -> 0 | BC88: ='1 - Stavebné úpravy'!H35 -> 0 | BD88: ='1 - Stavebné úpravy'!H36 -> 0 | BT88: 1 | BV88: IMPORT | BW88: {c46f2d76-8e46-42cc-ae68-d838923a9e64} | BX88: {2dc07bec-23a5-4bfb-8f94-007e8616f509}
A89: / | D89: 2 | J89: Vnútorná zdravotechnika | AG89: ='2 - Vnútorná zdravotechnika'!M30 -> 0 | AN89: =SUM(AG89,AT89) -> 0 | AS89: ='2 - Vnútorná zdravotechnika'!M28 -> 0 | AT89: =ROUND(SUM(AV89:AW89),2) -> 0 | AU89: ='2 - Vnútorná zdravotechnika'!W125 -> 0 | AV89: ='2 - Vnútorná zdravotechnika'!M32 -> 0 | AW89: ='2 - Vnútorná zdravotechnika'!M33 -> 0 | AX89: ='2 - Vnútorná zdravotechnika'!M34 -> 0 | AY89: ='2 - Vnútorná zdravotechnika'!M35 -> 0 | AZ89: ='2 - Vnútorná zdravotechnika'!H32 -> 0 | BA89: ='2 - Vnútorná zdravotechnika'!H33 -> 0 | BB89: ='2 - Vnútorná zdravotechnika'!H34 -> 0 | BC89: ='2 - Vnútorná zdravotechnika'!H35 -> 0 | BD89: ='2 - Vnútorná zdravotechnika'!H36 -> 0 | BT89: 1 | BV89: IMPORT | BW89: {46f94d55-1508-419a-ace8-c080d250cc09} | BX89: {2dc07bec-23a5-4bfb-8f94-007e8616f509}
A90: / | D90: 3 | J90: Elektroinštalácia | AG90: ='3 - Elektroinštalácia'!M30 -> 0 | AN90: =SUM(AG90,AT90) -> 0 | AS90: ='3 - Elektroinštalácia'!M28 -> 0 | AT90: =ROUND(SUM(AV90:AW90),2) -> 0 | AU90: ='3 - Elektroinštalácia'!W121 -> 0 | AV90: ='3 - Elektroinštalácia'!M32 -> 0 | AW90: ='3 - Elektroinštalácia'!M33 -> 0 | AX90: ='3 - Elektroinštalácia'!M34 -> 0 | AY90: ='3 - Elektroinštalácia'!M35 -> 0 | AZ90: ='3 - Elektroinštalácia'!H32 -> 0 | BA90: ='3 - Elektroinštalácia'!H33 -> 0 | BB90: ='3 - Elektroinštalácia'!H34 -> 0 | BC90: ='3 - Elektroinštalácia'!H35 -> 0 | BD90: ='3 - Elektroinštalácia'!H36 -> 0 | BT90: 1 | BV90: IMPORT | BW90: {c353890f-9373-4ed3-80d0-0a2b79b0a93c} | BX90: {2dc07bec-23a5-4bfb-8f94-007e8616f509}
A91: / | D91: 4 | J91: Štrukturovaná kabeláž | AG91: ='4 - Štrukturovaná kabeláž'!M30 -> 0 | AN91: =SUM(AG91,AT91) -> 0 | AS91: ='4 - Štrukturovaná kabeláž'!M28 -> 0 | AT91: =ROUND(SUM(AV91:AW91),2) -> 0 | AU91: ='4 - Štrukturovaná kabeláž'!W120 -> 0 | AV91: ='4 - Štrukturovaná kabeláž'!M32 -> 0 | AW91: ='4 - Štrukturovaná kabeláž'!M33 -> 0 | AX91: ='4 - Štrukturovaná kabeláž'!M34 -> 0 | AY91: ='4 - Štrukturovaná kabeláž'!M35 -> 0 | AZ91: ='4 - Štrukturovaná kabeláž'!H32 -> 0 | BA91: ='4 - Štrukturovaná kabeláž'!H33 -> 0 | BB91: ='4 - Štrukturovaná kabeláž'!H34 -> 0 | BC91: ='4 - Štrukturovaná kabeláž'!H35 -> 0 | BD91: ='4 - Štrukturovaná kabeláž'!H36 -> 0 | BT91: 1 | BV91: IMPORT | BW91: {17038966-01e5-469a-bfa7-ceac4906a4e9} | BX91: {2dc07bec-23a5-4bfb-8f94-007e8616f509}
A92: / | D92: 5 | J92: Systém kontroly vstupu | AG92: ='5 - Systém kontroly vstupu'!M30 -> 0 | AN92: =SUM(AG92,AT92) -> 0 | AS92: ='5 - Systém kontroly vstupu'!M28 -> 0 | AT92: =ROUND(SUM(AV92:AW92),2) -> 0 | AU92: ='5 - Systém kontroly vstupu'!W120 -> 0 | AV92: ='5 - Systém kontroly vstupu'!M32 -> 0 | AW92: ='5 - Systém kontroly vstupu'!M33 -> 0 | AX92: ='5 - Systém kontroly vstupu'!M34 -> 0 | AY92: ='5 - Systém kontroly vstupu'!M35 -> 0 | AZ92: ='5 - Systém kontroly vstupu'!H32 -> 0 | BA92: ='5 - Systém kontroly vstupu'!H33 -> 0 | BB92: ='5 - Systém kontroly vstupu'!H34 -> 0 | BC92: ='5 - Systém kontroly vstupu'!H35 -> 0 | BD92: ='5 - Systém kontroly vstupu'!H36 -> 0 | BT92: 1 | BV92: IMPORT | BW92: {cba6471b-5070-4fbe-ac29-b10ba051082d} | BX92: {2dc07bec-23a5-4bfb-8f94-007e8616f509}
C94: 2) Ostatné náklady zo súhrnného listu | AG94: =ROUND(SUM(AG95:AG98),2) -> 0 | AN94: =ROUND(SUM(AN95:AN98),2) -> 0 | AS94: Percent. zadanie_x000D_ [% nákladov rozpočtu] | AT94: Zaradenie nákladov | AU94: DPH | AV94: DPH [EUR]
D95: Ostatné náklady | AG95: =ROUND(AG87*AS95,2) -> 0 | AN95: =ROUND(AG95+AV95,2) -> 0 | AS95: 0 | AT95: stavebná časť | AU95: základná | AV95: =ROUND(IF(AU95="základná",AG95*L31,IF(AU95="znížená",AG95*L32,0)),2) -> 0 | BV95: OSTATNENAKLADY | BY95: =IF(AU95="základná",AV95,0) -> 0 | BZ95: =IF(AU95="znížená",AV95,0) -> 0 | CA95: 0 | CB95: 0 | CC95: 0 | CD95: =IF(AU95="základná",AG95,0) -> 0 | CE95: =IF(AU95="znížená",AG95,0) -> 0 | CF95: =IF(AU95="zákl. prenesená",AG95,0) -> 0 | CG95: =IF(AU95="zníž. prenesená",AG95,0) -> 0 | CH95: =IF(AU95="nulová",AG95,0) -> 0 | CI95: =IF(AU95="základná",1,IF(AU95="znížená",2,IF(AU95="zákl. prenesená",4,IF(AU95="zníž. prenesená",5,3)))) -> 1 | CJ95: =IF(AT95="stavebná časť",1,IF(8895="investičná časť",2,3)) -> 1 | CK95: =IF(D95="Vyplň vlastné","","x") -> x
D96: Vyplň vlastné | AG96: =AG87*AS96 -> 0 | AN96: =AG96+AV96 -> 0 | AS96: 0 | AT96: stavebná časť | AU96: základná | AV96: =ROUND(IF(AU96="nulová",0,IF(OR(AU96="základná",AU96="zákl. prenesená"),AG96*L31,AG96*L32)),2) -> 0 | BV96: OSTATNENAKLADYVLASTNE | BY96: =IF(AU96="základná",AV96,0) -> 0 | BZ96: =IF(AU96="znížená",AV96,0) -> 0 | CA96: =IF(AU96="zákl. prenesená",AV96,0) -> 0 | CB96: =IF(AU96="zníž. prenesená",AV96,0) -> 0 | CC96: =IF(AU96="nulová",AV96,0) -> 0 | CD96: =IF(AU96="základná",AG96,0) -> 0 | CE96: =IF(AU96="znížená",AG96,0) -> 0 | CF96: =IF(AU96="zákl. prenesená",AG96,0) -> 0 | CG96: =IF(AU96="zníž. prenesená",AG96,0) -> 0 | CH96: =IF(AU96="nulová",AG96,0) -> 0 | CI96: =IF(AU96="základná",1,IF(AU96="znížená",2,IF(AU96="zákl. prenesená",4,IF(AU96="zníž. prenesená",5,3)))) -> 1 | CJ96: =IF(AT96="stavebná časť",1,IF(8896="investičná časť",2,3)) -> 1 | CK96: =IF(D96="Vyplň vlastné","","x")
D97: Vyplň vlastné | AG97: =AG87*AS97 -> 0 | AN97: =AG97+AV97 -> 0 | AS97: 0 | AT97: stavebná časť | AU97: základná | AV97: =ROUND(IF(AU97="nulová",0,IF(OR(AU97="základná",AU97="zákl. prenesená"),AG97*L31,AG97*L32)),2) -> 0 | BV97: OSTATNENAKLADYVLASTNE | BY97: =IF(AU97="základná",AV97,0) -> 0 | BZ97: =IF(AU97="znížená",AV97,0) -> 0 | CA97: =IF(AU97="zákl. prenesená",AV97,0) -> 0 | CB97: =IF(AU97="zníž. prenesená",AV97,0) -> 0 | CC97: =IF(AU97="nulová",AV97,0) -> 0 | CD97: =IF(AU97="základná",AG97,0) -> 0 | CE97: =IF(AU97="znížená",AG97,0) -> 0 | CF97: =IF(AU97="zákl. prenesená",AG97,0) -> 0 | CG97: =IF(AU97="zníž. prenesená",AG97,0) -> 0 | CH97: =IF(AU97="nulová",AG97,0) -> 0 | CI97: =IF(AU97="základná",1,IF(AU97="znížená",2,IF(AU97="zákl. prenesená",4,IF(AU97="zníž. prenesená",5,3)))) -> 1 | CJ97: =IF(AT97="stavebná časť",1,IF(8897="investičná časť",2,3)) -> 1 | CK97: =IF(D97="Vyplň vlastné","","x")
D98: Vyplň vlastné | AG98: =AG87*AS98 -> 0 | AN98: =AG98+AV98 -> 0 | AS98: 0 | AT98: stavebná časť | AU98: základná | AV98: =ROUND(IF(AU98="nulová",0,IF(OR(AU98="základná",AU98="zákl. prenesená"),AG98*L31,AG98*L32)),2) -> 0 | BV98: OSTATNENAKLADYVLASTNE | BY98: =IF(AU98="základná",AV98,0) -> 0 | BZ98: =IF(AU98="znížená",AV98,0) -> 0 | CA98: =IF(AU98="zákl. prenesená",AV98,0) -> 0 | CB98: =IF(AU98="zníž. prenesená",AV98,0) -> 0 | CC98: =IF(AU98="nulová",AV98,0) -> 0 | CD98: =IF(AU98="základná",AG98,0) -> 0 | CE98: =IF(AU98="znížená",AG98,0) -> 0 | CF98: =IF(AU98="zákl. prenesená",AG98,0) -> 0 | CG98: =IF(AU98="zníž. prenesená",AG98,0) -> 0 | CH98: =IF(AU98="nulová",AG98,0) -> 0 | CI98: =IF(AU98="základná",1,IF(AU98="znížená",2,IF(AU98="zákl. prenesená",4,IF(AU98="zníž. prenesená",5,3)))) -> 1 | CJ98: =IF(AT98="stavebná časť",1,IF(8898="investičná časť",2,3)) -> 1 | CK98: =IF(D98="Vyplň vlastné","","x")
C100: Celkové náklady za stavbu 1) + 2) | AG100: =ROUND(AG87+AG94,2) -> 0 | AN100: =AN87+AN94 -> 0

Sheet 1 - Stavebné úpravy
D1: Hárok obsahuje: | F1: 1) Krycí list rozpočtu | H1: 2) Rekapitulácia rozpočtu | L1: 3) Rozpočet | O1: Späť na hárok: | S1: Rekapitulácia stavby
C2: optimalizované pre tlač zostáv vo formáte A4 - na výšku | S2: >> skryté stĺpce << | AT2: {c46f2d76-8e46-42cc-ae68-d838923a9e64}
AT3: 0
C4: KRYCÍ LIST ROZPOČTU | T4: v --- nižšie sa nachádzajú doplnkové a pomocné údaje k zostavám --- v | AT4: False
D6: Stavba: | F6: ='Rekapitulácia stavby'!K6 -> Stavebné úpravy priestorov bloku B objektu UKF v NItre na Triede A. Hlinku 1, Nitra
D7: Objekt: | F7: 1 - Stavebné úpravy
D8: JKSO: | M8: KS:
D9: Miesto: | M9: Dátum: | O9: ='Rekapitulácia stavby'!AN8 -> 12. 2. 2018
D11: Objednávateľ: | M11: IČO:
E12: UKF v NItre, Trieda A. Hlinku 1, Nitra | M12: IČO DPH:
D14: Zhotoviteľ: | M14: IČO:
M15: IČO DPH:
D17: Projektant: | M17: IČO:
E18: K2 ateliér s.r.o., Nitra | M18: IČO DPH:
D20: Spracovateľ: | M20: IČO:
M21: IČO DPH:
D23: Poznámka:
D27: Náklady z rozpočtu | M27: =N88 -> 0
D28: Ostatné náklady | M28: =N106 -> 0
D30: Cena bez DPH | M30: =ROUND(M27+M28,2) -> 0
D32: DPH | E32: základná | F32: 0.2 | G32: z | H32: =ROUND((((SUM(BE106:BE113)+SUM(BE131:BE264))+SUM(BE266:BE270))),2) -> 0 | M32: =ROUND(((ROUND((SUM(BE106:BE113)+SUM(BE131:BE264)), 2)*F32)+SUM(BE266:BE270)*F32),2) -> 0
E33: znížená | F33: 0.2 | G33: z | H33: =ROUND((((SUM(BF106:BF113)+SUM(BF131:BF264))+SUM(BF266:BF270))),2) -> 0 | M33: =ROUND(((ROUND((SUM(BF106:BF113)+SUM(BF131:BF264)), 2)*F33)+SUM(BF266:BF270)*F33),2) -> 0
E34: zákl. prenesená | F34: 0.2 | G34: z | H34: =ROUND((((SUM(BG106:BG113)+SUM(BG131:BG264))+SUM(BG266:BG270))),2) -> 0 | M34: 0
E35: zníž. prenesená | F35: 0.2 | G35: z | H35: =ROUND((((SUM(BH106:BH113)+SUM(BH131:BH264))+SUM(BH266:BH270))),2) -> 0 | M35: 0
E36: nulová | F36: 0 | G36: z | H36: =ROUND((((SUM(BI106:BI113)+SUM(BI131:BI264))+SUM(BI266:BI270))),2) -> 0 | M36: 0
D38: Cena s DPH | G38: v | H38: EUR | L38: =SUM(M30:M36) -> 0
D50: Projektant | J50: Spracovateľ
D59: Dátum a podpis: | G59: Pečiatka | J59: Dátum a podpis: | N59: Pečiatka
D61: Objednávateľ | J61: Zhotoviteľ
D70: Dátum a podpis: | G70: Pečiatka | J70: Dátum a podpis: | N70: Pečiatka
C76: REKAPITULÁCIA ROZPOČTU
C78: Stavba: | F78: =F6 -> Stavebné úpravy priestorov bloku B objektu UKF v NItre na Triede A. Hlinku 1, Nitra
C79: Objekt: | F79: =F7 -> 1 - Stavebné úpravy
C81: Miesto: | F81: =F9 | K81: Dátum: | M81: =IF(O9="","",O9) -> 12. 2. 2018
C83: Objednávateľ: | F83: =E12 -> UKF v NItre, Trieda A. Hlinku 1, Nitra | K83: Projektant: | M83: =E18 -> K2 ateliér s.r.o., Nitra
C84: Zhotoviteľ: | F84: =IF(E15="","",E15) | K84: Spracovateľ: | M84: =E21
C86: Kód - Popis | N86: Cena celkom [EUR]
C88: 1) Náklady z rozpočtu | N88: =N131 -> 0 | AU88: -1
D89: HSV - Práce a dodávky HSV | N89: =N132 -> 0
D90: 3 - Zvislé a kompletné konštrukcie | N90: =N133 -> 0
D91: 6 - Úpravy povrchov, podlahy, osadenie | N91: =N137 -> 0
D92: 9 - Ostatné konštrukcie a práce-búranie | N92: =N154 -> 0
D93: 99 - Presun hmôt HSV | N93: =N169 -> 0
D94: PSV - Práce a dodávky PSV | N94: =N171 -> 0
D95: 733 - Ústredné kúrenie, rozvodné potrubie | N95: =N172 -> 0
D96: 735 - Ústredné kúrenie, vykurov. telesá | N96: =N177 -> 0
D97: 763 - Konštrukcie | N97: =N188 -> 0
D98: 766 - Konštrukcie stolárske | N98: =N195 -> 0
D99: 767 - Konštrukcie doplnkové kovové | N99: =N225 -> 0
D100: 775 - Podlahy vlysové a parketové | N100: =N231 -> 0
D101: 776 - Podlahy povlakové | N101: =N235 -> 0
D102: 781 - Dokončovacie práce a obklady | N102: =N249 -> 0
D103: 783 - Dokončovacie práce | N103: =N254 -> 0
D104: VP - Práce naviac | N104: =N265 -> 0
C106: 2) Ostatné náklady | N106: =ROUND(N107+N108+N109+N110+N111+N112,2) -> 0 | U106: DPH
D107: GZS | N107: =ROUND(N88*T107,2) -> 0 | U107: znížená | AY107: VRN | BE107: =IF(U107="základná",N107,0) -> 0 | BF107: =IF(U107="znížená",N107,0) -> 0 | BG107: =IF(U107="zákl. prenesená",N107,0) -> 0 | BH107: =IF(U107="zníž. prenesená",N107,0) -> 0 | BI107: =IF(U107="nulová",N107,0) -> 0 | BJ107: 2
D108: Mimostaven. doprava | N108: =ROUND(N88*T108,2) -> 0 | U108: znížená | AY108: VRN | BE108: =IF(U108="základná",N108,0) -> 0 | BF108: =IF(U108="znížená",N108,0) -> 0 | BG108: =IF(U108="zákl. prenesená",N108,0) -> 0 | BH108: =IF(U108="zníž. prenesená",N108,0) -> 0 | BI108: =IF(U108="nulová",N108,0) -> 0 | BJ108: 2
D109: Sťažené podmienky | N109: =ROUND(N88*T109,2) -> 0 | U109: znížená | AY109: VRN | BE109: =IF(U109="základná",N109,0) -> 0 | BF109: =IF(U109="znížená",N109,0) -> 0 | BG109: =IF(U109="zákl. prenesená",N109,0) -> 0 | BH109: =IF(U109="zníž. prenesená",N109,0) -> 0 | BI109: =IF(U109="nulová",N109,0) -> 0 | BJ109: 2
D110: Vplyv prostredia | N110: =ROUND(N88*T110,2) -> 0 | U110: znížená | AY110: VRN | BE110: =IF(U110="základná",N110,0) -> 0 | BF110: =IF(U110="znížená",N110,0) -> 0 | BG110: =IF(U110="zákl. prenesená",N110,0) -> 0 | BH110: =IF(U110="zníž. prenesená",N110,0) -> 0 | BI110: =IF(U110="nulová",N110,0) -> 0 | BJ110: 2
D111: Klimatické vplyvy | N111: =ROUND(N88*T111,2) -> 0 | U111: znížená | AY111: VRN | BE111: =IF(U111="základná",N111,0) -> 0 | BF111: =IF(U111="znížená",N111,0) -> 0 | BG111: =IF(U111="zákl. prenesená",N111,0) -> 0 | BH111: =IF(U111="zníž. prenesená",N111,0) -> 0 | BI111: =IF(U111="nulová",N111,0) -> 0 | BJ111: 2
D112: Kompletačná činnosť | N112: =ROUND(N88*T112,2) -> 0 | U112: znížená | AY112: KOMPLETACNA | BE112: =IF(U112="základná",N112,0) -> 0 | BF112: =IF(U112="znížená",N112,0) -> 0 | BG112: =IF(U112="zákl. prenesená",N112,0) -> 0 | BH112: =IF(U112="zníž. prenesená",N112,0) -> 0 | BI112: =IF(U112="nulová",N112,0) -> 0 | BJ112: 2
C114: Celkové náklady za stavbu 1) + 2) | L114: =ROUND(SUM(N88+N106),2) -> 0
C120: ROZPOČET
C122: Stavba: | F122: =F6 -> Stavebné úpravy priestorov bloku B objektu UKF v NItre na Triede A. Hlinku 1, Nitra
C123: Objekt: | F123: =F7 -> 1 - Stavebné úpravy
C125: Miesto: | F125: =F9 | K125: Dátum: | M125: =IF(O9="","",O9) -> 12. 2. 2018
C127: Objednávateľ: | F127: =E12 -> UKF v NItre, Trieda A. Hlinku 1, Nitra | K127: Projektant: | M127: =E18 -> K2 ateliér s.r.o., Nitra
C128: Zhotoviteľ: | F128: =IF(E15="","",E15) | K128: Spracovateľ: | M128: =E21
C130: PČ | D130: Typ | E130: Kód | F130: Popis | J130: MJ | K130: Množstvo | L130: J.cena [EUR] | N130: Cena celkom [EUR] | T130: Poznámka | U130: DPH | V130: J. Nh [h] | W130: Nh celkom [h] | X130: J. hmotnosť_x000D_ [t] | Y130: Hmotnosť_x000D_ celkom [t] | Z130: J. suť [t] | AA130: Suť Celkom [t]
C131: Náklady z rozpočtu | N131: =BK131 -> 0 | W131: =W132+W171+W265 -> 0 | Y131: =Y132+Y171+Y265 -> 92.628614 | AA131: =AA132+AA171+AA265 -> 230.04964 | AT131: D | AU131: -1 | BK131: =BK132+BK171+BK265 -> 0
D132: HSV - Práce a dodávky HSV | N132: =BK132 -> 0 | W132: =W133+W137+W154+W169 -> 0 | Y132: =Y133+Y137+Y154+Y169 -> 67.669586 | AA132: =AA133+AA137+AA154+AA169 -> 225.11826 | AR132: 1 | AT132: D | AU132: 0 | AY132: ROZPOCET | BK132: =BK133+BK137+BK154+BK169 -> 0
D133: 3 - Zvislé a kompletné konštrukcie | N133: =BK133 -> 0 | W133: =SUM(W134:W136) -> 0 | Y133: =SUM(Y134:Y136) -> 9.0212 | AA133: =SUM(AA134:AA136) -> 0 | AR133: 1 | AT133: D | AU133: 1 | AY133: ROZPOCET | BK133: =SUM(BK134:BK136) -> 0
C134: 1 | D134: K | E134: 317162132 | F134: Keramický preklad POROTHERM 23,8, šírky 70 mm, výšky 238 mm, dĺžky 1250 mm | J134: ks | K134: 32 | L134: 0 | N134: =ROUND(L134*K134,3) -> 0 | U134: znížená | W134: =V134*K134 -> 0 | X134: 0.04884 | Y134: =X134*K134 -> 1.56288 | Z134: 0 | AA134: =Z134*K134 -> 0 | AR134: 4 | AT134: K | AU134: 2 | AY134: ROZPOCET | BE134: =IF(U134="základná",N134,0) -> 0 | BF134: =IF(U134="znížená",N134,0) -> 0 | BG134: =IF(U134="zákl. prenesená",N134,0) -> 0 | BH134: =IF(U134="zníž. prenesená",N134,0) -> 0 | BI134: =IF(U134="nulová",N134,0) -> 0 | BJ134: 2 | BK134: =ROUND(L134*K134,3) -> 0 | BL134: 4 | BM134: -802584253
C135: 2 | D135: K | E135: 319202331 | F135: Vyrovnanie nerovného povrchu bez osekania tehál hr.80-150mm | J135: m2 | K135: 20 | L135: 0 | N135: =ROUND(L135*K135,3) -> 0 | U135: znížená | W135: =V135*K135 -> 0 | X135: 0.13162 | Y135: =X135*K135 -> 2.6324 | Z135: 0 | AA135: =Z135*K135 -> 0 | AR135: 4 | AT135: K | AU135: 2 | AY135: ROZPOCET | BE135: =IF(U135="základná",N135,0) -> 0 | BF135: =IF(U135="znížená",N135,0) -> 0 | BG135: =IF(U135="zákl. prenesená",N135,0) -> 0 | BH135: =IF(U135="zníž. prenesená",N135,0) -> 0 | BI135: =IF(U135="nulová",N135,0) -> 0 | BJ135: 2 | BK135: =ROUND(L135*K135,3) -> 0 | BL135: 4 | BM135: 1794207604
C136: 3 | D136: K | E136: 340238212 | F136: Zamurovanie otvoru s plochou do 1 m2 tehlami pálenými v stenách hr. nad 100 mm | J136: m2 | K136: 17.6 | L136: 0 | N136: =ROUND(L136*K136,3) -> 0 | U136: znížená | W136: =V136*K136 -> 0 | X136: 0.2742 | Y136: =X136*K136 -> 4.82592 | Z136: 0 | AA136: =Z136*K136 -> 0 | AR136: 4 | AT136: K | AU136: 2 | AY136: ROZPOCET | BE136: =IF(U136="základná",N136,0) -> 0 | BF136: =IF(U136="znížená",N136,0) -> 0 | BG136: =IF(U136="zákl. prenesená",N136,0) -> 0 | BH136: =IF(U136="zníž. prenesená",N136,0) -> 0 | BI136: =IF(U136="nulová",N136,0) -> 0 | BJ136: 2 | BK136: =ROUND(L136*K136,3) -> 0 | BL136: 4 | BM136: 1153098582
D137: 6 - Úpravy povrchov, podlahy, osadenie | N137: =BK137 -> 0 | W137: =SUM(W138:W153) -> 0 | Y137: =SUM(Y138:Y153) -> 55.88496 | AA137: =SUM(AA138:AA153) -> 178.554 | AR137: 1 | AT137: D | AU137: 1 | AY137: ROZPOCET | BK137: =SUM(BK138:BK153) -> 0
C138: 4 | D138: K | E138: 612409991 | F138: Začistenie omietok (s dodaním hmoty) okolo okien, dverí,podláh, obkladov atď. | J138: m | K138: 200 | L138: 0 | N138: =ROUND(L138*K138,3) -> 0 | U138: znížená | W138: =V138*K138 -> 0 | X138: 0.0028 | Y138: =X138*K138 -> 0.56 | Z138: 0 | AA138: =Z138*K138 -> 0 | AR138: 4 | AT138: K | AU138: 2 | AY138: ROZPOCET | BE138: =IF(U138="základná",N138,0) -> 0 | BF138: =IF(U138="znížená",N138,0) -> 0 | BG138: =IF(U138="zákl. prenesená",N138,0) -> 0 | BH138: =IF(U138="zníž. prenesená",N138,0) -> 0 | BI138: =IF(U138="nulová",N138,0) -> 0 | BJ138: 2 | BK138: =ROUND(L138*K138,3) -> 0 | BL138: 4 | BM138: 248730389
C139: 5 | D139: K | E139: 612481119 | F139: Potiahnutie podláh sklotextílnou mriežkou s celoplošným prilepením | J139: m2 | K139: 40 | L139: 0 | N139: =ROUND(L139*K139,3) -> 0 | U139: znížená | W139: =V139*K139 -> 0 | X139: 0.00416 | Y139: =X139*K139 -> 0.1664 | Z139: 0 | AA139: =Z139*K139 -> 0 | AR139: 4 | AT139: K | AU139: 2 | AY139: ROZPOCET | BE139: =IF(U139="základná",N139,0) -> 0 | BF139: =IF(U139="znížená",N139,0) -> 0 | BG139: =IF(U139="zákl. prenesená",N139,0) -> 0 | BH139: =IF(U139="zníž. prenesená",N139,0) -> 0 | BI139: =IF(U139="nulová",N139,0) -> 0 | BJ139: 2 | BK139: =ROUND(L139*K139,3) -> 0 | BL139: 4 | BM139: -1023133759
C140: 6 | D140: K | E140: 632451441 | F140: Doplnenie cementového poteru s plochou jednotlivo (s dodaním hmôt) do 4 m2 a hr. do 50 mm | J140: m2 | K140: 688 | L140: 0 | N140: =ROUND(L140*K140,3) -> 0 | U140: znížená | W140: =V140*K140 -> 0 | X140: 0.07902 | Y140: =X140*K140 -> 54.36576 | Z140: 0 | AA140: =Z140*K140 -> 0 | AR140: 4 | AT140: K | AU140: 2 | AY140: ROZPOCET | BE140: =IF(U140="základná",N140,0) -> 0 | BF140: =IF(U140="znížená",N140,0) -> 0 | BG140: =IF(U140="zákl. prenesená",N140,0) -> 0 | BH140: =IF(U140="zníž. prenesená",N140,0) -> 0 | BI140: =IF(U140="nulová",N140,0) -> 0 | BJ140: 2 | BK140: =ROUND(L140*K140,3) -> 0 | BL140: 4 | BM140: -1902366732
C141: 7 | D141: K | E141: 642944121 | F141: Dodatočná montáž oceľovej dverovej zárubne, plochy otvoru do 2,5 m2 | J141: ks | K141: 20 | L141: 0 | N141: =ROUND(L141*K141,3) -> 0 | U141: znížená | W141: =V141*K141 -> 0 | X141: 0.03964 | Y141: =X141*K141 -> 0.7928 | Z141: 0 | AA141: =Z141*K141 -> 0 | AR141: 4 | AT141: K | AU141: 2 | AY141: ROZPOCET | BE141: =IF(U141="základná",N141,0) -> 0 | BF141: =IF(U141="znížená",N141,0) -> 0 | BG141: =IF(U141="zákl. prenesená",N141,0) -> 0 | BH141: =IF(U141="zníž. prenesená",N141,0) -> 0 | BI141: =IF(U141="nulová",N141,0) -> 0 | BJ141: 2 | BK141: =ROUND(L141*K141,3) -> 0 | BL141: 4 | BM141: -153664803
C142: 8 | D142: M | E142: 5533108680 | F142: Kovová zárubňa šírky 300-1195 mm, výšky 500-1970 a 2100 mm, jednodielne zamurovacie, farba RAL 7046 | J142: ks | K142: 20 | L142: 0 | N142: =ROUND(L142*K142,3) -> 0 | U142: znížená | W142: =V142*K142 -> 0 | X142: 0 | Y142: =X142*K142 -> 0 | Z142: 0 | AA142: =Z142*K142 -> 0 | AR142: 8 | AT142: M | AU142: 2 | AY142: ROZPOCET | BE142: =IF(U142="základná",N142,0) -> 0 | BF142: =IF(U142="znížená",N142,0) -> 0 | BG142: =IF(U142="zákl. prenesená",N142,0) -> 0 | BH142: =IF(U142="zníž. prenesená",N142,0) -> 0 | BI142: =IF(U142="nulová",N142,0) -> 0 | BJ142: 2 | BK142: =ROUND(L142*K142,3) -> 0 | BL142: 4 | BM142: 1262391359
C143: 9 | D143: K | E143: 97801440 | F143: Odstranenie všetkých jestvujucich nesurodých vrstiev - obitie / zbrusenie jestvujucich náterov až po surode -pevne - neopadavajuce vrstvy | J143: m2 | K143: 1785.6 | L143: 0 | N143: =ROUND(L143*K143,3) -> 0 | U143: znížená | W143: =V143*K143 -> 0 | X143: 0 | Y143: =X143*K143 -> 0 | Z143: 0.01 | AA143: =Z143*K143 -> 17.856 | AR143: 4 | AT143: K | AU143: 2 | AY143: ROZPOCET | BE143: =IF(U143="základná",N143,0) -> 0 | BF143: =IF(U143="znížená",N143,0) -> 0 | BG143: =IF(U143="zákl. prenesená",N143,0) -> 0 | BH143: =IF(U143="zníž. prenesená",N143,0) -> 0 | BI143: =IF(U143="nulová",N143,0) -> 0 | BJ143: 2 | BK143: =ROUND(L143*K143,3) -> 0 | BL143: 4 | BM143: 1766140073
C144: 10 | D144: K | E144: 97801441 | F144: Odprašnenie zostatkových jestvujucixh vrstiev steny | J144: m2 | K144: 1785.6 | L144: 0 | N144: =ROUND(L144*K144,3) -> 0 | U144: znížená | W144: =V144*K144 -> 0 | X144: 0 | Y144: =X144*K144 -> 0 | Z144: 0.01 | AA144: =Z144*K144 -> 17.856 | AR144: 4 | AT144: K | AU144: 2 | AY144: ROZPOCET | BE144: =IF(U144="základná",N144,0) -> 0 | BF144: =IF(U144="znížená",N144,0) -> 0 | BG144: =IF(U144="zákl. prenesená",N144,0) -> 0 | BH144: =IF(U144="zníž. prenesená",N144,0) -> 0 | BI144: =IF(U144="nulová",N144,0) -> 0 | BJ144: 2 | BK144: =ROUND(L144*K144,3) -> 0 | BL144: 4 | BM144: 1686394387
C145: 11 | D145: K | E145: 97801442 | F145: Napanetrovanie fingicidnou penetraciou: Sto Prim Fungal hr. 0mm_x000D_ ( špecialny vodny dezinfekčný roztok proti rastu plesni a hub, hustota EN ISO 2811 1,0 g/cm3 ) | J145: m2 | K145: 1785.6 | L145: 0 | N145: =ROUND(L145*K145,3) -> 0 | U145: znížená | W145: =V145*K145 -> 0 | X145: 0 | Y145: =X145*K145 -> 0 | Z145: 0.01 | AA145: =Z145*K145 -> 17.856 | AR145: 4 | AT145: K | AU145: 2 | AY145: ROZPOCET | BE145: =IF(U145="základná",N145,0) -> 0 | BF145: =IF(U145="znížená",N145,0) -> 0 | BG145: =IF(U145="zákl. prenesená",N145,0) -> 0 | BH145: =IF(U145="zníž. prenesená",N145,0) -> 0 | BI145: =IF(U145="nulová",N145,0) -> 0 | BJ145: 2 | BK145: =ROUND(L145*K145,3) -> 0 | BL145: 4 | BM145: -938685858
C146: 12 | D146: K | E146: 97801443 | F146: Hlbkova penetracia ( zjednotenie nasiakavosti ): Sto Prim Plex hr. 0mm_x000D_ ( vodou rieditelny hlbkovy akrylatovy penetračny náter, hustota EN ISO 2811 1,0 g/cm3 )_x000D_ _x000D_ _x000D_ | J146: m2 | K146: 1785.6 | L146: 0 | N146: =ROUND(L146*K146,3) -> 0 | U146: znížená | W146: =V146*K146 -> 0 | X146: 0 | Y146: =X146*K146 -> 0 | Z146: 0.01 | AA146: =Z146*K146 -> 17.856 | AR146: 4 | AT146: K | AU146: 2 | AY146: ROZPOCET | BE146: =IF(U146="základná",N146,0) -> 0 | BF146: =IF(U146="znížená",N146,0) -> 0 | BG146: =IF(U146="zákl. prenesená",N146,0) -> 0 | BH146: =IF(U146="zníž. prenesená",N146,0) -> 0 | BI146: =IF(U146="nulová",N146,0) -> 0 | BJ146: 2 | BK146: =ROUND(L146*K146,3) -> 0 | BL146: 4 | BM146: 2099183734
C147: 13 | D147: K | E147: 97801444 | F147: Adhezna penetracia ( na dosiahnutie pilnavosti nových vrstiev na jestvujuce vrstvy ): Sto Prep In hr. 0,1mm_x000D_ ( adhezna penetracia , TUV certifikat, hustota EN ISO 2811 1,4-1,6 g/cm3 ), ( velkost zrna 0,5mm ) | J147: m2 | K147: 1785.6 | L147: 0 | N147: =ROUND(L147*K147,3) -> 0 | U147: znížená | W147: =V147*K147 -> 0 | X147: 0 | Y147: =X147*K147 -> 0 | Z147: 0.01 | AA147: =Z147*K147 -> 17.856 | AR147: 4 | AT147: K | AU147: 2 | AY147: ROZPOCET | BE147: =IF(U147="základná",N147,0) -> 0 | BF147: =IF(U147="znížená",N147,0) -> 0 | BG147: =IF(U147="zákl. prenesená",N147,0) -> 0 | BH147: =IF(U147="zníž. prenesená",N147,0) -> 0 | BI147: =IF(U147="nulová",N147,0) -> 0 | BJ147: 2 | BK147: =ROUND(L147*K147,3) -> 0 | BL147: 4 | BM147: 1142022568
C148: 14 | D148: K | E148: 97801445 | F148: Vyplnenie všetkých lokalných / bodových nerovnosti stierkovou hmotou 50% : Sto Levell In Fill _x000D_ ( vyplnova - brusitelna sadrova stierka ) dyfuzna ekvivalentna hrubka: 0,1m, | J148: m2 | K148: 1785.6 | L148: 0 | N148: =ROUND(L148*K148,3) -> 0 | U148: znížená | W148: =V148*K148 -> 0 | X148: 0 | Y148: =X148*K148 -> 0 | Z148: 0.01 | AA148: =Z148*K148 -> 17.856 | AR148: 4 | AT148: K | AU148: 2 | AY148: ROZPOCET | BE148: =IF(U148="základná",N148,0) -> 0 | BF148: =IF(U148="znížená",N148,0) -> 0 | BG148: =IF(U148="zákl. prenesená",N148,0) -> 0 | BH148: =IF(U148="zníž. prenesená",N148,0) -> 0 | BI148: =IF(U148="nulová",N148,0) -> 0 | BJ148: 2 | BK148: =ROUND(L148*K148,3) -> 0 | BL148: 4 | BM148: -1996824640
C149: 15 | D149: K | E149: 97801446 | F149: Plošne vyrovnanie stien stierkovou hmotou : Sto Levell In G hr. rôzna podla situacie | J149: m2 | K149: 1785.6 | L149: 0 | N149: =ROUND(L149*K149,3) -> 0 | U149: znížená | W149: =V149*K149 -> 0 | X149: 0 | Y149: =X149*K149 -> 0 | Z149: 0.01 | AA149: =Z149*K149 -> 17.856 | AR149: 4 | AT149: K | AU149: 2 | AY149: ROZPOCET | BE149: =IF(U149="základná",N149,0) -> 0 | BF149: =IF(U149="znížená",N149,0) -> 0 | BG149: =IF(U149="zákl. prenesená",N149,0) -> 0 | BH149: =IF(U149="zníž. prenesená",N149,0) -> 0 | BI149: =IF(U149="nulová",N149,0) -> 0 | BJ149: 2 | BK149: =ROUND(L149*K149,3) -> 0 | BL149: 4 | BM149: 1541359969
... C153: 19 | D153: K | E153: 97801449 | F153: Natiahnutie pružnej organickej omietky : Sto Decolit MP ( frakcia zrna 0,5mm ) ( omietku je možne tonovat priamo z vyroby nie je nutne uvažovat s náterom ). biela farba | J153: m2 | K153: 1367.5 | L153: 0 | N153: =ROUND(L153*K153,3) -> 0 | U153: znížená | W153: =V153*K153 -> 0 | X153: 0 | Y153: =X153*K153 -> 0 | Z153: 0.01 | AA153: =Z153*K153 -> 13.675 | AR153: 4 | AT153: K | AU153: 2 | AY153: ROZPOCET | BE153: =IF(U153="základná",N153,0) -> 0 | BF153: =IF(U153="znížená",N153,0) -> 0 | BG153: =IF(U153="zákl. prenesená",N153,0) -> 0 | BH153: =IF(U153="zníž. prenesená",N153,0) -> 0 | BI153: =IF(U153="nulová",N153,0) -> 0 | BJ153: 2 | BK153: =ROUND(L153*K153,3) -> 0 | BL153: 4 | BM153: -186597955
D154: 9 - Ostatné konštrukcie a práce-búranie | N154: =BK154 -> 0 | W154: =SUM(W155:W168) -> 0 | Y154: =SUM(Y155:Y168) -> 2.763426 | AA154: =SUM(AA155:AA168) -> 46.56426 | AR154: 1 | AT154: D | AU154: 1 | AY154: ROZPOCET | BK154: =SUM(BK155:BK168) -> 0
C155: 20 | D155: K | E155: 941955001 | F155: Lešenie ľahké pracovné pomocné, s výškou lešeňovej podlahy do 1,20 m | J155: m2 | K155: 1785.6 | L155: 0 | N155: =ROUND(L155*K155,3) -> 0 | U155: znížená | W155: =V155*K155 -> 0 | X155: 0.00153 | Y155: =X155*K155 -> 2.731968 | Z155: 0 | AA155: =Z155*K155 -> 0 | AR155: 4 | AT155: K | AU155: 2 | AY155: ROZPOCET | BE155: =IF(U155="základná",N155,0) -> 0 | BF155: =IF(U155="znížená",N155,0) -> 0 | BG155: =IF(U155="zákl. prenesená",N155,0) -> 0 | BH155: =IF(U155="zníž. prenesená",N155,0) -> 0 | BI155: =IF(U155="nulová",N155,0) -> 0 | BJ155: 2 | BK155: =ROUND(L155*K155,3) -> 0 | BL155: 4 | BM155: -1437144694
C156: 21 | D156: K | E156: 952901111 | F156: Vyčistenie budov pri výške podlaží do 4m | J156: m2 | K156: 629.16 | L156: 0 | N156: =ROUND(L156*K156,3) -> 0 | U156: znížená | W156: =V156*K156 -> 0 | X156: 5e-05 | Y156: =X156*K156 -> 0.031458 | Z156: 0 | AA156: =Z156*K156 -> 0 | AR156: 4 | AT156: K | AU156: 2 | AY156: ROZPOCET | BE156: =IF(U156="základná",N156,0) -> 0 | BF156: =IF(U156="znížená",N156,0) -> 0 | BG156: =IF(U156="zákl. prenesená",N156,0) -> 0 | BH156: =IF(U156="zníž. prenesená",N156,0) -> 0 | BI156: =IF(U156="nulová",N156,0) -> 0 | BJ156: 2 | BK156: =ROUND(L156*K156,3) -> 0 | BL156: 4 | BM156: 1474160285
C157: 22 | D157: K | E157: 962031132 | F157: Búranie sanitárnej šachty z tehál pálených, plných alebo dutých hr. do 150 mm, -0,19600t | J157: m2 | K157: 16.56 | L157: 0 | N157: =ROUND(L157*K157,3) -> 0 | U157: znížená | W157: =V157*K157 -> 0 | X157: 0 | Y157: =X157*K157 -> 0 | Z157: 0.196 | AA157: =Z157*K157 -> 3.24576 | AR157: 4 | AT157: K | AU157: 2 | AY157: ROZPOCET | BE157: =IF(U157="základná",N157,0) -> 0 | BF157: =IF(U157="znížená",N157,0) -> 0 | BG157: =IF(U157="zákl. prenesená",N157,0) -> 0 | BH157: =IF(U157="zníž. prenesená",N157,0) -> 0 | BI157: =IF(U157="nulová",N157,0) -> 0 | BJ157: 2 | BK157: =ROUND(L157*K157,3) -> 0 | BL157: 4 | BM157: 291484537
C158: 23 | D158: K | E158: 965043341 | F158: Búranie podkladov, betón s poterom, hr.30 mm, plochy nad 4 m2 -2,20000t | J158: m3 | K158: 12 | L158: 0 | N158: =ROUND(L158*K158,3) -> 0 | U158: znížená | W158: =V158*K158 -> 0 | X158: 0 | Y158: =X158*K158 -> 0 | Z158: 2.2 | AA158: =Z158*K158 -> 26.4 | AR158: 16 | AT158: K | AU158: 2 | AY158: ROZPOCET | BE158: =IF(U158="základná",N158,0) -> 0 | BF158: =IF(U158="znížená",N158,0) -> 0 | BG158: =IF(U158="zákl. prenesená",N158,0) -> 0 | BH158: =IF(U158="zníž. prenesená",N158,0) -> 0 | BI158: =IF(U158="nulová",N158,0) -> 0 | BJ158: 2 | BK158: =ROUND(L158*K158,3) -> 0 | BL158: 16 | BM158: -189847214
C159: 24 | D159: K | E159: 965081812 | F159: Búranie dlažieb, z kamen., cement., terazzových, čadičových alebo keram. dĺžky , hr.nad 10 mm, búranie spoločných podláh z keramickej dlažby a PVC | J159: m2 | K159: 134.6 | L159: 0 | N159: =ROUND(L159*K159,3) -> 0 | U159: znížená | W159: =V159*K159 -> 0 | X159: 0 | Y159: =X159*K159 -> 0 | Z159: 0.065 | AA159: =Z159*K159 -> 8.749 | AR159: 4 | AT159: K | AU159: 2 | AY159: ROZPOCET | BE159: =IF(U159="základná",N159,0) -> 0 | BF159: =IF(U159="znížená",N159,0) -> 0 | BG159: =IF(U159="zákl. prenesená",N159,0) -> 0 | BH159: =IF(U159="zníž. prenesená",N159,0) -> 0 | BI159: =IF(U159="nulová",N159,0) -> 0 | BJ159: 2 | BK159: =ROUND(L159*K159,3) -> 0 | BL159: 4 | BM159: 121989459
C160: 25 | D160: K | E160: 968061113 | F160: Vyvesenie dreveného okenného krídla do suti plochy nad 1, 5 m2, -0,01600t | J160: ks | K160: 7 | L160: 0 | N160: =ROUND(L160*K160,3) -> 0 | U160: znížená | W160: =V160*K160 -> 0 | X160: 0 | Y160: =X160*K160 -> 0 | Z160: 0.016 | AA160: =Z160*K160 -> 0.112 | AR160: 4 | AT160: K | AU160: 2 | AY160: ROZPOCET | BE160: =IF(U160="základná",N160,0) -> 0 | BF160: =IF(U160="znížená",N160,0) -> 0 | BG160: =IF(U160="zákl. prenesená",N160,0) -> 0 | BH160: =IF(U160="zníž. prenesená",N160,0) -> 0 | BI160: =IF(U160="nulová",N160,0) -> 0 | BJ160: 2 | BK160: =ROUND(L160*K160,3) -> 0 | BL160: 4 | BM160: -337336739
C161: 26 | D161: K | E161: 968061125 | F161: Vyvesenie dreveného dverného krídla do suti plochy do 2 m2, -0,02400t | J161: ks | K161: 24 | L161: 0 | N161: =ROUND(L161*K161,3) -> 0 | U161: znížená | W161: =V161*K161 -> 0 | X161: 0 | Y161: =X161*K161 -> 0 | Z161: 0.024 | AA161: =Z161*K161 -> 0.576 | AR161: 4 | AT161: K | AU161: 2 | AY161: ROZPOCET | BE161: =IF(U161="základná",N161,0) -> 0 | BF161: =IF(U161="znížená",N161,0) -> 0 | BG161: =IF(U161="zákl. prenesená",N161,0) -> 0 | BH161: =IF(U161="zníž. prenesená",N161,0) -> 0 | BI161: =IF(U161="nulová",N161,0) -> 0 | BJ161: 2 | BK161: =ROUND(L161*K161,3) -> 0 | BL161: 4 | BM161: 1327208207
C162: 27 | D162: K | E162: 968072455 | F162: Vybúranie kovových dverových zárubní plochy do 2 m2, -0,07600t | J162: m2 | K162: 42 | L162: 0 | N162: =ROUND(L162*K162,3) -> 0 | U162: znížená | W162: =V162*K162 -> 0 | X162: 0 | Y162: =X162*K162 -> 0 | Z162: 0.076 | AA162: =Z162*K162 -> 3.192 | AR162: 4 | AT162: K | AU162: 2 | AY162: ROZPOCET | BE162: =IF(U162="základná",N162,0) -> 0 | BF162: =IF(U162="znížená",N162,0) -> 0 | BG162: =IF(U162="zákl. prenesená",N162,0) -> 0 | BH162: =IF(U162="zníž. prenesená",N162,0) -> 0 | BI162: =IF(U162="nulová",N162,0) -> 0 | BJ162: 2 | BK162: =ROUND(L162*K162,3) -> 0 | BL162: 4 | BM162: -1682566033
C163: 28 | D163: K | E163: 971033631 | F163: Vybúranie otvorov v murive tehl. plochy do 4 m2 hr.do 150 mm, -0,27000t | J163: m2 | K163: 10.85 | L163: 0 | N163: =ROUND(L163*K163,3) -> 0 | U163: znížená | W163: =V163*K163 -> 0 | X163: 0 | Y163: =X163*K163 -> 0 | Z163: 0.27 | AA163: =Z163*K163 -> 2.9295 | AR163: 4 | AT163: K | AU163: 2 | AY163: ROZPOCET | BE163: =IF(U163="základná",N163,0) -> 0 | BF163: =IF(U163="znížená",N163,0) -> 0 | BG163: =IF(U163="zákl. prenesená",N163,0) -> 0 | BH163: =IF(U163="zníž. prenesená",N163,0) -> 0 | BI163: =IF(U163="nulová",N163,0) -> 0 | BJ163: 2 | BK163: =ROUND(L163*K163,3) -> 0 | BL163: 4 | BM163: -1705378607
C164: 29 | D164: K | E164: 978059511 | F164: Odsekanie a odobratie stien z obkladačiek vnútorných do 2 m2, -0,06800t | J164: m2 | K164: 20 | L164: 0 | N164: =ROUND(L164*K164,3) -> 0 | U164: znížená | W164: =V164*K164 -> 0 | X164: 0 | Y164: =X164*K164 -> 0 | Z164: 0.068 | AA164: =Z164*K164 -> 1.36 | AR164: 4 | AT164: K | AU164: 2 | AY164: ROZPOCET | BE164: =IF(U164="základná",N164,0) -> 0 | BF164: =IF(U164="znížená",N164,0) -> 0 | BG164: =IF(U164="zákl. prenesená",N164,0) -> 0 | BH164: =IF(U164="zníž. prenesená",N164,0) -> 0 | BI164: =IF(U164="nulová",N164,0) -> 0 | BJ164: 2 | BK164: =ROUND(L164*K164,3) -> 0 | BL164: 4 | BM164: 1354545572
...

Sheet 2 - Vnútorná zdravotechnika
D1: Hárok obsahuje: | F1: 1) Krycí list rozpočtu | H1: 2) Rekapitulácia rozpočtu | L1: 3) Rozpočet | O1: Späť na hárok: | S1: Rekapitulácia stavby
C2: optimalizované pre tlač zostáv vo formáte A4 - na výšku | S2: >> skryté stĺpce << | AT2: {46f94d55-1508-419a-ace8-c080d250cc09}
AT3: 0
C4: KRYCÍ LIST ROZPOČTU | T4: v --- nižšie sa nachádzajú doplnkové a pomocné údaje k zostavám --- v | AT4: False
D6: Stavba: | F6: ='Rekapitulácia stavby'!K6 -> Stavebné úpravy priestorov bloku B objektu UKF v NItre na Triede A. Hlinku 1, Nitra
D7: Objekt: | F7: 2 - Vnútorná zdravotechnika
D8: JKSO: | M8: KS:
D9: Miesto: | M9: Dátum: | O9: ='Rekapitulácia stavby'!AN8 -> 12. 2. 2018
D11: Objednávateľ: | M11: IČO:
E12: UKF v NItre, Trieda A. Hlinku 1, Nitra | M12: IČO DPH:
D14: Zhotoviteľ: | M14: IČO:
M15: IČO DPH:
D17: Projektant: | M17: IČO:
E18: K2 ateliér s.r.o., Nitra | M18: IČO DPH:
D20: Spracovateľ: | M20: IČO:
M21: IČO DPH:
D23: Poznámka:
D27: Náklady z rozpočtu | M27: =N88 -> 0
D28: Ostatné náklady | M28: =N100 -> 0
D30: Cena bez DPH | M30: =ROUND(M27+M28,2) -> 0
D32: DPH | E32: základná | F32: 0.2 | G32: z | H32: =ROUND((((SUM(BE100:BE107)+SUM(BE125:BE180))+SUM(BE182:BE186))),2) -> 0 | M32: =ROUND(((ROUND((SUM(BE100:BE107)+SUM(BE125:BE180)), 2)*F32)+SUM(BE182:BE186)*F32),2) -> 0
E33: znížená | F33: 0.2 | G33: z | H33: =ROUND((((SUM(BF100:BF107)+SUM(BF125:BF180))+SUM(BF182:BF186))),2) -> 0 | M33: =ROUND(((ROUND((SUM(BF100:BF107)+SUM(BF125:BF180)), 2)*F33)+SUM(BF182:BF186)*F33),2) -> 0
E34: zákl. prenesená | F34: 0.2 | G34: z | H34: =ROUND((((SUM(BG100:BG107)+SUM(BG125:BG180))+SUM(BG182:BG186))),2) -> 0 | M34: 0
E35: zníž. prenesená | F35: 0.2 | G35: z | H35: =ROUND((((SUM(BH100:BH107)+SUM(BH125:BH180))+SUM(BH182:BH186))),2) -> 0 | M35: 0
E36: nulová | F36: 0 | G36: z | H36: =ROUND((((SUM(BI100:BI107)+SUM(BI125:BI180))+SUM(BI182:BI186))),2) -> 0 | M36: 0
D38: Cena s DPH | G38: v | H38: EUR | L38: =SUM(M30:M36) -> 0
D50: Projektant | J50: Spracovateľ
D59: Dátum a podpis: | G59: Pečiatka | J59: Dátum a podpis: | N59: Pečiatka
D61: Objednávateľ | J61: Zhotoviteľ
D70: Dátum a podpis: | G70: Pečiatka | J70: Dátum a podpis: | N70: Pečiatka
C76: REKAPITULÁCIA ROZPOČTU
C78: Stavba: | F78: =F6 -> Stavebné úpravy priestorov bloku B objektu UKF v NItre na Triede A. Hlinku 1, Nitra
C79: Objekt: | F79: =F7 -> 2 - Vnútorná zdravotechnika
C81: Miesto: | F81: =F9 | K81: Dátum: | M81: =IF(O9="","",O9) -> 12. 2. 2018
C83: Objednávateľ: | F83: =E12 -> UKF v NItre, Trieda A. Hlinku 1, Nitra | K83: Projektant: | M83: =E18 -> K2 ateliér s.r.o., Nitra
C84: Zhotoviteľ: | F84: =IF(E15="","",E15) | K84: Spracovateľ: | M84: =E21
C86: Kód - Popis | N86: Cena celkom [EUR]
C88: 1) Náklady z rozpočtu | N88: =N125 -> 0 | AU88: -1
D89: HSV - Práce a dodávky HSV | N89: =N126 -> 0
D90: 6 - Úpravy povrchov, podlahy, osadenie | N90: =N127 -> 0
D91: 9 - Ostatné konštrukcie a práce-búranie | N91: =N129 -> 0
D92: PSV - Práce a dodávky PSV | N92: =N132 -> 0
D93: 713 - Izolácie tepelné | N93: =N133 -> 0
D94: 721 - Zdravotech. vnútorná kanalizácia | N94: =N139 -> 0
D95: 722 - Zdravotechnika | N95: =N150 -> 0
D96: 725 - Zdravotechnika | N96: =N162 -> 0
D97: 36-M - Montáž prev.,mer. a regul.zariadení | N97: =N177 -> 0
D98: VP - Práce naviac | N98: =N181 -> 0
C100: 2) Ostatné náklady | N100: =ROUND(N101+N102+N103+N104+N105+N106,2) -> 0 | U100: DPH
D101: GZS | N101: =ROUND(N88*T101,2) -> 0 | U101: znížená | AY101: VRN | BE101: =IF(U101="základná",N101,0) -> 0 | BF101: =IF(U101="znížená",N101,0) -> 0 | BG101: =IF(U101="zákl. prenesená",N101,0) -> 0 | BH101: =IF(U101="zníž. prenesená",N101,0) -> 0 | BI101: =IF(U101="nulová",N101,0) -> 0 | BJ101: 2
D102: Mimostaven. doprava | N102: =ROUND(N88*T102,2) -> 0 | U102: znížená | AY102: VRN | BE102: =IF(U102="základná",N102,0) -> 0 | BF102: =IF(U102="znížená",N102,0) -> 0 | BG102: =IF(U102="zákl. prenesená",N102,0) -> 0 | BH102: =IF(U102="zníž. prenesená",N102,0) -> 0 | BI102: =IF(U102="nulová",N102,0) -> 0 | BJ102: 2
D103: Sťažené podmienky | N103: =ROUND(N88*T103,2) -> 0 | U103: znížená | AY103: VRN | BE103: =IF(U103="základná",N103,0) -> 0 | BF103: =IF(U103="znížená",N103,0) -> 0 | BG103: =IF(U103="zákl. prenesená",N103,0) -> 0 | BH103: =IF(U103="zníž. prenesená",N103,0) -> 0 | BI103: =IF(U103="nulová",N103,0) -> 0 | BJ103: 2
D104: Vplyv prostredia | N104: =ROUND(N88*T104,2) -> 0 | U104: znížená | AY104: VRN | BE104: =IF(U104="základná",N104,0) -> 0 | BF104: =IF(U104="znížená",N104,0) -> 0 | BG104: =IF(U104="zákl. prenesená",N104,0) -> 0 | BH104: =IF(U104="zníž. prenesená",N104,0) -> 0 | BI104: =IF(U104="nulová",N104,0) -> 0 | BJ104: 2
D105: Klimatické vplyvy | N105: =ROUND(N88*T105,2) -> 0 | U105: znížená | AY105: VRN | BE105: =IF(U105="základná",N105,0) -> 0 | BF105: =IF(U105="znížená",N105,0) -> 0 | BG105: =IF(U105="zákl. prenesená",N105,0) -> 0 | BH105: =IF(U105="zníž. prenesená",N105,0) -> 0 | BI105: =IF(U105="nulová",N105,0) -> 0 | BJ105: 2
D106: Kompletačná činnosť | N106: =ROUND(N88*T106,2) -> 0 | U106: znížená | AY106: KOMPLETACNA | BE106: =IF(U106="základná",N106,0) -> 0 | BF106: =IF(U106="znížená",N106,0) -> 0 | BG106: =IF(U106="zákl. prenesená",N106,0) -> 0 | BH106: =IF(U106="zníž. prenesená",N106,0) -> 0 | BI106: =IF(U106="nulová",N106,0) -> 0 | BJ106: 2
C108: Celkové náklady za stavbu 1) + 2) | L108: =ROUND(SUM(N88+N100),2) -> 0
C114: ROZPOČET
C116: Stavba: | F116: =F6 -> Stavebné úpravy priestorov bloku B objektu UKF v NItre na Triede A. Hlinku 1, Nitra
C117: Objekt: | F117: =F7 -> 2 - Vnútorná zdravotechnika
C119: Miesto: | F119: =F9 | K119: Dátum: | M119: =IF(O9="","",O9) -> 12. 2. 2018
C121: Objednávateľ: | F121: =E12 -> UKF v NItre, Trieda A. Hlinku 1, Nitra | K121: Projektant: | M121: =E18 -> K2 ateliér s.r.o., Nitra
C122: Zhotoviteľ: | F122: =IF(E15="","",E15) | K122: Spracovateľ: | M122: =E21
C124: PČ | D124: Typ | E124: Kód | F124: Popis | J124: MJ | K124: Množstvo | L124: J.cena [EUR] | N124: Cena celkom [EUR] | T124: Poznámka | U124: DPH | V124: J. Nh [h] | W124: Nh celkom [h] | X124: J. hmotnosť_x000D_ [t] | Y124: Hmotnosť_x000D_ celkom [t] | Z124: J. suť [t] | AA124: Suť Celkom [t]
C125: Náklady z rozpočtu | N125: =BK125 -> 0 | W125: =W126+W132+W181 -> 0 | Y125: =Y126+Y132+Y181 -> 0 | AA125: =AA126+AA132+AA181 -> 0 | AT125: D | AU125: -1 | BK125: =BK126+BK132+BK181 -> 0
D126: HSV - Práce a dodávky HSV | N126: =BK126 -> 0 | W126: =W127+W129 -> 0 | Y126: =Y127+Y129 -> 0 | AA126: =AA127+AA129 -> 0 | AR126: 1 | AT126: D | AU126: 0 | AY126: ROZPOCET | BK126: =BK127+BK129 -> 0
D127: 6 - Úpravy povrchov, podlahy, osadenie | N127: =BK127 -> 0 | W127: =W128 -> 0 | Y127: =Y128 -> 0 | AA127: =AA128 -> 0 | AR127: 1 | AT127: D | AU127: 1 | AY127: ROZPOCET | BK127: =BK128 -> 0
C128: 1 | D128: K | E128: 622452121 | F128: Omietka stien z malty zo 450 kg cementu na 1 m3 malty hladená oceľovým hladidlom | J128: m2 | K128: 1.228 | L128: 0 | N128: =ROUND(L128*K128,3) -> 0 | U128: znížená | W128: =V128*K128 -> 0 | X128: 0 | Y128: =X128*K128 -> 0 | Z128: 0 | AA128: =Z128*K128 -> 0 | AR128: 4 | AT128: K | AU128: 2 | AY128: ROZPOCET | BE128: =IF(U128="základná",N128,0) -> 0 | BF128: =IF(U128="znížená",N128,0) -> 0 | BG128: =IF(U128="zákl. prenesená",N128,0) -> 0 | BH128: =IF(U128="zníž. prenesená",N128,0) -> 0 | BI128: =IF(U128="nulová",N128,0) -> 0 | BJ128: 2 | BK128: =ROUND(L128*K128,3) -> 0 | BL128: 4 | BM128: -2076997680
D129: 9 - Ostatné konštrukcie a práce-búranie | N129: =BK129 -> 0 | W129: =SUM(W130:W131) -> 0 | Y129: =SUM(Y130:Y131) -> 0 | AA129: =SUM(AA130:AA131) -> 0 | AR129: 1 | AT129: D | AU129: 1 | AY129: ROZPOCET | BK129: =SUM(BK130:BK131) -> 0
C130: 2 | D130: K | E130: 938903116 | F130: Vysekanie škár pri hĺbke škáry do 70mm v murive z tehál -0,01700t | J130: m2 | K130: 0.404 | L130: 0 | N130: =ROUND(L130*K130,3) -> 0 | U130: znížená | W130: =V130*K130 -> 0 | X130: 0 | Y130: =X130*K130 -> 0 | Z130: 0 | AA130: =Z130*K130 -> 0 | AR130: 4 | AT130: K | AU130: 2 | AY130: ROZPOCET | BE130: =IF(U130="základná",N130,0) -> 0 | BF130: =IF(U130="znížená",N130,0) -> 0 | BG130: =IF(U130="zákl. prenesená",N130,0) -> 0 | BH130: =IF(U130="zníž. prenesená",N130,0) -> 0 | BI130: =IF(U130="nulová",N130,0) -> 0 | BJ130: 2 | BK130: =ROUND(L130*K130,3) -> 0 | BL130: 4 | BM130: -2007883515
C131: 3 | D131: K | E131: 938903211 | F131: Vysekanie škár pri hĺbke 70 do 120mm v murive z lomového kameňa -0,02700t | J131: m2 | K131: 0.824 | L131: 0 | N131: =ROUND(L131*K131,3) -> 0 | U131: znížená | W131: =V131*K131 -> 0 | X131: 0 | Y131: =X131*K131 -> 0 | Z131: 0 | AA131: =Z131*K131 -> 0 | AR131: 4 | AT131: K | AU131: 2 | AY131: ROZPOCET | BE131: =IF(U131="základná",N131,0) -> 0 | BF131: =IF(U131="znížená",N131,0) -> 0 | BG131: =IF(U131="zákl. prenesená",N131,0) -> 0 | BH131: =IF(U131="zníž. prenesená",N131,0) -> 0 | BI131: =IF(U131="nulová",N131,0) -> 0 | BJ131: 2 | BK131: =ROUND(L131*K131,3) -> 0 | BL131: 4 | BM131: 1958410674
D132: PSV - Práce a dodávky PSV | N132: =BK132 -> 0 | W132: =W133+W139+W150+W162+W177 -> 0 | Y132: =Y133+Y139+Y150+Y162+Y177 -> 0 | AA132: =AA133+AA139+AA150+AA162+AA177 -> 0 | AR132: 2 | AT132: D | AU132: 0 | AY132: ROZPOCET | BK132: =BK133+BK139+BK150+BK162+BK177 -> 0
D133: 713 - Izolácie tepelné | N133: =BK133 -> 0 | W133: =SUM(W134:W138) -> 0 | Y133: =SUM(Y134:Y138) -> 0 | AA133: =SUM(AA134:AA138) -> 0 | AR133: 2 | AT133: D | AU133: 1 | AY133: ROZPOCET | BK133: =SUM(BK134:BK138) -> 0
C134: 4 | D134: K | E134: 7134111111 | F134: Montáž izolácie tepelnej potrubia D do 76 mm | J134: m | K134: 67 | L134: 0 | N134: =ROUND(L134*K134,3) -> 0 | U134: znížená | W134: =V134*K134 -> 0 | X134: 0 | Y134: =X134*K134 -> 0 | Z134: 0 | AA134: =Z134*K134 -> 0 | AR134: 16 | AT134: K | AU134: 2 | AY134: ROZPOCET | BE134: =IF(U134="základná",N134,0) -> 0 | BF134: =IF(U134="znížená",N134,0) -> 0 | BG134: =IF(U134="zákl. prenesená",N134,0) -> 0 | BH134: =IF(U134="zníž. prenesená",N134,0) -> 0 | BI134: =IF(U134="nulová",N134,0) -> 0 | BJ134: 2 | BK134: =ROUND(L134*K134,3) -> 0 | BL134: 16 | BM134: 1392200102
C135: 5 | D135: M | E135: 2837741540 | F135: TUBOLIT izolácia - trubica 22/13-DG (120) ARC-0031 Armacell AZ FLEX | J135: m | K135: 6.5 | L135: 0 | N135: =ROUND(L135*K135,3) -> 0 | U135: znížená | W135: =V135*K135 -> 0 | X135: 0 | Y135: =X135*K135 -> 0 | Z135: 0 | AA135: =Z135*K135 -> 0 | AR135: 32 | AT135: M | AU135: 2 | AY135: ROZPOCET | BE135: =IF(U135="základná",N135,0) -> 0 | BF135: =IF(U135="znížená",N135,0) -> 0 | BG135: =IF(U135="zákl. prenesená",N135,0) -> 0 | BH135: =IF(U135="zníž. prenesená",N135,0) -> 0 | BI135: =IF(U135="nulová",N135,0) -> 0 | BJ135: 2 | BK135: =ROUND(L135*K135,3) -> 0 | BL135: 16 | BM135: -510438106
C136: 6 | D136: M | E136: 2837741553 | F136: TUBOLIT izolácia - trubica 28/13-DG (98) ARC-0032 Armacell AZ FLEX | J136: m | K136: 27 | L136: 0 | N136: =ROUND(L136*K136,3) -> 0 | U136: znížená | W136: =V136*K136 -> 0 | X136: 0 | Y136: =X136*K136 -> 0 | Z136: 0 | AA136: =Z136*K136 -> 0 | AR136: 32 | AT136: M | AU136: 2 | AY136: ROZPOCET | BE136: =IF(U136="základná",N136,0) -> 0 | BF136: =IF(U136="znížená",N136,0) -> 0 | BG136: =IF(U136="zákl. prenesená",N136,0) -> 0 | BH136: =IF(U136="zníž. prenesená",N136,0) -> 0 | BI136: =IF(U136="nulová",N136,0) -> 0 | BJ136: 2 | BK136: =ROUND(L136*K136,3) -> 0 | BL136: 16 | BM136: 196782856
C137: 7 | D137: M | E137: 2837741542 | F137: TUBOLIT izolácia - trubica 22/20-DG (72) ARC-0051 Armacell AZ FLEX | J137: m | K137: 6.5 | L137: 0 | N137: =ROUND(L137*K137,3) -> 0 | U137: znížená | W137: =V137*K137 -> 0 | X137: 0 | Y137: =X137*K137 -> 0 | Z137: 0 | AA137: =Z137*K137 -> 0 | AR137: 32 | AT137: M | AU137: 2 | AY137: ROZPOCET | BE137: =IF(U137="základná",N137,0) -> 0 | BF137: =IF(U137="znížená",N137,0) -> 0 | BG137: =IF(U137="zákl. prenesená",N137,0) -> 0 | BH137: =IF(U137="zníž. prenesená",N137,0) -> 0 | BI137: =IF(U137="nulová",N137,0) -> 0 | BJ137: 2 | BK137: =ROUND(L137*K137,3) -> 0 | BL137: 16 | BM137: -2140505336
C138: 8 | D138: M | E138: 2837741558 | F138: TUBOLIT izolácia - trubica 28/30-DG (32) ARC-0065 Armacell AZ FLEX | J138: m | K138: 27 | L138: 0 | N138: =ROUND(L138*K138,3) -> 0 | U138: znížená | W138: =V138*K138 -> 0 | X138: 0 | Y138: =X138*K138 -> 0 | Z138: 0 | AA138: =Z138*K138 -> 0 | AR138: 32 | AT138: M | AU138: 2 | AY138: ROZPOCET | BE138: =IF(U138="základná",N138,0) -> 0 | BF138: =IF(U138="znížená",N138,0) -> 0 | BG138: =IF(U138="zákl. prenesená",N138,0) -> 0 | BH138: =IF(U138="zníž. prenesená",N138,0) -> 0 | BI138: =IF(U138="nulová",N138,0) -> 0 | BJ138: 2 | BK138: =ROUND(L138*K138,3) -> 0 | BL138: 16 | BM138: -1188979631
D139: 721 - Zdravotech. vnútorná kanalizácia | N139: =BK139 -> 0 | W139: =SUM(W140:W149) -> 0 | Y139: =SUM(Y140:Y149) -> 0 | AA139: =SUM(AA140:AA149) -> 0 | AR139: 2 | AT139: D | AU139: 1 | AY139: ROZPOCET | BK139: =SUM(BK140:BK149) -> 0
C140: 9 | D140: K | E140: 115201511 | F140: Demontáž odpadoveho potrubia menovitej svetlosti DN 150 | J140: m | K140: 18 | L140: 0 | N140: =ROUND(L140*K140,3) -> 0 | U140: znížená | W140: =V140*K140 -> 0 | X140: 0 | Y140: =X140*K140 -> 0 | Z140: 0 | AA140: =Z140*K140 -> 0 | AR140: 16 | AT140: K | AU140: 2 | AY140: ROZPOCET | BE140: =IF(U140="základná",N140,0) -> 0 | BF140: =IF(U140="znížená",N140,0) -> 0 | BG140: =IF(U140="zákl. prenesená",N140,0) -> 0 | BH140: =IF(U140="zníž. prenesená",N140,0) -> 0 | BI140: =IF(U140="nulová",N140,0) -> 0 | BJ140: 2 | BK140: =ROUND(L140*K140,3) -> 0 | BL140: 16 | BM140: 1382048079
C141: 10 | D141: K | E141: 721172108 | F141: Potrubie z PVC - U odpadové zvislé hrdlové D 75x2, 2 | J141: m | K141: 6.5 | L141: 0 | N141: =ROUND(L141*K141,3) -> 0 | U141: znížená | W141: =V141*K141 -> 0 | X141: 0 | Y141: =X141*K141 -> 0 | Z141: 0 | AA141: =Z141*K141 -> 0 | AR141: 16 | AT141: K | AU141: 2 | AY141: ROZPOCET | BE141: =IF(U141="základná",N141,0) -> 0 | BF141: =IF(U141="znížená",N141,0) -> 0 | BG141: =IF(U141="zákl. prenesená",N141,0) -> 0 | BH141: =IF(U141="zníž. prenesená",N141,0) -> 0 | BI141: =IF(U141="nulová",N141,0) -> 0 | BJ141: 2 | BK141: =ROUND(L141*K141,3) -> 0 | BL141: 16 | BM141: -414438887
C142: 11 | D142: K | E142: 721173204 | F142: Potrubie z PVC - U odpadné pripájacie D 40x1, 8 | J142: m | K142: 9.5 | L142: 0 | N142: =ROUND(L142*K142,3) -> 0 | U142: znížená | W142: =V142*K142 -> 0 | X142: 0 | Y142: =X142*K142 -> 0 | Z142: 0 | AA142: =Z142*K142 -> 0 | AR142: 16 | AT142: K | AU142: 2 | AY142: ROZPOCET | BE142: =IF(U142="základná",N142,0) -> 0 | BF142: =IF(U142="znížená",N142,0) -> 0 | BG142: =IF(U142="zákl. prenesená",N142,0) -> 0 | BH142: =IF(U142="zníž. prenesená",N142,0) -> 0 | BI142: =IF(U142="nulová",N142,0) -> 0 | BJ142: 2 | BK142: =ROUND(L142*K142,3) -> 0 | BL142: 16 | BM142: -316338274
C143: 12 | D143: K | E143: 721173205 | F143: Potrubie z PVC - U odpadné pripájacie D 50x1, 8 | J143: m | K143: 1.5 | L143: 0 | N143: =ROUND(L143*K143,3) -> 0 | U143: znížená | W143: =V143*K143 -> 0 | X143: 0 | Y143: =X143*K143 -> 0 | Z143: 0 | AA143: =Z143*K143 -> 0 | AR143: 16 | AT143: K | AU143: 2 | AY143: ROZPOCET | BE143: =IF(U143="základná",N143,0) -> 0 | BF143: =IF(U143="znížená",N143,0) -> 0 | BG143: =IF(U143="zákl. prenesená",N143,0) -> 0 | BH143: =IF(U143="zníž. prenesená",N143,0) -> 0 | BI143: =IF(U143="nulová",N143,0) -> 0 | BJ143: 2 | BK143: =ROUND(L143*K143,3) -> 0 | BL143: 16 | BM143: 680833099
C144: 13 | D144: K | E144: 721194104 | F144: Zriadenie prípojky na potrubí vyvedenie a upevnenie odpadových výpustiek D 40x1, 8 | J144: ks | K144: 12 | L144: 0 | N144: =ROUND(L144*K144,3) -> 0 | U144: znížená | W144: =V144*K144 -> 0 | X144: 0 | Y144: =X144*K144 -> 0 | Z144: 0 | AA144: =Z144*K144 -> 0 | AR144: 16 | AT144: K | AU144: 2 | AY144: ROZPOCET | BE144: =IF(U144="základná",N144,0) -> 0 | BF144: =IF(U144="znížená",N144,0) -> 0 | BG144: =IF(U144="zákl. prenesená",N144,0) -> 0 | BH144: =IF(U144="zníž. prenesená",N144,0) -> 0 | BI144: =IF(U144="nulová",N144,0) -> 0 | BJ144: 2 | BK144: =ROUND(L144*K144,3) -> 0 | BL144: 16 | BM144: -363235932
C145: 14 | D145: K | E145: 725869301 | F145: Montáž zápachovej uzávierky pre zariaďovacie predmety, umývadlová do D 40 | J145: ks | K145: 12 | L145: 0 | N145: =ROUND(L145*K145,3) -> 0 | U145: znížená | W145: =V145*K145 -> 0 | X145: 0 | Y145: =X145*K145 -> 0 | Z145: 0 | AA145: =Z145*K145 -> 0 | AR145: 16 | AT145: K | AU145: 2 | AY145: ROZPOCET | BE145: =IF(U145="základná",N145,0) -> 0 | BF145: =IF(U145="znížená",N145,0) -> 0 | BG145: =IF(U145="zákl. prenesená",N145,0) -> 0 | BH145: =IF(U145="zníž. prenesená",N145,0) -> 0 | BI145: =IF(U145="nulová",N145,0) -> 0 | BJ145: 2 | BK145: =ROUND(L145*K145,3) -> 0 | BL145: 16 | BM145: -2069555758
C146: 15 | D146: M | E146: 5514703200 | F146: Uzávierka zápachová sifón umývadlový HL137/40, biely invalidný DN40 | J146: ks | K146: 12 | L146: 0 | N146: =ROUND(L146*K146,3) -> 0 | U146: znížená | W146: =V146*K146 -> 0 | X146: 0 | Y146: =X146*K146 -> 0 | Z146: 0 | AA146: =Z146*K146 -> 0 | AR146: 32 | AT146: M | AU146: 2 | AY146: ROZPOCET | BE146: =IF(U146="základná",N146,0) -> 0 | BF146: =IF(U146="znížená",N146,0) -> 0 | BG146: =IF(U146="zákl. prenesená",N146,0) -> 0 | BH146: =IF(U146="zníž. prenesená",N146,0) -> 0 | BI146: =IF(U146="nulová",N146,0) -> 0 | BJ146: 2 | BK146: =ROUND(L146*K146,3) -> 0 | BL146: 16 | BM146: 544054146
C147: 16 | D147: K | E147: 721273147HT | F147: Čistiaca tvarovka DN75 | J147: ks | K147: 4 | L147: 0 | N147: =ROUND(L147*K147,3) -> 0 | U147: znížená | W147: =V147*K147 -> 0 | X147: 0 | Y147: =X147*K147 -> 0 | Z147: 0 | AA147: =Z147*K147 -> 0 | AR147: 16 | AT147: K | AU147: 2 | AY147: ROZPOCET | BE147: =IF(U147="základná",N147,0) -> 0 | BF147: =IF(U147="znížená",N147,0) -> 0 | BG147: =IF(U147="zákl. prenesená",N147,0) -> 0 | BH147: =IF(U147="zníž. prenesená",N147,0) -> 0 | BI147: =IF(U147="nulová",N147,0) -> 0 | BJ147: 2 | BK147: =ROUND(L147*K147,3) -> 0 | BL147: 16 | BM147: -1045799998
C148: 17 | D148: K | E148: 721290111 | F148: Ostatné - skúška tesnosti kanalizácie v objektoch vodou do DN 125 | J148: m | K148: 17.5 | L148: 0 | N148: =ROUND(L148*K148,3) -> 0 | U148: znížená | W148: =V148*K148 -> 0 | X148: 0 | Y148: =X148*K148 -> 0 | Z148: 0 | AA148: =Z148*K148 -> 0 | AR148: 16 | AT148: K | AU148: 2 | AY148: ROZPOCET | BE148: =IF(U148="základná",N148,0) -> 0 | BF148: =IF(U148="znížená",N148,0) -> 0 | BG148: =IF(U148="zákl. prenesená",N148,0) -> 0 | BH148: =IF(U148="zníž. prenesená",N148,0) -> 0 | BI148: =IF(U148="nulová",N148,0) -> 0 | BJ148: 2 | BK148: =ROUND(L148*K148,3) -> 0 | BL148: 16 | BM148: 1694657601
C149: 18 | D149: K | E149: 998721101 | F149: Presun hmôt pre vnútornú kanalizáciu v objektoch výšky do 6 m | J149: t | K149: 0.038 | L149: 0 | N149: =ROUND(L149*K149,3) -> 0 | U149: znížená | W149: =V149*K149 -> 0 | X149: 0 | Y149: =X149*K149 -> 0 | Z149: 0 | AA149: =Z149*K149 -> 0 | AR149: 16 | AT149: K | AU149: 2 | AY149: ROZPOCET | BE149: =IF(U149="základná",N149,0) -> 0 | BF149: =IF(U149="znížená",N149,0) -> 0 | BG149: =IF(U149="zákl. prenesená",N149,0) -> 0 | BH149: =IF(U149="zníž. prenesená",N149,0) -> 0 | BI149: =IF(U149="nulová",N149,0) -> 0 | BJ149: 2 | BK149: =ROUND(L149*K149,3) -> 0 | BL149: 16 | BM149: 375473941
D150: 722 - Zdravotechnika | N150: =BK150 -> 0 | W150: =SUM(W151:W161) -> 0 | Y150: =SUM(Y151:Y161) -> 0 | AA150: =SUM(AA151:AA161) -> 0 | AR150: 2 | AT150: D | AU150: 1 | AY150: ROZPOCET | BK150: =SUM(BK151:BK161) -> 0
C151: 19 | D151: K | E151: 722130801 | F151: Demontáž potrubia vodovodného do DN 25, -0,00213t | J151: m | K151: 67 | L151: 0 | N151: =ROUND(L151*K151,3) -> 0 | U151: znížená | W151: =V151*K151 -> 0 | X151: 0 | Y151: =X151*K151 -> 0 | Z151: 0 | AA151: =Z151*K151 -> 0 | AR151: 16 | AT151: K | AU151: 2 | AY151: ROZPOCET | BE151: =IF(U151="základná",N151,0) -> 0 | BF151: =IF(U151="znížená",N151,0) -> 0 | BG151: =IF(U151="zákl. prenesená",N151,0) -> 0 | BH151: =IF(U151="zníž. prenesená",N151,0) -> 0 | BI151: =IF(U151="nulová",N151,0) -> 0 | BJ151: 2 | BK151: =ROUND(L151*K151,3) -> 0 | BL151: 16 | BM151: 2102252287
C152: 20 | D152: K | E152: 722171123 | F152: Potrubie plasthliníkové ALPEX - DUO 20x2 mm v tyčiach | J152: m | K152: 13 | L152: 0 | N152: =ROUND(L152*K152,3) -> 0 | U152: znížená | W152: =V152*K152 -> 0 | X152: 0 | Y152: =X152*K152 -> 0 | Z152: 0 | AA152: =Z152*K152 -> 0 | AR152: 16 | AT152: K | AU152: 2 | AY152: ROZPOCET | BE152: =IF(U152="základná",N152,0) -> 0 | BF152: =IF(U152="znížená",N152,0) -> 0 | BG152: =IF(U152="zákl. prenesená",N152,0) -> 0 | BH152: =IF(U152="zníž. prenesená",N152,0) -> 0 | BI152: =IF(U152="nulová",N152,0) -> 0 | BJ152: 2 | BK152: =ROUND(L152*K152,3) -> 0 | BL152: 16 | BM152: 574444185
C153: 21 | D153: K | E153: 722171124 | F153: Potrubie plasthliníkové ALPEX - DUO 26x3 mm v tyčiach | J153: m | K153: 54 | L153: 0 | N153: =ROUND(L153*K153,3) -> 0 | U153: znížená | W153: =V153*K153 -> 0 | X153: 0 | Y153: =X153*K153 -> 0 | Z153: 0 | AA153: =Z153*K153 -> 0 | AR153: 16 | AT153: K | AU153: 2 | AY153: ROZPOCET | BE153: =IF(U153="základná",N153,0) -> 0 | BF153: =IF(U153="znížená",N153,0) -> 0 | BG153: =IF(U153="zákl. prenesená",N153,0) -> 0 | BH153: =IF(U153="zníž. prenesená",N153,0) -> 0 | BI153: =IF(U153="nulová",N153,0) -> 0 | BJ153: 2 | BK153: =ROUND(L153*K153,3) -> 0 | BL153: 16 | BM153: -340270986
C154: 22 | D154: K | E154: 722190401 | F154: Vyvedenie a upevnenie výpustky DN 15 | J154: ks | K154: 24 | L154: 0 | N154: =ROUND(L154*K154,3) -> 0 | U154: znížená | W154: =V154*K154 -> 0 | X154: 0 | Y154: =X154*K154 -> 0 | Z154: 0 | AA154: =Z154*K154 -> 0 | AR154: 16 | AT154: K | AU154: 2 | AY154: ROZPOCET | BE154: =IF(U154="základná",N154,0) -> 0 | BF154: =IF(U154="znížená",N154,0) -> 0 | BG154: =IF(U154="zákl. prenesená",N154,0) -> 0 | BH154: =IF(U154="zníž. prenesená",N154,0) -> 0 | BI154: =IF(U154="nulová",N154,0) -> 0 | BJ154: 2 | BK154: =ROUND(L154*K154,3) -> 0 | BL154: 16 | BM154: 1047474366
C155: 23 | D155: K | E155: 722220111 | F155: Montáž armatúry závitovej s jedným závitom, nástenka pre výtokový ventil G 1/2 | J155: ks | K155: 24 | L155: 0 | N155: =ROUND(L155*K155,3) -> 0 | U155: znížená | W155: =V155*K155 -> 0 | X155: 0 | Y155: =X155*K155 -> 0 | Z155: 0 | AA155: =Z155*K155 -> 0 | AR155: 16 | AT155: K | AU155: 2 | AY155: ROZPOCET | BE155: =IF(U155="základná",N155,0) -> 0 | BF155: =IF(U155="znížená",N155,0) -> 0 | BG155: =IF(U155="zákl. prenesená",N155,0) -> 0 | BH155: =IF(U155="zníž. prenesená",N155,0) -> 0 | BI155: =IF(U155="nulová",N155,0) -> 0 | BJ155: 2 | BK155: =ROUND(L155*K155,3) -> 0 | BL155: 16 | BM155: 1843059050
C156: 24 | D156: M | E156: 2864828700 | F156: Nástenka 16x1/2" | J156: ks | K156: 24 | L156: 0 | N156: =ROUND(L156*K156,3) -> 0 | U156: znížená | W156: =V156*K156 -> 0 | X156: 0 | Y156: =X156*K156 -> 0 | Z156: 0 | AA156: =Z156*K156 -> 0 | AR156: 32 | AT156: M | AU156: 2 | AY156: ROZPOCET | BE156: =IF(U156="základná",N156,0) -> 0 | BF156: =IF(U156="znížená",N156,0) -> 0 | BG156: =IF(U156="zákl. prenesená",N156,0) -> 0 | BH156: =IF(U156="zníž. prenesená",N156,0) -> 0 | BI156: =IF(U156="nulová",N156,0) -> 0 | BJ156: 2 | BK156: =ROUND(L156*K156,3) -> 0 | BL156: 16 | BM156: 1011027707
C157: 25 | D157: K | E157: 722229102 | F157: Montáž ventilu výtok., plavák.,vypúšť.,odvodňov.,kohút.plniaceho,vypúšťacieho PN 0.6, ventilov G 3/4 | J157: ks | K157: 8 | L157: 0 | N157: =ROUND(L157*K157,3) -> 0 | U157: znížená | W157: =V157*K157 -> 0 | X157: 0 | Y157: =X157*K157 -> 0 | Z157: 0 | AA157: =Z157*K157 -> 0 | AR157: 16 | AT157: K | AU157: 2 | AY157: ROZPOCET | BE157: =IF(U157="základná",N157,0) -> 0 | BF157: =IF(U157="znížená",N157,0) -> 0 | BG157: =IF(U157="zákl. prenesená",N157,0) -> 0 | BH157: =IF(U157="zníž. prenesená",N157,0) -> 0 | BI157: =IF(U157="nulová",N157,0) -> 0 | BJ157: 2 | BK157: =ROUND(L157*K157,3) -> 0 | BL157: 16 | BM157: 1419333961
C158: 26 | D158: M | E158: 5517400470K2 | F158: Uzatvárací ventil 3/4"s odvodnením K125T | J158: ks | K158: 8 | L158: 0 | N158: =ROUND(L158*K158,3) -> 0 | U158: znížená | W158: =V158*K158 -> 0 | X158: 0 | Y158: =X158*K158 -> 0 | Z158: 0 | AA158: =Z158*K158 -> 0 | AR158: 32 | AT158: M | AU158: 2 | AY158: ROZPOCET | BE158: =IF(U158="základná",N158,0) -> 0 | BF158: =IF(U158="znížená",N158,0) -> 0 | BG158: =IF(U158="zákl. prenesená",N158,0) -> 0 | BH158: =IF(U158="zníž. prenesená",N158,0) -> 0 | BI158: =IF(U158="nulová",N158,0) -> 0 | BJ158: 2 | BK158: =ROUND(L158*K158,3) -> 0 | BL158: 16 | BM158: 2057806551
C159: 27 | D159: K | E159: 722290226 | F159: Tlaková skúška vodovodného potrubia závitového do DN 50 | J159: m | K159: 67 | L159: 0 | N159: =ROUND(L159*K159,3) -> 0 | U159: znížená | W159: =V159*K159 -> 0 | X159: 0 | Y159: =X159*K159 -> 0 | Z159: 0 | AA159: =Z159*K159 -> 0 | AR159: 16 | AT159: K | AU159: 2 | AY159: ROZPOCET | BE159: =IF(U159="základná",N159,0) -> 0 | BF159: =IF(U159="znížená",N159,0) -> 0 | BG159: =IF(U159="zákl. prenesená",N159,0) -> 0 | BH159: =IF(U159="zníž. prenesená",N159,0) -> 0 | BI159: =IF(U159="nulová",N159,0) -> 0 | BJ159: 2 | BK159: =ROUND(L159*K159,3) -> 0 | BL159: 16 | BM159: -197293025
C160: 28 | D160: K | E160: 722290234 | F160: Prepláchnutie a dezinfekcia vodovodného potrubia do DN 80 | J160: m | K160: 67 | L160: 0 | N160: =ROUND(L160*K160,3) -> 0 | U160: znížená | W160: =V160*K160 -> 0 | X160: 0 | Y160: =X160*K160 -> 0 | Z160: 0 | AA160: =Z160*K160 -> 0 | AR160: 16 | AT160: K | AU160: 2 | AY160: ROZPOCET | BE160: =IF(U160="základná",N160,0) -> 0 | BF160: =IF(U160="znížená",N160,0) -> 0 | BG160: =IF(U160="zákl. prenesená",N160,0) -> 0 | BH160: =IF(U160="zníž. prenesená",N160,0) -> 0 | BI160: =IF(U160="nulová",N160,0) -> 0 | BJ160: 2 | BK160: =ROUND(L160*K160,3) -> 0 | BL160: 16 | BM160: 952871265
C161: 29 | D161: K | E161: 998722101 | F161: Presun hmôt pre vnútorný vodovod v objektoch výšky do 6 m | J161: t | K161: 0.106 | L161: 0 | N161: =ROUND(L161*K161,3) -> 0 | U161: znížená | W161: =V161*K161 -> 0 | X161: 0 | Y161: =X161*K161 -> 0 | Z161: 0 | AA161: =Z161*K161 -> 0 | AR161: 16 | AT161: K | AU161: 2 | AY161: ROZPOCET | BE161: =IF(U161="základná",N161,0) -> 0 | BF161: =IF(U161="znížená",N161,0) -> 0 | BG161: =IF(U161="zákl. prenesená",N161,0) -> 0 | BH161: =IF(U161="zníž. prenesená",N161,0) -> 0 | BI161: =IF(U161="nulová",N161,0) -> 0 | BJ161: 2 | BK161: =ROUND(L161*K161,3) -> 0 | BL161: 16 | BM161: -1861452950
...

Sheet 3 - Elektroinštalácia
D1: Hárok obsahuje: | F1: 1) Krycí list rozpočtu | H1: 2) Rekapitulácia rozpočtu | L1: 3) Rozpočet | O1: Späť na hárok: | S1: Rekapitulácia stavby
C2: optimalizované pre tlač zostáv vo formáte A4 - na výšku | S2: >> skryté stĺpce << | AT2: {c353890f-9373-4ed3-80d0-0a2b79b0a93c}
AT3: 0
C4: KRYCÍ LIST ROZPOČTU | T4: v --- nižšie sa nachádzajú doplnkové a pomocné údaje k zostavám --- v | AT4: False
D6: Stavba: | F6: ='Rekapitulácia stavby'!K6 -> Stavebné úpravy priestorov bloku B objektu UKF v NItre na Triede A. Hlinku 1, Nitra
D7: Objekt: | F7: 3 - Elektroinštalácia
D8: JKSO: | M8: KS:
D9: Miesto: | M9: Dátum: | O9: ='Rekapitulácia stavby'!AN8 -> 12. 2. 2018
D11: Objednávateľ: | M11: IČO:
E12: UKF v NItre, Trieda A. Hlinku 1, Nitra | M12: IČO DPH:
D14: Zhotoviteľ: | M14: IČO:
M15: IČO DPH:
D17: Projektant: | M17: IČO:
E18: K2 ateliér s.r.o., Nitra | M18: IČO DPH:
D20: Spracovateľ: | M20: IČO:
M21: IČO DPH:
D23: Poznámka:
D27: Náklady z rozpočtu | M27: =N88 -> 0
D28: Ostatné náklady | M28: =N96 -> 0
D30: Cena bez DPH | M30: =ROUND(M27+M28,2) -> 0
D32: DPH | E32: základná | F32: 0.2 | G32: z | H32: =ROUND((((SUM(BE96:BE103)+SUM(BE121:BE223))+SUM(BE225:BE229))),2) -> 0 | M32: =ROUND(((ROUND((SUM(BE96:BE103)+SUM(BE121:BE223)), 2)*F32)+SUM(BE225:BE229)*F32),2) -> 0
E33: znížená | F33: 0.2 | G33: z | H33: =ROUND((((SUM(BF96:BF103)+SUM(BF121:BF223))+SUM(BF225:BF229))),2) -> 0 | M33: =ROUND(((ROUND((SUM(BF96:BF103)+SUM(BF121:BF223)), 2)*F33)+SUM(BF225:BF229)*F33),2) -> 0
E34: zákl. prenesená | F34: 0.2 | G34: z | H34: =ROUND((((SUM(BG96:BG103)+SUM(BG121:BG223))+SUM(BG225:BG229))),2) -> 0 | M34: 0
E35: zníž. prenesená | F35: 0.2 | G35: z | H35: =ROUND((((SUM(BH96:BH103)+SUM(BH121:BH223))+SUM(BH225:BH229))),2) -> 0 | M35: 0
E36: nulová | F36: 0 | G36: z | H36: =ROUND((((SUM(BI96:BI103)+SUM(BI121:BI223))+SUM(BI225:BI229))),2) -> 0 | M36: 0
D38: Cena s DPH | G38: v | H38: EUR | L38: =SUM(M30:M36) -> 0
D50: Projektant | J50: Spracovateľ
D59: Dátum a podpis: | G59: Pečiatka | J59: Dátum a podpis: | N59: Pečiatka
D61: Objednávateľ | J61: Zhotoviteľ
D70: Dátum a podpis: | G70: Pečiatka | J70: Dátum a podpis: | N70: Pečiatka
C76: REKAPITULÁCIA ROZPOČTU
C78: Stavba: | F78: =F6 -> Stavebné úpravy priestorov bloku B objektu UKF v NItre na Triede A. Hlinku 1, Nitra
C79: Objekt: | F79: =F7 -> 3 - Elektroinštalácia
C81: Miesto: | F81: =F9 | K81: Dátum: | M81: =IF(O9="","",O9) -> 12. 2. 2018
C83: Objednávateľ: | F83: =E12 -> UKF v NItre, Trieda A. Hlinku 1, Nitra | K83: Projektant: | M83: =E18 -> K2 ateliér s.r.o., Nitra
C84: Zhotoviteľ: | F84: =IF(E15="","",E15) | K84: Spracovateľ: | M84: =E21
C86: Kód - Popis | N86: Cena celkom [EUR]
C88: 1) Náklady z rozpočtu | N88: =N121 -> 0 | AU88: -1
D89: D3 - Materiál | N89: =N122 -> 0
D90: D4 - Dozbrojenie existujúceh RH | N90: =N123 -> 0
D91: D5 - Rozvádzač RS | N91: =N127 -> 0
D92: D6 - Rozvádzač R | N92: =N138 -> 0
D93: D7 - Elektoinštalácia | N93: =N148 -> 0
D94: VP - Práce naviac | N94: =N224 -> 0
C96: 2) Ostatné náklady | N96: =ROUND(N97+N98+N99+N100+N101+N102,2) -> 0 | U96: DPH
D97: GZS | N97: =ROUND(N88*T97,2) -> 0 | U97: znížená | AY97: VRN | BE97: =IF(U97="základná",N97,0) -> 0 | BF97: =IF(U97="znížená",N97,0) -> 0 | BG97: =IF(U97="zákl. prenesená",N97,0) -> 0 | BH97: =IF(U97="zníž. prenesená",N97,0) -> 0 | BI97: =IF(U97="nulová",N97,0) -> 0 | BJ97: 2
D98: Mimostaven. doprava | N98: =ROUND(N88*T98,2) -> 0 | U98: znížená | AY98: VRN | BE98: =IF(U98="základná",N98,0) -> 0 | BF98: =IF(U98="znížená",N98,0) -> 0 | BG98: =IF(U98="zákl. prenesená",N98,0) -> 0 | BH98: =IF(U98="zníž. prenesená",N98,0) -> 0 | BI98: =IF(U98="nulová",N98,0) -> 0 | BJ98: 2
D99: Sťažené podmienky | N99: =ROUND(N88*T99,2) -> 0 | U99: znížená | AY99: VRN | BE99: =IF(U99="základná",N99,0) -> 0 | BF99: =IF(U99="znížená",N99,0) -> 0 | BG99: =IF(U99="zákl. prenesená",N99,0) -> 0 | BH99: =IF(U99="zníž. prenesená",N99,0) -> 0 | BI99: =IF(U99="nulová",N99,0) -> 0 | BJ99: 2
D100: Vplyv prostredia | N100: =ROUND(N88*T100,2) -> 0 | U100: znížená | AY100: VRN | BE100: =IF(U100="základná",N100,0) -> 0 | BF100: =IF(U100="znížená",N100,0) -> 0 | BG100: =IF(U100="zákl. prenesená",N100,0) -> 0 | BH100: =IF(U100="zníž. prenesená",N100,0) -> 0 | BI100: =IF(U100="nulová",N100,0) -> 0 | BJ100: 2
D101: Klimatické vplyvy | N101: =ROUND(N88*T101,2) -> 0 | U101: znížená | AY101: VRN | BE101: =IF(U101="základná",N101,0) -> 0 | BF101: =IF(U101="znížená",N101,0) -> 0 | BG101: =IF(U101="zákl. prenesená",N101,0) -> 0 | BH101: =IF(U101="zníž. prenesená",N101,0) -> 0 | BI101: =IF(U101="nulová",N101,0) -> 0 | BJ101: 2
D102: Kompletačná činnosť | N102: =ROUND(N88*T102,2) -> 0 | U102: znížená | AY102: KOMPLETACNA | BE102: =IF(U102="základná",N102,0) -> 0 | BF102: =IF(U102="znížená",N102,0) -> 0 | BG102: =IF(U102="zákl. prenesená",N102,0) -> 0 | BH102: =IF(U102="zníž. prenesená",N102,0) -> 0 | BI102: =IF(U102="nulová",N102,0) -> 0 | BJ102: 2
C104: Celkové náklady za stavbu 1) + 2) | L104: =ROUND(SUM(N88+N96),2) -> 0
C110: ROZPOČET
C112: Stavba: | F112: =F6 -> Stavebné úpravy priestorov bloku B objektu UKF v NItre na Triede A. Hlinku 1, Nitra
C113: Objekt: | F113: =F7 -> 3 - Elektroinštalácia
C115: Miesto: | F115: =F9 | K115: Dátum: | M115: =IF(O9="","",O9) -> 12. 2. 2018
C117: Objednávateľ: | F117: =E12 -> UKF v NItre, Trieda A. Hlinku 1, Nitra | K117: Projektant: | M117: =E18 -> K2 ateliér s.r.o., Nitra
C118: Zhotoviteľ: | F118: =IF(E15="","",E15) | K118: Spracovateľ: | M118: =E21
C120: PČ | D120: Typ | E120: Kód | F120: Popis | J120: MJ | K120: Množstvo | L120: J.cena [EUR] | N120: Cena celkom [EUR] | T120: Poznámka | U120: DPH | V120: J. Nh [h] | W120: Nh celkom [h] | X120: J. hmotnosť_x000D_ [t] | Y120: Hmotnosť_x000D_ celkom [t] | Z120: J. suť [t] | AA120: Suť Celkom [t]
C121: Náklady z rozpočtu | N121: =BK121 -> 0 | W121: =W122+W224 -> 0 | Y121: =Y122+Y224 -> 0 | AA121: =AA122+AA224 -> 0 | AT121: D | AU121: -1 | BK121: =BK122+BK224 -> 0
D122: D3 - Materiál | N122: =BK122 -> 0 | W122: =W123+W127+W138+W148 -> 0 | Y122: =Y123+Y127+Y138+Y148 -> 0 | AA122: =AA123+AA127+AA138+AA148 -> 0 | AR122: 1 | AT122: D | AU122: 0 | AY122: ROZPOCET | BK122: =BK123+BK127+BK138+BK148 -> 0
D123: D4 - Dozbrojenie existujúceh RH | N123: =BK123 -> 0 | W123: =SUM(W124:W126) -> 0 | Y123: =SUM(Y124:Y126) -> 0 | AA123: =SUM(AA124:AA126) -> 0 | AR123: 1 | AT123: D | AU123: 1 | AY123: ROZPOCET | BK123: =SUM(BK124:BK126) -> 0
C124: 1 | D124: M | E124: Pol6 | F124: Istič B40/3 | J124: ks/m | K124: 1 | L124: 0 | N124: =ROUND(L124*K124,3) -> 0 | U124: znížená | W124: =V124*K124 -> 0 | X124: 0 | Y124: =X124*K124 -> 0 | Z124: 0 | AA124: =Z124*K124 -> 0 | AR124: 8 | AT124: M | AU124: 2 | AY124: ROZPOCET | BE124: =IF(U124="základná",N124,0) -> 0 | BF124: =IF(U124="znížená",N124,0) -> 0 | BG124: =IF(U124="zákl. prenesená",N124,0) -> 0 | BH124: =IF(U124="zníž. prenesená",N124,0) -> 0 | BI124: =IF(U124="nulová",N124,0) -> 0 | BJ124: 2 | BK124: =ROUND(L124*K124,3) -> 0 | BL124: 4 | BM124: -710125401
C125: 2 | D125: K | E125: Pol53 | F125: Istič B40/3 | J125: ks/m | K125: 1 | L125: 0 | N125: =ROUND(L125*K125,3) -> 0 | U125: znížená | W125: =V125*K125 -> 0 | X125: 0 | Y125: =X125*K125 -> 0 | Z125: 0 | AA125: =Z125*K125 -> 0 | AR125: 4 | AT125: K | AU125: 2 | AY125: ROZPOCET | BE125: =IF(U125="základná",N125,0) -> 0 | BF125: =IF(U125="znížená",N125,0) -> 0 | BG125: =IF(U125="zákl. prenesená",N125,0) -> 0 | BH125: =IF(U125="zníž. prenesená",N125,0) -> 0 | BI125: =IF(U125="nulová",N125,0) -> 0 | BJ125: 2 | BK125: =ROUND(L125*K125,3) -> 0 | BL125: 4 | BM125: -1718653159
C126: 3 | D126: K | E126: Pol54 | F126: Úprava existujúceho rozvázača | J126: ks/m | K126: 1 | L126: 0 | N126: =ROUND(L126*K126,3) -> 0 | U126: znížená | W126: =V126*K126 -> 0 | X126: 0 | Y126: =X126*K126 -> 0 | Z126: 0 | AA126: =Z126*K126 -> 0 | AR126: 4 | AT126: K | AU126: 2 | AY126: ROZPOCET | BE126: =IF(U126="základná",N126,0) -> 0 | BF126: =IF(U126="znížená",N126,0) -> 0 | BG126: =IF(U126="zákl. prenesená",N126,0) -> 0 | BH126: =IF(U126="zníž. prenesená",N126,0) -> 0 | BI126: =IF(U126="nulová",N126,0) -> 0 | BJ126: 2 | BK126: =ROUND(L126*K126,3) -> 0 | BL126: 4 | BM126: -1790339892
D127: D5 - Rozvádzač RS | N127: =BK127 -> 0 | W127: =SUM(W128:W137) -> 0 | Y127: =SUM(Y128:Y137) -> 0 | AA127: =SUM(AA128:AA137) -> 0 | AR127: 1 | AT127: D | AU127: 1 | AY127: ROZPOCET | BK127: =SUM(BK128:BK137) -> 0
C128: 4 | D128: M | E128: Pol7 | F128: Skriňa SCHRACK WUS-4 56 modulov | J128: ks/m | K128: 2 | L128: 0 | N128: =ROUND(L128*K128,3) -> 0 | U128: znížená | W128: =V128*K128 -> 0 | X128: 0 | Y128: =X128*K128 -> 0 | Z128: 0 | AA128: =Z128*K128 -> 0 | AR128: 8 | AT128: M | AU128: 2 | AY128: ROZPOCET | BE128: =IF(U128="základná",N128,0) -> 0 | BF128: =IF(U128="znížená",N128,0) -> 0 | BG128: =IF(U128="zákl. prenesená",N128,0) -> 0 | BH128: =IF(U128="zníž. prenesená",N128,0) -> 0 | BI128: =IF(U128="nulová",N128,0) -> 0 | BJ128: 2 | BK128: =ROUND(L128*K128,3) -> 0 | BL128: 4 | BM128: -1835218279
C129: 5 | D129: M | E129: Pol8 | F129: Výpinač IS 40/3 | J129: ks/m | K129: 1 | L129: 0 | N129: =ROUND(L129*K129,3) -> 0 | U129: znížená | W129: =V129*K129 -> 0 | X129: 0 | Y129: =X129*K129 -> 0 | Z129: 0 | AA129: =Z129*K129 -> 0 | AR129: 8 | AT129: M | AU129: 2 | AY129: ROZPOCET | BE129: =IF(U129="základná",N129,0) -> 0 | BF129: =IF(U129="znížená",N129,0) -> 0 | BG129: =IF(U129="zákl. prenesená",N129,0) -> 0 | BH129: =IF(U129="zníž. prenesená",N129,0) -> 0 | BI129: =IF(U129="nulová",N129,0) -> 0 | BJ129: 2 | BK129: =ROUND(L129*K129,3) -> 0 | BL129: 4 | BM129: -842128719
C130: 6 | D130: M | E130: Pol9 | F130: Prípojnice | J130: ks/m | K130: 1 | L130: 0 | N130: =ROUND(L130*K130,3) -> 0 | U130: znížená | W130: =V130*K130 -> 0 | X130: 0 | Y130: =X130*K130 -> 0 | Z130: 0 | AA130: =Z130*K130 -> 0 | AR130: 8 | AT130: M | AU130: 2 | AY130: ROZPOCET | BE130: =IF(U130="základná",N130,0) -> 0 | BF130: =IF(U130="znížená",N130,0) -> 0 | BG130: =IF(U130="zákl. prenesená",N130,0) -> 0 | BH130: =IF(U130="zníž. prenesená",N130,0) -> 0 | BI130: =IF(U130="nulová",N130,0) -> 0 | BJ130: 2 | BK130: =ROUND(L130*K130,3) -> 0 | BL130: 4 | BM130: -379159992
C131: 7 | D131: M | E131: Pol10 | F131: Poiskový oppinač OVP | J131: ks/m | K131: 1 | L131: 0 | N131: =ROUND(L131*K131,3) -> 0 | U131: znížená | W131: =V131*K131 -> 0 | X131: 0 | Y131: =X131*K131 -> 0 | Z131: 0 | AA131: =Z131*K131 -> 0 | AR131: 8 | AT131: M | AU131: 2 | AY131: ROZPOCET | BE131: =IF(U131="základná",N131,0) -> 0 | BF131: =IF(U131="znížená",N131,0) -> 0 | BG131: =IF(U131="zákl. prenesená",N131,0) -> 0 | BH131: =IF(U131="zníž. prenesená",N131,0) -> 0 | BI131: =IF(U131="nulová",N131,0) -> 0 | BJ131: 2 | BK131: =ROUND(L131*K131,3) -> 0 | BL131: 4 | BM131: 1408626616
C132: 8 | D132: M | E132: Pol11 | F132: Predpaťová ocrana | J132: ks/m | K132: 4 | L132: 0 | N132: =ROUND(L132*K132,3) -> 0 | U132: znížená | W132: =V132*K132 -> 0 | X132: 0 | Y132: =X132*K132 -> 0 | Z132: 0 | AA132: =Z132*K132 -> 0 | AR132: 8 | AT132: M | AU132: 2 | AY132: ROZPOCET | BE132: =IF(U132="základná",N132,0) -> 0 | BF132: =IF(U132="znížená",N132,0) -> 0 | BG132: =IF(U132="zákl. prenesená",N132,0) -> 0 | BH132: =IF(U132="zníž. prenesená",N132,0) -> 0 | BI132: =IF(U132="nulová",N132,0) -> 0 | BJ132: 2 | BK132: =ROUND(L132*K132,3) -> 0 | BL132: 4 | BM132: 1202686654
C133: 9 | D133: M | E133: Pol12 | F133: Prudový chránič Pl 40/4/0,03 | J133: ks/m | K133: 7 | L133: 0 | N133: =ROUND(L133*K133,3) -> 0 | U133: znížená | W133: =V133*K133 -> 0 | X133: 0 | Y133: =X133*K133 -> 0 | Z133: 0 | AA133: =Z133*K133 -> 0 | AR133: 8 | AT133: M | AU133: 2 | AY133: ROZPOCET | BE133: =IF(U133="základná",N133,0) -> 0 | BF133: =IF(U133="znížená",N133,0) -> 0 | BG133: =IF(U133="zákl. prenesená",N133,0) -> 0 | BH133: =IF(U133="zníž. prenesená",N133,0) -> 0 | BI133: =IF(U133="nulová",N133,0) -> 0 | BJ133: 2 | BK133: =ROUND(L133*K133,3) -> 0 | BL133: 4 | BM133: -1687072725
C134: 10 | D134: M | E134: Pol13 | F134: Istič B10/1 | J134: ks/m | K134: 9 | L134: 0 | N134: =ROUND(L134*K134,3) -> 0 | U134: znížená | W134: =V134*K134 -> 0 | X134: 0 | Y134: =X134*K134 -> 0 | Z134: 0 | AA134: =Z134*K134 -> 0 | AR134: 8 | AT134: M | AU134: 2 | AY134: ROZPOCET | BE134: =IF(U134="základná",N134,0) -> 0 | BF134: =IF(U134="znížená",N134,0) -> 0 | BG134: =IF(U134="zákl. prenesená",N134,0) -> 0 | BH134: =IF(U134="zníž. prenesená",N134,0) -> 0 | BI134: =IF(U134="nulová",N134,0) -> 0 | BJ134: 2 | BK134: =ROUND(L134*K134,3) -> 0 | BL134: 4 | BM134: -984314737
C135: 11 | D135: M | E135: Pol14 | F135: Istič B16/1 | J135: ks/m | K135: 36 | L135: 0 | N135: =ROUND(L135*K135,3) -> 0 | U135: znížená | W135: =V135*K135 -> 0 | X135: 0 | Y135: =X135*K135 -> 0 | Z135: 0 | AA135: =Z135*K135 -> 0 | AR135: 8 | AT135: M | AU135: 2 | AY135: ROZPOCET | BE135: =IF(U135="základná",N135,0) -> 0 | BF135: =IF(U135="znížená",N135,0) -> 0 | BG135: =IF(U135="zákl. prenesená",N135,0) -> 0 | BH135: =IF(U135="zníž. prenesená",N135,0) -> 0 | BI135: =IF(U135="nulová",N135,0) -> 0 | BJ135: 2 | BK135: =ROUND(L135*K135,3) -> 0 | BL135: 4 | BM135: 1931237662
C136: 12 | D136: M | E136: Pol15 | F136: Istič B25/3 | J136: ks/m | K136: 1 | L136: 0 | N136: =ROUND(L136*K136,3) -> 0 | U136: znížená | W136: =V136*K136 -> 0 | X136: 0 | Y136: =X136*K136 -> 0 | Z136: 0 | AA136: =Z136*K136 -> 0 | AR136: 8 | AT136: M | AU136: 2 | AY136: ROZPOCET | BE136: =IF(U136="základná",N136,0) -> 0 | BF136: =IF(U136="znížená",N136,0) -> 0 | BG136: =IF(U136="zákl. prenesená",N136,0) -> 0 | BH136: =IF(U136="zníž. prenesená",N136,0) -> 0 | BI136: =IF(U136="nulová",N136,0) -> 0 | BJ136: 2 | BK136: =ROUND(L136*K136,3) -> 0 | BL136: 4 | BM136: -301627453
C137: 13 | D137: K | E137: Pol55 | F137: Montáž rozvádzača | J137: ks/m | K137: 1 | L137: 0 | N137: =ROUND(L137*K137,3) -> 0 | U137: znížená | W137: =V137*K137 -> 0 | X137: 0 | Y137: =X137*K137 -> 0 | Z137: 0 | AA137: =Z137*K137 -> 0 | AR137: 4 | AT137: K | AU137: 2 | AY137: ROZPOCET | BE137: =IF(U137="základná",N137,0) -> 0 | BF137: =IF(U137="znížená",N137,0) -> 0 | BG137: =IF(U137="zákl. prenesená",N137,0) -> 0 | BH137: =IF(U137="zníž. prenesená",N137,0) -> 0 | BI137: =IF(U137="nulová",N137,0) -> 0 | BJ137: 2 | BK137: =ROUND(L137*K137,3) -> 0 | BL137: 4 | BM137: 1893139463
D138: D6 - Rozvádzač R | N138: =BK138 -> 0 | W138: =SUM(W139:W147) -> 0 | Y138: =SUM(Y139:Y147) -> 0 | AA138: =SUM(AA139:AA147) -> 0 | AR138: 1 | AT138: D | AU138: 1 | AY138: ROZPOCET | BK138: =SUM(BK139:BK147) -> 0
C139: 14 | D139: M | E139: Pol7 | F139: Skriňa SCHRACK WUS-4 56 modulov | J139: ks/m | K139: 1 | L139: 0 | N139: =ROUND(L139*K139,3) -> 0 | U139: znížená | W139: =V139*K139 -> 0 | X139: 0 | Y139: =X139*K139 -> 0 | Z139: 0 | AA139: =Z139*K139 -> 0 | AR139: 8 | AT139: M | AU139: 2 | AY139: ROZPOCET | BE139: =IF(U139="základná",N139,0) -> 0 | BF139: =IF(U139="znížená",N139,0) -> 0 | BG139: =IF(U139="zákl. prenesená",N139,0) -> 0 | BH139: =IF(U139="zníž. prenesená",N139,0) -> 0 | BI139: =IF(U139="nulová",N139,0) -> 0 | BJ139: 2 | BK139: =ROUND(L139*K139,3) -> 0 | BL139: 4 | BM139: -1538515462
C140: 15 | D140: M | E140: Pol8 | F140: Výpinač IS 40/3 | J140: ks/m | K140: 1 | L140: 0 | N140: =ROUND(L140*K140,3) -> 0 | U140: znížená | W140: =V140*K140 -> 0 | X140: 0 | Y140: =X140*K140 -> 0 | Z140: 0 | AA140: =Z140*K140 -> 0 | AR140: 8 | AT140: M | AU140: 2 | AY140: ROZPOCET | BE140: =IF(U140="základná",N140,0) -> 0 | BF140: =IF(U140="znížená",N140,0) -> 0 | BG140: =IF(U140="zákl. prenesená",N140,0) -> 0 | BH140: =IF(U140="zníž. prenesená",N140,0) -> 0 | BI140: =IF(U140="nulová",N140,0) -> 0 | BJ140: 2 | BK140: =ROUND(L140*K140,3) -> 0 | BL140: 4 | BM140: -243860059
C141: 16 | D141: M | E141: Pol9 | F141: Prípojnice | J141: ks/m | K141: 1 | L141: 0 | N141: =ROUND(L141*K141,3) -> 0 | U141: znížená | W141: =V141*K141 -> 0 | X141: 0 | Y141: =X141*K141 -> 0 | Z141: 0 | AA141: =Z141*K141 -> 0 | AR141: 8 | AT141: M | AU141: 2 | AY141: ROZPOCET | BE141: =IF(U141="základná",N141,0) -> 0 | BF141: =IF(U141="znížená",N141,0) -> 0 | BG141: =IF(U141="zákl. prenesená",N141,0) -> 0 | BH141: =IF(U141="zníž. prenesená",N141,0) -> 0 | BI141: =IF(U141="nulová",N141,0) -> 0 | BJ141: 2 | BK141: =ROUND(L141*K141,3) -> 0 | BL141: 4 | BM141: -1717975358
C142: 17 | D142: M | E142: Pol10 | F142: Poiskový oppinač OVP | J142: ks/m | K142: 1 | L142: 0 | N142: =ROUND(L142*K142,3) -> 0 | U142: znížená | W142: =V142*K142 -> 0 | X142: 0 | Y142: =X142*K142 -> 0 | Z142: 0 | AA142: =Z142*K142 -> 0 | AR142: 8 | AT142: M | AU142: 2 | AY142: ROZPOCET | BE142: =IF(U142="základná",N142,0) -> 0 | BF142: =IF(U142="znížená",N142,0) -> 0 | BG142: =IF(U142="zákl. prenesená",N142,0) -> 0 | BH142: =IF(U142="zníž. prenesená",N142,0) -> 0 | BI142: =IF(U142="nulová",N142,0) -> 0 | BJ142: 2 | BK142: =ROUND(L142*K142,3) -> 0 | BL142: 4 | BM142: 1875374323
C143: 18 | D143: M | E143: Pol11 | F143: Predpaťová ocrana | J143: ks/m | K143: 4 | L143: 0 | N143: =ROUND(L143*K143,3) -> 0 | U143: znížená | W143: =V143*K143 -> 0 | X143: 0 | Y143: =X143*K143 -> 0 | Z143: 0 | AA143: =Z143*K143 -> 0 | AR143: 8 | AT143: M | AU143: 2 | AY143: ROZPOCET | BE143: =IF(U143="základná",N143,0) -> 0 | BF143: =IF(U143="znížená",N143,0) -> 0 | BG143: =IF(U143="zákl. prenesená",N143,0) -> 0 | BH143: =IF(U143="zníž. prenesená",N143,0) -> 0 | BI143: =IF(U143="nulová",N143,0) -> 0 | BJ143: 2 | BK143: =ROUND(L143*K143,3) -> 0 | BL143: 4 | BM143: -965906886
C144: 19 | D144: M | E144: Pol12 | F144: Prudový chránič Pl 40/4/0,03 | J144: ks/m | K144: 2 | L144: 0 | N144: =ROUND(L144*K144,3) -> 0 | U144: znížená | W144: =V144*K144 -> 0 | X144: 0 | Y144: =X144*K144 -> 0 | Z144: 0 | AA144: =Z144*K144 -> 0 | AR144: 8 | AT144: M | AU144: 2 | AY144: ROZPOCET | BE144: =IF(U144="základná",N144,0) -> 0 | BF144: =IF(U144="znížená",N144,0) -> 0 | BG144: =IF(U144="zákl. prenesená",N144,0) -> 0 | BH144: =IF(U144="zníž. prenesená",N144,0) -> 0 | BI144: =IF(U144="nulová",N144,0) -> 0 | BJ144: 2 | BK144: =ROUND(L144*K144,3) -> 0 | BL144: 4 | BM144: -405029002
C145: 20 | D145: M | E145: Pol13 | F145: Istič B10/1 | J145: ks/m | K145: 1 | L145: 0 | N145: =ROUND(L145*K145,3) -> 0 | U145: znížená | W145: =V145*K145 -> 0 | X145: 0 | Y145: =X145*K145 -> 0 | Z145: 0 | AA145: =Z145*K145 -> 0 | AR145: 8 | AT145: M | AU145: 2 | AY145: ROZPOCET | BE145: =IF(U145="základná",N145,0) -> 0 | BF145: =IF(U145="znížená",N145,0) -> 0 | BG145: =IF(U145="zákl. prenesená",N145,0) -> 0 | BH145: =IF(U145="zníž. prenesená",N145,0) -> 0 | BI145: =IF(U145="nulová",N145,0) -> 0 | BJ145: 2 | BK145: =ROUND(L145*K145,3) -> 0 | BL145: 4 | BM145: -275072548
C146: 21 | D146: M | E146: Pol14 | F146: Istič B16/1 | J146: ks/m | K146: 11 | L146: 0 | N146: =ROUND(L146*K146,3) -> 0 | U146: znížená | W146: =V146*K146 -> 0 | X146: 0 | Y146: =X146*K146 -> 0 | Z146: 0 | AA146: =Z146*K146 -> 0 | AR146: 8 | AT146: M | AU146: 2 | AY146: ROZPOCET | BE146: =IF(U146="základná",N146,0) -> 0 | BF146: =IF(U146="znížená",N146,0) -> 0 | BG146: =IF(U146="zákl. prenesená",N146,0) -> 0 | BH146: =IF(U146="zníž. prenesená",N146,0) -> 0 | BI146: =IF(U146="nulová",N146,0) -> 0 | BJ146: 2 | BK146: =ROUND(L146*K146,3) -> 0 | BL146: 4 | BM146: 2144541780
C147: 22 | D147: K | E147: Pol56 | F147: Montáž rozvádzača | J147: ks/m | K147: 1 | L147: 0 | N147: =ROUND(L147*K147,3) -> 0 | U147: znížená | W147: =V147*K147 -> 0 | X147: 0 | Y147: =X147*K147 -> 0 | Z147: 0 | AA147: =Z147*K147 -> 0 | AR147: 4 | AT147: K | AU147: 2 | AY147: ROZPOCET | BE147: =IF(U147="základná",N147,0) -> 0 | BF147: =IF(U147="znížená",N147,0) -> 0 | BG147: =IF(U147="zákl. prenesená",N147,0) -> 0 | BH147: =IF(U147="zníž. prenesená",N147,0) -> 0 | BI147: =IF(U147="nulová",N147,0) -> 0 | BJ147: 2 | BK147: =ROUND(L147*K147,3) -> 0 | BL147: 4 | BM147: -50870661
D148: D7 - Elektoinštalácia | N148: =BK148 -> 0 | W148: =SUM(W149:W223) -> 0 | Y148: =SUM(Y149:Y223) -> 0 | AA148: =SUM(AA149:AA223) -> 0 | AR148: 1 | AT148: D | AU148: 1 | AY148: ROZPOCET | BK148: =SUM(BK149:BK223) -> 0
C149: 23 | D149: M | E149: Pol16 | F149: Kabel CHKE-R 5x10 | J149: ks/m | K149: 10 | L149: 0 | N149: =ROUND(L149*K149,3) -> 0 | U149: znížená | W149: =V149*K149 -> 0 | X149: 0 | Y149: =X149*K149 -> 0 | Z149: 0 | AA149: =Z149*K149 -> 0 | AR149: 8 | AT149: M | AU149: 2 | AY149: ROZPOCET | BE149: =IF(U149="základná",N149,0) -> 0 | BF149: =IF(U149="znížená",N149,0) -> 0 | BG149: =IF(U149="zákl. prenesená",N149,0) -> 0 | BH149: =IF(U149="zníž. prenesená",N149,0) -> 0 | BI149: =IF(U149="nulová",N149,0) -> 0 | BJ149: 2 | BK149: =ROUND(L149*K149,3) -> 0 | BL149: 4 | BM149: 972678848
C150: 24 | D150: M | E150: Pol17 | F150: Kabel CHKE-R 5x6 | J150: ks/m | K150: 50 | L150: 0 | N150: =ROUND(L150*K150,3) -> 0 | U150: znížená | W150: =V150*K150 -> 0 | X150: 0 | Y150: =X150*K150 -> 0 | Z150: 0 | AA150: =Z150*K150 -> 0 | AR150: 8 | AT150: M | AU150: 2 | AY150: ROZPOCET | BE150: =IF(U150="základná",N150,0) -> 0 | BF150: =IF(U150="znížená",N150,0) -> 0 | BG150: =IF(U150="zákl. prenesená",N150,0) -> 0 | BH150: =IF(U150="zníž. prenesená",N150,0) -> 0 | BI150: =IF(U150="nulová",N150,0) -> 0 | BJ150: 2 | BK150: =ROUND(L150*K150,3) -> 0 | BL150: 4 | BM150: 1237078073
C151: 25 | D151: M | E151: Pol18 | F151: Kabel CHKE-R 2x1,5 | J151: ks/m | K151: 10 | L151: 0 | N151: =ROUND(L151*K151,3) -> 0 | U151: znížená | W151: =V151*K151 -> 0 | X151: 0 | Y151: =X151*K151 -> 0 | Z151: 0 | AA151: =Z151*K151 -> 0 | AR151: 8 | AT151: M | AU151: 2 | AY151: ROZPOCET | BE151: =IF(U151="základná",N151,0) -> 0 | BF151: =IF(U151="znížená",N151,0) -> 0 | BG151: =IF(U151="zákl. prenesená",N151,0) -> 0 | BH151: =IF(U151="zníž. prenesená",N151,0) -> 0 | BI151: =IF(U151="nulová",N151,0) -> 0 | BJ151: 2 | BK151: =ROUND(L151*K151,3) -> 0 | BL151: 4 | BM151: 1735278948
C152: 26 | D152: M | E152: Pol19 | F152: Kabel CHKE-R 3x1,5 | J152: ks/m | K152: 980 | L152: 0 | N152: =ROUND(L152*K152,3) -> 0 | U152: znížená | W152: =V152*K152 -> 0 | X152: 0 | Y152: =X152*K152 -> 0 | Z152: 0 | AA152: =Z152*K152 -> 0 | AR152: 8 | AT152: M | AU152: 2 | AY152: ROZPOCET | BE152: =IF(U152="základná",N152,0) -> 0 | BF152: =IF(U152="znížená",N152,0) -> 0 | BG152: =IF(U152="zákl. prenesená",N152,0) -> 0 | BH152: =IF(U152="zníž. prenesená",N152,0) -> 0 | BI152: =IF(U152="nulová",N152,0) -> 0 | BJ152: 2 | BK152: =ROUND(L152*K152,3) -> 0 | BL152: 4 | BM152: 285973984
C153: 27 | D153: M | E153: Pol20 | F153: Kabel CHKE-R 4x1,5 | J153: ks/m | K153: 100 | L153: 0 | N153: =ROUND(L153*K153,3) -> 0 | U153: znížená | W153: =V153*K153 -> 0 | X153: 0 | Y153: =X153*K153 -> 0 | Z153: 0 | AA153: =Z153*K153 -> 0 | AR153: 8 | AT153: M | AU153: 2 | AY153: ROZPOCET | BE153: =IF(U153="základná",N153,0) -> 0 | BF153: =IF(U153="znížená",N153,0) -> 0 | BG153: =IF(U153="zákl. prenesená",N153,0) -> 0 | BH153: =IF(U153="zníž. prenesená",N153,0) -> 0 | BI153: =IF(U153="nulová",N153,0) -> 0 | BJ153: 2 | BK153: =ROUND(L153*K153,3) -> 0 | BL153: 4 | BM153: 116313382
C154: 28 | D154: M | E154: Pol21 | F154: Kabel CHKE-R 3x2,5 | J154: ks/m | K154: 1645 | L154: 0 | N154: =ROUND(L154*K154,3) -> 0 | U154: znížená | W154: =V154*K154 -> 0 | X154: 0 | Y154: =X154*K154 -> 0 | Z154: 0 | AA154: =Z154*K154 -> 0 | AR154: 8 | AT154: M | AU154: 2 | AY154: ROZPOCET | BE154: =IF(U154="základná",N154,0) -> 0 | BF154: =IF(U154="znížená",N154,0) -> 0 | BG154: =IF(U154="zákl. prenesená",N154,0) -> 0 | BH154: =IF(U154="zníž. prenesená",N154,0) -> 0 | BI154: =IF(U154="nulová",N154,0) -> 0 | BJ154: 2 | BK154: =ROUND(L154*K154,3) -> 0 | BL154: 4 | BM154: -866880616
C155: 29 | D155: M | E155: Pol22 | F155: CY 6mm | J155: ks/m | K155: 120 | L155: 0 | N155: =ROUND(L155*K155,3) -> 0 | U155: znížená | W155: =V155*K155 -> 0 | X155: 0 | Y155: =X155*K155 -> 0 | Z155: 0 | AA155: =Z155*K155 -> 0 | AR155: 8 | AT155: M | AU155: 2 | AY155: ROZPOCET | BE155: =IF(U155="základná",N155,0) -> 0 | BF155: =IF(U155="znížená",N155,0) -> 0 | BG155: =IF(U155="zákl. prenesená",N155,0) -> 0 | BH155: =IF(U155="zníž. prenesená",N155,0) -> 0 | BI155: =IF(U155="nulová",N155,0) -> 0 | BJ155: 2 | BK155: =ROUND(L155*K155,3) -> 0 | BL155: 4 | BM155: -2050567807
C156: 30 | D156: M | E156: Pol23 | F156: Bernard svorka | J156: ks/m | K156: 10 | L156: 0 | N156: =ROUND(L156*K156,3) -> 0 | U156: znížená | W156: =V156*K156 -> 0 | X156: 0 | Y156: =X156*K156 -> 0 | Z156: 0 | AA156: =Z156*K156 -> 0 | AR156: 8 | AT156: M | AU156: 2 | AY156: ROZPOCET | BE156: =IF(U156="základná",N156,0) -> 0 | BF156: =IF(U156="znížená",N156,0) -> 0 | BG156: =IF(U156="zákl. prenesená",N156,0) -> 0 | BH156: =IF(U156="zníž. prenesená",N156,0) -> 0 | BI156: =IF(U156="nulová",N156,0) -> 0 | BJ156: 2 | BK156: =ROUND(L156*K156,3) -> 0 | BL156: 4 | BM156: -1997786395
C157: 31 | D157: M | E157: Pol24 | F157: CU páska | J157: ks/m | K157: 10 | L157: 0 | N157: =ROUND(L157*K157,3) -> 0 | U157: znížená | W157: =V157*K157 -> 0 | X157: 0 | Y157: =X157*K157 -> 0 | Z157: 0 | AA157: =Z157*K157 -> 0 | AR157: 8 | AT157: M | AU157: 2 | AY157: ROZPOCET | BE157: =IF(U157="základná",N157,0) -> 0 | BF157: =IF(U157="znížená",N157,0) -> 0 | BG157: =IF(U157="zákl. prenesená",N157,0) -> 0 | BH157: =IF(U157="zníž. prenesená",N157,0) -> 0 | BI157: =IF(U157="nulová",N157,0) -> 0 | BJ157: 2 | BK157: =ROUND(L157*K157,3) -> 0 | BL157: 4 | BM157: 1814294429
C158: 32 | D158: M | E158: Pol25 | F158: EPS 2 pripojnica | J158: ks/m | K158: 2 | L158: 0 | N158: =ROUND(L158*K158,3) -> 0 | U158: znížená | W158: =V158*K158 -> 0 | X158: 0 | Y158: =X158*K158 -> 0 | Z158: 0 | AA158: =Z158*K158 -> 0 | AR158: 8 | AT158: M | AU158: 2 | AY158: ROZPOCET | BE158: =IF(U158="základná",N158,0) -> 0 | BF158: =IF(U158="znížená",N158,0) -> 0 | BG158: =IF(U158="zákl. prenesená",N158,0) -> 0 | BH158: =IF(U158="zníž. prenesená",N158,0) -> 0 | BI158: =IF(U158="nulová",N158,0) -> 0 | BJ158: 2 | BK158: =ROUND(L158*K158,3) -> 0 | BL158: 4 | BM158: -1111949673
C159: 33 | D159: M | E159: Pol26 | F159: Ocelový úchyt Grip 35x50 | J159: ks/m | K159: 300 | L159: 0 | N159: =ROUND(L159*K159,3) -> 0 | U159: znížená | W159: =V159*K159 -> 0 | X159: 0 | Y159: =X159*K159 -> 0 | Z159: 0 | AA159: =Z159*K159 -> 0 | AR159: 8 | AT159: M | AU159: 2 | AY159: ROZPOCET | BE159: =IF(U159="základná",N159,0) -> 0 | BF159: =IF(U159="znížená",N159,0) -> 0 | BG159: =IF(U159="zákl. prenesená",N159,0) -> 0 | BH159: =IF(U159="zníž. prenesená",N159,0) -> 0 | BI159: =IF(U159="nulová",N159,0) -> 0 | BJ159: 2 | BK159: =ROUND(L159*K159,3) -> 0 | BL159: 4 | BM159: 931265507
C160: 34 | D160: M | E160: Pol27 | F160: Mars žlab 62/56 | J160: ks/m | K160: 120 | L160: 0 | N160: =ROUND(L160*K160,3) -> 0 | U160: znížená | W160: =V160*K160 -> 0 | X160: 0 | Y160: =X160*K160 -> 0 | Z160: 0 | AA160: =Z160*K160 -> 0 | AR160: 8 | AT160: M | AU160: 2 | AY160: ROZPOCET | BE160: =IF(U160="základná",N160,0) -> 0 | BF160: =IF(U160="znížená",N160,0) -> 0 | BG160: =IF(U160="zákl. prenesená",N160,0) -> 0 | BH160: =IF(U160="zníž. prenesená",N160,0) -> 0 | BI160: =IF(U160="nulová",N160,0) -> 0 | BJ160: 2 | BK160: =ROUND(L160*K160,3) -> 0 | BL160: 4 | BM160: 393335225
... C223: 97 | D223: K | E223: Pol94 | F223: Revizia | J223: ks/m | K223: 1 | L223: 0 | N223: =ROUND(L223*K223,3) -> 0 | U223: znížená | W223: =V223*K223 -> 0 | X223: 0 | Y223: =X223*K223 -> 0 | Z223: 0 | AA223: =Z223*K223 -> 0 | AR223: 4 | AT223: K | AU223: 2 | AY223: ROZPOCET | BE223: =IF(U223="základná",N223,0) -> 0 | BF223: =IF(U223="znížená",N223,0) -> 0 | BG223: =IF(U223="zákl. prenesená",N223,0) -> 0 | BH223: =IF(U223="zníž. prenesená",N223,0) -> 0 | BI223: =IF(U223="nulová",N223,0) -> 0 | BJ223: 2 | BK223: =ROUND(L223*K223,3) -> 0 | BL223: 4 | BM223: -1055419033
...

Sheet 4 - Štrukturovaná kabeláž
D1: Hárok obsahuje: | F1: 1) Krycí list rozpočtu | H1: 2) Rekapitulácia rozpočtu | L1: 3) Rozpočet | O1: Späť na hárok: | S1: Rekapitulácia stavby
C2: optimalizované pre tlač zostáv vo formáte A4 - na výšku | S2: >> skryté stĺpce << | AT2: {17038966-01e5-469a-bfa7-ceac4906a4e9}
AT3: 0
C4: KRYCÍ LIST ROZPOČTU | T4: v --- nižšie sa nachádzajú doplnkové a pomocné údaje k zostavám --- v | AT4: False
D6: Stavba: | F6: ='Rekapitulácia stavby'!K6 -> Stavebné úpravy priestorov bloku B objektu UKF v NItre na Triede A. Hlinku 1, Nitra
D7: Objekt: | F7: 4 - Štrukturovaná kabeláž
D8: JKSO: | M8: KS:
D9: Miesto: | M9: Dátum: | O9: ='Rekapitulácia stavby'!AN8 -> 12. 2. 2018
D11: Objednávateľ: | M11: IČO:
E12: UKF v NItre, Trieda A. Hlinku 1, Nitra | M12: IČO DPH:
D14: Zhotoviteľ: | M14: IČO:
M15: IČO DPH:
D17: Projektant: | M17: IČO:
E18: K2 ateliér s.r.o., Nitra | M18: IČO DPH:
D20: Spracovateľ: | M20: IČO:
M21: IČO DPH:
D23: Poznámka:
D27: Náklady z rozpočtu | M27: =N88 -> 0
D28: Ostatné náklady | M28: =N95 -> 0
D30: Cena bez DPH | M30: =ROUND(M27+M28,2) -> 0
D32: DPH | E32: základná | F32: 0.2 | G32: z | H32: =ROUND((((SUM(BE95:BE102)+SUM(BE120:BE212))+SUM(BE214:BE218))),2) -> 0 | M32: =ROUND(((ROUND((SUM(BE95:BE102)+SUM(BE120:BE212)), 2)*F32)+SUM(BE214:BE218)*F32),2) -> 0
E33: znížená | F33: 0.2 | G33: z | H33: =ROUND((((SUM(BF95:BF102)+SUM(BF120:BF212))+SUM(BF214:BF218))),2) -> 0 | M33: =ROUND(((ROUND((SUM(BF95:BF102)+SUM(BF120:BF212)), 2)*F33)+SUM(BF214:BF218)*F33),2) -> 0
E34: zákl. prenesená | F34: 0.2 | G34: z | H34: =ROUND((((SUM(BG95:BG102)+SUM(BG120:BG212))+SUM(BG214:BG218))),2) -> 0 | M34: 0
E35: zníž. prenesená | F35: 0.2 | G35: z | H35: =ROUND((((SUM(BH95:BH102)+SUM(BH120:BH212))+SUM(BH214:BH218))),2) -> 0 | M35: 0
E36: nulová | F36: 0 | G36: z | H36: =ROUND((((SUM(BI95:BI102)+SUM(BI120:BI212))+SUM(BI214:BI218))),2) -> 0 | M36: 0
D38: Cena s DPH | G38: v | H38: EUR | L38: =SUM(M30:M36) -> 0
D50: Projektant | J50: Spracovateľ
D59: Dátum a podpis: | G59: Pečiatka | J59: Dátum a podpis: | N59: Pečiatka
D61: Objednávateľ | J61: Zhotoviteľ
D70: Dátum a podpis: | G70: Pečiatka | J70: Dátum a podpis: | N70: Pečiatka
C76: REKAPITULÁCIA ROZPOČTU
C78: Stavba: | F78: =F6 -> Stavebné úpravy priestorov bloku B objektu UKF v NItre na Triede A. Hlinku 1, Nitra
C79: Objekt: | F79: =F7 -> 4 - Štrukturovaná kabeláž
C81: Miesto: | F81: =F9 | K81: Dátum: | M81: =IF(O9="","",O9) -> 12. 2. 2018
C83: Objednávateľ: | F83: =E12 -> UKF v NItre, Trieda A. Hlinku 1, Nitra | K83: Projektant: | M83: =E18 -> K2 ateliér s.r.o., Nitra
C84: Zhotoviteľ: | F84: =IF(E15="","",E15) | K84: Spracovateľ: | M84: =E21
C86: Kód - Popis | N86: Cena celkom [EUR]
C88: 1) Náklady z rozpočtu | N88: =N120 -> 0 | AU88: -1
D89: D1 - ŠTRUKTÚROVANÁ KABELÁŽ | N89: =N121 -> 0
D90: D2 - Dozbrojenie existujúceh DR na 2NP | N90: =N122 -> 0
D91: D3 - Dátový rozvádzač DR počitačova učebňa | N91: =N133 -> 0
D92: D4 - ŠK počitačova učebňa | N92: =N158 -> 0
D93: VP - Práce naviac | N93: =N213 -> 0
C95: 2) Ostatné náklady | N95: =ROUND(N96+N97+N98+N99+N100+N101,2) -> 0 | U95: DPH
D96: GZS | N96: =ROUND(N88*T96,2) -> 0 | U96: znížená | AY96: VRN | BE96: =IF(U96="základná",N96,0) -> 0 | BF96: =IF(U96="znížená",N96,0) -> 0 | BG96: =IF(U96="zákl. prenesená",N96,0) -> 0 | BH96: =IF(U96="zníž. prenesená",N96,0) -> 0 | BI96: =IF(U96="nulová",N96,0) -> 0 | BJ96: 2
D97: Mimostaven. doprava | N97: =ROUND(N88*T97,2) -> 0 | U97: znížená | AY97: VRN | BE97: =IF(U97="základná",N97,0) -> 0 | BF97: =IF(U97="znížená",N97,0) -> 0 | BG97: =IF(U97="zákl. prenesená",N97,0) -> 0 | BH97: =IF(U97="zníž. prenesená",N97,0) -> 0 | BI97: =IF(U97="nulová",N97,0) -> 0 | BJ97: 2
D98: Sťažené podmienky | N98: =ROUND(N88*T98,2) -> 0 | U98: znížená | AY98: VRN | BE98: =IF(U98="základná",N98,0) -> 0 | BF98: =IF(U98="znížená",N98,0) -> 0 | BG98: =IF(U98="zákl. prenesená",N98,0) -> 0 | BH98: =IF(U98="zníž. prenesená",N98,0) -> 0 | BI98: =IF(U98="nulová",N98,0) -> 0 | BJ98: 2
D99: Vplyv prostredia | N99: =ROUND(N88*T99,2) -> 0 | U99: znížená | AY99: VRN | BE99: =IF(U99="základná",N99,0) -> 0 | BF99: =IF(U99="znížená",N99,0) -> 0 | BG99: =IF(U99="zákl. prenesená",N99,0) -> 0 | BH99: =IF(U99="zníž. prenesená",N99,0) -> 0 | BI99: =IF(U99="nulová",N99,0) -> 0 | BJ99: 2
D100: Klimatické vplyvy | N100: =ROUND(N88*T100,2) -> 0 | U100: znížená | AY100: VRN | BE100: =IF(U100="základná",N100,0) -> 0 | BF100: =IF(U100="znížená",N100,0) -> 0 | BG100: =IF(U100="zákl. prenesená",N100,0) -> 0 | BH100: =IF(U100="zníž. prenesená",N100,0) -> 0 | BI100: =IF(U100="nulová",N100,0) -> 0 | BJ100: 2
D101: Kompletačná činnosť | N101: =ROUND(N88*T101,2) -> 0 | U101: znížená | AY101: KOMPLETACNA | BE101: =IF(U101="základná",N101,0) -> 0 | BF101: =IF(U101="znížená",N101,0) -> 0 | BG101: =IF(U101="zákl. prenesená",N101,0) -> 0 | BH101: =IF(U101="zníž. prenesená",N101,0) -> 0 | BI101: =IF(U101="nulová",N101,0) -> 0 | BJ101: 2
C103: Celkové náklady za stavbu 1) + 2) | L103: =ROUND(SUM(N88+N95),2) -> 0
C109: ROZPOČET
C111: Stavba: | F111: =F6 -> Stavebné úpravy priestorov bloku B objektu UKF v NItre na Triede A. Hlinku 1, Nitra
C112: Objekt: | F112: =F7 -> 4 - Štrukturovaná kabeláž
C114: Miesto: | F114: =F9 | K114: Dátum: | M114: =IF(O9="","",O9) -> 12. 2. 2018
C116: Objednávateľ: | F116: =E12 -> UKF v NItre, Trieda A. Hlinku 1, Nitra | K116: Projektant: | M116: =E18 -> K2 ateliér s.r.o., Nitra
C117: Zhotoviteľ: | F117: =IF(E15="","",E15) | K117: Spracovateľ: | M117: =E21
C119: PČ | D119: Typ | E119: Kód | F119: Popis | J119: MJ | K119: Množstvo | L119: J.cena [EUR] | N119: Cena celkom [EUR] | T119: Poznámka | U119: DPH | V119: J. Nh [h] | W119: Nh celkom [h] | X119: J. hmotnosť_x000D_ [t] | Y119: Hmotnosť_x000D_ celkom [t] | Z119: J. suť [t] | AA119: Suť Celkom [t]
C120: Náklady z rozpočtu | N120: =BK120 -> 0 | W120: =W121+W213 -> 0 | Y120: =Y121+Y213 -> 0 | AA120: =AA121+AA213 -> 0 | AT120: D | AU120: -1 | BK120: =BK121+BK213 -> 0
D121: D1 - ŠTRUKTÚROVANÁ KABELÁŽ | N121: =BK121 -> 0 | W121: =W122+W133+W158 -> 0 | Y121: =Y122+Y133+Y158 -> 0 | AA121: =AA122+AA133+AA158 -> 0 | AR121: 1 | AT121: D | AU121: 0 | AY121: ROZPOCET | BK121: =BK122+BK133+BK158 -> 0
D122: D2 - Dozbrojenie existujúceh DR na 2NP | N122: =BK122 -> 0 | W122: =SUM(W123:W132) -> 0 | Y122: =SUM(Y123:Y132) -> 0 | AA122: =SUM(AA123:AA132) -> 0 | AR122: 1 | AT122: D | AU122: 1 | AY122: ROZPOCET | BK122: =SUM(BK123:BK132) -> 0
C123: 1 | D123: M | E123: Pol95 | F123: Patch panel 24 port cat 6 tienený osadený | J123: ks/m | K123: 2 | L123: 0 | N123: =ROUND(L123*K123,3) -> 0 | U123: znížená | W123: =V123*K123 -> 0 | X123: 0 | Y123: =X123*K123 -> 0 | Z123: 0 | AA123: =Z123*K123 -> 0 | AR123: 8 | AT123: M | AU123: 2 | AY123: ROZPOCET | BE123: =IF(U123="základná",N123,0) -> 0 | BF123: =IF(U123="znížená",N123,0) -> 0 | BG123: =IF(U123="zákl. prenesená",N123,0) -> 0 | BH123: =IF(U123="zníž. prenesená",N123,0) -> 0 | BI123: =IF(U123="nulová",N123,0) -> 0 | BJ123: 2 | BK123: =ROUND(L123*K123,3) -> 0 | BL123: 4 | BM123: 907948194
C124: 2 | D124: M | E124: Pol96 | F124: Switch HP 3600 V2 EI 24 port | J124: ks/m | K124: 2 | L124: 0 | N124: =ROUND(L124*K124,3) -> 0 | U124: znížená | W124: =V124*K124 -> 0 | X124: 0 | Y124: =X124*K124 -> 0 | Z124: 0 | AA124: =Z124*K124 -> 0 | AR124: 8 | AT124: M | AU124: 2 | AY124: ROZPOCET | BE124: =IF(U124="základná",N124,0) -> 0 | BF124: =IF(U124="znížená",N124,0) -> 0 | BG124: =IF(U124="zákl. prenesená",N124,0) -> 0 | BH124: =IF(U124="zníž. prenesená",N124,0) -> 0 | BI124: =IF(U124="nulová",N124,0) -> 0 | BJ124: 2 | BK124: =ROUND(L124*K124,3) -> 0 | BL124: 4 | BM124: 2038225221
C125: 3 | D125: M | E125: Pol97 | F125: Horizontálny organizer káblov | J125: ks/m | K125: 2 | L125: 0 | N125: =ROUND(L125*K125,3) -> 0 | U125: znížená | W125: =V125*K125 -> 0 | X125: 0 | Y125: =X125*K125 -> 0 | Z125: 0 | AA125: =Z125*K125 -> 0 | AR125: 8 | AT125: M | AU125: 2 | AY125: ROZPOCET | BE125: =IF(U125="základná",N125,0) -> 0 | BF125: =IF(U125="znížená",N125,0) -> 0 | BG125: =IF(U125="zákl. prenesená",N125,0) -> 0 | BH125: =IF(U125="zníž. prenesená",N125,0) -> 0 | BI125: =IF(U125="nulová",N125,0) -> 0 | BJ125: 2 | BK125: =ROUND(L125*K125,3) -> 0 | BL125: 4 | BM125: 1239467025
C126: 4 | D126: M | E126: Pol98 | F126: Patch cord 1,5m | J126: ks/m | K126: 20 | L126: 0 | N126: =ROUND(L126*K126,3) -> 0 | U126: znížená | W126: =V126*K126 -> 0 | X126: 0 | Y126: =X126*K126 -> 0 | Z126: 0 | AA126: =Z126*K126 -> 0 | AR126: 8 | AT126: M | AU126: 2 | AY126: ROZPOCET | BE126: =IF(U126="základná",N126,0) -> 0 | BF126: =IF(U126="znížená",N126,0) -> 0 | BG126: =IF(U126="zákl. prenesená",N126,0) -> 0 | BH126: =IF(U126="zníž. prenesená",N126,0) -> 0 | BI126: =IF(U126="nulová",N126,0) -> 0 | BJ126: 2 | BK126: =ROUND(L126*K126,3) -> 0 | BL126: 4 | BM126: 1896802463
C127: 5 | D127: M | E127: Pol99 | F127: Patch cord 2m | J127: ks/m | K127: 25 | L127: 0 | N127: =ROUND(L127*K127,3) -> 0 | U127: znížená | W127: =V127*K127 -> 0 | X127: 0 | Y127: =X127*K127 -> 0 | Z127: 0 | AA127: =Z127*K127 -> 0 | AR127: 8 | AT127: M | AU127: 2 | AY127: ROZPOCET | BE127: =IF(U127="základná",N127,0) -> 0 | BF127: =IF(U127="znížená",N127,0) -> 0 | BG127: =IF(U127="zákl. prenesená",N127,0) -> 0 | BH127: =IF(U127="zníž. prenesená",N127,0) -> 0 | BI127: =IF(U127="nulová",N127,0) -> 0 | BJ127: 2 | BK127: =ROUND(L127*K127,3) -> 0 | BL127: 4 | BM127: 396648192
C128: 6 | D128: K | E128: Pol121 | F128: Patch panel 24 port cat 6 tienený osadený | J128: ks/m | K128: 2 | L128: 0 | N128: =ROUND(L128*K128,3) -> 0 | U128: znížená | W128: =V128*K128 -> 0 | X128: 0 | Y128: =X128*K128 -> 0 | Z128: 0 | AA128: =Z128*K128 -> 0 | AR128: 4 | AT128: K | AU128: 2 | AY128: ROZPOCET | BE128: =IF(U128="základná",N128,0) -> 0 | BF128: =IF(U128="znížená",N128,0) -> 0 | BG128: =IF(U128="zákl. prenesená",N128,0) -> 0 | BH128: =IF(U128="zníž. prenesená",N128,0) -> 0 | BI128: =IF(U128="nulová",N128,0) -> 0 | BJ128: 2 | BK128: =ROUND(L128*K128,3) -> 0 | BL128: 4 | BM128: 1477027894
C129: 7 | D129: K | E129: Pol122 | F129: Switch HP 3600 V2 EI 24 port | J129: ks/m | K129: 2 | L129: 0 | N129: =ROUND(L129*K129,3) -> 0 | U129: znížená | W129: =V129*K129 -> 0 | X129: 0 | Y129: =X129*K129 -> 0 | Z129: 0 | AA129: =Z129*K129 -> 0 | AR129: 4 | AT129: K | AU129: 2 | AY129: ROZPOCET | BE129: =IF(U129="základná",N129,0) -> 0 | BF129: =IF(U129="znížená",N129,0) -> 0 | BG129: =IF(U129="zákl. prenesená",N129,0) -> 0 | BH129: =IF(U129="zníž. prenesená",N129,0) -> 0 | BI129: =IF(U129="nulová",N129,0) -> 0 | BJ129: 2 | BK129: =ROUND(L129*K129,3) -> 0 | BL129: 4 | BM129: -1102770969
C130: 8 | D130: K | E130: Pol123 | F130: Horizontálny organizer káblov | J130: ks/m | K130: 2 | L130: 0 | N130: =ROUND(L130*K130,3) -> 0 | U130: znížená | W130: =V130*K130 -> 0 | X130: 0 | Y130: =X130*K130 -> 0 | Z130: 0 | AA130: =Z130*K130 -> 0 | AR130: 4 | AT130: K | AU130: 2 | AY130: ROZPOCET | BE130: =IF(U130="základná",N130,0) -> 0 | BF130: =IF(U130="znížená",N130,0) -> 0 | BG130: =IF(U130="zákl. prenesená",N130,0) -> 0 | BH130: =IF(U130="zníž. prenesená",N130,0) -> 0 | BI130: =IF(U130="nulová",N130,0) -> 0 | BJ130: 2 | BK130: =ROUND(L130*K130,3) -> 0 | BL130: 4 | BM130: 1516596644
C131: 9 | D131: K | E131: Pol124 | F131: Patch cord 1,5m | J131: ks/m | K131: 20 | L131: 0 | N131: =ROUND(L131*K131,3) -> 0 | U131: znížená | W131: =V131*K131 -> 0 | X131: 0 | Y131: =X131*K131 -> 0 | Z131: 0 | AA131: =Z131*K131 -> 0 | AR131: 4 | AT131: K | AU131: 2 | AY131: ROZPOCET | BE131: =IF(U131="základná",N131,0) -> 0 | BF131: =IF(U131="znížená",N131,0) -> 0 | BG131: =IF(U131="zákl. prenesená",N131,0) -> 0 | BH131: =IF(U131="zníž. prenesená",N131,0) -> 0 | BI131: =IF(U131="nulová",N131,0) -> 0 | BJ131: 2 | BK131: =ROUND(L131*K131,3) -> 0 | BL131: 4 | BM131: -401865068
C132: 10 | D132: K | E132: Pol125 | F132: Patch cord 2m | J132: ks/m | K132: 25 | L132: 0 | N132: =ROUND(L132*K132,3) -> 0 | U132: znížená | W132: =V132*K132 -> 0 | X132: 0 | Y132: =X132*K132 -> 0 | Z132: 0 | AA132: =Z132*K132 -> 0 | AR132: 4 | AT132: K | AU132: 2 | AY132: ROZPOCET | BE132: =IF(U132="základná",N132,0) -> 0 | BF132: =IF(U132="znížená",N132,0) -> 0 | BG132: =IF(U132="zákl. prenesená",N132,0) -> 0 | BH132: =IF(U132="zníž. prenesená",N132,0) -> 0 | BI132: =IF(U132="nulová",N132,0) -> 0 | BJ132: 2 | BK132: =ROUND(L132*K132,3) -> 0 | BL132: 4 | BM132: 765624485
D133: D3 - Dátový rozvádzač DR počitačova učebňa | N133: =BK133 -> 0 | W133: =SUM(W134:W157) -> 0 | Y133: =SUM(Y134:Y157) -> 0 | AA133: =SUM(AA134:AA157) -> 0 | AR133: 1 | AT133: D | AU133: 1 | AY133: ROZPOCET | BK133: =SUM(BK134:BK157) -> 0
C134: 11 | D134: M | E134: Pol100 | F134: Rackovy stojan 42U 600x600 | J134: ks/m | K134: 1 | L134: 0 | N134: =ROUND(L134*K134,3) -> 0 | U134: znížená | W134: =V134*K134 -> 0 | X134: 0 | Y134: =X134*K134 -> 0 | Z134: 0 | AA134: =Z134*K134 -> 0 | AR134: 8 | AT134: M | AU134: 2 | AY134: ROZPOCET | BE134: =IF(U134="základná",N134,0) -> 0 | BF134: =IF(U134="znížená",N134,0) -> 0 | BG134: =IF(U134="zákl. prenesená",N134,0) -> 0 | BH134: =IF(U134="zníž. prenesená",N134,0) -> 0 | BI134: =IF(U134="nulová",N134,0) -> 0 | BJ134: 2 | BK134: =ROUND(L134*K134,3) -> 0 | BL134: 4 | BM134: 1098833198
C135: 12 | D135: M | E135: Pol101 | F135: Stropná ventilačná jednotka 4x ventilátor | J135: ks/m | K135: 1 | L135: 0 | N135: =ROUND(L135*K135,3) -> 0 | U135: znížená | W135: =V135*K135 -> 0 | X135: 0 | Y135: =X135*K135 -> 0 | Z135: 0 | AA135: =Z135*K135 -> 0 | AR135: 8 | AT135: M | AU135: 2 | AY135: ROZPOCET | BE135: =IF(U135="základná",N135,0) -> 0 | BF135: =IF(U135="znížená",N135,0) -> 0 | BG135: =IF(U135="zákl. prenesená",N135,0) -> 0 | BH135: =IF(U135="zníž. prenesená",N135,0) -> 0 | BI135: =IF(U135="nulová",N135,0) -> 0 | BJ135: 2 | BK135: =ROUND(L135*K135,3) -> 0 | BL135: 4 | BM135: -58051415
C136: 13 | D136: M | E136: Pol95 | F136: Patch panel 24 port cat 6 tienený osadený | J136: ks/m | K136: 2 | L136: 0 | N136: =ROUND(L136*K136,3) -> 0 | U136: znížená | W136: =V136*K136 -> 0 | X136: 0 | Y136: =X136*K136 -> 0 | Z136: 0 | AA136: =Z136*K136 -> 0 | AR136: 8 | AT136: M | AU136: 2 | AY136: ROZPOCET | BE136: =IF(U136="základná",N136,0) -> 0 | BF136: =IF(U136="znížená",N136,0) -> 0 | BG136: =IF(U136="zákl. prenesená",N136,0) -> 0 | BH136: =IF(U136="zníž. prenesená",N136,0) -> 0 | BI136: =IF(U136="nulová",N136,0) -> 0 | BJ136: 2 | BK136: =ROUND(L136*K136,3) -> 0 | BL136: 4 | BM136: -985226699
C137: 14 | D137: M | E137: Pol96 | F137: Switch HP 3600 V2 EI 24 port | J137: ks/m | K137: 2 | L137: 0 | N137: =ROUND(L137*K137,3) -> 0 | U137: znížená | W137: =V137*K137 -> 0 | X137: 0 | Y137: =X137*K137 -> 0 | Z137: 0 | AA137: =Z137*K137 -> 0 | AR137: 8 | AT137: M | AU137: 2 | AY137: ROZPOCET | BE137: =IF(U137="základná",N137,0) -> 0 | BF137: =IF(U137="znížená",N137,0) -> 0 | BG137: =IF(U137="zákl. prenesená",N137,0) -> 0 | BH137: =IF(U137="zníž. prenesená",N137,0) -> 0 | BI137: =IF(U137="nulová",N137,0) -> 0 | BJ137: 2 | BK137: =ROUND(L137*K137,3) -> 0 | BL137: 4 | BM137: 2070533253
C138: 15 | D138: M | E138: Pol97 | F138: Horizontálny organizer káblov | J138: ks/m | K138: 4 | L138: 0 | N138: =ROUND(L138*K138,3) -> 0 | U138: znížená | W138: =V138*K138 -> 0 | X138: 0 | Y138: =X138*K138 -> 0 | Z138: 0 | AA138: =Z138*K138 -> 0 | AR138: 8 | AT138: M | AU138: 2 | AY138: ROZPOCET | BE138: =IF(U138="základná",N138,0) -> 0 | BF138: =IF(U138="znížená",N138,0) -> 0 | BG138: =IF(U138="zákl. prenesená",N138,0) -> 0 | BH138: =IF(U138="zníž. prenesená",N138,0) -> 0 | BI138: =IF(U138="nulová",N138,0) -> 0 | BJ138: 2 | BK138: =ROUND(L138*K138,3) -> 0 | BL138: 4 | BM138: -1083488521
C139: 16 | D139: M | E139: Pol98 | F139: Patch cord 1,5m | J139: ks/m | K139: 20 | L139: 0 | N139: =ROUND(L139*K139,3) -> 0 | U139: znížená | W139: =V139*K139 -> 0 | X139: 0 | Y139: =X139*K139 -> 0 | Z139: 0 | AA139: =Z139*K139 -> 0 | AR139: 8 | AT139: M | AU139: 2 | AY139: ROZPOCET | BE139: =IF(U139="základná",N139,0) -> 0 | BF139: =IF(U139="znížená",N139,0) -> 0 | BG139: =IF(U139="zákl. prenesená",N139,0) -> 0 | BH139: =IF(U139="zníž. prenesená",N139,0) -> 0 | BI139: =IF(U139="nulová",N139,0) -> 0 | BJ139: 2 | BK139: =ROUND(L139*K139,3) -> 0 | BL139: 4 | BM139: 1570065896
C140: 17 | D140: M | E140: Pol99 | F140: Patch cord 2m | J140: ks/m | K140: 15 | L140: 0 | N140: =ROUND(L140*K140,3) -> 0 | U140: znížená | W140: =V140*K140 -> 0 | X140: 0 | Y140: =X140*K140 -> 0 | Z140: 0 | AA140: =Z140*K140 -> 0 | AR140: 8 | AT140: M | AU140: 2 | AY140: ROZPOCET | BE140: =IF(U140="základná",N140,0) -> 0 | BF140: =IF(U140="znížená",N140,0) -> 0 | BG140: =IF(U140="zákl. prenesená",N140,0) -> 0 | BH140: =IF(U140="zníž. prenesená",N140,0) -> 0 | BI140: =IF(U140="nulová",N140,0) -> 0 | BJ140: 2 | BK140: =ROUND(L140*K140,3) -> 0 | BL140: 4 | BM140: -1883371896
C141: 18 | D141: M | E141: Pol102 | F141: Polica | J141: ks/m | K141: 1 | L141: 0 | N141: =ROUND(L141*K141,3) -> 0 | U141: znížená | W141: =V141*K141 -> 0 | X141: 0 | Y141: =X141*K141 -> 0 | Z141: 0 | AA141: =Z141*K141 -> 0 | AR141: 8 | AT141: M | AU141: 2 | AY141: ROZPOCET | BE141: =IF(U141="základná",N141,0) -> 0 | BF141: =IF(U141="znížená",N141,0) -> 0 | BG141: =IF(U141="zákl. prenesená",N141,0) -> 0 | BH141: =IF(U141="zníž. prenesená",N141,0) -> 0 | BI141: =IF(U141="nulová",N141,0) -> 0 | BJ141: 2 | BK141: =ROUND(L141*K141,3) -> 0 | BL141: 4 | BM141: -743602099
C142: 19 | D142: M | E142: Pol103 | F142: Optická vańa | J142: ks/m | K142: 1 | L142: 0 | N142: =ROUND(L142*K142,3) -> 0 | U142: znížená | W142: =V142*K142 -> 0 | X142: 0 | Y142: =X142*K142 -> 0 | Z142: 0 | AA142: =Z142*K142 -> 0 | AR142: 8 | AT142: M | AU142: 2 | AY142: ROZPOCET | BE142: =IF(U142="základná",N142,0) -> 0 | BF142: =IF(U142="znížená",N142,0) -> 0 | BG142: =IF(U142="zákl. prenesená",N142,0) -> 0 | BH142: =IF(U142="zníž. prenesená",N142,0) -> 0 | BI142: =IF(U142="nulová",N142,0) -> 0 | BJ142: 2 | BK142: =ROUND(L142*K142,3) -> 0 | BL142: 4 | BM142: 478634054
C143: 20 | D143: M | E143: Pol104 | F143: Držiak zvarov | J143: ks/m | K143: 1 | L143: 0 | N143: =ROUND(L143*K143,3) -> 0 | U143: znížená | W143: =V143*K143 -> 0 | X143: 0 | Y143: =X143*K143 -> 0 | Z143: 0 | AA143: =Z143*K143 -> 0 | AR143: 8 | AT143: M | AU143: 2 | AY143: ROZPOCET | BE143: =IF(U143="základná",N143,0) -> 0 | BF143: =IF(U143="znížená",N143,0) -> 0 | BG143: =IF(U143="zákl. prenesená",N143,0) -> 0 | BH143: =IF(U143="zníž. prenesená",N143,0) -> 0 | BI143: =IF(U143="nulová",N143,0) -> 0 | BJ143: 2 | BK143: =ROUND(L143*K143,3) -> 0 | BL143: 4 | BM143: -408168565
C144: 21 | D144: M | E144: Pol105 | F144: Ocrana zvarov | J144: ks/m | K144: 8 | L144: 0 | N144: =ROUND(L144*K144,3) -> 0 | U144: znížená | W144: =V144*K144 -> 0 | X144: 0 | Y144: =X144*K144 -> 0 | Z144: 0 | AA144: =Z144*K144 -> 0 | AR144: 8 | AT144: M | AU144: 2 | AY144: ROZPOCET | BE144: =IF(U144="základná",N144,0) -> 0 | BF144: =IF(U144="znížená",N144,0) -> 0 | BG144: =IF(U144="zákl. prenesená",N144,0) -> 0 | BH144: =IF(U144="zníž. prenesená",N144,0) -> 0 | BI144: =IF(U144="nulová",N144,0) -> 0 | BJ144: 2 | BK144: =ROUND(L144*K144,3) -> 0 | BL144: 4 | BM144: -2100057667
C145: 22 | D145: M | E145: Pol106 | F145: Napájaci panel 5x230V s prepäťovou ochranou | J145: ks/m | K145: 2 | L145: 0 | N145: =ROUND(L145*K145,3) -> 0 | U145: znížená | W145: =V145*K145 -> 0 | X145: 0 | Y145: =X145*K145 -> 0 | Z145: 0 | AA145: =Z145*K145 -> 0 | AR145: 8 | AT145: M | AU145: 2 | AY145: ROZPOCET | BE145: =IF(U145="základná",N145,0) -> 0 | BF145: =IF(U145="znížená",N145,0) -> 0 | BG145: =IF(U145="zákl. prenesená",N145,0) -> 0 | BH145: =IF(U145="zníž. prenesená",N145,0) -> 0 | BI145: =IF(U145="nulová",N145,0) -> 0 | BJ145: 2 | BK145: =ROUND(L145*K145,3) -> 0 | BL145: 4 | BM145: 1580970842
... C157: 34 | D157: K | E157: Pol132 | F157: Napájaci panel 5x230V s prepäťovou ochranou | J157: ks/m | K157: 2 | L157: 0 | N157: =ROUND(L157*K157,3) -> 0 | U157: znížená | W157: =V157*K157 -> 0 | X157: 0 | Y157: =X157*K157 -> 0 | Z157: 0 | AA157: =Z157*K157 -> 0 | AR157: 4 | AT157: K | AU157: 2 | AY157: ROZPOCET | BE157: =IF(U157="základná",N157,0) -> 0 | BF157: =IF(U157="znížená",N157,0) -> 0 | BG157: =IF(U157="zákl. prenesená",N157,0) -> 0 | BH157: =IF(U157="zníž. prenesená",N157,0) -> 0 | BI157: =IF(U157="nulová",N157,0) -> 0 | BJ157: 2 | BK157: =ROUND(L157*K157,3) -> 0 | BL157: 4 | BM157: -134848218
D158: D4 - ŠK počitačova učebňa | N158: =BK158 -> 0 | W158: =SUM(W159:W212) -> 0 | Y158: =SUM(Y159:Y212) -> 0 | AA158: =SUM(AA159:AA212) -> 0 | AR158: 1 | AT158: D | AU158: 1 | AY158: ROZPOCET | BK158: =SUM(BK159:BK212) -> 0
C159: 35 | D159: M | E159: Pol107 | F159: VALENA dvojzásuvka 2xRJ 45 cat 6. | J159: ks/m | K159: 17 | L159: 0 | N159: =ROUND(L159*K159,3) -> 0 | U159: znížená | W159: =V159*K159 -> 0 | X159: 0 | Y159: =X159*K159 -> 0 | Z159: 0 | AA159: =Z159*K159 -> 0 | AR159: 8 | AT159: M | AU159: 2 | AY159: ROZPOCET | BE159: =IF(U159="základná",N159,0) -> 0 | BF159: =IF(U159="znížená",N159,0) -> 0 | BG159: =IF(U159="zákl. prenesená",N159,0) -> 0 | BH159: =IF(U159="zníž. prenesená",N159,0) -> 0 | BI159: =IF(U159="nulová",N159,0) -> 0 | BJ159: 2 | BK159: =ROUND(L159*K159,3) -> 0 | BL159: 4 | BM159: -1920260025
C160: 36 | D160: M | E160: Pol108 | F160: Zásuvka 1xRJ 45 na povrch | J160: ks/m | K160: 2 | L160: 0 | N160: =ROUND(L160*K160,3) -> 0 | U160: znížená | W160: =V160*K160 -> 0 | X160: 0 | Y160: =X160*K160 -> 0 | Z160: 0 | AA160: =Z160*K160 -> 0 | AR160: 8 | AT160: M | AU160: 2 | AY160: ROZPOCET | BE160: =IF(U160="základná",N160,0) -> 0 | BF160: =IF(U160="znížená",N160,0) -> 0 | BG160: =IF(U160="zákl. prenesená",N160,0) -> 0 | BH160: =IF(U160="zníž. prenesená",N160,0) -> 0 | BI160: =IF(U160="nulová",N160,0) -> 0 | BJ160: 2 | BK160: =ROUND(L160*K160,3) -> 0 | BL160: 4 | BM160: 1270420147
C161: 37 | D161: M | E161: Pol109 | F161: VALENA dvojrámik | J161: ks/m | K161: 1 | L161: 0 | N161: =ROUND(L161*K161,3) -> 0 | U161: znížená | W161: =V161*K161 -> 0 | X161: 0 | Y161: =X161*K161 -> 0 | Z161: 0 | AA161: =Z161*K161 -> 0 | AR161: 8 | AT161: M | AU161: 2 | AY161: ROZPOCET | BE161: =IF(U161="základná",N161,0) -> 0 | BF161: =IF(U161="znížená",N161,0) -> 0 | BG161: =IF(U161="zákl. prenesená",N161,0) -> 0 | BH161: =IF(U161="zníž. prenesená",N161,0) -> 0 | BI161: =IF(U161="nulová",N161,0) -> 0 | BJ161: 2 | BK161: =ROUND(L161*K161,3) -> 0 | BL161: 4 | BM161: -1109092210
C162: 38 | D162: M | E162: Pol110 | F162: VALENA trojrámik | J162: ks/m | K162: 5 | L162: 0 | N162: =ROUND(L162*K162,3) -> 0 | U162: znížená | W162: =V162*K162 -> 0 | X162: 0 | Y162: =X162*K162 -> 0 | Z162: 0 | AA162: =Z162*K162 -> 0 | AR162: 8 | AT162: M | AU162: 2 | AY162: ROZPOCET | BE162: =IF(U162="základná",N162,0) -> 0 | BF162: =IF(U162="znížená",N162,0) -> 0 | BG162: =IF(U162="zákl. prenesená",N162,0) -> 0 | BH162: =IF(U162="zníž. prenesená",N162,0) -> 0 | BI162: =IF(U162="nulová",N162,0) -> 0 | BJ162: 2 | BK162: =ROUND(L162*K162,3) -> 0 | BL162: 4 | BM162: 307342458
C163: 39 | D163: M | E163: Pol111 | F163: Krabica KU 68 | J163: ks/m | K163: 17 | L163: 0 | N163: =ROUND(L163*K163,3) -> 0 | U163: znížená | W163: =V163*K163 -> 0 | X163: 0 | Y163: =X163*K163 -> 0 | Z163: 0 | AA163: =Z163*K163 -> 0 | AR163: 8 | AT163: M | AU163: 2 | AY163: ROZPOCET | BE163: =IF(U163="základná",N163,0) -> 0 | BF163: =IF(U163="znížená",N163,0) -> 0 | BG163: =IF(U163="zákl. prenesená",N163,0) -> 0 | BH163: =IF(U163="zníž. prenesená",N163,0) -> 0 | BI163: =IF(U163="nulová",N163,0) -> 0 | BJ163: 2 | BK163: =ROUND(L163*K163,3) -> 0 | BL163: 4 | BM163: -1290881258
C164: 40 | D164: M | E164: Pol112 | F164: Krabica pod zásuvku na povrch | J164: ks/m | K164: 2 | L164: 0 | N164: =ROUND(L164*K164,3) -> 0 | U164: znížená | W164: =V164*K164 -> 0 | X164: 0 | Y164: =X164*K164 -> 0 | Z164: 0 | AA164: =Z164*K164 -> 0 | AR164: 8 | AT164: M | AU164: 2 | AY164: ROZPOCET | BE164: =IF(U164="základná",N164,0) -> 0 | BF164: =IF(U164="znížená",N164,0) -> 0 | BG164: =IF(U164="zákl. prenesená",N164,0) -> 0 | BH164: =IF(U164="zníž. prenesená",N164,0) -> 0 | BI164: =IF(U164="nulová",N164,0) -> 0 | BJ164: 2 | BK164: =ROUND(L164*K164,3) -> 0 | BL164: 4 | BM164: 1755022331
C165: 41 | D165: M | E165: Pol113 | F165: žlab HMIK 200/100 | J165: ks/m | K165: 5 | L165: 0 | N165: =ROUND(L165*K165,3) -> 0 | U165: znížená | W165: =V165*K165 -> 0 | X165: 0 | Y165: =X165*K165 -> 0 | Z165: 0 | AA165: =Z165*K165 -> 0 | AR165: 8 | AT165: M | AU165: 2 | AY165: ROZPOCET | BE165: =IF(U165="základná",N165,0) -> 0 | BF165: =IF(U165="znížená",N165,0) -> 0 | BG165: =IF(U165="zákl. prenesená",N165,0) -> 0 | BH165: =IF(U165="zníž. prenesená",N165,0) -> 0 | BI165: =IF(U165="nulová",N165,0) -> 0 | BJ165: 2 | BK165: =ROUND(L165*K165,3) -> 0 | BL165: 4 | BM165: -42615624
C166: 42 | D166: M | E166: Pol114 | F166: Trubka HFX 25 | J166: ks/m | K166: 30 | L166: 0 | N166: =ROUND(L166*K166,3) -> 0 | U166: znížená | W166: =V166*K166 -> 0 | X166: 0 | Y166: =X166*K166 -> 0 | Z166: 0 | AA166: =Z166*K166 -> 0 | AR166: 8 | AT166: M | AU166: 2 | AY166: ROZPOCET | BE166: =IF(U166="základná",N166,0) -> 0 | BF166: =IF(U166="znížená",N166,0) -> 0 | BG166: =IF(U166="zákl. prenesená",N166,0) -> 0 | BH166: =IF(U166="zníž. prenesená",N166,0) -> 0 | BI166: =IF(U166="nulová",N166,0) -> 0 | BJ166: 2 | BK166: =ROUND(L166*K166,3) -> 0 | BL166: 4 | BM166: 197774834
C167: 43 | D167: M | E167: Pol26 | F167: Ocelový úchyt Grip 35x50 | J167: ks/m | K167: 50 | L167: 0 | N167: =ROUND(L167*K167,3) -> 0 | U167: znížená | W167: =V167*K167 -> 0 | X167: 0 | Y167: =X167*K167 -> 0 | Z167: 0 | AA167: =Z167*K167 -> 0 | AR167: 8 | AT167: M | AU167: 2 | AY167: ROZPOCET | BE167: =IF(U167="základná",N167,0) -> 0 | BF167: =IF(U167="znížená",N167,0) -> 0 | BG167: =IF(U167="zákl. prenesená",N167,0) -> 0 | BH167: =IF(U167="zníž. prenesená",N167,0) -> 0 | BI167: =IF(U167="nulová",N167,0) -> 0 | BJ167: 2 | BK167: =ROUND(L167*K167,3) -> 0 | BL167: 4 | BM167: -1942576282
C168: 44 | D168: M | E168: Pol28 | F168: Viaziacia páska | J168: ks/m | K168: 100 | L168: 0 | N168: =ROUND(L168*K168,3) -> 0 | U168: znížená | W168: =V168*K168 -> 0 | X168: 0 | Y168: =X168*K168 -> 0 | Z168: 0 | AA168: =Z168*K168 -> 0 | AR168: 8 | AT168: M | AU168: 2 | AY168: ROZPOCET | BE168: =IF(U168="základná",N168,0) -> 0 | BF168: =IF(U168="znížená",N168,0) -> 0 | BG168: =IF(U168="zákl. prenesená",N168,0) -> 0 | BH168: =IF(U168="zníž. prenesená",N168,0) -> 0 | BI168: =IF(U168="nulová",N168,0) -> 0 | BJ168: 2 | BK168: =ROUND(L168*K168,3) -> 0 | BL168: 4 | BM168: 1596102555
C169: 45 | D169: M | E169: Pol29 | F169: Uchyt pre viaziacu pásku | J169: ks/m | K169: 100 | L169: 0 | N169: =ROUND(L169*K169,3) -> 0 | U169: znížená | W169: =V169*K169 -> 0 | X169: 0 | Y169: =X169*K169 -> 0 | Z169: 0 | AA169: =Z169*K169 -> 0 | AR169: 8 | AT169: M | AU169: 2 | AY169: ROZPOCET | BE169: =IF(U169="základná",N169,0) -> 0 | BF169: =IF(U169="znížená",N169,0) -> 0 | BG169: =IF(U169="zákl. prenesená",N169,0) -> 0 | BH169: =IF(U169="zníž. prenesená",N169,0) -> 0 | BI169: =IF(U169="nulová",N169,0) -> 0 | BJ169: 2 | BK169: =ROUND(L169*K169,3) -> 0 | BL169: 4 | BM169: -909919680
C170: 46 | D170: M | E170: Pol115 | F170: Hmoždinka D8 + vrut | J170: ks/m | K170: 300 | L170: 0 | N170: =ROUND(L170*K170,3) -> 0 | U170: znížená | W170: =V170*K170 -> 0 | X170: 0 | Y170: =X170*K170 -> 0 | Z170: 0 | AA170: =Z170*K170 -> 0 | AR170: 8 | AT170: M | AU170: 2 | AY170: ROZPOCET | BE170: =IF(U170="základná",N170,0) -> 0 | BF170: =IF(U170="znížená",N170,0) -> 0 | BG170: =IF(U170="zákl. prenesená",N170,0) -> 0 | BH170: =IF(U170="zníž. prenesená",N170,0) -> 0 | BI170: =IF(U170="nulová",N170,0) -> 0 | BJ170: 2 | BK170: =ROUND(L170*K170,3) -> 0 | BL170: 4 | BM170: -1859602767
... C212: 88 | D212: K | E212: Pol93 | F212: Drobný el. materiál | J212: ks/m | K212: 1 | L212: 0 | N212: =ROUND(L212*K212,3) -> 0 | U212: znížená | W212: =V212*K212 -> 0 | X212: 0 | Y212: =X212*K212 -> 0 | Z212: 0 | AA212: =Z212*K212 -> 0 | AR212: 4 | AT212: K | AU212: 2 | AY212: ROZPOCET | BE212: =IF(U212="základná",N212,0) -> 0 | BF212: =IF(U212="znížená",N212,0) -> 0 | BG212: =IF(U212="zákl. prenesená",N212,0) -> 0 | BH212: =IF(U212="zníž. prenesená",N212,0) -> 0 | BI212: =IF(U212="nulová",N212,0) -> 0 | BJ212: 2 | BK212: =ROUND(L212*K212,3) -> 0 | BL212: 4 | BM212: 2115487655
D213: VP - Práce naviac | N213: =BK213 -> 0 | AT213: D | AU213: 0 | AY213: PN | BK213: =SUM(BK214:BK218) -> 0
...

Sheet 5 - Systém kontroly vstupu
D1: Hárok obsahuje: | F1: 1) Krycí list rozpočtu | H1: 2) Rekapitulácia rozpočtu | L1: 3) Rozpočet | O1: Späť na hárok: | S1: Rekapitulácia stavby
C2: optimalizované pre tlač zostáv vo formáte A4 - na výšku | S2: >> skryté stĺpce << | AT2: {cba6471b-5070-4fbe-ac29-b10ba051082d}
AT3: 0
C4: KRYCÍ LIST ROZPOČTU | T4: v --- nižšie sa nachádzajú doplnkové a pomocné údaje k zostavám --- v | AT4: False
D6: Stavba: | F6: ='Rekapitulácia stavby'!K6 -> Stavebné úpravy priestorov bloku B objektu UKF v NItre na Triede A. Hlinku 1, Nitra
D7: Objekt: | F7: 5 - Systém kontroly vstupu
D8: JKSO: | M8: KS:
D9: Miesto: | M9: Dátum: | O9: ='Rekapitulácia stavby'!AN8 -> 12. 2. 2018
D11: Objednávateľ: | M11: IČO:
E12: UKF v NItre, Trieda A. Hlinku 1, Nitra | M12: IČO DPH:
D14: Zhotoviteľ: | M14: IČO:
M15: IČO DPH:
D17: Projektant: | M17: IČO:
E18: K2 ateliér s.r.o., Nitra | M18: IČO DPH:
D20: Spracovateľ: | M20: IČO:
M21: IČO DPH:
D23: Poznámka:
D27: Náklady z rozpočtu | M27: =N88 -> 0
D28: Ostatné náklady | M28: =N95 -> 0
D30: Cena bez DPH | M30: =ROUND(M27+M28,2) -> 0
D32: DPH | E32: základná | F32: 0.2 | G32: z | H32: =ROUND((((SUM(BE95:BE102)+SUM(BE120:BE161))+SUM(BE163:BE167))),2) -> 0 | M32: =ROUND(((ROUND((SUM(BE95:BE102)+SUM(BE120:BE161)), 2)*F32)+SUM(BE163:BE167)*F32),2) -> 0
E33: znížená | F33: 0.2 | G33: z | H33: =ROUND((((SUM(BF95:BF102)+SUM(BF120:BF161))+SUM(BF163:BF167))),2) -> 0 | M33: =ROUND(((ROUND((SUM(BF95:BF102)+SUM(BF120:BF161)), 2)*F33)+SUM(BF163:BF167)*F33),2) -> 0
E34: zákl. prenesená | F34: 0.2 | G34: z | H34: =ROUND((((SUM(BG95:BG102)+SUM(BG120:BG161))+SUM(BG163:BG167))),2) -> 0 | M34: 0
E35: zníž. prenesená | F35: 0.2 | G35: z | H35: =ROUND((((SUM(BH95:BH102)+SUM(BH120:BH161))+SUM(BH163:BH167))),2) -> 0 | M35: 0
E36: nulová | F36: 0 | G36: z | H36: =ROUND((((SUM(BI95:BI102)+SUM(BI120:BI161))+SUM(BI163:BI167))),2) -> 0 | M36: 0
D38: Cena s DPH | G38: v | H38: EUR | L38: =SUM(M30:M36) -> 0
D50: Projektant | J50: Spracovateľ
D59: Dátum a podpis: | G59: Pečiatka | J59: Dátum a podpis: | N59: Pečiatka
D61: Objednávateľ | J61: Zhotoviteľ
D70: Dátum a podpis: | G70: Pečiatka | J70: Dátum a podpis: | N70: Pečiatka
C76: REKAPITULÁCIA ROZPOČTU
C78: Stavba: | F78: =F6 -> Stavebné úpravy priestorov bloku B objektu UKF v NItre na Triede A. Hlinku 1, Nitra
C79: Objekt: | F79: =F7 -> 5 - Systém kontroly vstupu
C81: Miesto: | F81: =F9 | K81: Dátum: | M81: =IF(O9="","",O9) -> 12. 2. 2018
C83: Objednávateľ: | F83: =E12 -> UKF v NItre, Trieda A. Hlinku 1, Nitra | K83: Projektant: | M83: =E18 -> K2 ateliér s.r.o., Nitra
C84: Zhotoviteľ: | F84: =IF(E15="","",E15) | K84: Spracovateľ: | M84: =E21
C86: Kód - Popis | N86: Cena celkom [EUR]
C88: 1) Náklady z rozpočtu | N88: =N120 -> 0 | AU88: -1
D89: D1 - POPLACHOVÝ SYSTÉM NARUŠENIA | N89: =N121 -> 0
D90: D2 - Poplachový systém narušenia | N90: =N122 -> 0
D91: D7 - Systém kontroly vstupu | N91: =N130 -> 0
D92: D3 - Montáž | N92: =N138 -> 0
D93: VP - Práce naviac | N93: =N162 -> 0
C95: 2) Ostatné náklady | N95: =ROUND(N96+N97+N98+N99+N100+N101,2) -> 0 | U95: DPH
D96: GZS | N96: =ROUND(N88*T96,2) -> 0 | U96: znížená | AY96: VRN | BE96: =IF(U96="základná",N96,0) -> 0 | BF96: =IF(U96="znížená",N96,0) -> 0 | BG96: =IF(U96="zákl. prenesená",N96,0) -> 0 | BH96: =IF(U96="zníž. prenesená",N96,0) -> 0 | BI96: =IF(U96="nulová",N96,0) -> 0 | BJ96: 2
D97: Mimostaven. doprava | N97: =ROUND(N88*T97,2) -> 0 | U97: znížená | AY97: VRN | BE97: =IF(U97="základná",N97,0) -> 0 | BF97: =IF(U97="znížená",N97,0) -> 0 | BG97: =IF(U97="zákl. prenesená",N97,0) -> 0 | BH97: =IF(U97="zníž. prenesená",N97,0) -> 0 | BI97: =IF(U97="nulová",N97,0) -> 0 | BJ97: 2
D98: Sťažené podmienky | N98: =ROUND(N88*T98,2) -> 0 | U98: znížená | AY98: VRN | BE98: =IF(U98="základná",N98,0) -> 0 | BF98: =IF(U98="znížená",N98,0) -> 0 | BG98: =IF(U98="zákl. prenesená",N98,0) -> 0 | BH98: =IF(U98="zníž. prenesená",N98,0) -> 0 | BI98: =IF(U98="nulová",N98,0) -> 0 | BJ98: 2
D99: Vplyv prostredia | N99: =ROUND(N88*T99,2) -> 0 | U99: znížená | AY99: VRN | BE99: =IF(U99="základná",N99,0) -> 0 | BF99: =IF(U99="znížená",N99,0) -> 0 | BG99: =IF(U99="zákl. prenesená",N99,0) -> 0 | BH99: =IF(U99="zníž. prenesená",N99,0) -> 0 | BI99: =IF(U99="nulová",N99,0) -> 0 | BJ99: 2
D100: Klimatické vplyvy | N100: =ROUND(N88*T100,2) -> 0 | U100: znížená | AY100: VRN | BE100: =IF(U100="základná",N100,0) -> 0 | BF100: =IF(U100="znížená",N100,0) -> 0 | BG100: =IF(U100="zákl. prenesená",N100,0) -> 0 | BH100: =IF(U100="zníž. prenesená",N100,0) -> 0 | BI100: =IF(U100="nulová",N100,0) -> 0 | BJ100: 2
D101: Kompletačná činnosť | N101: =ROUND(N88*T101,2) -> 0 | U101: znížená | AY101: KOMPLETACNA | BE101: =IF(U101="základná",N101,0) -> 0 | BF101: =IF(U101="znížená",N101,0) -> 0 | BG101: =IF(U101="zákl. prenesená",N101,0) -> 0 | BH101: =IF(U101="zníž. prenesená",N101,0) -> 0 | BI101: =IF(U101="nulová",N101,0) -> 0 | BJ101: 2
C103: Celkové náklady za stavbu 1) + 2) | L103: =ROUND(SUM(N88+N95),2) -> 0
C109: ROZPOČET
C111: Stavba: | F111: =F6 -> Stavebné úpravy priestorov bloku B objektu UKF v NItre na Triede A. Hlinku 1, Nitra
C112: Objekt: | F112: =F7 -> 5 - Systém kontroly vstupu
C114: Miesto: | F114: =F9 | K114: Dátum: | M114: =IF(O9="","",O9) -> 12. 2. 2018
C116: Objednávateľ: | F116: =E12 -> UKF v NItre, Trieda A. Hlinku 1, Nitra | K116: Projektant: | M116: =E18 -> K2 ateliér s.r.o., Nitra
C117: Zhotoviteľ: | F117: =IF(E15="","",E15) | K117: Spracovateľ: | M117: =E21
C119: PČ | D119: Typ | E119: Kód | F119: Popis | J119: MJ | K119: Množstvo | L119: J.cena [EUR] | N119: Cena celkom [EUR] | T119: Poznámka | U119: DPH | V119: J. Nh [h] | W119: Nh celkom [h] | X119: J. hmotnosť_x000D_ [t] | Y119: Hmotnosť_x000D_ celkom [t] | Z119: J. suť [t] | AA119: Suť Celkom [t]
C120: Náklady z rozpočtu | N120: =BK120 -> 0 | W120: =W121+W162 -> 0 | Y120: =Y121+Y162 -> 0 | AA120: =AA121+AA162 -> 0 | AT120: D | AU120: -1 | BK120: =BK121+BK162 -> 0
D121: D1 - POPLACHOVÝ SYSTÉM NARUŠENIA | N121: =BK121 -> 0 | W121: =W122+W130+W138 -> 0 | Y121: =Y122+Y130+Y138 -> 0 | AA121: =AA122+AA130+AA138 -> 0 | AR121: 1 | AT121: D | AU121: 0 | AY121: ROZPOCET | BK121: =BK122+BK130+BK138 -> 0
D122: D2 - Poplachový systém narušenia | N122: =BK122 -> 0 | W122: =SUM(W123:W129) -> 0 | Y122: =SUM(Y123:Y129) -> 0 | AA122: =SUM(AA123:AA129) -> 0 | AR122: 1 | AT122: D | AU122: 1 | AY122: ROZPOCET | BK122: =SUM(BK123:BK129) -> 0
C123: 1 | D123: M | E123: Pol151 | F123: Paradox PIR zbernicový-25m | J123: ks/m | K123: 4 | L123: 0 | N123: =ROUND(L123*K123,3) -> 0 | U123: znížená | W123: =V123*K123 -> 0 | X123: 0 | Y123: =X123*K123 -> 0 | Z123: 0 | AA123: =Z123*K123 -> 0 | AR123: 8 | AT123: M | AU123: 2 | AY123: ROZPOCET | BE123: =IF(U123="základná",N123,0) -> 0 | BF123: =IF(U123="znížená",N123,0) -> 0 | BG123: =IF(U123="zákl. prenesená",N123,0) -> 0 | BH123: =IF(U123="zníž. prenesená",N123,0) -> 0 | BI123: =IF(U123="nulová",N123,0) -> 0 | BJ123: 2 | BK123: =ROUND(L123*K123,3) -> 0 | BL123: 4 | BM123: -1097824021
C124: 2 | D124: M | E124: Pol152 | F124: Paradox PIR zbernicový-12m | J124: ks/m | K124: 7 | L124: 0 | N124: =ROUND(L124*K124,3) -> 0 | U124: znížená | W124: =V124*K124 -> 0 | X124: 0 | Y124: =X124*K124 -> 0 | Z124: 0 | AA124: =Z124*K124 -> 0 | AR124: 8 | AT124: M | AU124: 2 | AY124: ROZPOCET | BE124: =IF(U124="základná",N124,0) -> 0 | BF124: =IF(U124="znížená",N124,0) -> 0 | BG124: =IF(U124="zákl. prenesená",N124,0) -> 0 | BH124: =IF(U124="zníž. prenesená",N124,0) -> 0 | BI124: =IF(U124="nulová",N124,0) -> 0 | BJ124: 2 | BK124: =ROUND(L124*K124,3) -> 0 | BL124: 4 | BM124: -872200451
C125: 3 | D125: M | E125: Pol153 | F125: Kábel ALFA 8 2x0,5+6x0,3 | J125: ks/m | K125: 160 | L125: 0 | N125: =ROUND(L125*K125,3) -> 0 | U125: znížená | W125: =V125*K125 -> 0 | X125: 0 | Y125: =X125*K125 -> 0 | Z125: 0 | AA125: =Z125*K125 -> 0 | AR125: 8 | AT125: M | AU125: 2 | AY125: ROZPOCET | BE125: =IF(U125="základná",N125,0) -> 0 | BF125: =IF(U125="znížená",N125,0) -> 0 | BG125: =IF(U125="zákl. prenesená",N125,0) -> 0 | BH125: =IF(U125="zníž. prenesená",N125,0) -> 0 | BI125: =IF(U125="nulová",N125,0) -> 0 | BJ125: 2 | BK125: =ROUND(L125*K125,3) -> 0 | BL125: 4 | BM125: -1204159538
C126: 4 | D126: M | E126: Pol154 | F126: Trubka HFX 16 | J126: ks/m | K126: 160 | L126: 0 | N126: =ROUND(L126*K126,3) -> 0 | U126: znížená | W126: =V126*K126 -> 0 | X126: 0 | Y126: =X126*K126 -> 0 | Z126: 0 | AA126: =Z126*K126 -> 0 | AR126: 8 | AT126: M | AU126: 2 | AY126: ROZPOCET | BE126: =IF(U126="základná",N126,0) -> 0 | BF126: =IF(U126="znížená",N126,0) -> 0 | BG126: =IF(U126="zákl. prenesená",N126,0) -> 0 | BH126: =IF(U126="zníž. prenesená",N126,0) -> 0 | BI126: =IF(U126="nulová",N126,0) -> 0 | BJ126: 2 | BK126: =ROUND(L126*K126,3) -> 0 | BL126: 4 | BM126: 974797479
C127: 5 | D127: M | E127: Pol155 | F127: Prichytky HCL 16 | J127: ks/m | K127: 320 | L127: 0 | N127: =ROUND(L127*K127,3) -> 0 | U127: znížená | W127: =V127*K127 -> 0 | X127: 0 | Y127: =X127*K127 -> 0 | Z127: 0 | AA127: =Z127*K127 -> 0 | AR127: 8 | AT127: M | AU127: 2 | AY127: ROZPOCET | BE127: =IF(U127="základná",N127,0) -> 0 | BF127: =IF(U127="znížená",N127,0) -> 0 | BG127: =IF(U127="zákl. prenesená",N127,0) -> 0 | BH127: =IF(U127="zníž. prenesená",N127,0) -> 0 | BI127: =IF(U127="nulová",N127,0) -> 0 | BJ127: 2 | BK127: =ROUND(L127*K127,3) -> 0 | BL127: 4 | BM127: 2002656658
C128: 6 | D128: M | E128: Pol115 | F128: Hmoždinka D8 + vrut | J128: ks/m | K128: 350 | L128: 0 | N128: =ROUND(L128*K128,3) -> 0 | U128: znížená | W128: =V128*K128 -> 0 | X128: 0 | Y128: =X128*K128 -> 0 | Z128: 0 | AA128: =Z128*K128 -> 0 | AR128: 8 | AT128: M | AU128: 2 | AY128: ROZPOCET | BE128: =IF(U128="základná",N128,0) -> 0 | BF128: =IF(U128="znížená",N128,0) -> 0 | BG128: =IF(U128="zákl. prenesená",N128,0) -> 0 | BH128: =IF(U128="zníž. prenesená",N128,0) -> 0 | BI128: =IF(U128="nulová",N128,0) -> 0 | BJ128: 2 | BK128: =ROUND(L128*K128,3) -> 0 | BL128: 4 | BM128: 2142918648
C129: 7 | D129: M | E129: Pol156 | F129: Drobný el. materiál | J129: ks/m | K129: 1 | L129: 0 | N129: =ROUND(L129*K129,3) -> 0 | U129: znížená | W129: =V129*K129 -> 0 | X129: 0 | Y129: =X129*K129 -> 0 | Z129: 0 | AA129: =Z129*K129 -> 0 | AR129: 8 | AT129: M | AU129: 2 | AY129: ROZPOCET | BE129: =IF(U129="základná",N129,0) -> 0 | BF129: =IF(U129="znížená",N129,0) -> 0 | BG129: =IF(U129="zákl. prenesená",N129,0) -> 0 | BH129: =IF(U129="zníž. prenesená",N129,0) -> 0 | BI129: =IF(U129="nulová",N129,0) -> 0 | BJ129: 2 | BK129: =ROUND(L129*K129,3) -> 0 | BL129: 4 | BM129: 1812909977
D130: D7 - Systém kontroly vstupu | N130: =BK130 -> 0 | W130: =SUM(W131:W137) -> 0 | Y130: =SUM(Y131:Y137) -> 0 | AA130: =SUM(AA131:AA137) -> 0 | AR130: 1 | AT130: D | AU130: 1 | AY130: ROZPOCET | BK130: =SUM(BK131:BK137) -> 0
C131: 8 | D131: M | E131: Pol165 | F131: Čitačka SKV | J131: ks/m | K131: 1 | L131: 0 | N131: =ROUND(L131*K131,3) -> 0 | U131: znížená | W131: =V131*K131 -> 0 | X131: 0 | Y131: =X131*K131 -> 0 | Z131: 0 | AA131: =Z131*K131 -> 0 | AR131: 8 | AT131: M | AU131: 2 | AY131: ROZPOCET | BE131: =IF(U131="základná",N131,0) -> 0 | BF131: =IF(U131="znížená",N131,0) -> 0 | BG131: =IF(U131="zákl. prenesená",N131,0) -> 0 | BH131: =IF(U131="zníž. prenesená",N131,0) -> 0 | BI131: =IF(U131="nulová",N131,0) -> 0 | BJ131: 2 | BK131: =ROUND(L131*K131,3) -> 0 | BL131: 4 | BM131: -129612849
C132: 9 | D132: M | E132: Pol166 | F132: Kábel FTP LSOH cat.5e | J132: ks/m | K132: 110 | L132: 0 | N132: =ROUND(L132*K132,3) -> 0 | U132: znížená | W132: =V132*K132 -> 0 | X132: 0 | Y132: =X132*K132 -> 0 | Z132: 0 | AA132: =Z132*K132 -> 0 | AR132: 8 | AT132: M | AU132: 2 | AY132: ROZPOCET | BE132: =IF(U132="základná",N132,0) -> 0 | BF132: =IF(U132="znížená",N132,0) -> 0 | BG132: =IF(U132="zákl. prenesená",N132,0) -> 0 | BH132: =IF(U132="zníž. prenesená",N132,0) -> 0 | BI132: =IF(U132="nulová",N132,0) -> 0 | BJ132: 2 | BK132: =ROUND(L132*K132,3) -> 0 | BL132: 4 | BM132: -1219141865
C133: 10 | D133: M | E133: Pol167 | F133: Kábel CYH 2x1,0 | J133: ks/m | K133: 110 | L133: 0 | N133: =ROUND(L133*K133,3) -> 0 | U133: znížená | W133: =V133*K133 -> 0 | X133: 0 | Y133: =X133*K133 -> 0 | Z133: 0 | AA133: =Z133*K133 -> 0 | AR133: 8 | AT133: M | AU133: 2 | AY133: ROZPOCET | BE133: =IF(U133="základná",N133,0) -> 0 | BF133: =IF(U133="znížená",N133,0) -> 0 | BG133: =IF(U133="zákl. prenesená",N133,0) -> 0 | BH133: =IF(U133="zníž. prenesená",N133,0) -> 0 | BI133: =IF(U133="nulová",N133,0) -> 0 | BJ133: 2 | BK133: =ROUND(L133*K133,3) -> 0 | BL133: 4 | BM133: 2069115481
C134: 11 | D134: M | E134: Pol154 | F134: Trubka HFX 16 | J134: ks/m | K134: 220 | L134: 0 | N134: =ROUND(L134*K134,3) -> 0 | U134: znížená | W134: =V134*K134 -> 0 | X134: 0 | Y134: =X134*K134 -> 0 | Z134: 0 | AA134: =Z134*K134 -> 0 | AR134: 8 | AT134: M | AU134: 2 | AY134: ROZPOCET | BE134: =IF(U134="základná",N134,0) -> 0 | BF134: =IF(U134="znížená",N134,0) -> 0 | BG134: =IF(U134="zákl. prenesená",N134,0) -> 0 | BH134: =IF(U134="zníž. prenesená",N134,0) -> 0 | BI134: =IF(U134="nulová",N134,0) -> 0 | BJ134: 2 | BK134: =ROUND(L134*K134,3) -> 0 | BL134: 4 | BM134: 88496634
C135: 12 | D135: M | E135: Pol155 | F135: Prichytky HCL 16 | J135: ks/m | K135: 440 | L135: 0 | N135: =ROUND(L135*K135,3) -> 0 | U135: znížená | W135: =V135*K135 -> 0 | X135: 0 | Y135: =X135*K135 -> 0 | Z135: 0 | AA135: =Z135*K135 -> 0 | AR135: 8 | AT135: M | AU135: 2 | AY135: ROZPOCET | BE135: =IF(U135="základná",N135,0) -> 0 | BF135: =IF(U135="znížená",N135,0) -> 0 | BG135: =IF(U135="zákl. prenesená",N135,0) -> 0 | BH135: =IF(U135="zníž. prenesená",N135,0) -> 0 | BI135: =IF(U135="nulová",N135,0) -> 0 | BJ135: 2 | BK135: =ROUND(L135*K135,3) -> 0 | BL135: 4 | BM135: 1780889029
C136: 13 | D136: M | E136: Pol115 | F136: Hmoždinka D8 + vrut | J136: ks/m | K136: 500 | L136: 0 | N136: =ROUND(L136*K136,3) -> 0 | U136: znížená | W136: =V136*K136 -> 0 | X136: 0 | Y136: =X136*K136 -> 0 | Z136: 0 | AA136: =Z136*K136 -> 0 | AR136: 8 | AT136: M | AU136: 2 | AY136: ROZPOCET | BE136: =IF(U136="základná",N136,0) -> 0 | BF136: =IF(U136="znížená",N136,0) -> 0 | BG136: =IF(U136="zákl. prenesená",N136,0) -> 0 | BH136: =IF(U136="zníž. prenesená",N136,0) -> 0 | BI136: =IF(U136="nulová",N136,0) -> 0 | BJ136: 2 | BK136: =ROUND(L136*K136,3) -> 0 | BL136: 4 | BM136: 475010483
C137: 14 | D137: M | E137: Pol156 | F137: Drobný el. materiál | J137: ks/m | K137: 1 | L137: 0 | N137: =ROUND(L137*K137,3) -> 0 | U137: znížená | W137: =V137*K137 -> 0 | X137: 0 | Y137: =X137*K137 -> 0 | Z137: 0 | AA137: =Z137*K137 -> 0 | AR137: 8 | AT137: M | AU137: 2 | AY137: ROZPOCET | BE137: =IF(U137="základná",N137,0) -> 0 | BF137: =IF(U137="znížená",N137,0) -> 0 | BG137: =IF(U137="zákl. prenesená",N137,0) -> 0 | BH137: =IF(U137="zníž. prenesená",N137,0) -> 0 | BI137: =IF(U137="nulová",N137,0) -> 0 | BJ137: 2 | BK137: =ROUND(L137*K137,3) -> 0 | BL137: 4 | BM137: 510490095
D138: D3 - Montáž | N138: =BK138 -> 0 | W138: =SUM(W139:W161) -> 0 | Y138: =SUM(Y139:Y161) -> 0 | AA138: =SUM(AA139:AA161) -> 0 | AR138: 1 | AT138: D | AU138: 1 | AY138: ROZPOCET | BK138: =SUM(BK139:BK161) -> 0
C139: 15 | D139: K | E139: Pol141 | F139: Hmoždinka D8 + vrut | J139: ks/m | K139: 350 | L139: 0 | N139: =ROUND(L139*K139,3) -> 0 | U139: znížená | W139: =V139*K139 -> 0 | X139: 0 | Y139: =X139*K139 -> 0 | Z139: 0 | AA139: =Z139*K139 -> 0 | AR139: 4 | AT139: K | AU139: 2 | AY139: ROZPOCET | BE139: =IF(U139="základná",N139,0) -> 0 | BF139: =IF(U139="znížená",N139,0) -> 0 | BG139: =IF(U139="zákl. prenesená",N139,0) -> 0 | BH139: =IF(U139="zníž. prenesená",N139,0) -> 0 | BI139: =IF(U139="nulová",N139,0) -> 0 | BJ139: 2 | BK139: =ROUND(L139*K139,3) -> 0 | BL139: 4 | BM139: 120279902
C140: 16 | D140: K | E140: Pol141 | F140: Hmoždinka D8 + vrut | J140: ks/m | K140: 500 | L140: 0 | N140: =ROUND(L140*K140,3) -> 0 | U140: znížená | W140: =V140*K140 -> 0 | X140: 0 | Y140: =X140*K140 -> 0 | Z140: 0 | AA140: =Z140*K140 -> 0 | AR140: 4 | AT140: K | AU140: 2 | AY140: ROZPOCET | BE140: =IF(U140="základná",N140,0) -> 0 | BF140: =IF(U140="znížená",N140,0) -> 0 | BG140: =IF(U140="zákl. prenesená",N140,0) -> 0 | BH140: =IF(U140="zníž. prenesená",N140,0) -> 0 | BI140: =IF(U140="nulová",N140,0) -> 0 | BJ140: 2 | BK140: =ROUND(L140*K140,3) -> 0 | BL140: 4 | BM140: -1557717155
C141: 17 | D141: K | E141: Pol157 | F141: Paradox PIR zbernicový-25m | J141: ks/m | K141: 4 | L141: 0 | N141: =ROUND(L141*K141,3) -> 0 | U141: znížená | W141: =V141*K141 -> 0 | X141: 0 | Y141: =X141*K141 -> 0 | Z141: 0 | AA141: =Z141*K141 -> 0 | AR141: 4 | AT141: K | AU141: 2 | AY141: ROZPOCET | BE141: =IF(U141="základná",N141,0) -> 0 | BF141: =IF(U141="znížená",N141,0) -> 0 | BG141: =IF(U141="zákl. prenesená",N141,0) -> 0 | BH141: =IF(U141="zníž. prenesená",N141,0) -> 0 | BI141: =IF(U141="nulová",N141,0) -> 0 | BJ141: 2 | BK141: =ROUND(L141*K141,3) -> 0 | BL141: 4 | BM141: 64961869
C142: 18 | D142: K | E142: Pol158 | F142: Paradox PIR zbernicový-12m | J142: ks/m | K142: 7 | L142: 0 | N142: =ROUND(L142*K142,3) -> 0 | U142: znížená | W142: =V142*K142 -> 0 | X142: 0 | Y142: =X142*K142 -> 0 | Z142: 0 | AA142: =Z142*K142 -> 0 | AR142: 4 | AT142: K | AU142: 2 | AY142: ROZPOCET | BE142: =IF(U142="základná",N142,0) -> 0 | BF142: =IF(U142="znížená",N142,0) -> 0 | BG142: =IF(U142="zákl. prenesená",N142,0) -> 0 | BH142: =IF(U142="zníž. prenesená",N142,0) -> 0 | BI142: =IF(U142="nulová",N142,0) -> 0 | BJ142: 2 | BK142: =ROUND(L142*K142,3) -> 0 | BL142: 4 | BM142: -1859389368
C143: 19 | D143: K | E143: Pol159 | F143: Kábel ALFA 8 2x0,5+6x0,3 | J143: ks/m | K143: 160 | L143: 0 | N143: =ROUND(L143*K143,3) -> 0 | U143: znížená | W143: =V143*K143 -> 0 | X143: 0 | Y143: =X143*K143 -> 0 | Z143: 0 | AA143: =Z143*K143 -> 0 | AR143: 4 | AT143: K | AU143: 2 | AY143: ROZPOCET | BE143: =IF(U143="základná",N143,0) -> 0 | BF143: =IF(U143="znížená",N143,0) -> 0 | BG143: =IF(U143="zákl. prenesená",N143,0) -> 0 | BH143: =IF(U143="zníž. prenesená",N143,0) -> 0 | BI143: =IF(U143="nulová",N143,0) -> 0 | BJ143: 2 | BK143: =ROUND(L143*K143,3) -> 0 | BL143: 4 | BM143: 1542396875
C144: 20 | D144: K | E144: Pol160 | F144: Trubka HFX 16 | J144: ks/m | K144: 160 | L144: 0 | N144: =ROUND(L144*K144,3) -> 0 | U144: znížená | W144: =V144*K144 -> 0 | X144: 0 | Y144: =X144*K144 -> 0 | Z144: 0 | AA144: =Z144*K144 -> 0 | AR144: 4 | AT144: K | AU144: 2 | AY144: ROZPOCET | BE144: =IF(U144="základná",N144,0) -> 0 | BF144: =IF(U144="znížená",N144,0) -> 0 | BG144: =IF(U144="zákl. prenesená",N144,0) -> 0 | BH144: =IF(U144="zníž. prenesená",N144,0) -> 0 | BI144: =IF(U144="nulová",N144,0) -> 0 | BJ144: 2 | BK144: =ROUND(L144*K144,3) -> 0 | BL144: 4 | BM144: 762302073
C145: 21 | D145: K | E145: Pol160 | F145: Trubka HFX 16 | J145: ks/m | K145: 220 | L145: 0 | N145: =ROUND(L145*K145,3) -> 0 | U145: znížená | W145: =V145*K145 -> 0 | X145: 0 | Y145: =X145*K145 -> 0 | Z145: 0 | AA145: =Z145*K145 -> 0 | AR145: 4 | AT145: K | AU145: 2 | AY145: ROZPOCET | BE145: =IF(U145="základná",N145,0) -> 0 | BF145: =IF(U145="znížená",N145,0) -> 0 | BG145: =IF(U145="zákl. prenesená",N145,0) -> 0 | BH145: =IF(U145="zníž. prenesená",N145,0) -> 0 | BI145: =IF(U145="nulová",N145,0) -> 0 | BJ145: 2 | BK145: =ROUND(L145*K145,3) -> 0 | BL145: 4 | BM145: 442296391
C146: 22 | D146: K | E146: Pol161 | F146: Prichytky HCL 16 | J146: ks/m | K146: 320 | L146: 0 | N146: =ROUND(L146*K146,3) -> 0 | U146: znížená | W146: =V146*K146 -> 0 | X146: 0 | Y146: =X146*K146 -> 0 | Z146: 0 | AA146: =Z146*K146 -> 0 | AR146: 4 | AT146: K | AU146: 2 | AY146: ROZPOCET | BE146: =IF(U146="základná",N146,0) -> 0 | BF146: =IF(U146="znížená",N146,0) -> 0 | BG146: =IF(U146="zákl. prenesená",N146,0) -> 0 | BH146: =IF(U146="zníž. prenesená",N146,0) -> 0 | BI146: =IF(U146="nulová",N146,0) -> 0 | BJ146: 2 | BK146: =ROUND(L146*K146,3) -> 0 | BL146: 4 | BM146: 1078056749
C147: 23 | D147: K | E147: Pol161 | F147: Prichytky HCL 16 | J147: ks/m | K147: 440 | L147: 0 | N147: =ROUND(L147*K147,3) -> 0 | U147: znížená | W147: =V147*K147 -> 0 | X147: 0 | Y147: =X147*K147 -> 0 | Z147: 0 | AA147: =Z147*K147 -> 0 | AR147: 4 | AT147: K | AU147: 2 | AY147: ROZPOCET | BE147: =IF(U147="základná",N147,0) -> 0 | BF147: =IF(U147="znížená",N147,0) -> 0 | BG147: =IF(U147="zákl. prenesená",N147,0) -> 0 | BH147: =IF(U147="zníž. prenesená",N147,0) -> 0 | BI147: =IF(U147="nulová",N147,0) -> 0 | BJ147: 2 | BK147: =ROUND(L147*K147,3) -> 0 | BL147: 4 | BM147: -809975437
C148: 24 | D148: K | E148: Pol162 | F148: Drobný el. materiál | J148: ks/m | K148: 1 | L148: 0 | N148: =ROUND(L148*K148,3) -> 0 | U148: znížená | W148: =V148*K148 -> 0 | X148: 0 | Y148: =X148*K148 -> 0 | Z148: 0 | AA148: =Z148*K148 -> 0 | AR148: 4 | AT148: K | AU148: 2 | AY148: ROZPOCET | BE148: =IF(U148="základná",N148,0) -> 0 | BF148: =IF(U148="znížená",N148,0) -> 0 | BG148: =IF(U148="zákl. prenesená",N148,0) -> 0 | BH148: =IF(U148="zníž. prenesená",N148,0) -> 0 | BI148: =IF(U148="nulová",N148,0) -> 0 | BJ148: 2 | BK148: =ROUND(L148*K148,3) -> 0 | BL148: 4 | BM148: -923063368
C149: 25 | D149: K | E149: Pol162 | F149: Drobný el. materiál | J149: ks/m | K149: 1 | L149: 0 | N149: =ROUND(L149*K149,3) -> 0 | U149: znížená | W149: =V149*K149 -> 0 | X149: 0 | Y149: =X149*K149 -> 0 | Z149: 0 | AA149: =Z149*K149 -> 0 | AR149: 4 | AT149: K | AU149: 2 | AY149: ROZPOCET | BE149: =IF(U149="základná",N149,0) -> 0 | BF149: =IF(U149="znížená",N149,0) -> 0 | BG149: =IF(U149="zákl. prenesená",N149,0) -> 0 | BH149: =IF(U149="zníž. prenesená",N149,0) -> 0 | BI149: =IF(U149="nulová",N149,0) -> 0 | BJ149: 2 | BK149: =ROUND(L149*K149,3) -> 0 | BL149: 4 | BM149: 656000705
C150: 26 | D150: K | E150: Pol163 | F150: Naprogamovamie a uvedenie do prevádzky | J150: ks/m | K150: 1 | L150: 0 | N150: =ROUND(L150*K150,3) -> 0 | U150: znížená | W150: =V150*K150 -> 0 | X150: 0 | Y150: =X150*K150 -> 0 | Z150: 0 | AA150: =Z150*K150 -> 0 | AR150: 4 | AT150: K | AU150: 2 | AY150: ROZPOCET | BE150: =IF(U150="základná",N150,0) -> 0 | BF150: =IF(U150="znížená",N150,0) -> 0 | BG150: =IF(U150="zákl. prenesená",N150,0) -> 0 | BH150: =IF(U150="zníž. prenesená",N150,0) -> 0 | BI150: =IF(U150="nulová",N150,0) -> 0 | BJ150: 2 | BK150: =ROUND(L150*K150,3) -> 0 | BL150: 4 | BM150: -923375614
... C161: 37 | D161: K | E161: Pol175 | F161: Kábel CYH 2x1,0 | J161: ks/m | K161: 110 | L161: 0 | N161: =ROUND(L161*K161,3) -> 0 | U161: znížená | W161: =V161*K161 -> 0 | X161: 0 | Y161: =X161*K161 -> 0 | Z161: 0 | AA161: =Z161*K161 -> 0 | AR161: 4 | AT161: K | AU161: 2 | AY161: ROZPOCET | BE161: =IF(U161="základná",N161,0) -> 0 | BF161: =IF(U161="znížená",N161,0) -> 0 | BG161: =IF(U161="zákl. prenesená",N161,0) -> 0 | BH161: =IF(U161="zníž. prenesená",N161,0) -> 0 | BI161: =IF(U161="nulová",N161,0) -> 0 | BJ161: 2 | BK161: =ROUND(L161*K161,3) -> 0 | BL161: 4 | BM161: 1878431571
D162: VP - Práce naviac | N162: =BK162 -> 0 | AT162: D | AU162: 0 | AY162: PN | BK162: =SUM(BK163:BK167) -> 0
D163: K | N163: =BK163 -> 0 | U163: znížená | AT163: PN | AU163: 1 | AY163: PN | BE163: =IF(U163="základná",N163,0) -> 0 | BF163: =IF(U163="znížená",N163,0) -> 0 | BG163: =IF(U163="zákl. prenesená",N163,0) -> 0 | BH163: =IF(U163="zníž. prenesená",N163,0) -> 0 | BI163: =IF(U163="nulová",N163,0) -> 0 | BJ163: 2 | BK163: =L163*K163 -> 0
D164: K | N164: =BK164 -> 0 | U164: znížená | AT164: PN | AU164: 1 | AY164: PN | BE164: =IF(U164="základná",N164,0) -> 0 | BF164: =IF(U164="znížená",N164,0) -> 0 | BG164: =IF(U164="zákl. prenesená",N164,0) -> 0 | BH164: =IF(U164="zníž. prenesená",N164,0) -> 0 | BI164: =IF(U164="nulová",N164,0) -> 0 | BJ164: 2 | BK164: =L164*K164 -> 0
D165: K | N165: =BK165 -> 0 | U165: znížená | AT165: PN | AU165: 1 | AY165: PN | BE165: =IF(U165="základná",N165,0) -> 0 | BF165: =IF(U165="znížená",N165,0) -> 0 | BG165: =IF(U165="zákl. prenesená",N165,0) -> 0 | BH165: =IF(U165="zníž. prenesená",N165,0) -> 0 | BI165: =IF(U165="nulová",N165,0) -> 0 | BJ165: 2 | BK165: =L165*K165 -> 0
D166: K | N166: =BK166 -> 0 | U166: znížená | AT166: PN | AU166: 1 | AY166: PN | BE166: =IF(U166="základná",N166,0) -> 0 | BF166: =IF(U166="znížená",N166,0) -> 0 | BG166: =IF(U166="zákl. prenesená",N166,0) -> 0 | BH166: =IF(U166="zníž. prenesená",N166,0) -> 0 | BI166: =IF(U166="nulová",N166,0) -> 0 | BJ166: 2 | BK166: =L166*K166 -> 0
D167: K | N167: =BK167 -> 0 | U167: znížená | AT167: PN | AU167: 1 | AY167: PN | BE167: =IF(U167="základná",N167,0) -> 0 | BF167: =IF(U167="znížená",N167,0) -> 0 | BG167: =IF(U167="zákl. prenesená",N167,0) -> 0 | BH167: =IF(U167="zníž. prenesená",N167,0) -> 0 | BI167: =IF(U167="nulová",N167,0) -> 0 | BJ167: 2 | BK167: =L167*K167 -> 0
